{"text_format":"1","workbook":"xlsx","n_sheets":10,"sheets":["Start","TEAM","KLASGROEP","hCATEGORIEEN","Voorblad1","inst1","LOG1","LOG2","Graph1","verzameldata"],"not_rendered":{"charts":4,"images":14,"macros":1,"external_links":0,"defined_names":2,"comments":0,"pivot_tables":0},"unopened":[],"bounds":{"document_bytes":16777216,"sheet_cells":100000,"rows_first":2000,"rows_last":500,"rows_between":2000,"halvings":0,"cell_chars":16384,"cell_head_chars":4096},"cells_cut":0,"cells_raw":0,"read":"whole","date_system":"1900"}

{"sheet":"Start","index":0,"n_rows":0,"n_cols":0,"rows_kept":0,"cut":false,"hidden":false,"merged":[]}

{"sheet":"TEAM","index":1,"n_rows":10,"n_cols":8,"rows_kept":10,"cut":false,"hidden":false,"merged":[[5,1,5,6],[6,1,6,6],[7,2,7,6]]}
[]
[]
[]
[]
[]
[null,"PERSOONLIJKE GEGEVENS"]
[null,"Van wie registreren we het huiswerk?"]
[null,"NAAM",null,null,null,null,null,{"$f":"COUNTA(C8)","v":0}]
[]
[null,null,null,null,null,null,null,{"$f":"SUM(H8:H8)","v":0}]

{"sheet":"KLASGROEP","index":2,"n_rows":11,"n_cols":2,"rows_kept":11,"cut":false,"hidden":false,"merged":[[7,1,7,6],[10,1,10,6],[5,1,5,6],[6,1,6,6],[9,1,9,6]]}
[]
[]
[]
[]
[]
[null,"SCHOOL EN KLASSENGEGEVENS"]
[null,"SCHOOLNAAM"]
[null,"a"]
[]
[null,"KLAS"]
[null,"a"]

{"sheet":"hCATEGORIEEN","index":3,"n_rows":22,"n_cols":2,"rows_kept":22,"cut":false,"hidden":false,"merged":[]}
[]
[]
[]
[]
[]
[]
[null,"SCHOOLVAKKEN"]
[null,"Nederlands"]
[null,"Engels"]
[null,"Frans"]
[null,"Duits"]
[null,"Wiskunde"]
[null,"Geschiedenis"]
[null,"Aardrijkskunde"]
[null,"Biologie / BGM"]
[null,"Science"]
[null,"Handvaardigheid"]
[null,"Drama"]
[null,"LO"]
[null,"O&O"]
[null,"Overig 1"]
[null,"Overig 2"]

{"sheet":"Voorblad1","index":4,"n_rows":13,"n_cols":12,"rows_kept":13,"cut":false,"hidden":false,"merged":[]}
[]
[]
[]
[]
[null,null,null,null,null,null,null,null,null,null,null,"BESTAAT?"]
[null,null,null,null,null,null,null,null,{"$f":"verzameldata!C3","v":""},null,null,{"$f":"TEAM!H10","v":0}]
[null,null,null,null,null,null,null,null,{"$f":"verzameldata!C4","v":""}]
[null,null,null,null,null,null,null,null,{"$f":"verzameldata!C5","v":0}]
[null,null,null,null,null,null,null,null,{"$f":"verzameldata!C6","v":0}]
[null,null,null,null,null,null,null,null,{"$f":"verzameldata!C7","v":0}]
[null,null,null,null,null,null,null,null,{"$f":"verzameldata!C8","v":0}]
[null,null,null,null,null,null,null,null,{"$f":"verzameldata!I2","v":"a"}]
[null,null,null,null,null,null,null,null,{"$f":"verzameldata!I3","v":0}]

{"sheet":"inst1","index":5,"n_rows":6,"n_cols":4,"rows_kept":6,"cut":false,"hidden":false,"merged":[[2,1,2,6],[7,8,8,9],[3,3,3,6],[4,3,4,6],[5,3,5,6],[3,1,3,2],[4,1,4,2],[5,1,5,2]]}
[]
[]
[null,"PERSOONLIJKE GEGEVENS"]
[null,"NAAM",null,{"$f":"IF(TEAM!C8>1,TEAM!C8,\"\")","v":""}]
[null,"SCHOOL",null,{"$f":"KLASGROEP!B8","v":"a"}]
[null,"KLAS",null,{"$f":"KLASGROEP!B11","v":"a"}]

{"sheet":"LOG1","index":6,"n_rows":501,"n_cols":11,"rows_kept":501,"cut":false,"hidden":false,"merged":[]}
[]
[]
["wk","dag","datum","schoolvak","uitvoerder","omschrijving","begintijd","eindtijd","pauze","totaal\n(-pauze)"]
["WK","dag","datum","hoofdcategorie","subcategorie","omschrijving","begintijd","eindtijd","pauze","totaal"]
[{"$f":"IF(TabUren2[[#This Row],[datum]]=\"\",\"\",INT((TabUren2[[#This Row],[datum]]-SUM(MOD(DATE(YEAR(TabUren2[[#This Row],[datum]]-MOD(TabUren2[[#This Row],[datum]]-2,7)+3),1,2),{1E+99;7})*{1;-1})+5) /7))","v":8},{"$f":"IF(TabUren2[[#This Row],[datum]]=\"\",\"\",TabUren2[[#This Row],[datum]])","v":"2015-02-22"},"2015-02-22","Wiskunde",{"$f":"IF(TabUren2[[#This Row],[datum]]=\"\",\"\",verzameldata!$C$3)","v":""},null,"15:00:00","16:00:00",null,{"$f":"IF(TabUren2[[#This Row],[eindtijd]]=\"\",\"\",IF(TabUren2[[#This Row],[eindtijd]]<TabUren2[[#This Row],[begintijd]],(\"24:00\"-TabUren2[[#This Row],[begintijd]]+TabUren2[[#This Row],[eindtijd]])-TabUren2[[#This Row],[pauze]],(TabUren2[[#This Row],[eindtijd]]-TabUren2[[#This Row],[begintijd]])-TabUren2[[#This Row],[pauze]]))","v":4.166666666666663E-2},{"$f":"IF(OR(TabUren2[hoofdcategorie]=\"\",TabUren2[hoofdcategorie]=0),\"anders dan hoofdcategorie\",TabUren2[hoofdcategorie])","v":"Wiskunde"}]
[{"$f":"IF(TabUren2[[#This Row],[datum]]=\"\",\"\",INT((TabUren2[[#This Row],[datum]]-SUM(MOD(DATE(YEAR(TabUren2[[#This Row],[datum]]-MOD(TabUren2[[#This Row],[datum]]-2,7)+3),1,2),{1E+99;7})*{1;-1})+5) /7))","v":""},{"$f":"IF(TabUren2[[#This Row],[datum]]=\"\",\"\",TabUren2[[#This Row],[datum]])","v":""},null,null,{"$f":"IF(TabUren2[[#This Row],[datum]]=\"\",\"\",verzameldata!$C$3)","v":""},null,null,null,null,{"$f":"IF(TabUren2[[#This Row],[eindtijd]]=\"\",\"\",IF(TabUren2[[#This Row],[eindtijd]]<TabUren2[[#This Row],[begintijd]],(\"24:00\"-TabUren2[[#This Row],[begintijd]]+TabUren2[[#This Row],[eindtijd]])-TabUren2[[#This Row],[pauze]],(TabUren2[[#This Row],[eindtijd]]-TabUren2[[#This Row],[begintijd]])-TabUren2[[#This Row],[pauze]]))","v":""},{"$f":"IF(OR(TabUren2[hoofdcategorie]=\"\",TabUren2[hoofdcategorie]=0),\"anders dan hoofdcategorie\",TabUren2[hoofdcategorie])","v":"anders dan hoofdcategorie"}]
[{"$f":"IF(TabUren2[[#This Row],[datum]]=\"\",\"\",INT((TabUren2[[#This Row],[datum]]-SUM(MOD(DATE(YEAR(TabUren2[[#This Row],[datum]]-MOD(TabUren2[[#This Row],[datum]]-2,7)+3),1,2),{1E+99;7})*{1;-1})+5) /7))","v":""},{"$f":"IF(TabUren2[[#This Row],[datum]]=\"\",\"\",TabUren2[[#This Row],[datum]])","v":""},null,null,{"$f":"IF(TabUren2[[#This Row],[datum]]=\"\",\"\",verzameldata!$C$3)","v":""},null,null,null,null,{"$f":"IF(TabUren2[[#This Row],[eindtijd]]=\"\",\"\",IF(TabUren2[[#This Row],[eindtijd]]<TabUren2[[#This Row],[begintijd]],(\"24:00\"-TabUren2[[#This Row],[begintijd]]+TabUren2[[#This Row],[eindtijd]])-TabUren2[[#This Row],[pauze]],(TabUren2[[#This Row],[eindtijd]]-TabUren2[[#This Row],[begintijd]])-TabUren2[[#This Row],[pauze]]))","v":""},{"$f":"IF(OR(TabUren2[hoofdcategorie]=\"\",TabUren2[hoofdcategorie]=0),\"anders dan hoofdcategorie\",TabUren2[hoofdcategorie])","v":"anders dan hoofdcategorie"}]
[{"$f":"IF(TabUren2[[#This Row],[datum]]=\"\",\"\",INT((TabUren2[[#This Row],[datum]]-SUM(MOD(DATE(YEAR(TabUren2[[#This Row],[datum]]-MOD(TabUren2[[#This Row],[datum]]-2,7)+3),1,2),{1E+99;7})*{1;-1})+5) /7))","v":""},{"$f":"IF(TabUren2[[#This Row],[datum]]=\"\",\"\",TabUren2[[#This Row],[datum]])","v":""},null,null,{"$f":"IF(TabUren2[[#This Row],[datum]]=\"\",\"\",verzameldata!$C$3)","v":""},null,null,null,null,{"$f":"IF(TabUren2[[#This Row],[eindtijd]]=\"\",\"\",IF(TabUren2[[#This Row],[eindtijd]]<TabUren2[[#This Row],[begintijd]],(\"24:00\"-TabUren2[[#This Row],[begintijd]]+TabUren2[[#This Row],[eindtijd]])-TabUren2[[#This Row],[pauze]],(TabUren2[[#This Row],[eindtijd]]-TabUren2[[#This Row],[begintijd]])-TabUren2[[#This Row],[pauze]]))","v":""},{"$f":"IF(OR(TabUren2[hoofdcategorie]=\"\",TabUren2[hoofdcategorie]=0),\"anders dan hoofdcategorie\",TabUren2[hoofdcategorie])","v":"anders dan hoofdcategorie"}]
[{"$f":"IF(TabUren2[[#This Row],[datum]]=\"\",\"\",INT((TabUren2[[#This Row],[datum]]-SUM(MOD(DATE(YEAR(TabUren2[[#This Row],[datum]]-MOD(TabUren2[[#This Row],[datum]]-2,7)+3),1,2),{1E+99;7})*{1;-1})+5) /7))","v":""},{"$f":"IF(TabUren2[[#This Row],[datum]]=\"\",\"\",TabUren2[[#This Row],[datum]])","v":""},null,null,{"$f":"IF(TabUren2[[#This Row],[datum]]=\"\",\"\",verzameldata!$C$3)","v":""},null,null,null,null,{"$f":"IF(TabUren2[[#This Row],[eindtijd]]=\"\",\"\",IF(TabUren2[[#This Row],[eindtijd]]<TabUren2[[#This Row],[begintijd]],(\"24:00\"-TabUren2[[#This Row],[begintijd]]+TabUren2[[#This Row],[eindtijd]])-TabUren2[[#This Row],[pauze]],(TabUren2[[#This Row],[eindtijd]]-TabUren2[[#This Row],[begintijd]])-TabUren2[[#This Row],[pauze]]))","v":""},{"$f":"IF(OR(TabUren2[hoofdcategorie]=\"\",TabUren2[hoofdcategorie]=0),\"anders dan hoofdcategorie\",TabUren2[hoofdcategorie])","v":"anders dan hoofdcategorie"}]
[{"$f":"IF(TabUren2[[#This Row],[datum]]=\"\",\"\",INT((TabUren2[[#This Row],[datum]]-SUM(MOD(DATE(YEAR(TabUren2[[#This Row],[datum]]-MOD(TabUren2[[#This Row],[datum]]-2,7)+3),1,2),{1E+99;7})*{1;-1})+5) /7))","v":""},{"$f":"IF(TabUren2[[#This Row],[datum]]=\"\",\"\",TabUren2[[#This Row],[datum]])","v":""},null,null,{"$f":"IF(TabUren2[[#This Row],[datum]]=\"\",\"\",verzameldata!$C$3)","v":""},null,null,null,null,{"$f":"IF(TabUren2[[#This Row],[eindtijd]]=\"\",\"\",IF(TabUren2[[#This Row],[eindtijd]]<TabUren2[[#This Row],[begintijd]],(\"24:00\"-TabUren2[[#This Row],[begintijd]]+TabUren2[[#This Row],[eindtijd]])-TabUren2[[#This Row],[pauze]],(TabUren2[[#This Row],[eindtijd]]-TabUren2[[#This Row],[begintijd]])-TabUren2[[#This Row],[pauze]]))","v":""},{"$f":"IF(OR(TabUren2[hoofdcategorie]=\"\",TabUren2[hoofdcategorie]=0),\"anders dan hoofdcategorie\",TabUren2[hoofdcategorie])","v":"anders dan hoofdcategorie"}]
[{"$f":"IF(TabUren2[[#This Row],[datum]]=\"\",\"\",INT((TabUren2[[#This Row],[datum]]-SUM(MOD(DATE(YEAR(TabUren2[[#This Row],[datum]]-MOD(TabUren2[[#This Row],[datum]]-2,7)+3),1,2),{1E+99;7})*{1;-1})+5) /7))","v":""},{"$f":"IF(TabUren2[[#This Row],[datum]]=\"\",\"\",TabUren2[[#This Row],[datum]])","v":""},null,null,{"$f":"IF(TabUren2[[#This Row],[datum]]=\"\",\"\",verzameldata!$C$3)","v":""},null,null,null,null,{"$f":"IF(TabUren2[[#This Row],[eindtijd]]=\"\",\"\",IF(TabUren2[[#This Row],[eindtijd]]<TabUren2[[#This Row],[begintijd]],(\"24:00\"-TabUren2[[#This Row],[begintijd]]+TabUren2[[#This Row],[eindtijd]])-TabUren2[[#This Row],[pauze]],(TabUren2[[#This Row],[eindtijd]]-TabUren2[[#This Row],[begintijd]])-TabUren2[[#This Row],[pauze]]))","v":""},{"$f":"IF(OR(TabUren2[hoofdcategorie]=\"\",TabUren2[hoofdcategorie]=0),\"anders dan hoofdcategorie\",TabUren2[hoofdcategorie])","v":"anders dan hoofdcategorie"}]
[{"$f":"IF(TabUren2[[#This Row],[datum]]=\"\",\"\",INT((TabUren2[[#This Row],[datum]]-SUM(MOD(DATE(YEAR(TabUren2[[#This Row],[datum]]-MOD(TabUren2[[#This Row],[datum]]-2,7)+3),1,2),{1E+99;7})*{1;-1})+5) /7))","v":""},{"$f":"IF(TabUren2[[#This Row],[datum]]=\"\",\"\",TabUren2[[#This Row],[datum]])","v":""},null,null,{"$f":"IF(TabUren2[[#This Row],[datum]]=\"\",\"\",verzameldata!$C$3)","v":""},null,null,null,null,{"$f":"IF(TabUren2[[#This Row],[eindtijd]]=\"\",\"\",IF(TabUren2[[#This Row],[eindtijd]]<TabUren2[[#This Row],[begintijd]],(\"24:00\"-TabUren2[[#This Row],[begintijd]]+TabUren2[[#This Row],[eindtijd]])-TabUren2[[#This Row],[pauze]],(TabUren2[[#This Row],[eindtijd]]-TabUren2[[#This Row],[begintijd]])-TabUren2[[#This Row],[pauze]]))","v":""},{"$f":"IF(OR(TabUren2[hoofdcategorie]=\"\",TabUren2[hoofdcategorie]=0),\"anders dan hoofdcategorie\",TabUren2[hoofdcategorie])","v":"anders dan hoofdcategorie"}]
[{"$f":"IF(TabUren2[[#This Row],[datum]]=\"\",\"\",INT((TabUren2[[#This Row],[datum]]-SUM(MOD(DATE(YEAR(TabUren2[[#This Row],[datum]]-MOD(TabUren2[[#This Row],[datum]]-2,7)+3),1,2),{1E+99;7})*{1;-1})+5) /7))","v":""},{"$f":"IF(TabUren2[[#This Row],[datum]]=\"\",\"\",TabUren2[[#This Row],[datum]])","v":""},null,null,{"$f":"IF(TabUren2[[#This Row],[datum]]=\"\",\"\",verzameldata!$C$3)","v":""},null,null,null,null,{"$f":"IF(TabUren2[[#This Row],[eindtijd]]=\"\",\"\",IF(TabUren2[[#This Row],[eindtijd]]<TabUren2[[#This Row],[begintijd]],(\"24:00\"-TabUren2[[#This Row],[begintijd]]+TabUren2[[#This Row],[eindtijd]])-TabUren2[[#This Row],[pauze]],(TabUren2[[#This Row],[eindtijd]]-TabUren2[[#This Row],[begintijd]])-TabUren2[[#This Row],[pauze]]))","v":""},{"$f":"IF(OR(TabUren2[hoofdcategorie]=\"\",TabUren2[hoofdcategorie]=0),\"anders dan hoofdcategorie\",TabUren2[hoofdcategorie])","v":"anders dan hoofdcategorie"}]
[{"$f":"IF(TabUren2[[#This Row],[datum]]=\"\",\"\",INT((TabUren2[[#This Row],[datum]]-SUM(MOD(DATE(YEAR(TabUren2[[#This Row],[datum]]-MOD(TabUren2[[#This Row],[datum]]-2,7)+3),1,2),{1E+99;7})*{1;-1})+5) /7))","v":""},{"$f":"IF(TabUren2[[#This Row],[datum]]=\"\",\"\",TabUren2[[#This Row],[datum]])","v":""},null,null,{"$f":"IF(TabUren2[[#This Row],[datum]]=\"\",\"\",verzameldata!$C$3)","v":""},null,null,null,null,{"$f":"IF(TabUren2[[#This Row],[eindtijd]]=\"\",\"\",IF(TabUren2[[#This Row],[eindtijd]]<TabUren2[[#This Row],[begintijd]],(\"24:00\"-TabUren2[[#This Row],[begintijd]]+TabUren2[[#This Row],[eindtijd]])-TabUren2[[#This Row],[pauze]],(TabUren2[[#This Row],[eindtijd]]-TabUren2[[#This Row],[begintijd]])-TabUren2[[#This Row],[pauze]]))","v":""},{"$f":"IF(OR(TabUren2[hoofdcategorie]=\"\",TabUren2[hoofdcategorie]=0),\"anders dan hoofdcategorie\",TabUren2[hoofdcategorie])","v":"anders dan hoofdcategorie"}]
[{"$f":"IF(TabUren2[[#This Row],[datum]]=\"\",\"\",INT((TabUren2[[#This Row],[datum]]-SUM(MOD(DATE(YEAR(TabUren2[[#This Row],[datum]]-MOD(TabUren2[[#This Row],[datum]]-2,7)+3),1,2),{1E+99;7})*{1;-1})+5) /7))","v":""},{"$f":"IF(TabUren2[[#This Row],[datum]]=\"\",\"\",TabUren2[[#This Row],[datum]])","v":""},null,null,{"$f":"IF(TabUren2[[#This Row],[datum]]=\"\",\"\",verzameldata!$C$3)","v":""},null,null,null,null,{"$f":"IF(TabUren2[[#This Row],[eindtijd]]=\"\",\"\",IF(TabUren2[[#This Row],[eindtijd]]<TabUren2[[#This Row],[begintijd]],(\"24:00\"-TabUren2[[#This Row],[begintijd]]+TabUren2[[#This Row],[eindtijd]])-TabUren2[[#This Row],[pauze]],(TabUren2[[#This Row],[eindtijd]]-TabUren2[[#This Row],[begintijd]])-TabUren2[[#This Row],[pauze]]))","v":""},{"$f":"IF(OR(TabUren2[hoofdcategorie]=\"\",TabUren2[hoofdcategorie]=0),\"anders dan hoofdcategorie\",TabUren2[hoofdcategorie])","v":"anders dan hoofdcategorie"}]
[{"$f":"IF(TabUren2[[#This Row],[datum]]=\"\",\"\",INT((TabUren2[[#This Row],[datum]]-SUM(MOD(DATE(YEAR(TabUren2[[#This Row],[datum]]-MOD(TabUren2[[#This Row],[datum]]-2,7)+3),1,2),{1E+99;7})*{1;-1})+5) /7))","v":""},{"$f":"IF(TabUren2[[#This Row],[datum]]=\"\",\"\",TabUren2[[#This Row],[datum]])","v":""},null,null,{"$f":"IF(TabUren2[[#This Row],[datum]]=\"\",\"\",verzameldata!$C$3)","v":""},null,null,null,null,{"$f":"IF(TabUren2[[#This Row],[eindtijd]]=\"\",\"\",IF(TabUren2[[#This Row],[eindtijd]]<TabUren2[[#This Row],[begintijd]],(\"24:00\"-TabUren2[[#This Row],[begintijd]]+TabUren2[[#This Row],[eindtijd]])-TabUren2[[#This Row],[pauze]],(TabUren2[[#This Row],[eindtijd]]-TabUren2[[#This Row],[begintijd]])-TabUren2[[#This Row],[pauze]]))","v":""},{"$f":"IF(OR(TabUren2[hoofdcategorie]=\"\",TabUren2[hoofdcategorie]=0),\"anders dan hoofdcategorie\",TabUren2[hoofdcategorie])","v":"anders dan hoofdcategorie"}]
[{"$f":"IF(TabUren2[[#This Row],[datum]]=\"\",\"\",INT((TabUren2[[#This Row],[datum]]-SUM(MOD(DATE(YEAR(TabUren2[[#This Row],[datum]]-MOD(TabUren2[[#This Row],[datum]]-2,7)+3),1,2),{1E+99;7})*{1;-1})+5) /7))","v":""},{"$f":"IF(TabUren2[[#This Row],[datum]]=\"\",\"\",TabUren2[[#This Row],[datum]])","v":""},null,null,{"$f":"IF(TabUren2[[#This Row],[datum]]=\"\",\"\",verzameldata!$C$3)","v":""},null,null,null,null,{"$f":"IF(TabUren2[[#This Row],[eindtijd]]=\"\",\"\",IF(TabUren2[[#This Row],[eindtijd]]<TabUren2[[#This Row],[begintijd]],(\"24:00\"-TabUren2[[#This Row],[begintijd]]+TabUren2[[#This Row],[eindtijd]])-TabUren2[[#This Row],[pauze]],(TabUren2[[#This Row],[eindtijd]]-TabUren2[[#This Row],[begintijd]])-TabUren2[[#This Row],[pauze]]))","v":""},{"$f":"IF(OR(TabUren2[hoofdcategorie]=\"\",TabUren2[hoofdcategorie]=0),\"anders dan hoofdcategorie\",TabUren2[hoofdcategorie])","v":"anders dan hoofdcategorie"}]
[{"$f":"IF(TabUren2[[#This Row],[datum]]=\"\",\"\",INT((TabUren2[[#This Row],[datum]]-SUM(MOD(DATE(YEAR(TabUren2[[#This Row],[datum]]-MOD(TabUren2[[#This Row],[datum]]-2,7)+3),1,2),{1E+99;7})*{1;-1})+5) /7))","v":""},{"$f":"IF(TabUren2[[#This Row],[datum]]=\"\",\"\",TabUren2[[#This Row],[datum]])","v":""},null,null,{"$f":"IF(TabUren2[[#This Row],[datum]]=\"\",\"\",verzameldata!$C$3)","v":""},null,null,null,null,{"$f":"IF(TabUren2[[#This Row],[eindtijd]]=\"\",\"\",IF(TabUren2[[#This Row],[eindtijd]]<TabUren2[[#This Row],[begintijd]],(\"24:00\"-TabUren2[[#This Row],[begintijd]]+TabUren2[[#This Row],[eindtijd]])-TabUren2[[#This Row],[pauze]],(TabUren2[[#This Row],[eindtijd]]-TabUren2[[#This Row],[begintijd]])-TabUren2[[#This Row],[pauze]]))","v":""},{"$f":"IF(OR(TabUren2[hoofdcategorie]=\"\",TabUren2[hoofdcategorie]=0),\"anders dan hoofdcategorie\",TabUren2[hoofdcategorie])","v":"anders dan hoofdcategorie"}]
[{"$f":"IF(TabUren2[[#This Row],[datum]]=\"\",\"\",INT((TabUren2[[#This Row],[datum]]-SUM(MOD(DATE(YEAR(TabUren2[[#This Row],[datum]]-MOD(TabUren2[[#This Row],[datum]]-2,7)+3),1,2),{1E+99;7})*{1;-1})+5) /7))","v":""},{"$f":"IF(TabUren2[[#This Row],[datum]]=\"\",\"\",TabUren2[[#This Row],[datum]])","v":""},null,null,{"$f":"IF(TabUren2[[#This Row],[datum]]=\"\",\"\",verzameldata!$C$3)","v":""},null,null,null,null,{"$f":"IF(TabUren2[[#This Row],[eindtijd]]=\"\",\"\",IF(TabUren2[[#This Row],[eindtijd]]<TabUren2[[#This Row],[begintijd]],(\"24:00\"-TabUren2[[#This Row],[begintijd]]+TabUren2[[#This Row],[eindtijd]])-TabUren2[[#This Row],[pauze]],(TabUren2[[#This Row],[eindtijd]]-TabUren2[[#This Row],[begintijd]])-TabUren2[[#This Row],[pauze]]))","v":""},{"$f":"IF(OR(TabUren2[hoofdcategorie]=\"\",TabUren2[hoofdcategorie]=0),\"anders dan hoofdcategorie\",TabUren2[hoofdcategorie])","v":"anders dan hoofdcategorie"}]
[{"$f":"IF(TabUren2[[#This Row],[datum]]=\"\",\"\",INT((TabUren2[[#This Row],[datum]]-SUM(MOD(DATE(YEAR(TabUren2[[#This Row],[datum]]-MOD(TabUren2[[#This Row],[datum]]-2,7)+3),1,2),{1E+99;7})*{1;-1})+5) /7))","v":""},{"$f":"IF(TabUren2[[#This Row],[datum]]=\"\",\"\",TabUren2[[#This Row],[datum]])","v":""},null,null,{"$f":"IF(TabUren2[[#This Row],[datum]]=\"\",\"\",verzameldata!$C$3)","v":""},null,null,null,null,{"$f":"IF(TabUren2[[#This Row],[eindtijd]]=\"\",\"\",IF(TabUren2[[#This Row],[eindtijd]]<TabUren2[[#This Row],[begintijd]],(\"24:00\"-TabUren2[[#This Row],[begintijd]]+TabUren2[[#This Row],[eindtijd]])-TabUren2[[#This Row],[pauze]],(TabUren2[[#This Row],[eindtijd]]-TabUren2[[#This Row],[begintijd]])-TabUren2[[#This Row],[pauze]]))","v":""},{"$f":"IF(OR(TabUren2[hoofdcategorie]=\"\",TabUren2[hoofdcategorie]=0),\"anders dan hoofdcategorie\",TabUren2[hoofdcategorie])","v":"anders dan hoofdcategorie"}]
[{"$f":"IF(TabUren2[[#This Row],[datum]]=\"\",\"\",INT((TabUren2[[#This Row],[datum]]-SUM(MOD(DATE(YEAR(TabUren2[[#This Row],[datum]]-MOD(TabUren2[[#This Row],[datum]]-2,7)+3),1,2),{1E+99;7})*{1;-1})+5) /7))","v":""},{"$f":"IF(TabUren2[[#This Row],[datum]]=\"\",\"\",TabUren2[[#This Row],[datum]])","v":""},null,null,{"$f":"IF(TabUren2[[#This Row],[datum]]=\"\",\"\",verzameldata!$C$3)","v":""},null,null,null,null,{"$f":"IF(TabUren2[[#This Row],[eindtijd]]=\"\",\"\",IF(TabUren2[[#This Row],[eindtijd]]<TabUren2[[#This Row],[begintijd]],(\"24:00\"-TabUren2[[#This Row],[begintijd]]+TabUren2[[#This Row],[eindtijd]])-TabUren2[[#This Row],[pauze]],(TabUren2[[#This Row],[eindtijd]]-TabUren2[[#This Row],[begintijd]])-TabUren2[[#This Row],[pauze]]))","v":""},{"$f":"IF(OR(TabUren2[hoofdcategorie]=\"\",TabUren2[hoofdcategorie]=0),\"anders dan hoofdcategorie\",TabUren2[hoofdcategorie])","v":"anders dan hoofdcategorie"}]
[{"$f":"IF(TabUren2[[#This Row],[datum]]=\"\",\"\",INT((TabUren2[[#This Row],[datum]]-SUM(MOD(DATE(YEAR(TabUren2[[#This Row],[datum]]-MOD(TabUren2[[#This Row],[datum]]-2,7)+3),1,2),{1E+99;7})*{1;-1})+5) /7))","v":""},{"$f":"IF(TabUren2[[#This Row],[datum]]=\"\",\"\",TabUren2[[#This Row],[datum]])","v":""},null,null,{"$f":"IF(TabUren2[[#This Row],[datum]]=\"\",\"\",verzameldata!$C$3)","v":""},null,null,null,null,{"$f":"IF(TabUren2[[#This Row],[eindtijd]]=\"\",\"\",IF(TabUren2[[#This Row],[eindtijd]]<TabUren2[[#This Row],[begintijd]],(\"24:00\"-TabUren2[[#This Row],[begintijd]]+TabUren2[[#This Row],[eindtijd]])-TabUren2[[#This Row],[pauze]],(TabUren2[[#This Row],[eindtijd]]-TabUren2[[#This Row],[begintijd]])-TabUren2[[#This Row],[pauze]]))","v":""},{"$f":"IF(OR(TabUren2[hoofdcategorie]=\"\",TabUren2[hoofdcategorie]=0),\"anders dan hoofdcategorie\",TabUren2[hoofdcategorie])","v":"anders dan hoofdcategorie"}]
[{"$f":"IF(TabUren2[[#This Row],[datum]]=\"\",\"\",INT((TabUren2[[#This Row],[datum]]-SUM(MOD(DATE(YEAR(TabUren2[[#This Row],[datum]]-MOD(TabUren2[[#This Row],[datum]]-2,7)+3),1,2),{1E+99;7})*{1;-1})+5) /7))","v":""},{"$f":"IF(TabUren2[[#This Row],[datum]]=\"\",\"\",TabUren2[[#This Row],[datum]])","v":""},null,null,{"$f":"IF(TabUren2[[#This Row],[datum]]=\"\",\"\",verzameldata!$C$3)","v":""},null,null,null,null,{"$f":"IF(TabUren2[[#This Row],[eindtijd]]=\"\",\"\",IF(TabUren2[[#This Row],[eindtijd]]<TabUren2[[#This Row],[begintijd]],(\"24:00\"-TabUren2[[#This Row],[begintijd]]+TabUren2[[#This Row],[eindtijd]])-TabUren2[[#This Row],[pauze]],(TabUren2[[#This Row],[eindtijd]]-TabUren2[[#This Row],[begintijd]])-TabUren2[[#This Row],[pauze]]))","v":""},{"$f":"IF(OR(TabUren2[hoofdcategorie]=\"\",TabUren2[hoofdcategorie]=0),\"anders dan hoofdcategorie\",TabUren2[hoofdcategorie])","v":"anders dan hoofdcategorie"}]
[{"$f":"IF(TabUren2[[#This Row],[datum]]=\"\",\"\",INT((TabUren2[[#This Row],[datum]]-SUM(MOD(DATE(YEAR(TabUren2[[#This Row],[datum]]-MOD(TabUren2[[#This Row],[datum]]-2,7)+3),1,2),{1E+99;7})*{1;-1})+5) /7))","v":""},{"$f":"IF(TabUren2[[#This Row],[datum]]=\"\",\"\",TabUren2[[#This Row],[datum]])","v":""},null,null,{"$f":"IF(TabUren2[[#This Row],[datum]]=\"\",\"\",verzameldata!$C$3)","v":""},null,null,null,null,{"$f":"IF(TabUren2[[#This Row],[eindtijd]]=\"\",\"\",IF(TabUren2[[#This Row],[eindtijd]]<TabUren2[[#This Row],[begintijd]],(\"24:00\"-TabUren2[[#This Row],[begintijd]]+TabUren2[[#This Row],[eindtijd]])-TabUren2[[#This Row],[pauze]],(TabUren2[[#This Row],[eindtijd]]-TabUren2[[#This Row],[begintijd]])-TabUren2[[#This Row],[pauze]]))","v":""},{"$f":"IF(OR(TabUren2[hoofdcategorie]=\"\",TabUren2[hoofdcategorie]=0),\"anders dan hoofdcategorie\",TabUren2[hoofdcategorie])","v":"anders dan hoofdcategorie"}]
[{"$f":"IF(TabUren2[[#This Row],[datum]]=\"\",\"\",INT((TabUren2[[#This Row],[datum]]-SUM(MOD(DATE(YEAR(TabUren2[[#This Row],[datum]]-MOD(TabUren2[[#This Row],[datum]]-2,7)+3),1,2),{1E+99;7})*{1;-1})+5) /7))","v":""},{"$f":"IF(TabUren2[[#This Row],[datum]]=\"\",\"\",TabUren2[[#This Row],[datum]])","v":""},null,null,{"$f":"IF(TabUren2[[#This Row],[datum]]=\"\",\"\",verzameldata!$C$3)","v":""},null,null,null,null,{"$f":"IF(TabUren2[[#This Row],[eindtijd]]=\"\",\"\",IF(TabUren2[[#This Row],[eindtijd]]<TabUren2[[#This Row],[begintijd]],(\"24:00\"-TabUren2[[#This Row],[begintijd]]+TabUren2[[#This Row],[eindtijd]])-TabUren2[[#This Row],[pauze]],(TabUren2[[#This Row],[eindtijd]]-TabUren2[[#This Row],[begintijd]])-TabUren2[[#This Row],[pauze]]))","v":""},{"$f":"IF(OR(TabUren2[hoofdcategorie]=\"\",TabUren2[hoofdcategorie]=0),\"anders dan hoofdcategorie\",TabUren2[hoofdcategorie])","v":"anders dan hoofdcategorie"}]
[{"$f":"IF(TabUren2[[#This Row],[datum]]=\"\",\"\",INT((TabUren2[[#This Row],[datum]]-SUM(MOD(DATE(YEAR(TabUren2[[#This Row],[datum]]-MOD(TabUren2[[#This Row],[datum]]-2,7)+3),1,2),{1E+99;7})*{1;-1})+5) /7))","v":""},{"$f":"IF(TabUren2[[#This Row],[datum]]=\"\",\"\",TabUren2[[#This Row],[datum]])","v":""},null,null,{"$f":"IF(TabUren2[[#This Row],[datum]]=\"\",\"\",verzameldata!$C$3)","v":""},null,null,null,null,{"$f":"IF(TabUren2[[#This Row],[eindtijd]]=\"\",\"\",IF(TabUren2[[#This Row],[eindtijd]]<TabUren2[[#This Row],[begintijd]],(\"24:00\"-TabUren2[[#This Row],[begintijd]]+TabUren2[[#This Row],[eindtijd]])-TabUren2[[#This Row],[pauze]],(TabUren2[[#This Row],[eindtijd]]-TabUren2[[#This Row],[begintijd]])-TabUren2[[#This Row],[pauze]]))","v":""},{"$f":"IF(OR(TabUren2[hoofdcategorie]=\"\",TabUren2[hoofdcategorie]=0),\"anders dan hoofdcategorie\",TabUren2[hoofdcategorie])","v":"anders dan hoofdcategorie"}]
[{"$f":"IF(TabUren2[[#This Row],[datum]]=\"\",\"\",INT((TabUren2[[#This Row],[datum]]-SUM(MOD(DATE(YEAR(TabUren2[[#This Row],[datum]]-MOD(TabUren2[[#This Row],[datum]]-2,7)+3),1,2),{1E+99;7})*{1;-1})+5) /7))","v":""},{"$f":"IF(TabUren2[[#This Row],[datum]]=\"\",\"\",TabUren2[[#This Row],[datum]])","v":""},null,null,{"$f":"IF(TabUren2[[#This Row],[datum]]=\"\",\"\",verzameldata!$C$3)","v":""},null,null,null,null,{"$f":"IF(TabUren2[[#This Row],[eindtijd]]=\"\",\"\",IF(TabUren2[[#This Row],[eindtijd]]<TabUren2[[#This Row],[begintijd]],(\"24:00\"-TabUren2[[#This Row],[begintijd]]+TabUren2[[#This Row],[eindtijd]])-TabUren2[[#This Row],[pauze]],(TabUren2[[#This Row],[eindtijd]]-TabUren2[[#This Row],[begintijd]])-TabUren2[[#This Row],[pauze]]))","v":""},{"$f":"IF(OR(TabUren2[hoofdcategorie]=\"\",TabUren2[hoofdcategorie]=0),\"anders dan hoofdcategorie\",TabUren2[hoofdcategorie])","v":"anders dan hoofdcategorie"}]
[{"$f":"IF(TabUren2[[#This Row],[datum]]=\"\",\"\",INT((TabUren2[[#This Row],[datum]]-SUM(MOD(DATE(YEAR(TabUren2[[#This Row],[datum]]-MOD(TabUren2[[#This Row],[datum]]-2,7)+3),1,2),{1E+99;7})*{1;-1})+5) /7))","v":""},{"$f":"IF(TabUren2[[#This Row],[datum]]=\"\",\"\",TabUren2[[#This Row],[datum]])","v":""},null,null,{"$f":"IF(TabUren2[[#This Row],[datum]]=\"\",\"\",verzameldata!$C$3)","v":""},null,null,null,null,{"$f":"IF(TabUren2[[#This Row],[eindtijd]]=\"\",\"\",IF(TabUren2[[#This Row],[eindtijd]]<TabUren2[[#This Row],[begintijd]],(\"24:00\"-TabUren2[[#This Row],[begintijd]]+TabUren2[[#This Row],[eindtijd]])-TabUren2[[#This Row],[pauze]],(TabUren2[[#This Row],[eindtijd]]-TabUren2[[#This Row],[begintijd]])-TabUren2[[#This Row],[pauze]]))","v":""},{"$f":"IF(OR(TabUren2[hoofdcategorie]=\"\",TabUren2[hoofdcategorie]=0),\"anders dan hoofdcategorie\",TabUren2[hoofdcategorie])","v":"anders dan hoofdcategorie"}]
[{"$f":"IF(TabUren2[[#This Row],[datum]]=\"\",\"\",INT((TabUren2[[#This Row],[datum]]-SUM(MOD(DATE(YEAR(TabUren2[[#This Row],[datum]]-MOD(TabUren2[[#This Row],[datum]]-2,7)+3),1,2),{1E+99;7})*{1;-1})+5) /7))","v":""},{"$f":"IF(TabUren2[[#This Row],[datum]]=\"\",\"\",TabUren2[[#This Row],[datum]])","v":""},null,null,{"$f":"IF(TabUren2[[#This Row],[datum]]=\"\",\"\",verzameldata!$C$3)","v":""},null,null,null,null,{"$f":"IF(TabUren2[[#This Row],[eindtijd]]=\"\",\"\",IF(TabUren2[[#This Row],[eindtijd]]<TabUren2[[#This Row],[begintijd]],(\"24:00\"-TabUren2[[#This Row],[begintijd]]+TabUren2[[#This Row],[eindtijd]])-TabUren2[[#This Row],[pauze]],(TabUren2[[#This Row],[eindtijd]]-TabUren2[[#This Row],[begintijd]])-TabUren2[[#This Row],[pauze]]))","v":""},{"$f":"IF(OR(TabUren2[hoofdcategorie]=\"\",TabUren2[hoofdcategorie]=0),\"anders dan hoofdcategorie\",TabUren2[hoofdcategorie])","v":"anders dan hoofdcategorie"}]
[{"$f":"IF(TabUren2[[#This Row],[datum]]=\"\",\"\",INT((TabUren2[[#This Row],[datum]]-SUM(MOD(DATE(YEAR(TabUren2[[#This Row],[datum]]-MOD(TabUren2[[#This Row],[datum]]-2,7)+3),1,2),{1E+99;7})*{1;-1})+5) /7))","v":""},{"$f":"IF(TabUren2[[#This Row],[datum]]=\"\",\"\",TabUren2[[#This Row],[datum]])","v":""},null,null,{"$f":"IF(TabUren2[[#This Row],[datum]]=\"\",\"\",verzameldata!$C$3)","v":""},null,null,null,null,{"$f":"IF(TabUren2[[#This Row],[eindtijd]]=\"\",\"\",IF(TabUren2[[#This Row],[eindtijd]]<TabUren2[[#This Row],[begintijd]],(\"24:00\"-TabUren2[[#This Row],[begintijd]]+TabUren2[[#This Row],[eindtijd]])-TabUren2[[#This Row],[pauze]],(TabUren2[[#This Row],[eindtijd]]-TabUren2[[#This Row],[begintijd]])-TabUren2[[#This Row],[pauze]]))","v":""},{"$f":"IF(OR(TabUren2[hoofdcategorie]=\"\",TabUren2[hoofdcategorie]=0),\"anders dan hoofdcategorie\",TabUren2[hoofdcategorie])","v":"anders dan hoofdcategorie"}]
[{"$f":"IF(TabUren2[[#This Row],[datum]]=\"\",\"\",INT((TabUren2[[#This Row],[datum]]-SUM(MOD(DATE(YEAR(TabUren2[[#This Row],[datum]]-MOD(TabUren2[[#This Row],[datum]]-2,7)+3),1,2),{1E+99;7})*{1;-1})+5) /7))","v":""},{"$f":"IF(TabUren2[[#This Row],[datum]]=\"\",\"\",TabUren2[[#This Row],[datum]])","v":""},null,null,{"$f":"IF(TabUren2[[#This Row],[datum]]=\"\",\"\",verzameldata!$C$3)","v":""},null,null,null,null,{"$f":"IF(TabUren2[[#This Row],[eindtijd]]=\"\",\"\",IF(TabUren2[[#This Row],[eindtijd]]<TabUren2[[#This Row],[begintijd]],(\"24:00\"-TabUren2[[#This Row],[begintijd]]+TabUren2[[#This Row],[eindtijd]])-TabUren2[[#This Row],[pauze]],(TabUren2[[#This Row],[eindtijd]]-TabUren2[[#This Row],[begintijd]])-TabUren2[[#This Row],[pauze]]))","v":""},{"$f":"IF(OR(TabUren2[hoofdcategorie]=\"\",TabUren2[hoofdcategorie]=0),\"anders dan hoofdcategorie\",TabUren2[hoofdcategorie])","v":"anders dan hoofdcategorie"}]
[{"$f":"IF(TabUren2[[#This Row],[datum]]=\"\",\"\",INT((TabUren2[[#This Row],[datum]]-SUM(MOD(DATE(YEAR(TabUren2[[#This Row],[datum]]-MOD(TabUren2[[#This Row],[datum]]-2,7)+3),1,2),{1E+99;7})*{1;-1})+5) /7))","v":""},{"$f":"IF(TabUren2[[#This Row],[datum]]=\"\",\"\",TabUren2[[#This Row],[datum]])","v":""},null,null,{"$f":"IF(TabUren2[[#This Row],[datum]]=\"\",\"\",verzameldata!$C$3)","v":""},null,null,null,null,{"$f":"IF(TabUren2[[#This Row],[eindtijd]]=\"\",\"\",IF(TabUren2[[#This Row],[eindtijd]]<TabUren2[[#This Row],[begintijd]],(\"24:00\"-TabUren2[[#This Row],[begintijd]]+TabUren2[[#This Row],[eindtijd]])-TabUren2[[#This Row],[pauze]],(TabUren2[[#This Row],[eindtijd]]-TabUren2[[#This Row],[begintijd]])-TabUren2[[#This Row],[pauze]]))","v":""},{"$f":"IF(OR(TabUren2[hoofdcategorie]=\"\",TabUren2[hoofdcategorie]=0),\"anders dan hoofdcategorie\",TabUren2[hoofdcategorie])","v":"anders dan hoofdcategorie"}]
[{"$f":"IF(TabUren2[[#This Row],[datum]]=\"\",\"\",INT((TabUren2[[#This Row],[datum]]-SUM(MOD(DATE(YEAR(TabUren2[[#This Row],[datum]]-MOD(TabUren2[[#This Row],[datum]]-2,7)+3),1,2),{1E+99;7})*{1;-1})+5) /7))","v":""},{"$f":"IF(TabUren2[[#This Row],[datum]]=\"\",\"\",TabUren2[[#This Row],[datum]])","v":""},null,null,{"$f":"IF(TabUren2[[#This Row],[datum]]=\"\",\"\",verzameldata!$C$3)","v":""},null,null,null,null,{"$f":"IF(TabUren2[[#This Row],[eindtijd]]=\"\",\"\",IF(TabUren2[[#This Row],[eindtijd]]<TabUren2[[#This Row],[begintijd]],(\"24:00\"-TabUren2[[#This Row],[begintijd]]+TabUren2[[#This Row],[eindtijd]])-TabUren2[[#This Row],[pauze]],(TabUren2[[#This Row],[eindtijd]]-TabUren2[[#This Row],[begintijd]])-TabUren2[[#This Row],[pauze]]))","v":""},{"$f":"IF(OR(TabUren2[hoofdcategorie]=\"\",TabUren2[hoofdcategorie]=0),\"anders dan hoofdcategorie\",TabUren2[hoofdcategorie])","v":"anders dan hoofdcategorie"}]
[{"$f":"IF(TabUren2[[#This Row],[datum]]=\"\",\"\",INT((TabUren2[[#This Row],[datum]]-SUM(MOD(DATE(YEAR(TabUren2[[#This Row],[datum]]-MOD(TabUren2[[#This Row],[datum]]-2,7)+3),1,2),{1E+99;7})*{1;-1})+5) /7))","v":""},{"$f":"IF(TabUren2[[#This Row],[datum]]=\"\",\"\",TabUren2[[#This Row],[datum]])","v":""},null,null,{"$f":"IF(TabUren2[[#This Row],[datum]]=\"\",\"\",verzameldata!$C$3)","v":""},null,null,null,null,{"$f":"IF(TabUren2[[#This Row],[eindtijd]]=\"\",\"\",IF(TabUren2[[#This Row],[eindtijd]]<TabUren2[[#This Row],[begintijd]],(\"24:00\"-TabUren2[[#This Row],[begintijd]]+TabUren2[[#This Row],[eindtijd]])-TabUren2[[#This Row],[pauze]],(TabUren2[[#This Row],[eindtijd]]-TabUren2[[#This Row],[begintijd]])-TabUren2[[#This Row],[pauze]]))","v":""},{"$f":"IF(OR(TabUren2[hoofdcategorie]=\"\",TabUren2[hoofdcategorie]=0),\"anders dan hoofdcategorie\",TabUren2[hoofdcategorie])","v":"anders dan hoofdcategorie"}]
[{"$f":"IF(TabUren2[[#This Row],[datum]]=\"\",\"\",INT((TabUren2[[#This Row],[datum]]-SUM(MOD(DATE(YEAR(TabUren2[[#This Row],[datum]]-MOD(TabUren2[[#This Row],[datum]]-2,7)+3),1,2),{1E+99;7})*{1;-1})+5) /7))","v":""},{"$f":"IF(TabUren2[[#This Row],[datum]]=\"\",\"\",TabUren2[[#This Row],[datum]])","v":""},null,null,{"$f":"IF(TabUren2[[#This Row],[datum]]=\"\",\"\",verzameldata!$C$3)","v":""},null,null,null,null,{"$f":"IF(TabUren2[[#This Row],[eindtijd]]=\"\",\"\",IF(TabUren2[[#This Row],[eindtijd]]<TabUren2[[#This Row],[begintijd]],(\"24:00\"-TabUren2[[#This Row],[begintijd]]+TabUren2[[#This Row],[eindtijd]])-TabUren2[[#This Row],[pauze]],(TabUren2[[#This Row],[eindtijd]]-TabUren2[[#This Row],[begintijd]])-TabUren2[[#This Row],[pauze]]))","v":""},{"$f":"IF(OR(TabUren2[hoofdcategorie]=\"\",TabUren2[hoofdcategorie]=0),\"anders dan hoofdcategorie\",TabUren2[hoofdcategorie])","v":"anders dan hoofdcategorie"}]
[{"$f":"IF(TabUren2[[#This Row],[datum]]=\"\",\"\",INT((TabUren2[[#This Row],[datum]]-SUM(MOD(DATE(YEAR(TabUren2[[#This Row],[datum]]-MOD(TabUren2[[#This Row],[datum]]-2,7)+3),1,2),{1E+99;7})*{1;-1})+5) /7))","v":""},{"$f":"IF(TabUren2[[#This Row],[datum]]=\"\",\"\",TabUren2[[#This Row],[datum]])","v":""},null,null,{"$f":"IF(TabUren2[[#This Row],[datum]]=\"\",\"\",verzameldata!$C$3)","v":""},null,null,null,null,{"$f":"IF(TabUren2[[#This Row],[eindtijd]]=\"\",\"\",IF(TabUren2[[#This Row],[eindtijd]]<TabUren2[[#This Row],[begintijd]],(\"24:00\"-TabUren2[[#This Row],[begintijd]]+TabUren2[[#This Row],[eindtijd]])-TabUren2[[#This Row],[pauze]],(TabUren2[[#This Row],[eindtijd]]-TabUren2[[#This Row],[begintijd]])-TabUren2[[#This Row],[pauze]]))","v":""},{"$f":"IF(OR(TabUren2[hoofdcategorie]=\"\",TabUren2[hoofdcategorie]=0),\"anders dan hoofdcategorie\",TabUren2[hoofdcategorie])","v":"anders dan hoofdcategorie"}]
[{"$f":"IF(TabUren2[[#This Row],[datum]]=\"\",\"\",INT((TabUren2[[#This Row],[datum]]-SUM(MOD(DATE(YEAR(TabUren2[[#This Row],[datum]]-MOD(TabUren2[[#This Row],[datum]]-2,7)+3),1,2),{1E+99;7})*{1;-1})+5) /7))","v":""},{"$f":"IF(TabUren2[[#This Row],[datum]]=\"\",\"\",TabUren2[[#This Row],[datum]])","v":""},null,null,{"$f":"IF(TabUren2[[#This Row],[datum]]=\"\",\"\",verzameldata!$C$3)","v":""},null,null,null,null,{"$f":"IF(TabUren2[[#This Row],[eindtijd]]=\"\",\"\",IF(TabUren2[[#This Row],[eindtijd]]<TabUren2[[#This Row],[begintijd]],(\"24:00\"-TabUren2[[#This Row],[begintijd]]+TabUren2[[#This Row],[eindtijd]])-TabUren2[[#This Row],[pauze]],(TabUren2[[#This Row],[eindtijd]]-TabUren2[[#This Row],[begintijd]])-TabUren2[[#This Row],[pauze]]))","v":""},{"$f":"IF(OR(TabUren2[hoofdcategorie]=\"\",TabUren2[hoofdcategorie]=0),\"anders dan hoofdcategorie\",TabUren2[hoofdcategorie])","v":"anders dan hoofdcategorie"}]
[{"$f":"IF(TabUren2[[#This Row],[datum]]=\"\",\"\",INT((TabUren2[[#This Row],[datum]]-SUM(MOD(DATE(YEAR(TabUren2[[#This Row],[datum]]-MOD(TabUren2[[#This Row],[datum]]-2,7)+3),1,2),{1E+99;7})*{1;-1})+5) /7))","v":""},{"$f":"IF(TabUren2[[#This Row],[datum]]=\"\",\"\",TabUren2[[#This Row],[datum]])","v":""},null,null,{"$f":"IF(TabUren2[[#This Row],[datum]]=\"\",\"\",verzameldata!$C$3)","v":""},null,null,null,null,{"$f":"IF(TabUren2[[#This Row],[eindtijd]]=\"\",\"\",IF(TabUren2[[#This Row],[eindtijd]]<TabUren2[[#This Row],[begintijd]],(\"24:00\"-TabUren2[[#This Row],[begintijd]]+TabUren2[[#This Row],[eindtijd]])-TabUren2[[#This Row],[pauze]],(TabUren2[[#This Row],[eindtijd]]-TabUren2[[#This Row],[begintijd]])-TabUren2[[#This Row],[pauze]]))","v":""},{"$f":"IF(OR(TabUren2[hoofdcategorie]=\"\",TabUren2[hoofdcategorie]=0),\"anders dan hoofdcategorie\",TabUren2[hoofdcategorie])","v":"anders dan hoofdcategorie"}]
[{"$f":"IF(TabUren2[[#This Row],[datum]]=\"\",\"\",INT((TabUren2[[#This Row],[datum]]-SUM(MOD(DATE(YEAR(TabUren2[[#This Row],[datum]]-MOD(TabUren2[[#This Row],[datum]]-2,7)+3),1,2),{1E+99;7})*{1;-1})+5) /7))","v":""},{"$f":"IF(TabUren2[[#This Row],[datum]]=\"\",\"\",TabUren2[[#This Row],[datum]])","v":""},null,null,{"$f":"IF(TabUren2[[#This Row],[datum]]=\"\",\"\",verzameldata!$C$3)","v":""},null,null,null,null,{"$f":"IF(TabUren2[[#This Row],[eindtijd]]=\"\",\"\",IF(TabUren2[[#This Row],[eindtijd]]<TabUren2[[#This Row],[begintijd]],(\"24:00\"-TabUren2[[#This Row],[begintijd]]+TabUren2[[#This Row],[eindtijd]])-TabUren2[[#This Row],[pauze]],(TabUren2[[#This Row],[eindtijd]]-TabUren2[[#This Row],[begintijd]])-TabUren2[[#This Row],[pauze]]))","v":""},{"$f":"IF(OR(TabUren2[hoofdcategorie]=\"\",TabUren2[hoofdcategorie]=0),\"anders dan hoofdcategorie\",TabUren2[hoofdcategorie])","v":"anders dan hoofdcategorie"}]
[{"$f":"IF(TabUren2[[#This Row],[datum]]=\"\",\"\",INT((TabUren2[[#This Row],[datum]]-SUM(MOD(DATE(YEAR(TabUren2[[#This Row],[datum]]-MOD(TabUren2[[#This Row],[datum]]-2,7)+3),1,2),{1E+99;7})*{1;-1})+5) /7))","v":""},{"$f":"IF(TabUren2[[#This Row],[datum]]=\"\",\"\",TabUren2[[#This Row],[datum]])","v":""},null,null,{"$f":"IF(TabUren2[[#This Row],[datum]]=\"\",\"\",verzameldata!$C$3)","v":""},null,null,null,null,{"$f":"IF(TabUren2[[#This Row],[eindtijd]]=\"\",\"\",IF(TabUren2[[#This Row],[eindtijd]]<TabUren2[[#This Row],[begintijd]],(\"24:00\"-TabUren2[[#This Row],[begintijd]]+TabUren2[[#This Row],[eindtijd]])-TabUren2[[#This Row],[pauze]],(TabUren2[[#This Row],[eindtijd]]-TabUren2[[#This Row],[begintijd]])-TabUren2[[#This Row],[pauze]]))","v":""},{"$f":"IF(OR(TabUren2[hoofdcategorie]=\"\",TabUren2[hoofdcategorie]=0),\"anders dan hoofdcategorie\",TabUren2[hoofdcategorie])","v":"anders dan hoofdcategorie"}]
[{"$f":"IF(TabUren2[[#This Row],[datum]]=\"\",\"\",INT((TabUren2[[#This Row],[datum]]-SUM(MOD(DATE(YEAR(TabUren2[[#This Row],[datum]]-MOD(TabUren2[[#This Row],[datum]]-2,7)+3),1,2),{1E+99;7})*{1;-1})+5) /7))","v":""},{"$f":"IF(TabUren2[[#This Row],[datum]]=\"\",\"\",TabUren2[[#This Row],[datum]])","v":""},null,null,{"$f":"IF(TabUren2[[#This Row],[datum]]=\"\",\"\",verzameldata!$C$3)","v":""},null,null,null,null,{"$f":"IF(TabUren2[[#This Row],[eindtijd]]=\"\",\"\",IF(TabUren2[[#This Row],[eindtijd]]<TabUren2[[#This Row],[begintijd]],(\"24:00\"-TabUren2[[#This Row],[begintijd]]+TabUren2[[#This Row],[eindtijd]])-TabUren2[[#This Row],[pauze]],(TabUren2[[#This Row],[eindtijd]]-TabUren2[[#This Row],[begintijd]])-TabUren2[[#This Row],[pauze]]))","v":""},{"$f":"IF(OR(TabUren2[hoofdcategorie]=\"\",TabUren2[hoofdcategorie]=0),\"anders dan hoofdcategorie\",TabUren2[hoofdcategorie])","v":"anders dan hoofdcategorie"}]
[{"$f":"IF(TabUren2[[#This Row],[datum]]=\"\",\"\",INT((TabUren2[[#This Row],[datum]]-SUM(MOD(DATE(YEAR(TabUren2[[#This Row],[datum]]-MOD(TabUren2[[#This Row],[datum]]-2,7)+3),1,2),{1E+99;7})*{1;-1})+5) /7))","v":""},{"$f":"IF(TabUren2[[#This Row],[datum]]=\"\",\"\",TabUren2[[#This Row],[datum]])","v":""},null,null,{"$f":"IF(TabUren2[[#This Row],[datum]]=\"\",\"\",verzameldata!$C$3)","v":""},null,null,null,null,{"$f":"IF(TabUren2[[#This Row],[eindtijd]]=\"\",\"\",IF(TabUren2[[#This Row],[eindtijd]]<TabUren2[[#This Row],[begintijd]],(\"24:00\"-TabUren2[[#This Row],[begintijd]]+TabUren2[[#This Row],[eindtijd]])-TabUren2[[#This Row],[pauze]],(TabUren2[[#This Row],[eindtijd]]-TabUren2[[#This Row],[begintijd]])-TabUren2[[#This Row],[pauze]]))","v":""},{"$f":"IF(OR(TabUren2[hoofdcategorie]=\"\",TabUren2[hoofdcategorie]=0),\"anders dan hoofdcategorie\",TabUren2[hoofdcategorie])","v":"anders dan hoofdcategorie"}]
[{"$f":"IF(TabUren2[[#This Row],[datum]]=\"\",\"\",INT((TabUren2[[#This Row],[datum]]-SUM(MOD(DATE(YEAR(TabUren2[[#This Row],[datum]]-MOD(TabUren2[[#This Row],[datum]]-2,7)+3),1,2),{1E+99;7})*{1;-1})+5) /7))","v":""},{"$f":"IF(TabUren2[[#This Row],[datum]]=\"\",\"\",TabUren2[[#This Row],[datum]])","v":""},null,null,{"$f":"IF(TabUren2[[#This Row],[datum]]=\"\",\"\",verzameldata!$C$3)","v":""},null,null,null,null,{"$f":"IF(TabUren2[[#This Row],[eindtijd]]=\"\",\"\",IF(TabUren2[[#This Row],[eindtijd]]<TabUren2[[#This Row],[begintijd]],(\"24:00\"-TabUren2[[#This Row],[begintijd]]+TabUren2[[#This Row],[eindtijd]])-TabUren2[[#This Row],[pauze]],(TabUren2[[#This Row],[eindtijd]]-TabUren2[[#This Row],[begintijd]])-TabUren2[[#This Row],[pauze]]))","v":""},{"$f":"IF(OR(TabUren2[hoofdcategorie]=\"\",TabUren2[hoofdcategorie]=0),\"anders dan hoofdcategorie\",TabUren2[hoofdcategorie])","v":"anders dan hoofdcategorie"}]
[{"$f":"IF(TabUren2[[#This Row],[datum]]=\"\",\"\",INT((TabUren2[[#This Row],[datum]]-SUM(MOD(DATE(YEAR(TabUren2[[#This Row],[datum]]-MOD(TabUren2[[#This Row],[datum]]-2,7)+3),1,2),{1E+99;7})*{1;-1})+5) /7))","v":""},{"$f":"IF(TabUren2[[#This Row],[datum]]=\"\",\"\",TabUren2[[#This Row],[datum]])","v":""},null,null,{"$f":"IF(TabUren2[[#This Row],[datum]]=\"\",\"\",verzameldata!$C$3)","v":""},null,null,null,null,{"$f":"IF(TabUren2[[#This Row],[eindtijd]]=\"\",\"\",IF(TabUren2[[#This Row],[eindtijd]]<TabUren2[[#This Row],[begintijd]],(\"24:00\"-TabUren2[[#This Row],[begintijd]]+TabUren2[[#This Row],[eindtijd]])-TabUren2[[#This Row],[pauze]],(TabUren2[[#This Row],[eindtijd]]-TabUren2[[#This Row],[begintijd]])-TabUren2[[#This Row],[pauze]]))","v":""},{"$f":"IF(OR(TabUren2[hoofdcategorie]=\"\",TabUren2[hoofdcategorie]=0),\"anders dan hoofdcategorie\",TabUren2[hoofdcategorie])","v":"anders dan hoofdcategorie"}]
[{"$f":"IF(TabUren2[[#This Row],[datum]]=\"\",\"\",INT((TabUren2[[#This Row],[datum]]-SUM(MOD(DATE(YEAR(TabUren2[[#This Row],[datum]]-MOD(TabUren2[[#This Row],[datum]]-2,7)+3),1,2),{1E+99;7})*{1;-1})+5) /7))","v":""},{"$f":"IF(TabUren2[[#This Row],[datum]]=\"\",\"\",TabUren2[[#This Row],[datum]])","v":""},null,null,{"$f":"IF(TabUren2[[#This Row],[datum]]=\"\",\"\",verzameldata!$C$3)","v":""},null,null,null,null,{"$f":"IF(TabUren2[[#This Row],[eindtijd]]=\"\",\"\",IF(TabUren2[[#This Row],[eindtijd]]<TabUren2[[#This Row],[begintijd]],(\"24:00\"-TabUren2[[#This Row],[begintijd]]+TabUren2[[#This Row],[eindtijd]])-TabUren2[[#This Row],[pauze]],(TabUren2[[#This Row],[eindtijd]]-TabUren2[[#This Row],[begintijd]])-TabUren2[[#This Row],[pauze]]))","v":""},{"$f":"IF(OR(TabUren2[hoofdcategorie]=\"\",TabUren2[hoofdcategorie]=0),\"anders dan hoofdcategorie\",TabUren2[hoofdcategorie])","v":"anders dan hoofdcategorie"}]
[{"$f":"IF(TabUren2[[#This Row],[datum]]=\"\",\"\",INT((TabUren2[[#This Row],[datum]]-SUM(MOD(DATE(YEAR(TabUren2[[#This Row],[datum]]-MOD(TabUren2[[#This Row],[datum]]-2,7)+3),1,2),{1E+99;7})*{1;-1})+5) /7))","v":""},{"$f":"IF(TabUren2[[#This Row],[datum]]=\"\",\"\",TabUren2[[#This Row],[datum]])","v":""},null,null,{"$f":"IF(TabUren2[[#This Row],[datum]]=\"\",\"\",verzameldata!$C$3)","v":""},null,null,null,null,{"$f":"IF(TabUren2[[#This Row],[eindtijd]]=\"\",\"\",IF(TabUren2[[#This Row],[eindtijd]]<TabUren2[[#This Row],[begintijd]],(\"24:00\"-TabUren2[[#This Row],[begintijd]]+TabUren2[[#This Row],[eindtijd]])-TabUren2[[#This Row],[pauze]],(TabUren2[[#This Row],[eindtijd]]-TabUren2[[#This Row],[begintijd]])-TabUren2[[#This Row],[pauze]]))","v":""},{"$f":"IF(OR(TabUren2[hoofdcategorie]=\"\",TabUren2[hoofdcategorie]=0),\"anders dan hoofdcategorie\",TabUren2[hoofdcategorie])","v":"anders dan hoofdcategorie"}]
[{"$f":"IF(TabUren2[[#This Row],[datum]]=\"\",\"\",INT((TabUren2[[#This Row],[datum]]-SUM(MOD(DATE(YEAR(TabUren2[[#This Row],[datum]]-MOD(TabUren2[[#This Row],[datum]]-2,7)+3),1,2),{1E+99;7})*{1;-1})+5) /7))","v":""},{"$f":"IF(TabUren2[[#This Row],[datum]]=\"\",\"\",TabUren2[[#This Row],[datum]])","v":""},null,null,{"$f":"IF(TabUren2[[#This Row],[datum]]=\"\",\"\",verzameldata!$C$3)","v":""},null,null,null,null,{"$f":"IF(TabUren2[[#This Row],[eindtijd]]=\"\",\"\",IF(TabUren2[[#This Row],[eindtijd]]<TabUren2[[#This Row],[begintijd]],(\"24:00\"-TabUren2[[#This Row],[begintijd]]+TabUren2[[#This Row],[eindtijd]])-TabUren2[[#This Row],[pauze]],(TabUren2[[#This Row],[eindtijd]]-TabUren2[[#This Row],[begintijd]])-TabUren2[[#This Row],[pauze]]))","v":""},{"$f":"IF(OR(TabUren2[hoofdcategorie]=\"\",TabUren2[hoofdcategorie]=0),\"anders dan hoofdcategorie\",TabUren2[hoofdcategorie])","v":"anders dan hoofdcategorie"}]
[{"$f":"IF(TabUren2[[#This Row],[datum]]=\"\",\"\",INT((TabUren2[[#This Row],[datum]]-SUM(MOD(DATE(YEAR(TabUren2[[#This Row],[datum]]-MOD(TabUren2[[#This Row],[datum]]-2,7)+3),1,2),{1E+99;7})*{1;-1})+5) /7))","v":""},{"$f":"IF(TabUren2[[#This Row],[datum]]=\"\",\"\",TabUren2[[#This Row],[datum]])","v":""},null,null,{"$f":"IF(TabUren2[[#This Row],[datum]]=\"\",\"\",verzameldata!$C$3)","v":""},null,null,null,null,{"$f":"IF(TabUren2[[#This Row],[eindtijd]]=\"\",\"\",IF(TabUren2[[#This Row],[eindtijd]]<TabUren2[[#This Row],[begintijd]],(\"24:00\"-TabUren2[[#This Row],[begintijd]]+TabUren2[[#This Row],[eindtijd]])-TabUren2[[#This Row],[pauze]],(TabUren2[[#This Row],[eindtijd]]-TabUren2[[#This Row],[begintijd]])-TabUren2[[#This Row],[pauze]]))","v":""},{"$f":"IF(OR(TabUren2[hoofdcategorie]=\"\",TabUren2[hoofdcategorie]=0),\"anders dan hoofdcategorie\",TabUren2[hoofdcategorie])","v":"anders dan hoofdcategorie"}]
[{"$f":"IF(TabUren2[[#This Row],[datum]]=\"\",\"\",INT((TabUren2[[#This Row],[datum]]-SUM(MOD(DATE(YEAR(TabUren2[[#This Row],[datum]]-MOD(TabUren2[[#This Row],[datum]]-2,7)+3),1,2),{1E+99;7})*{1;-1})+5) /7))","v":""},{"$f":"IF(TabUren2[[#This Row],[datum]]=\"\",\"\",TabUren2[[#This Row],[datum]])","v":""},null,null,{"$f":"IF(TabUren2[[#This Row],[datum]]=\"\",\"\",verzameldata!$C$3)","v":""},null,null,null,null,{"$f":"IF(TabUren2[[#This Row],[eindtijd]]=\"\",\"\",IF(TabUren2[[#This Row],[eindtijd]]<TabUren2[[#This Row],[begintijd]],(\"24:00\"-TabUren2[[#This Row],[begintijd]]+TabUren2[[#This Row],[eindtijd]])-TabUren2[[#This Row],[pauze]],(TabUren2[[#This Row],[eindtijd]]-TabUren2[[#This Row],[begintijd]])-TabUren2[[#This Row],[pauze]]))","v":""},{"$f":"IF(OR(TabUren2[hoofdcategorie]=\"\",TabUren2[hoofdcategorie]=0),\"anders dan hoofdcategorie\",TabUren2[hoofdcategorie])","v":"anders dan hoofdcategorie"}]
[{"$f":"IF(TabUren2[[#This Row],[datum]]=\"\",\"\",INT((TabUren2[[#This Row],[datum]]-SUM(MOD(DATE(YEAR(TabUren2[[#This Row],[datum]]-MOD(TabUren2[[#This Row],[datum]]-2,7)+3),1,2),{1E+99;7})*{1;-1})+5) /7))","v":""},{"$f":"IF(TabUren2[[#This Row],[datum]]=\"\",\"\",TabUren2[[#This Row],[datum]])","v":""},null,null,{"$f":"IF(TabUren2[[#This Row],[datum]]=\"\",\"\",verzameldata!$C$3)","v":""},null,null,null,null,{"$f":"IF(TabUren2[[#This Row],[eindtijd]]=\"\",\"\",IF(TabUren2[[#This Row],[eindtijd]]<TabUren2[[#This Row],[begintijd]],(\"24:00\"-TabUren2[[#This Row],[begintijd]]+TabUren2[[#This Row],[eindtijd]])-TabUren2[[#This Row],[pauze]],(TabUren2[[#This Row],[eindtijd]]-TabUren2[[#This Row],[begintijd]])-TabUren2[[#This Row],[pauze]]))","v":""},{"$f":"IF(OR(TabUren2[hoofdcategorie]=\"\",TabUren2[hoofdcategorie]=0),\"anders dan hoofdcategorie\",TabUren2[hoofdcategorie])","v":"anders dan hoofdcategorie"}]
[{"$f":"IF(TabUren2[[#This Row],[datum]]=\"\",\"\",INT((TabUren2[[#This Row],[datum]]-SUM(MOD(DATE(YEAR(TabUren2[[#This Row],[datum]]-MOD(TabUren2[[#This Row],[datum]]-2,7)+3),1,2),{1E+99;7})*{1;-1})+5) /7))","v":""},{"$f":"IF(TabUren2[[#This Row],[datum]]=\"\",\"\",TabUren2[[#This Row],[datum]])","v":""},null,null,{"$f":"IF(TabUren2[[#This Row],[datum]]=\"\",\"\",verzameldata!$C$3)","v":""},null,null,null,null,{"$f":"IF(TabUren2[[#This Row],[eindtijd]]=\"\",\"\",IF(TabUren2[[#This Row],[eindtijd]]<TabUren2[[#This Row],[begintijd]],(\"24:00\"-TabUren2[[#This Row],[begintijd]]+TabUren2[[#This Row],[eindtijd]])-TabUren2[[#This Row],[pauze]],(TabUren2[[#This Row],[eindtijd]]-TabUren2[[#This Row],[begintijd]])-TabUren2[[#This Row],[pauze]]))","v":""},{"$f":"IF(OR(TabUren2[hoofdcategorie]=\"\",TabUren2[hoofdcategorie]=0),\"anders dan hoofdcategorie\",TabUren2[hoofdcategorie])","v":"anders dan hoofdcategorie"}]
[{"$f":"IF(TabUren2[[#This Row],[datum]]=\"\",\"\",INT((TabUren2[[#This Row],[datum]]-SUM(MOD(DATE(YEAR(TabUren2[[#This Row],[datum]]-MOD(TabUren2[[#This Row],[datum]]-2,7)+3),1,2),{1E+99;7})*{1;-1})+5) /7))","v":""},{"$f":"IF(TabUren2[[#This Row],[datum]]=\"\",\"\",TabUren2[[#This Row],[datum]])","v":""},null,null,{"$f":"IF(TabUren2[[#This Row],[datum]]=\"\",\"\",verzameldata!$C$3)","v":""},null,null,null,null,{"$f":"IF(TabUren2[[#This Row],[eindtijd]]=\"\",\"\",IF(TabUren2[[#This Row],[eindtijd]]<TabUren2[[#This Row],[begintijd]],(\"24:00\"-TabUren2[[#This Row],[begintijd]]+TabUren2[[#This Row],[eindtijd]])-TabUren2[[#This Row],[pauze]],(TabUren2[[#This Row],[eindtijd]]-TabUren2[[#This Row],[begintijd]])-TabUren2[[#This Row],[pauze]]))","v":""},{"$f":"IF(OR(TabUren2[hoofdcategorie]=\"\",TabUren2[hoofdcategorie]=0),\"anders dan hoofdcategorie\",TabUren2[hoofdcategorie])","v":"anders dan hoofdcategorie"}]
[{"$f":"IF(TabUren2[[#This Row],[datum]]=\"\",\"\",INT((TabUren2[[#This Row],[datum]]-SUM(MOD(DATE(YEAR(TabUren2[[#This Row],[datum]]-MOD(TabUren2[[#This Row],[datum]]-2,7)+3),1,2),{1E+99;7})*{1;-1})+5) /7))","v":""},{"$f":"IF(TabUren2[[#This Row],[datum]]=\"\",\"\",TabUren2[[#This Row],[datum]])","v":""},null,null,{"$f":"IF(TabUren2[[#This Row],[datum]]=\"\",\"\",verzameldata!$C$3)","v":""},null,null,null,null,{"$f":"IF(TabUren2[[#This Row],[eindtijd]]=\"\",\"\",IF(TabUren2[[#This Row],[eindtijd]]<TabUren2[[#This Row],[begintijd]],(\"24:00\"-TabUren2[[#This Row],[begintijd]]+TabUren2[[#This Row],[eindtijd]])-TabUren2[[#This Row],[pauze]],(TabUren2[[#This Row],[eindtijd]]-TabUren2[[#This Row],[begintijd]])-TabUren2[[#This Row],[pauze]]))","v":""},{"$f":"IF(OR(TabUren2[hoofdcategorie]=\"\",TabUren2[hoofdcategorie]=0),\"anders dan hoofdcategorie\",TabUren2[hoofdcategorie])","v":"anders dan hoofdcategorie"}]
[{"$f":"IF(TabUren2[[#This Row],[datum]]=\"\",\"\",INT((TabUren2[[#This Row],[datum]]-SUM(MOD(DATE(YEAR(TabUren2[[#This Row],[datum]]-MOD(TabUren2[[#This Row],[datum]]-2,7)+3),1,2),{1E+99;7})*{1;-1})+5) /7))","v":""},{"$f":"IF(TabUren2[[#This Row],[datum]]=\"\",\"\",TabUren2[[#This Row],[datum]])","v":""},null,null,{"$f":"IF(TabUren2[[#This Row],[datum]]=\"\",\"\",verzameldata!$C$3)","v":""},null,null,null,null,{"$f":"IF(TabUren2[[#This Row],[eindtijd]]=\"\",\"\",IF(TabUren2[[#This Row],[eindtijd]]<TabUren2[[#This Row],[begintijd]],(\"24:00\"-TabUren2[[#This Row],[begintijd]]+TabUren2[[#This Row],[eindtijd]])-TabUren2[[#This Row],[pauze]],(TabUren2[[#This Row],[eindtijd]]-TabUren2[[#This Row],[begintijd]])-TabUren2[[#This Row],[pauze]]))","v":""},{"$f":"IF(OR(TabUren2[hoofdcategorie]=\"\",TabUren2[hoofdcategorie]=0),\"anders dan hoofdcategorie\",TabUren2[hoofdcategorie])","v":"anders dan hoofdcategorie"}]
[{"$f":"IF(TabUren2[[#This Row],[datum]]=\"\",\"\",INT((TabUren2[[#This Row],[datum]]-SUM(MOD(DATE(YEAR(TabUren2[[#This Row],[datum]]-MOD(TabUren2[[#This Row],[datum]]-2,7)+3),1,2),{1E+99;7})*{1;-1})+5) /7))","v":""},{"$f":"IF(TabUren2[[#This Row],[datum]]=\"\",\"\",TabUren2[[#This Row],[datum]])","v":""},null,null,{"$f":"IF(TabUren2[[#This Row],[datum]]=\"\",\"\",verzameldata!$C$3)","v":""},null,null,null,null,{"$f":"IF(TabUren2[[#This Row],[eindtijd]]=\"\",\"\",IF(TabUren2[[#This Row],[eindtijd]]<TabUren2[[#This Row],[begintijd]],(\"24:00\"-TabUren2[[#This Row],[begintijd]]+TabUren2[[#This Row],[eindtijd]])-TabUren2[[#This Row],[pauze]],(TabUren2[[#This Row],[eindtijd]]-TabUren2[[#This Row],[begintijd]])-TabUren2[[#This Row],[pauze]]))","v":""},{"$f":"IF(OR(TabUren2[hoofdcategorie]=\"\",TabUren2[hoofdcategorie]=0),\"anders dan hoofdcategorie\",TabUren2[hoofdcategorie])","v":"anders dan hoofdcategorie"}]
[{"$f":"IF(TabUren2[[#This Row],[datum]]=\"\",\"\",INT((TabUren2[[#This Row],[datum]]-SUM(MOD(DATE(YEAR(TabUren2[[#This Row],[datum]]-MOD(TabUren2[[#This Row],[datum]]-2,7)+3),1,2),{1E+99;7})*{1;-1})+5) /7))","v":""},{"$f":"IF(TabUren2[[#This Row],[datum]]=\"\",\"\",TabUren2[[#This Row],[datum]])","v":""},null,null,{"$f":"IF(TabUren2[[#This Row],[datum]]=\"\",\"\",verzameldata!$C$3)","v":""},null,null,null,null,{"$f":"IF(TabUren2[[#This Row],[eindtijd]]=\"\",\"\",IF(TabUren2[[#This Row],[eindtijd]]<TabUren2[[#This Row],[begintijd]],(\"24:00\"-TabUren2[[#This Row],[begintijd]]+TabUren2[[#This Row],[eindtijd]])-TabUren2[[#This Row],[pauze]],(TabUren2[[#This Row],[eindtijd]]-TabUren2[[#This Row],[begintijd]])-TabUren2[[#This Row],[pauze]]))","v":""},{"$f":"IF(OR(TabUren2[hoofdcategorie]=\"\",TabUren2[hoofdcategorie]=0),\"anders dan hoofdcategorie\",TabUren2[hoofdcategorie])","v":"anders dan hoofdcategorie"}]
[{"$f":"IF(TabUren2[[#This Row],[datum]]=\"\",\"\",INT((TabUren2[[#This Row],[datum]]-SUM(MOD(DATE(YEAR(TabUren2[[#This Row],[datum]]-MOD(TabUren2[[#This Row],[datum]]-2,7)+3),1,2),{1E+99;7})*{1;-1})+5) /7))","v":""},{"$f":"IF(TabUren2[[#This Row],[datum]]=\"\",\"\",TabUren2[[#This Row],[datum]])","v":""},null,null,{"$f":"IF(TabUren2[[#This Row],[datum]]=\"\",\"\",verzameldata!$C$3)","v":""},null,null,null,null,{"$f":"IF(TabUren2[[#This Row],[eindtijd]]=\"\",\"\",IF(TabUren2[[#This Row],[eindtijd]]<TabUren2[[#This Row],[begintijd]],(\"24:00\"-TabUren2[[#This Row],[begintijd]]+TabUren2[[#This Row],[eindtijd]])-TabUren2[[#This Row],[pauze]],(TabUren2[[#This Row],[eindtijd]]-TabUren2[[#This Row],[begintijd]])-TabUren2[[#This Row],[pauze]]))","v":""},{"$f":"IF(OR(TabUren2[hoofdcategorie]=\"\",TabUren2[hoofdcategorie]=0),\"anders dan hoofdcategorie\",TabUren2[hoofdcategorie])","v":"anders dan hoofdcategorie"}]
[{"$f":"IF(TabUren2[[#This Row],[datum]]=\"\",\"\",INT((TabUren2[[#This Row],[datum]]-SUM(MOD(DATE(YEAR(TabUren2[[#This Row],[datum]]-MOD(TabUren2[[#This Row],[datum]]-2,7)+3),1,2),{1E+99;7})*{1;-1})+5) /7))","v":""},{"$f":"IF(TabUren2[[#This Row],[datum]]=\"\",\"\",TabUren2[[#This Row],[datum]])","v":""},null,null,{"$f":"IF(TabUren2[[#This Row],[datum]]=\"\",\"\",verzameldata!$C$3)","v":""},null,null,null,null,{"$f":"IF(TabUren2[[#This Row],[eindtijd]]=\"\",\"\",IF(TabUren2[[#This Row],[eindtijd]]<TabUren2[[#This Row],[begintijd]],(\"24:00\"-TabUren2[[#This Row],[begintijd]]+TabUren2[[#This Row],[eindtijd]])-TabUren2[[#This Row],[pauze]],(TabUren2[[#This Row],[eindtijd]]-TabUren2[[#This Row],[begintijd]])-TabUren2[[#This Row],[pauze]]))","v":""},{"$f":"IF(OR(TabUren2[hoofdcategorie]=\"\",TabUren2[hoofdcategorie]=0),\"anders dan hoofdcategorie\",TabUren2[hoofdcategorie])","v":"anders dan hoofdcategorie"}]
[{"$f":"IF(TabUren2[[#This Row],[datum]]=\"\",\"\",INT((TabUren2[[#This Row],[datum]]-SUM(MOD(DATE(YEAR(TabUren2[[#This Row],[datum]]-MOD(TabUren2[[#This Row],[datum]]-2,7)+3),1,2),{1E+99;7})*{1;-1})+5) /7))","v":""},{"$f":"IF(TabUren2[[#This Row],[datum]]=\"\",\"\",TabUren2[[#This Row],[datum]])","v":""},null,null,{"$f":"IF(TabUren2[[#This Row],[datum]]=\"\",\"\",verzameldata!$C$3)","v":""},null,null,null,null,{"$f":"IF(TabUren2[[#This Row],[eindtijd]]=\"\",\"\",IF(TabUren2[[#This Row],[eindtijd]]<TabUren2[[#This Row],[begintijd]],(\"24:00\"-TabUren2[[#This Row],[begintijd]]+TabUren2[[#This Row],[eindtijd]])-TabUren2[[#This Row],[pauze]],(TabUren2[[#This Row],[eindtijd]]-TabUren2[[#This Row],[begintijd]])-TabUren2[[#This Row],[pauze]]))","v":""},{"$f":"IF(OR(TabUren2[hoofdcategorie]=\"\",TabUren2[hoofdcategorie]=0),\"anders dan hoofdcategorie\",TabUren2[hoofdcategorie])","v":"anders dan hoofdcategorie"}]
[{"$f":"IF(TabUren2[[#This Row],[datum]]=\"\",\"\",INT((TabUren2[[#This Row],[datum]]-SUM(MOD(DATE(YEAR(TabUren2[[#This Row],[datum]]-MOD(TabUren2[[#This Row],[datum]]-2,7)+3),1,2),{1E+99;7})*{1;-1})+5) /7))","v":""},{"$f":"IF(TabUren2[[#This Row],[datum]]=\"\",\"\",TabUren2[[#This Row],[datum]])","v":""},null,null,{"$f":"IF(TabUren2[[#This Row],[datum]]=\"\",\"\",verzameldata!$C$3)","v":""},null,null,null,null,{"$f":"IF(TabUren2[[#This Row],[eindtijd]]=\"\",\"\",IF(TabUren2[[#This Row],[eindtijd]]<TabUren2[[#This Row],[begintijd]],(\"24:00\"-TabUren2[[#This Row],[begintijd]]+TabUren2[[#This Row],[eindtijd]])-TabUren2[[#This Row],[pauze]],(TabUren2[[#This Row],[eindtijd]]-TabUren2[[#This Row],[begintijd]])-TabUren2[[#This Row],[pauze]]))","v":""},{"$f":"IF(OR(TabUren2[hoofdcategorie]=\"\",TabUren2[hoofdcategorie]=0),\"anders dan hoofdcategorie\",TabUren2[hoofdcategorie])","v":"anders dan hoofdcategorie"}]
[{"$f":"IF(TabUren2[[#This Row],[datum]]=\"\",\"\",INT((TabUren2[[#This Row],[datum]]-SUM(MOD(DATE(YEAR(TabUren2[[#This Row],[datum]]-MOD(TabUren2[[#This Row],[datum]]-2,7)+3),1,2),{1E+99;7})*{1;-1})+5) /7))","v":""},{"$f":"IF(TabUren2[[#This Row],[datum]]=\"\",\"\",TabUren2[[#This Row],[datum]])","v":""},null,null,{"$f":"IF(TabUren2[[#This Row],[datum]]=\"\",\"\",verzameldata!$C$3)","v":""},null,null,null,null,{"$f":"IF(TabUren2[[#This Row],[eindtijd]]=\"\",\"\",IF(TabUren2[[#This Row],[eindtijd]]<TabUren2[[#This Row],[begintijd]],(\"24:00\"-TabUren2[[#This Row],[begintijd]]+TabUren2[[#This Row],[eindtijd]])-TabUren2[[#This Row],[pauze]],(TabUren2[[#This Row],[eindtijd]]-TabUren2[[#This Row],[begintijd]])-TabUren2[[#This Row],[pauze]]))","v":""},{"$f":"IF(OR(TabUren2[hoofdcategorie]=\"\",TabUren2[hoofdcategorie]=0),\"anders dan hoofdcategorie\",TabUren2[hoofdcategorie])","v":"anders dan hoofdcategorie"}]
[{"$f":"IF(TabUren2[[#This Row],[datum]]=\"\",\"\",INT((TabUren2[[#This Row],[datum]]-SUM(MOD(DATE(YEAR(TabUren2[[#This Row],[datum]]-MOD(TabUren2[[#This Row],[datum]]-2,7)+3),1,2),{1E+99;7})*{1;-1})+5) /7))","v":""},{"$f":"IF(TabUren2[[#This Row],[datum]]=\"\",\"\",TabUren2[[#This Row],[datum]])","v":""},null,null,{"$f":"IF(TabUren2[[#This Row],[datum]]=\"\",\"\",verzameldata!$C$3)","v":""},null,null,null,null,{"$f":"IF(TabUren2[[#This Row],[eindtijd]]=\"\",\"\",IF(TabUren2[[#This Row],[eindtijd]]<TabUren2[[#This Row],[begintijd]],(\"24:00\"-TabUren2[[#This Row],[begintijd]]+TabUren2[[#This Row],[eindtijd]])-TabUren2[[#This Row],[pauze]],(TabUren2[[#This Row],[eindtijd]]-TabUren2[[#This Row],[begintijd]])-TabUren2[[#This Row],[pauze]]))","v":""},{"$f":"IF(OR(TabUren2[hoofdcategorie]=\"\",TabUren2[hoofdcategorie]=0),\"anders dan hoofdcategorie\",TabUren2[hoofdcategorie])","v":"anders dan hoofdcategorie"}]
[{"$f":"IF(TabUren2[[#This Row],[datum]]=\"\",\"\",INT((TabUren2[[#This Row],[datum]]-SUM(MOD(DATE(YEAR(TabUren2[[#This Row],[datum]]-MOD(TabUren2[[#This Row],[datum]]-2,7)+3),1,2),{1E+99;7})*{1;-1})+5) /7))","v":""},{"$f":"IF(TabUren2[[#This Row],[datum]]=\"\",\"\",TabUren2[[#This Row],[datum]])","v":""},null,null,{"$f":"IF(TabUren2[[#This Row],[datum]]=\"\",\"\",verzameldata!$C$3)","v":""},null,null,null,null,{"$f":"IF(TabUren2[[#This Row],[eindtijd]]=\"\",\"\",IF(TabUren2[[#This Row],[eindtijd]]<TabUren2[[#This Row],[begintijd]],(\"24:00\"-TabUren2[[#This Row],[begintijd]]+TabUren2[[#This Row],[eindtijd]])-TabUren2[[#This Row],[pauze]],(TabUren2[[#This Row],[eindtijd]]-TabUren2[[#This Row],[begintijd]])-TabUren2[[#This Row],[pauze]]))","v":""},{"$f":"IF(OR(TabUren2[hoofdcategorie]=\"\",TabUren2[hoofdcategorie]=0),\"anders dan hoofdcategorie\",TabUren2[hoofdcategorie])","v":"anders dan hoofdcategorie"}]
[{"$f":"IF(TabUren2[[#This Row],[datum]]=\"\",\"\",INT((TabUren2[[#This Row],[datum]]-SUM(MOD(DATE(YEAR(TabUren2[[#This Row],[datum]]-MOD(TabUren2[[#This Row],[datum]]-2,7)+3),1,2),{1E+99;7})*{1;-1})+5) /7))","v":""},{"$f":"IF(TabUren2[[#This Row],[datum]]=\"\",\"\",TabUren2[[#This Row],[datum]])","v":""},null,null,{"$f":"IF(TabUren2[[#This Row],[datum]]=\"\",\"\",verzameldata!$C$3)","v":""},null,null,null,null,{"$f":"IF(TabUren2[[#This Row],[eindtijd]]=\"\",\"\",IF(TabUren2[[#This Row],[eindtijd]]<TabUren2[[#This Row],[begintijd]],(\"24:00\"-TabUren2[[#This Row],[begintijd]]+TabUren2[[#This Row],[eindtijd]])-TabUren2[[#This Row],[pauze]],(TabUren2[[#This Row],[eindtijd]]-TabUren2[[#This Row],[begintijd]])-TabUren2[[#This Row],[pauze]]))","v":""},{"$f":"IF(OR(TabUren2[hoofdcategorie]=\"\",TabUren2[hoofdcategorie]=0),\"anders dan hoofdcategorie\",TabUren2[hoofdcategorie])","v":"anders dan hoofdcategorie"}]
[{"$f":"IF(TabUren2[[#This Row],[datum]]=\"\",\"\",INT((TabUren2[[#This Row],[datum]]-SUM(MOD(DATE(YEAR(TabUren2[[#This Row],[datum]]-MOD(TabUren2[[#This Row],[datum]]-2,7)+3),1,2),{1E+99;7})*{1;-1})+5) /7))","v":""},{"$f":"IF(TabUren2[[#This Row],[datum]]=\"\",\"\",TabUren2[[#This Row],[datum]])","v":""},null,null,{"$f":"IF(TabUren2[[#This Row],[datum]]=\"\",\"\",verzameldata!$C$3)","v":""},null,null,null,null,{"$f":"IF(TabUren2[[#This Row],[eindtijd]]=\"\",\"\",IF(TabUren2[[#This Row],[eindtijd]]<TabUren2[[#This Row],[begintijd]],(\"24:00\"-TabUren2[[#This Row],[begintijd]]+TabUren2[[#This Row],[eindtijd]])-TabUren2[[#This Row],[pauze]],(TabUren2[[#This Row],[eindtijd]]-TabUren2[[#This Row],[begintijd]])-TabUren2[[#This Row],[pauze]]))","v":""},{"$f":"IF(OR(TabUren2[hoofdcategorie]=\"\",TabUren2[hoofdcategorie]=0),\"anders dan hoofdcategorie\",TabUren2[hoofdcategorie])","v":"anders dan hoofdcategorie"}]
[{"$f":"IF(TabUren2[[#This Row],[datum]]=\"\",\"\",INT((TabUren2[[#This Row],[datum]]-SUM(MOD(DATE(YEAR(TabUren2[[#This Row],[datum]]-MOD(TabUren2[[#This Row],[datum]]-2,7)+3),1,2),{1E+99;7})*{1;-1})+5) /7))","v":""},{"$f":"IF(TabUren2[[#This Row],[datum]]=\"\",\"\",TabUren2[[#This Row],[datum]])","v":""},null,null,{"$f":"IF(TabUren2[[#This Row],[datum]]=\"\",\"\",verzameldata!$C$3)","v":""},null,null,null,null,{"$f":"IF(TabUren2[[#This Row],[eindtijd]]=\"\",\"\",IF(TabUren2[[#This Row],[eindtijd]]<TabUren2[[#This Row],[begintijd]],(\"24:00\"-TabUren2[[#This Row],[begintijd]]+TabUren2[[#This Row],[eindtijd]])-TabUren2[[#This Row],[pauze]],(TabUren2[[#This Row],[eindtijd]]-TabUren2[[#This Row],[begintijd]])-TabUren2[[#This Row],[pauze]]))","v":""},{"$f":"IF(OR(TabUren2[hoofdcategorie]=\"\",TabUren2[hoofdcategorie]=0),\"anders dan hoofdcategorie\",TabUren2[hoofdcategorie])","v":"anders dan hoofdcategorie"}]
[{"$f":"IF(TabUren2[[#This Row],[datum]]=\"\",\"\",INT((TabUren2[[#This Row],[datum]]-SUM(MOD(DATE(YEAR(TabUren2[[#This Row],[datum]]-MOD(TabUren2[[#This Row],[datum]]-2,7)+3),1,2),{1E+99;7})*{1;-1})+5) /7))","v":""},{"$f":"IF(TabUren2[[#This Row],[datum]]=\"\",\"\",TabUren2[[#This Row],[datum]])","v":""},null,null,{"$f":"IF(TabUren2[[#This Row],[datum]]=\"\",\"\",verzameldata!$C$3)","v":""},null,null,null,null,{"$f":"IF(TabUren2[[#This Row],[eindtijd]]=\"\",\"\",IF(TabUren2[[#This Row],[eindtijd]]<TabUren2[[#This Row],[begintijd]],(\"24:00\"-TabUren2[[#This Row],[begintijd]]+TabUren2[[#This Row],[eindtijd]])-TabUren2[[#This Row],[pauze]],(TabUren2[[#This Row],[eindtijd]]-TabUren2[[#This Row],[begintijd]])-TabUren2[[#This Row],[pauze]]))","v":""},{"$f":"IF(OR(TabUren2[hoofdcategorie]=\"\",TabUren2[hoofdcategorie]=0),\"anders dan hoofdcategorie\",TabUren2[hoofdcategorie])","v":"anders dan hoofdcategorie"}]
[{"$f":"IF(TabUren2[[#This Row],[datum]]=\"\",\"\",INT((TabUren2[[#This Row],[datum]]-SUM(MOD(DATE(YEAR(TabUren2[[#This Row],[datum]]-MOD(TabUren2[[#This Row],[datum]]-2,7)+3),1,2),{1E+99;7})*{1;-1})+5) /7))","v":""},{"$f":"IF(TabUren2[[#This Row],[datum]]=\"\",\"\",TabUren2[[#This Row],[datum]])","v":""},null,null,{"$f":"IF(TabUren2[[#This Row],[datum]]=\"\",\"\",verzameldata!$C$3)","v":""},null,null,null,null,{"$f":"IF(TabUren2[[#This Row],[eindtijd]]=\"\",\"\",IF(TabUren2[[#This Row],[eindtijd]]<TabUren2[[#This Row],[begintijd]],(\"24:00\"-TabUren2[[#This Row],[begintijd]]+TabUren2[[#This Row],[eindtijd]])-TabUren2[[#This Row],[pauze]],(TabUren2[[#This Row],[eindtijd]]-TabUren2[[#This Row],[begintijd]])-TabUren2[[#This Row],[pauze]]))","v":""},{"$f":"IF(OR(TabUren2[hoofdcategorie]=\"\",TabUren2[hoofdcategorie]=0),\"anders dan hoofdcategorie\",TabUren2[hoofdcategorie])","v":"anders dan hoofdcategorie"}]
[{"$f":"IF(TabUren2[[#This Row],[datum]]=\"\",\"\",INT((TabUren2[[#This Row],[datum]]-SUM(MOD(DATE(YEAR(TabUren2[[#This Row],[datum]]-MOD(TabUren2[[#This Row],[datum]]-2,7)+3),1,2),{1E+99;7})*{1;-1})+5) /7))","v":""},{"$f":"IF(TabUren2[[#This Row],[datum]]=\"\",\"\",TabUren2[[#This Row],[datum]])","v":""},null,null,{"$f":"IF(TabUren2[[#This Row],[datum]]=\"\",\"\",verzameldata!$C$3)","v":""},null,null,null,null,{"$f":"IF(TabUren2[[#This Row],[eindtijd]]=\"\",\"\",IF(TabUren2[[#This Row],[eindtijd]]<TabUren2[[#This Row],[begintijd]],(\"24:00\"-TabUren2[[#This Row],[begintijd]]+TabUren2[[#This Row],[eindtijd]])-TabUren2[[#This Row],[pauze]],(TabUren2[[#This Row],[eindtijd]]-TabUren2[[#This Row],[begintijd]])-TabUren2[[#This Row],[pauze]]))","v":""},{"$f":"IF(OR(TabUren2[hoofdcategorie]=\"\",TabUren2[hoofdcategorie]=0),\"anders dan hoofdcategorie\",TabUren2[hoofdcategorie])","v":"anders dan hoofdcategorie"}]
[{"$f":"IF(TabUren2[[#This Row],[datum]]=\"\",\"\",INT((TabUren2[[#This Row],[datum]]-SUM(MOD(DATE(YEAR(TabUren2[[#This Row],[datum]]-MOD(TabUren2[[#This Row],[datum]]-2,7)+3),1,2),{1E+99;7})*{1;-1})+5) /7))","v":""},{"$f":"IF(TabUren2[[#This Row],[datum]]=\"\",\"\",TabUren2[[#This Row],[datum]])","v":""},null,null,{"$f":"IF(TabUren2[[#This Row],[datum]]=\"\",\"\",verzameldata!$C$3)","v":""},null,null,null,null,{"$f":"IF(TabUren2[[#This Row],[eindtijd]]=\"\",\"\",IF(TabUren2[[#This Row],[eindtijd]]<TabUren2[[#This Row],[begintijd]],(\"24:00\"-TabUren2[[#This Row],[begintijd]]+TabUren2[[#This Row],[eindtijd]])-TabUren2[[#This Row],[pauze]],(TabUren2[[#This Row],[eindtijd]]-TabUren2[[#This Row],[begintijd]])-TabUren2[[#This Row],[pauze]]))","v":""},{"$f":"IF(OR(TabUren2[hoofdcategorie]=\"\",TabUren2[hoofdcategorie]=0),\"anders dan hoofdcategorie\",TabUren2[hoofdcategorie])","v":"anders dan hoofdcategorie"}]
[{"$f":"IF(TabUren2[[#This Row],[datum]]=\"\",\"\",INT((TabUren2[[#This Row],[datum]]-SUM(MOD(DATE(YEAR(TabUren2[[#This Row],[datum]]-MOD(TabUren2[[#This Row],[datum]]-2,7)+3),1,2),{1E+99;7})*{1;-1})+5) /7))","v":""},{"$f":"IF(TabUren2[[#This Row],[datum]]=\"\",\"\",TabUren2[[#This Row],[datum]])","v":""},null,null,{"$f":"IF(TabUren2[[#This Row],[datum]]=\"\",\"\",verzameldata!$C$3)","v":""},null,null,null,null,{"$f":"IF(TabUren2[[#This Row],[eindtijd]]=\"\",\"\",IF(TabUren2[[#This Row],[eindtijd]]<TabUren2[[#This Row],[begintijd]],(\"24:00\"-TabUren2[[#This Row],[begintijd]]+TabUren2[[#This Row],[eindtijd]])-TabUren2[[#This Row],[pauze]],(TabUren2[[#This Row],[eindtijd]]-TabUren2[[#This Row],[begintijd]])-TabUren2[[#This Row],[pauze]]))","v":""},{"$f":"IF(OR(TabUren2[hoofdcategorie]=\"\",TabUren2[hoofdcategorie]=0),\"anders dan hoofdcategorie\",TabUren2[hoofdcategorie])","v":"anders dan hoofdcategorie"}]
[{"$f":"IF(TabUren2[[#This Row],[datum]]=\"\",\"\",INT((TabUren2[[#This Row],[datum]]-SUM(MOD(DATE(YEAR(TabUren2[[#This Row],[datum]]-MOD(TabUren2[[#This Row],[datum]]-2,7)+3),1,2),{1E+99;7})*{1;-1})+5) /7))","v":""},{"$f":"IF(TabUren2[[#This Row],[datum]]=\"\",\"\",TabUren2[[#This Row],[datum]])","v":""},null,null,{"$f":"IF(TabUren2[[#This Row],[datum]]=\"\",\"\",verzameldata!$C$3)","v":""},null,null,null,null,{"$f":"IF(TabUren2[[#This Row],[eindtijd]]=\"\",\"\",IF(TabUren2[[#This Row],[eindtijd]]<TabUren2[[#This Row],[begintijd]],(\"24:00\"-TabUren2[[#This Row],[begintijd]]+TabUren2[[#This Row],[eindtijd]])-TabUren2[[#This Row],[pauze]],(TabUren2[[#This Row],[eindtijd]]-TabUren2[[#This Row],[begintijd]])-TabUren2[[#This Row],[pauze]]))","v":""},{"$f":"IF(OR(TabUren2[hoofdcategorie]=\"\",TabUren2[hoofdcategorie]=0),\"anders dan hoofdcategorie\",TabUren2[hoofdcategorie])","v":"anders dan hoofdcategorie"}]
[{"$f":"IF(TabUren2[[#This Row],[datum]]=\"\",\"\",INT((TabUren2[[#This Row],[datum]]-SUM(MOD(DATE(YEAR(TabUren2[[#This Row],[datum]]-MOD(TabUren2[[#This Row],[datum]]-2,7)+3),1,2),{1E+99;7})*{1;-1})+5) /7))","v":""},{"$f":"IF(TabUren2[[#This Row],[datum]]=\"\",\"\",TabUren2[[#This Row],[datum]])","v":""},null,null,{"$f":"IF(TabUren2[[#This Row],[datum]]=\"\",\"\",verzameldata!$C$3)","v":""},null,null,null,null,{"$f":"IF(TabUren2[[#This Row],[eindtijd]]=\"\",\"\",IF(TabUren2[[#This Row],[eindtijd]]<TabUren2[[#This Row],[begintijd]],(\"24:00\"-TabUren2[[#This Row],[begintijd]]+TabUren2[[#This Row],[eindtijd]])-TabUren2[[#This Row],[pauze]],(TabUren2[[#This Row],[eindtijd]]-TabUren2[[#This Row],[begintijd]])-TabUren2[[#This Row],[pauze]]))","v":""},{"$f":"IF(OR(TabUren2[hoofdcategorie]=\"\",TabUren2[hoofdcategorie]=0),\"anders dan hoofdcategorie\",TabUren2[hoofdcategorie])","v":"anders dan hoofdcategorie"}]
[{"$f":"IF(TabUren2[[#This Row],[datum]]=\"\",\"\",INT((TabUren2[[#This Row],[datum]]-SUM(MOD(DATE(YEAR(TabUren2[[#This Row],[datum]]-MOD(TabUren2[[#This Row],[datum]]-2,7)+3),1,2),{1E+99;7})*{1;-1})+5) /7))","v":""},{"$f":"IF(TabUren2[[#This Row],[datum]]=\"\",\"\",TabUren2[[#This Row],[datum]])","v":""},null,null,{"$f":"IF(TabUren2[[#This Row],[datum]]=\"\",\"\",verzameldata!$C$3)","v":""},null,null,null,null,{"$f":"IF(TabUren2[[#This Row],[eindtijd]]=\"\",\"\",IF(TabUren2[[#This Row],[eindtijd]]<TabUren2[[#This Row],[begintijd]],(\"24:00\"-TabUren2[[#This Row],[begintijd]]+TabUren2[[#This Row],[eindtijd]])-TabUren2[[#This Row],[pauze]],(TabUren2[[#This Row],[eindtijd]]-TabUren2[[#This Row],[begintijd]])-TabUren2[[#This Row],[pauze]]))","v":""},{"$f":"IF(OR(TabUren2[hoofdcategorie]=\"\",TabUren2[hoofdcategorie]=0),\"anders dan hoofdcategorie\",TabUren2[hoofdcategorie])","v":"anders dan hoofdcategorie"}]
[{"$f":"IF(TabUren2[[#This Row],[datum]]=\"\",\"\",INT((TabUren2[[#This Row],[datum]]-SUM(MOD(DATE(YEAR(TabUren2[[#This Row],[datum]]-MOD(TabUren2[[#This Row],[datum]]-2,7)+3),1,2),{1E+99;7})*{1;-1})+5) /7))","v":""},{"$f":"IF(TabUren2[[#This Row],[datum]]=\"\",\"\",TabUren2[[#This Row],[datum]])","v":""},null,null,{"$f":"IF(TabUren2[[#This Row],[datum]]=\"\",\"\",verzameldata!$C$3)","v":""},null,null,null,null,{"$f":"IF(TabUren2[[#This Row],[eindtijd]]=\"\",\"\",IF(TabUren2[[#This Row],[eindtijd]]<TabUren2[[#This Row],[begintijd]],(\"24:00\"-TabUren2[[#This Row],[begintijd]]+TabUren2[[#This Row],[eindtijd]])-TabUren2[[#This Row],[pauze]],(TabUren2[[#This Row],[eindtijd]]-TabUren2[[#This Row],[begintijd]])-TabUren2[[#This Row],[pauze]]))","v":""},{"$f":"IF(OR(TabUren2[hoofdcategorie]=\"\",TabUren2[hoofdcategorie]=0),\"anders dan hoofdcategorie\",TabUren2[hoofdcategorie])","v":"anders dan hoofdcategorie"}]
[{"$f":"IF(TabUren2[[#This Row],[datum]]=\"\",\"\",INT((TabUren2[[#This Row],[datum]]-SUM(MOD(DATE(YEAR(TabUren2[[#This Row],[datum]]-MOD(TabUren2[[#This Row],[datum]]-2,7)+3),1,2),{1E+99;7})*{1;-1})+5) /7))","v":""},{"$f":"IF(TabUren2[[#This Row],[datum]]=\"\",\"\",TabUren2[[#This Row],[datum]])","v":""},null,null,{"$f":"IF(TabUren2[[#This Row],[datum]]=\"\",\"\",verzameldata!$C$3)","v":""},null,null,null,null,{"$f":"IF(TabUren2[[#This Row],[eindtijd]]=\"\",\"\",IF(TabUren2[[#This Row],[eindtijd]]<TabUren2[[#This Row],[begintijd]],(\"24:00\"-TabUren2[[#This Row],[begintijd]]+TabUren2[[#This Row],[eindtijd]])-TabUren2[[#This Row],[pauze]],(TabUren2[[#This Row],[eindtijd]]-TabUren2[[#This Row],[begintijd]])-TabUren2[[#This Row],[pauze]]))","v":""},{"$f":"IF(OR(TabUren2[hoofdcategorie]=\"\",TabUren2[hoofdcategorie]=0),\"anders dan hoofdcategorie\",TabUren2[hoofdcategorie])","v":"anders dan hoofdcategorie"}]
[{"$f":"IF(TabUren2[[#This Row],[datum]]=\"\",\"\",INT((TabUren2[[#This Row],[datum]]-SUM(MOD(DATE(YEAR(TabUren2[[#This Row],[datum]]-MOD(TabUren2[[#This Row],[datum]]-2,7)+3),1,2),{1E+99;7})*{1;-1})+5) /7))","v":""},{"$f":"IF(TabUren2[[#This Row],[datum]]=\"\",\"\",TabUren2[[#This Row],[datum]])","v":""},null,null,{"$f":"IF(TabUren2[[#This Row],[datum]]=\"\",\"\",verzameldata!$C$3)","v":""},null,null,null,null,{"$f":"IF(TabUren2[[#This Row],[eindtijd]]=\"\",\"\",IF(TabUren2[[#This Row],[eindtijd]]<TabUren2[[#This Row],[begintijd]],(\"24:00\"-TabUren2[[#This Row],[begintijd]]+TabUren2[[#This Row],[eindtijd]])-TabUren2[[#This Row],[pauze]],(TabUren2[[#This Row],[eindtijd]]-TabUren2[[#This Row],[begintijd]])-TabUren2[[#This Row],[pauze]]))","v":""},{"$f":"IF(OR(TabUren2[hoofdcategorie]=\"\",TabUren2[hoofdcategorie]=0),\"anders dan hoofdcategorie\",TabUren2[hoofdcategorie])","v":"anders dan hoofdcategorie"}]
[{"$f":"IF(TabUren2[[#This Row],[datum]]=\"\",\"\",INT((TabUren2[[#This Row],[datum]]-SUM(MOD(DATE(YEAR(TabUren2[[#This Row],[datum]]-MOD(TabUren2[[#This Row],[datum]]-2,7)+3),1,2),{1E+99;7})*{1;-1})+5) /7))","v":""},{"$f":"IF(TabUren2[[#This Row],[datum]]=\"\",\"\",TabUren2[[#This Row],[datum]])","v":""},null,null,{"$f":"IF(TabUren2[[#This Row],[datum]]=\"\",\"\",verzameldata!$C$3)","v":""},null,null,null,null,{"$f":"IF(TabUren2[[#This Row],[eindtijd]]=\"\",\"\",IF(TabUren2[[#This Row],[eindtijd]]<TabUren2[[#This Row],[begintijd]],(\"24:00\"-TabUren2[[#This Row],[begintijd]]+TabUren2[[#This Row],[eindtijd]])-TabUren2[[#This Row],[pauze]],(TabUren2[[#This Row],[eindtijd]]-TabUren2[[#This Row],[begintijd]])-TabUren2[[#This Row],[pauze]]))","v":""},{"$f":"IF(OR(TabUren2[hoofdcategorie]=\"\",TabUren2[hoofdcategorie]=0),\"anders dan hoofdcategorie\",TabUren2[hoofdcategorie])","v":"anders dan hoofdcategorie"}]
[{"$f":"IF(TabUren2[[#This Row],[datum]]=\"\",\"\",INT((TabUren2[[#This Row],[datum]]-SUM(MOD(DATE(YEAR(TabUren2[[#This Row],[datum]]-MOD(TabUren2[[#This Row],[datum]]-2,7)+3),1,2),{1E+99;7})*{1;-1})+5) /7))","v":""},{"$f":"IF(TabUren2[[#This Row],[datum]]=\"\",\"\",TabUren2[[#This Row],[datum]])","v":""},null,null,{"$f":"IF(TabUren2[[#This Row],[datum]]=\"\",\"\",verzameldata!$C$3)","v":""},null,null,null,null,{"$f":"IF(TabUren2[[#This Row],[eindtijd]]=\"\",\"\",IF(TabUren2[[#This Row],[eindtijd]]<TabUren2[[#This Row],[begintijd]],(\"24:00\"-TabUren2[[#This Row],[begintijd]]+TabUren2[[#This Row],[eindtijd]])-TabUren2[[#This Row],[pauze]],(TabUren2[[#This Row],[eindtijd]]-TabUren2[[#This Row],[begintijd]])-TabUren2[[#This Row],[pauze]]))","v":""},{"$f":"IF(OR(TabUren2[hoofdcategorie]=\"\",TabUren2[hoofdcategorie]=0),\"anders dan hoofdcategorie\",TabUren2[hoofdcategorie])","v":"anders dan hoofdcategorie"}]
[{"$f":"IF(TabUren2[[#This Row],[datum]]=\"\",\"\",INT((TabUren2[[#This Row],[datum]]-SUM(MOD(DATE(YEAR(TabUren2[[#This Row],[datum]]-MOD(TabUren2[[#This Row],[datum]]-2,7)+3),1,2),{1E+99;7})*{1;-1})+5) /7))","v":""},{"$f":"IF(TabUren2[[#This Row],[datum]]=\"\",\"\",TabUren2[[#This Row],[datum]])","v":""},null,null,{"$f":"IF(TabUren2[[#This Row],[datum]]=\"\",\"\",verzameldata!$C$3)","v":""},null,null,null,null,{"$f":"IF(TabUren2[[#This Row],[eindtijd]]=\"\",\"\",IF(TabUren2[[#This Row],[eindtijd]]<TabUren2[[#This Row],[begintijd]],(\"24:00\"-TabUren2[[#This Row],[begintijd]]+TabUren2[[#This Row],[eindtijd]])-TabUren2[[#This Row],[pauze]],(TabUren2[[#This Row],[eindtijd]]-TabUren2[[#This Row],[begintijd]])-TabUren2[[#This Row],[pauze]]))","v":""},{"$f":"IF(OR(TabUren2[hoofdcategorie]=\"\",TabUren2[hoofdcategorie]=0),\"anders dan hoofdcategorie\",TabUren2[hoofdcategorie])","v":"anders dan hoofdcategorie"}]
[{"$f":"IF(TabUren2[[#This Row],[datum]]=\"\",\"\",INT((TabUren2[[#This Row],[datum]]-SUM(MOD(DATE(YEAR(TabUren2[[#This Row],[datum]]-MOD(TabUren2[[#This Row],[datum]]-2,7)+3),1,2),{1E+99;7})*{1;-1})+5) /7))","v":""},{"$f":"IF(TabUren2[[#This Row],[datum]]=\"\",\"\",TabUren2[[#This Row],[datum]])","v":""},null,null,{"$f":"IF(TabUren2[[#This Row],[datum]]=\"\",\"\",verzameldata!$C$3)","v":""},null,null,null,null,{"$f":"IF(TabUren2[[#This Row],[eindtijd]]=\"\",\"\",IF(TabUren2[[#This Row],[eindtijd]]<TabUren2[[#This Row],[begintijd]],(\"24:00\"-TabUren2[[#This Row],[begintijd]]+TabUren2[[#This Row],[eindtijd]])-TabUren2[[#This Row],[pauze]],(TabUren2[[#This Row],[eindtijd]]-TabUren2[[#This Row],[begintijd]])-TabUren2[[#This Row],[pauze]]))","v":""},{"$f":"IF(OR(TabUren2[hoofdcategorie]=\"\",TabUren2[hoofdcategorie]=0),\"anders dan hoofdcategorie\",TabUren2[hoofdcategorie])","v":"anders dan hoofdcategorie"}]
[{"$f":"IF(TabUren2[[#This Row],[datum]]=\"\",\"\",INT((TabUren2[[#This Row],[datum]]-SUM(MOD(DATE(YEAR(TabUren2[[#This Row],[datum]]-MOD(TabUren2[[#This Row],[datum]]-2,7)+3),1,2),{1E+99;7})*{1;-1})+5) /7))","v":""},{"$f":"IF(TabUren2[[#This Row],[datum]]=\"\",\"\",TabUren2[[#This Row],[datum]])","v":""},null,null,{"$f":"IF(TabUren2[[#This Row],[datum]]=\"\",\"\",verzameldata!$C$3)","v":""},null,null,null,null,{"$f":"IF(TabUren2[[#This Row],[eindtijd]]=\"\",\"\",IF(TabUren2[[#This Row],[eindtijd]]<TabUren2[[#This Row],[begintijd]],(\"24:00\"-TabUren2[[#This Row],[begintijd]]+TabUren2[[#This Row],[eindtijd]])-TabUren2[[#This Row],[pauze]],(TabUren2[[#This Row],[eindtijd]]-TabUren2[[#This Row],[begintijd]])-TabUren2[[#This Row],[pauze]]))","v":""},{"$f":"IF(OR(TabUren2[hoofdcategorie]=\"\",TabUren2[hoofdcategorie]=0),\"anders dan hoofdcategorie\",TabUren2[hoofdcategorie])","v":"anders dan hoofdcategorie"}]
[{"$f":"IF(TabUren2[[#This Row],[datum]]=\"\",\"\",INT((TabUren2[[#This Row],[datum]]-SUM(MOD(DATE(YEAR(TabUren2[[#This Row],[datum]]-MOD(TabUren2[[#This Row],[datum]]-2,7)+3),1,2),{1E+99;7})*{1;-1})+5) /7))","v":""},{"$f":"IF(TabUren2[[#This Row],[datum]]=\"\",\"\",TabUren2[[#This Row],[datum]])","v":""},null,null,{"$f":"IF(TabUren2[[#This Row],[datum]]=\"\",\"\",verzameldata!$C$3)","v":""},null,null,null,null,{"$f":"IF(TabUren2[[#This Row],[eindtijd]]=\"\",\"\",IF(TabUren2[[#This Row],[eindtijd]]<TabUren2[[#This Row],[begintijd]],(\"24:00\"-TabUren2[[#This Row],[begintijd]]+TabUren2[[#This Row],[eindtijd]])-TabUren2[[#This Row],[pauze]],(TabUren2[[#This Row],[eindtijd]]-TabUren2[[#This Row],[begintijd]])-TabUren2[[#This Row],[pauze]]))","v":""},{"$f":"IF(OR(TabUren2[hoofdcategorie]=\"\",TabUren2[hoofdcategorie]=0),\"anders dan hoofdcategorie\",TabUren2[hoofdcategorie])","v":"anders dan hoofdcategorie"}]
[{"$f":"IF(TabUren2[[#This Row],[datum]]=\"\",\"\",INT((TabUren2[[#This Row],[datum]]-SUM(MOD(DATE(YEAR(TabUren2[[#This Row],[datum]]-MOD(TabUren2[[#This Row],[datum]]-2,7)+3),1,2),{1E+99;7})*{1;-1})+5) /7))","v":""},{"$f":"IF(TabUren2[[#This Row],[datum]]=\"\",\"\",TabUren2[[#This Row],[datum]])","v":""},null,null,{"$f":"IF(TabUren2[[#This Row],[datum]]=\"\",\"\",verzameldata!$C$3)","v":""},null,null,null,null,{"$f":"IF(TabUren2[[#This Row],[eindtijd]]=\"\",\"\",IF(TabUren2[[#This Row],[eindtijd]]<TabUren2[[#This Row],[begintijd]],(\"24:00\"-TabUren2[[#This Row],[begintijd]]+TabUren2[[#This Row],[eindtijd]])-TabUren2[[#This Row],[pauze]],(TabUren2[[#This Row],[eindtijd]]-TabUren2[[#This Row],[begintijd]])-TabUren2[[#This Row],[pauze]]))","v":""},{"$f":"IF(OR(TabUren2[hoofdcategorie]=\"\",TabUren2[hoofdcategorie]=0),\"anders dan hoofdcategorie\",TabUren2[hoofdcategorie])","v":"anders dan hoofdcategorie"}]
[{"$f":"IF(TabUren2[[#This Row],[datum]]=\"\",\"\",INT((TabUren2[[#This Row],[datum]]-SUM(MOD(DATE(YEAR(TabUren2[[#This Row],[datum]]-MOD(TabUren2[[#This Row],[datum]]-2,7)+3),1,2),{1E+99;7})*{1;-1})+5) /7))","v":""},{"$f":"IF(TabUren2[[#This Row],[datum]]=\"\",\"\",TabUren2[[#This Row],[datum]])","v":""},null,null,{"$f":"IF(TabUren2[[#This Row],[datum]]=\"\",\"\",verzameldata!$C$3)","v":""},null,null,null,null,{"$f":"IF(TabUren2[[#This Row],[eindtijd]]=\"\",\"\",IF(TabUren2[[#This Row],[eindtijd]]<TabUren2[[#This Row],[begintijd]],(\"24:00\"-TabUren2[[#This Row],[begintijd]]+TabUren2[[#This Row],[eindtijd]])-TabUren2[[#This Row],[pauze]],(TabUren2[[#This Row],[eindtijd]]-TabUren2[[#This Row],[begintijd]])-TabUren2[[#This Row],[pauze]]))","v":""},{"$f":"IF(OR(TabUren2[hoofdcategorie]=\"\",TabUren2[hoofdcategorie]=0),\"anders dan hoofdcategorie\",TabUren2[hoofdcategorie])","v":"anders dan hoofdcategorie"}]
[{"$f":"IF(TabUren2[[#This Row],[datum]]=\"\",\"\",INT((TabUren2[[#This Row],[datum]]-SUM(MOD(DATE(YEAR(TabUren2[[#This Row],[datum]]-MOD(TabUren2[[#This Row],[datum]]-2,7)+3),1,2),{1E+99;7})*{1;-1})+5) /7))","v":""},{"$f":"IF(TabUren2[[#This Row],[datum]]=\"\",\"\",TabUren2[[#This Row],[datum]])","v":""},null,null,{"$f":"IF(TabUren2[[#This Row],[datum]]=\"\",\"\",verzameldata!$C$3)","v":""},null,null,null,null,{"$f":"IF(TabUren2[[#This Row],[eindtijd]]=\"\",\"\",IF(TabUren2[[#This Row],[eindtijd]]<TabUren2[[#This Row],[begintijd]],(\"24:00\"-TabUren2[[#This Row],[begintijd]]+TabUren2[[#This Row],[eindtijd]])-TabUren2[[#This Row],[pauze]],(TabUren2[[#This Row],[eindtijd]]-TabUren2[[#This Row],[begintijd]])-TabUren2[[#This Row],[pauze]]))","v":""},{"$f":"IF(OR(TabUren2[hoofdcategorie]=\"\",TabUren2[hoofdcategorie]=0),\"anders dan hoofdcategorie\",TabUren2[hoofdcategorie])","v":"anders dan hoofdcategorie"}]
[{"$f":"IF(TabUren2[[#This Row],[datum]]=\"\",\"\",INT((TabUren2[[#This Row],[datum]]-SUM(MOD(DATE(YEAR(TabUren2[[#This Row],[datum]]-MOD(TabUren2[[#This Row],[datum]]-2,7)+3),1,2),{1E+99;7})*{1;-1})+5) /7))","v":""},{"$f":"IF(TabUren2[[#This Row],[datum]]=\"\",\"\",TabUren2[[#This Row],[datum]])","v":""},null,null,{"$f":"IF(TabUren2[[#This Row],[datum]]=\"\",\"\",verzameldata!$C$3)","v":""},null,null,null,null,{"$f":"IF(TabUren2[[#This Row],[eindtijd]]=\"\",\"\",IF(TabUren2[[#This Row],[eindtijd]]<TabUren2[[#This Row],[begintijd]],(\"24:00\"-TabUren2[[#This Row],[begintijd]]+TabUren2[[#This Row],[eindtijd]])-TabUren2[[#This Row],[pauze]],(TabUren2[[#This Row],[eindtijd]]-TabUren2[[#This Row],[begintijd]])-TabUren2[[#This Row],[pauze]]))","v":""},{"$f":"IF(OR(TabUren2[hoofdcategorie]=\"\",TabUren2[hoofdcategorie]=0),\"anders dan hoofdcategorie\",TabUren2[hoofdcategorie])","v":"anders dan hoofdcategorie"}]
[{"$f":"IF(TabUren2[[#This Row],[datum]]=\"\",\"\",INT((TabUren2[[#This Row],[datum]]-SUM(MOD(DATE(YEAR(TabUren2[[#This Row],[datum]]-MOD(TabUren2[[#This Row],[datum]]-2,7)+3),1,2),{1E+99;7})*{1;-1})+5) /7))","v":""},{"$f":"IF(TabUren2[[#This Row],[datum]]=\"\",\"\",TabUren2[[#This Row],[datum]])","v":""},null,null,{"$f":"IF(TabUren2[[#This Row],[datum]]=\"\",\"\",verzameldata!$C$3)","v":""},null,null,null,null,{"$f":"IF(TabUren2[[#This Row],[eindtijd]]=\"\",\"\",IF(TabUren2[[#This Row],[eindtijd]]<TabUren2[[#This Row],[begintijd]],(\"24:00\"-TabUren2[[#This Row],[begintijd]]+TabUren2[[#This Row],[eindtijd]])-TabUren2[[#This Row],[pauze]],(TabUren2[[#This Row],[eindtijd]]-TabUren2[[#This Row],[begintijd]])-TabUren2[[#This Row],[pauze]]))","v":""},{"$f":"IF(OR(TabUren2[hoofdcategorie]=\"\",TabUren2[hoofdcategorie]=0),\"anders dan hoofdcategorie\",TabUren2[hoofdcategorie])","v":"anders dan hoofdcategorie"}]
[{"$f":"IF(TabUren2[[#This Row],[datum]]=\"\",\"\",INT((TabUren2[[#This Row],[datum]]-SUM(MOD(DATE(YEAR(TabUren2[[#This Row],[datum]]-MOD(TabUren2[[#This Row],[datum]]-2,7)+3),1,2),{1E+99;7})*{1;-1})+5) /7))","v":""},{"$f":"IF(TabUren2[[#This Row],[datum]]=\"\",\"\",TabUren2[[#This Row],[datum]])","v":""},null,null,{"$f":"IF(TabUren2[[#This Row],[datum]]=\"\",\"\",verzameldata!$C$3)","v":""},null,null,null,null,{"$f":"IF(TabUren2[[#This Row],[eindtijd]]=\"\",\"\",IF(TabUren2[[#This Row],[eindtijd]]<TabUren2[[#This Row],[begintijd]],(\"24:00\"-TabUren2[[#This Row],[begintijd]]+TabUren2[[#This Row],[eindtijd]])-TabUren2[[#This Row],[pauze]],(TabUren2[[#This Row],[eindtijd]]-TabUren2[[#This Row],[begintijd]])-TabUren2[[#This Row],[pauze]]))","v":""},{"$f":"IF(OR(TabUren2[hoofdcategorie]=\"\",TabUren2[hoofdcategorie]=0),\"anders dan hoofdcategorie\",TabUren2[hoofdcategorie])","v":"anders dan hoofdcategorie"}]
[{"$f":"IF(TabUren2[[#This Row],[datum]]=\"\",\"\",INT((TabUren2[[#This Row],[datum]]-SUM(MOD(DATE(YEAR(TabUren2[[#This Row],[datum]]-MOD(TabUren2[[#This Row],[datum]]-2,7)+3),1,2),{1E+99;7})*{1;-1})+5) /7))","v":""},{"$f":"IF(TabUren2[[#This Row],[datum]]=\"\",\"\",TabUren2[[#This Row],[datum]])","v":""},null,null,{"$f":"IF(TabUren2[[#This Row],[datum]]=\"\",\"\",verzameldata!$C$3)","v":""},null,null,null,null,{"$f":"IF(TabUren2[[#This Row],[eindtijd]]=\"\",\"\",IF(TabUren2[[#This Row],[eindtijd]]<TabUren2[[#This Row],[begintijd]],(\"24:00\"-TabUren2[[#This Row],[begintijd]]+TabUren2[[#This Row],[eindtijd]])-TabUren2[[#This Row],[pauze]],(TabUren2[[#This Row],[eindtijd]]-TabUren2[[#This Row],[begintijd]])-TabUren2[[#This Row],[pauze]]))","v":""},{"$f":"IF(OR(TabUren2[hoofdcategorie]=\"\",TabUren2[hoofdcategorie]=0),\"anders dan hoofdcategorie\",TabUren2[hoofdcategorie])","v":"anders dan hoofdcategorie"}]
[{"$f":"IF(TabUren2[[#This Row],[datum]]=\"\",\"\",INT((TabUren2[[#This Row],[datum]]-SUM(MOD(DATE(YEAR(TabUren2[[#This Row],[datum]]-MOD(TabUren2[[#This Row],[datum]]-2,7)+3),1,2),{1E+99;7})*{1;-1})+5) /7))","v":""},{"$f":"IF(TabUren2[[#This Row],[datum]]=\"\",\"\",TabUren2[[#This Row],[datum]])","v":""},null,null,{"$f":"IF(TabUren2[[#This Row],[datum]]=\"\",\"\",verzameldata!$C$3)","v":""},null,null,null,null,{"$f":"IF(TabUren2[[#This Row],[eindtijd]]=\"\",\"\",IF(TabUren2[[#This Row],[eindtijd]]<TabUren2[[#This Row],[begintijd]],(\"24:00\"-TabUren2[[#This Row],[begintijd]]+TabUren2[[#This Row],[eindtijd]])-TabUren2[[#This Row],[pauze]],(TabUren2[[#This Row],[eindtijd]]-TabUren2[[#This Row],[begintijd]])-TabUren2[[#This Row],[pauze]]))","v":""},{"$f":"IF(OR(TabUren2[hoofdcategorie]=\"\",TabUren2[hoofdcategorie]=0),\"anders dan hoofdcategorie\",TabUren2[hoofdcategorie])","v":"anders dan hoofdcategorie"}]
[{"$f":"IF(TabUren2[[#This Row],[datum]]=\"\",\"\",INT((TabUren2[[#This Row],[datum]]-SUM(MOD(DATE(YEAR(TabUren2[[#This Row],[datum]]-MOD(TabUren2[[#This Row],[datum]]-2,7)+3),1,2),{1E+99;7})*{1;-1})+5) /7))","v":""},{"$f":"IF(TabUren2[[#This Row],[datum]]=\"\",\"\",TabUren2[[#This Row],[datum]])","v":""},null,null,{"$f":"IF(TabUren2[[#This Row],[datum]]=\"\",\"\",verzameldata!$C$3)","v":""},null,null,null,null,{"$f":"IF(TabUren2[[#This Row],[eindtijd]]=\"\",\"\",IF(TabUren2[[#This Row],[eindtijd]]<TabUren2[[#This Row],[begintijd]],(\"24:00\"-TabUren2[[#This Row],[begintijd]]+TabUren2[[#This Row],[eindtijd]])-TabUren2[[#This Row],[pauze]],(TabUren2[[#This Row],[eindtijd]]-TabUren2[[#This Row],[begintijd]])-TabUren2[[#This Row],[pauze]]))","v":""},{"$f":"IF(OR(TabUren2[hoofdcategorie]=\"\",TabUren2[hoofdcategorie]=0),\"anders dan hoofdcategorie\",TabUren2[hoofdcategorie])","v":"anders dan hoofdcategorie"}]
[{"$f":"IF(TabUren2[[#This Row],[datum]]=\"\",\"\",INT((TabUren2[[#This Row],[datum]]-SUM(MOD(DATE(YEAR(TabUren2[[#This Row],[datum]]-MOD(TabUren2[[#This Row],[datum]]-2,7)+3),1,2),{1E+99;7})*{1;-1})+5) /7))","v":""},{"$f":"IF(TabUren2[[#This Row],[datum]]=\"\",\"\",TabUren2[[#This Row],[datum]])","v":""},null,null,{"$f":"IF(TabUren2[[#This Row],[datum]]=\"\",\"\",verzameldata!$C$3)","v":""},null,null,null,null,{"$f":"IF(TabUren2[[#This Row],[eindtijd]]=\"\",\"\",IF(TabUren2[[#This Row],[eindtijd]]<TabUren2[[#This Row],[begintijd]],(\"24:00\"-TabUren2[[#This Row],[begintijd]]+TabUren2[[#This Row],[eindtijd]])-TabUren2[[#This Row],[pauze]],(TabUren2[[#This Row],[eindtijd]]-TabUren2[[#This Row],[begintijd]])-TabUren2[[#This Row],[pauze]]))","v":""},{"$f":"IF(OR(TabUren2[hoofdcategorie]=\"\",TabUren2[hoofdcategorie]=0),\"anders dan hoofdcategorie\",TabUren2[hoofdcategorie])","v":"anders dan hoofdcategorie"}]
[{"$f":"IF(TabUren2[[#This Row],[datum]]=\"\",\"\",INT((TabUren2[[#This Row],[datum]]-SUM(MOD(DATE(YEAR(TabUren2[[#This Row],[datum]]-MOD(TabUren2[[#This Row],[datum]]-2,7)+3),1,2),{1E+99;7})*{1;-1})+5) /7))","v":""},{"$f":"IF(TabUren2[[#This Row],[datum]]=\"\",\"\",TabUren2[[#This Row],[datum]])","v":""},null,null,{"$f":"IF(TabUren2[[#This Row],[datum]]=\"\",\"\",verzameldata!$C$3)","v":""},null,null,null,null,{"$f":"IF(TabUren2[[#This Row],[eindtijd]]=\"\",\"\",IF(TabUren2[[#This Row],[eindtijd]]<TabUren2[[#This Row],[begintijd]],(\"24:00\"-TabUren2[[#This Row],[begintijd]]+TabUren2[[#This Row],[eindtijd]])-TabUren2[[#This Row],[pauze]],(TabUren2[[#This Row],[eindtijd]]-TabUren2[[#This Row],[begintijd]])-TabUren2[[#This Row],[pauze]]))","v":""},{"$f":"IF(OR(TabUren2[hoofdcategorie]=\"\",TabUren2[hoofdcategorie]=0),\"anders dan hoofdcategorie\",TabUren2[hoofdcategorie])","v":"anders dan hoofdcategorie"}]
[{"$f":"IF(TabUren2[[#This Row],[datum]]=\"\",\"\",INT((TabUren2[[#This Row],[datum]]-SUM(MOD(DATE(YEAR(TabUren2[[#This Row],[datum]]-MOD(TabUren2[[#This Row],[datum]]-2,7)+3),1,2),{1E+99;7})*{1;-1})+5) /7))","v":""},{"$f":"IF(TabUren2[[#This Row],[datum]]=\"\",\"\",TabUren2[[#This Row],[datum]])","v":""},null,null,{"$f":"IF(TabUren2[[#This Row],[datum]]=\"\",\"\",verzameldata!$C$3)","v":""},null,null,null,null,{"$f":"IF(TabUren2[[#This Row],[eindtijd]]=\"\",\"\",IF(TabUren2[[#This Row],[eindtijd]]<TabUren2[[#This Row],[begintijd]],(\"24:00\"-TabUren2[[#This Row],[begintijd]]+TabUren2[[#This Row],[eindtijd]])-TabUren2[[#This Row],[pauze]],(TabUren2[[#This Row],[eindtijd]]-TabUren2[[#This Row],[begintijd]])-TabUren2[[#This Row],[pauze]]))","v":""},{"$f":"IF(OR(TabUren2[hoofdcategorie]=\"\",TabUren2[hoofdcategorie]=0),\"anders dan hoofdcategorie\",TabUren2[hoofdcategorie])","v":"anders dan hoofdcategorie"}]
[{"$f":"IF(TabUren2[[#This Row],[datum]]=\"\",\"\",INT((TabUren2[[#This Row],[datum]]-SUM(MOD(DATE(YEAR(TabUren2[[#This Row],[datum]]-MOD(TabUren2[[#This Row],[datum]]-2,7)+3),1,2),{1E+99;7})*{1;-1})+5) /7))","v":""},{"$f":"IF(TabUren2[[#This Row],[datum]]=\"\",\"\",TabUren2[[#This Row],[datum]])","v":""},null,null,{"$f":"IF(TabUren2[[#This Row],[datum]]=\"\",\"\",verzameldata!$C$3)","v":""},null,null,null,null,{"$f":"IF(TabUren2[[#This Row],[eindtijd]]=\"\",\"\",IF(TabUren2[[#This Row],[eindtijd]]<TabUren2[[#This Row],[begintijd]],(\"24:00\"-TabUren2[[#This Row],[begintijd]]+TabUren2[[#This Row],[eindtijd]])-TabUren2[[#This Row],[pauze]],(TabUren2[[#This Row],[eindtijd]]-TabUren2[[#This Row],[begintijd]])-TabUren2[[#This Row],[pauze]]))","v":""},{"$f":"IF(OR(TabUren2[hoofdcategorie]=\"\",TabUren2[hoofdcategorie]=0),\"anders dan hoofdcategorie\",TabUren2[hoofdcategorie])","v":"anders dan hoofdcategorie"}]
[{"$f":"IF(TabUren2[[#This Row],[datum]]=\"\",\"\",INT((TabUren2[[#This Row],[datum]]-SUM(MOD(DATE(YEAR(TabUren2[[#This Row],[datum]]-MOD(TabUren2[[#This Row],[datum]]-2,7)+3),1,2),{1E+99;7})*{1;-1})+5) /7))","v":""},{"$f":"IF(TabUren2[[#This Row],[datum]]=\"\",\"\",TabUren2[[#This Row],[datum]])","v":""},null,null,{"$f":"IF(TabUren2[[#This Row],[datum]]=\"\",\"\",verzameldata!$C$3)","v":""},null,null,null,null,{"$f":"IF(TabUren2[[#This Row],[eindtijd]]=\"\",\"\",IF(TabUren2[[#This Row],[eindtijd]]<TabUren2[[#This Row],[begintijd]],(\"24:00\"-TabUren2[[#This Row],[begintijd]]+TabUren2[[#This Row],[eindtijd]])-TabUren2[[#This Row],[pauze]],(TabUren2[[#This Row],[eindtijd]]-TabUren2[[#This Row],[begintijd]])-TabUren2[[#This Row],[pauze]]))","v":""},{"$f":"IF(OR(TabUren2[hoofdcategorie]=\"\",TabUren2[hoofdcategorie]=0),\"anders dan hoofdcategorie\",TabUren2[hoofdcategorie])","v":"anders dan hoofdcategorie"}]
[{"$f":"IF(TabUren2[[#This Row],[datum]]=\"\",\"\",INT((TabUren2[[#This Row],[datum]]-SUM(MOD(DATE(YEAR(TabUren2[[#This Row],[datum]]-MOD(TabUren2[[#This Row],[datum]]-2,7)+3),1,2),{1E+99;7})*{1;-1})+5) /7))","v":""},{"$f":"IF(TabUren2[[#This Row],[datum]]=\"\",\"\",TabUren2[[#This Row],[datum]])","v":""},null,null,{"$f":"IF(TabUren2[[#This Row],[datum]]=\"\",\"\",verzameldata!$C$3)","v":""},null,null,null,null,{"$f":"IF(TabUren2[[#This Row],[eindtijd]]=\"\",\"\",IF(TabUren2[[#This Row],[eindtijd]]<TabUren2[[#This Row],[begintijd]],(\"24:00\"-TabUren2[[#This Row],[begintijd]]+TabUren2[[#This Row],[eindtijd]])-TabUren2[[#This Row],[pauze]],(TabUren2[[#This Row],[eindtijd]]-TabUren2[[#This Row],[begintijd]])-TabUren2[[#This Row],[pauze]]))","v":""},{"$f":"IF(OR(TabUren2[hoofdcategorie]=\"\",TabUren2[hoofdcategorie]=0),\"anders dan hoofdcategorie\",TabUren2[hoofdcategorie])","v":"anders dan hoofdcategorie"}]
[{"$f":"IF(TabUren2[[#This Row],[datum]]=\"\",\"\",INT((TabUren2[[#This Row],[datum]]-SUM(MOD(DATE(YEAR(TabUren2[[#This Row],[datum]]-MOD(TabUren2[[#This Row],[datum]]-2,7)+3),1,2),{1E+99;7})*{1;-1})+5) /7))","v":""},{"$f":"IF(TabUren2[[#This Row],[datum]]=\"\",\"\",TabUren2[[#This Row],[datum]])","v":""},null,null,{"$f":"IF(TabUren2[[#This Row],[datum]]=\"\",\"\",verzameldata!$C$3)","v":""},null,null,null,null,{"$f":"IF(TabUren2[[#This Row],[eindtijd]]=\"\",\"\",IF(TabUren2[[#This Row],[eindtijd]]<TabUren2[[#This Row],[begintijd]],(\"24:00\"-TabUren2[[#This Row],[begintijd]]+TabUren2[[#This Row],[eindtijd]])-TabUren2[[#This Row],[pauze]],(TabUren2[[#This Row],[eindtijd]]-TabUren2[[#This Row],[begintijd]])-TabUren2[[#This Row],[pauze]]))","v":""},{"$f":"IF(OR(TabUren2[hoofdcategorie]=\"\",TabUren2[hoofdcategorie]=0),\"anders dan hoofdcategorie\",TabUren2[hoofdcategorie])","v":"anders dan hoofdcategorie"}]
[{"$f":"IF(TabUren2[[#This Row],[datum]]=\"\",\"\",INT((TabUren2[[#This Row],[datum]]-SUM(MOD(DATE(YEAR(TabUren2[[#This Row],[datum]]-MOD(TabUren2[[#This Row],[datum]]-2,7)+3),1,2),{1E+99;7})*{1;-1})+5) /7))","v":""},{"$f":"IF(TabUren2[[#This Row],[datum]]=\"\",\"\",TabUren2[[#This Row],[datum]])","v":""},null,null,{"$f":"IF(TabUren2[[#This Row],[datum]]=\"\",\"\",verzameldata!$C$3)","v":""},null,null,null,null,{"$f":"IF(TabUren2[[#This Row],[eindtijd]]=\"\",\"\",IF(TabUren2[[#This Row],[eindtijd]]<TabUren2[[#This Row],[begintijd]],(\"24:00\"-TabUren2[[#This Row],[begintijd]]+TabUren2[[#This Row],[eindtijd]])-TabUren2[[#This Row],[pauze]],(TabUren2[[#This Row],[eindtijd]]-TabUren2[[#This Row],[begintijd]])-TabUren2[[#This Row],[pauze]]))","v":""},{"$f":"IF(OR(TabUren2[hoofdcategorie]=\"\",TabUren2[hoofdcategorie]=0),\"anders dan hoofdcategorie\",TabUren2[hoofdcategorie])","v":"anders dan hoofdcategorie"}]
[{"$f":"IF(TabUren2[[#This Row],[datum]]=\"\",\"\",INT((TabUren2[[#This Row],[datum]]-SUM(MOD(DATE(YEAR(TabUren2[[#This Row],[datum]]-MOD(TabUren2[[#This Row],[datum]]-2,7)+3),1,2),{1E+99;7})*{1;-1})+5) /7))","v":""},{"$f":"IF(TabUren2[[#This Row],[datum]]=\"\",\"\",TabUren2[[#This Row],[datum]])","v":""},null,null,{"$f":"IF(TabUren2[[#This Row],[datum]]=\"\",\"\",verzameldata!$C$3)","v":""},null,null,null,null,{"$f":"IF(TabUren2[[#This Row],[eindtijd]]=\"\",\"\",IF(TabUren2[[#This Row],[eindtijd]]<TabUren2[[#This Row],[begintijd]],(\"24:00\"-TabUren2[[#This Row],[begintijd]]+TabUren2[[#This Row],[eindtijd]])-TabUren2[[#This Row],[pauze]],(TabUren2[[#This Row],[eindtijd]]-TabUren2[[#This Row],[begintijd]])-TabUren2[[#This Row],[pauze]]))","v":""},{"$f":"IF(OR(TabUren2[hoofdcategorie]=\"\",TabUren2[hoofdcategorie]=0),\"anders dan hoofdcategorie\",TabUren2[hoofdcategorie])","v":"anders dan hoofdcategorie"}]
[{"$f":"IF(TabUren2[[#This Row],[datum]]=\"\",\"\",INT((TabUren2[[#This Row],[datum]]-SUM(MOD(DATE(YEAR(TabUren2[[#This Row],[datum]]-MOD(TabUren2[[#This Row],[datum]]-2,7)+3),1,2),{1E+99;7})*{1;-1})+5) /7))","v":""},{"$f":"IF(TabUren2[[#This Row],[datum]]=\"\",\"\",TabUren2[[#This Row],[datum]])","v":""},null,null,{"$f":"IF(TabUren2[[#This Row],[datum]]=\"\",\"\",verzameldata!$C$3)","v":""},null,null,null,null,{"$f":"IF(TabUren2[[#This Row],[eindtijd]]=\"\",\"\",IF(TabUren2[[#This Row],[eindtijd]]<TabUren2[[#This Row],[begintijd]],(\"24:00\"-TabUren2[[#This Row],[begintijd]]+TabUren2[[#This Row],[eindtijd]])-TabUren2[[#This Row],[pauze]],(TabUren2[[#This Row],[eindtijd]]-TabUren2[[#This Row],[begintijd]])-TabUren2[[#This Row],[pauze]]))","v":""},{"$f":"IF(OR(TabUren2[hoofdcategorie]=\"\",TabUren2[hoofdcategorie]=0),\"anders dan hoofdcategorie\",TabUren2[hoofdcategorie])","v":"anders dan hoofdcategorie"}]
[{"$f":"IF(TabUren2[[#This Row],[datum]]=\"\",\"\",INT((TabUren2[[#This Row],[datum]]-SUM(MOD(DATE(YEAR(TabUren2[[#This Row],[datum]]-MOD(TabUren2[[#This Row],[datum]]-2,7)+3),1,2),{1E+99;7})*{1;-1})+5) /7))","v":""},{"$f":"IF(TabUren2[[#This Row],[datum]]=\"\",\"\",TabUren2[[#This Row],[datum]])","v":""},null,null,{"$f":"IF(TabUren2[[#This Row],[datum]]=\"\",\"\",verzameldata!$C$3)","v":""},null,null,null,null,{"$f":"IF(TabUren2[[#This Row],[eindtijd]]=\"\",\"\",IF(TabUren2[[#This Row],[eindtijd]]<TabUren2[[#This Row],[begintijd]],(\"24:00\"-TabUren2[[#This Row],[begintijd]]+TabUren2[[#This Row],[eindtijd]])-TabUren2[[#This Row],[pauze]],(TabUren2[[#This Row],[eindtijd]]-TabUren2[[#This Row],[begintijd]])-TabUren2[[#This Row],[pauze]]))","v":""},{"$f":"IF(OR(TabUren2[hoofdcategorie]=\"\",TabUren2[hoofdcategorie]=0),\"anders dan hoofdcategorie\",TabUren2[hoofdcategorie])","v":"anders dan hoofdcategorie"}]
[{"$f":"IF(TabUren2[[#This Row],[datum]]=\"\",\"\",INT((TabUren2[[#This Row],[datum]]-SUM(MOD(DATE(YEAR(TabUren2[[#This Row],[datum]]-MOD(TabUren2[[#This Row],[datum]]-2,7)+3),1,2),{1E+99;7})*{1;-1})+5) /7))","v":""},{"$f":"IF(TabUren2[[#This Row],[datum]]=\"\",\"\",TabUren2[[#This Row],[datum]])","v":""},null,null,{"$f":"IF(TabUren2[[#This Row],[datum]]=\"\",\"\",verzameldata!$C$3)","v":""},null,null,null,null,{"$f":"IF(TabUren2[[#This Row],[eindtijd]]=\"\",\"\",IF(TabUren2[[#This Row],[eindtijd]]<TabUren2[[#This Row],[begintijd]],(\"24:00\"-TabUren2[[#This Row],[begintijd]]+TabUren2[[#This Row],[eindtijd]])-TabUren2[[#This Row],[pauze]],(TabUren2[[#This Row],[eindtijd]]-TabUren2[[#This Row],[begintijd]])-TabUren2[[#This Row],[pauze]]))","v":""},{"$f":"IF(OR(TabUren2[hoofdcategorie]=\"\",TabUren2[hoofdcategorie]=0),\"anders dan hoofdcategorie\",TabUren2[hoofdcategorie])","v":"anders dan hoofdcategorie"}]
[{"$f":"IF(TabUren2[[#This Row],[datum]]=\"\",\"\",INT((TabUren2[[#This Row],[datum]]-SUM(MOD(DATE(YEAR(TabUren2[[#This Row],[datum]]-MOD(TabUren2[[#This Row],[datum]]-2,7)+3),1,2),{1E+99;7})*{1;-1})+5) /7))","v":""},{"$f":"IF(TabUren2[[#This Row],[datum]]=\"\",\"\",TabUren2[[#This Row],[datum]])","v":""},null,null,{"$f":"IF(TabUren2[[#This Row],[datum]]=\"\",\"\",verzameldata!$C$3)","v":""},null,null,null,null,{"$f":"IF(TabUren2[[#This Row],[eindtijd]]=\"\",\"\",IF(TabUren2[[#This Row],[eindtijd]]<TabUren2[[#This Row],[begintijd]],(\"24:00\"-TabUren2[[#This Row],[begintijd]]+TabUren2[[#This Row],[eindtijd]])-TabUren2[[#This Row],[pauze]],(TabUren2[[#This Row],[eindtijd]]-TabUren2[[#This Row],[begintijd]])-TabUren2[[#This Row],[pauze]]))","v":""},{"$f":"IF(OR(TabUren2[hoofdcategorie]=\"\",TabUren2[hoofdcategorie]=0),\"anders dan hoofdcategorie\",TabUren2[hoofdcategorie])","v":"anders dan hoofdcategorie"}]
[{"$f":"IF(TabUren2[[#This Row],[datum]]=\"\",\"\",INT((TabUren2[[#This Row],[datum]]-SUM(MOD(DATE(YEAR(TabUren2[[#This Row],[datum]]-MOD(TabUren2[[#This Row],[datum]]-2,7)+3),1,2),{1E+99;7})*{1;-1})+5) /7))","v":""},{"$f":"IF(TabUren2[[#This Row],[datum]]=\"\",\"\",TabUren2[[#This Row],[datum]])","v":""},null,null,{"$f":"IF(TabUren2[[#This Row],[datum]]=\"\",\"\",verzameldata!$C$3)","v":""},null,null,null,null,{"$f":"IF(TabUren2[[#This Row],[eindtijd]]=\"\",\"\",IF(TabUren2[[#This Row],[eindtijd]]<TabUren2[[#This Row],[begintijd]],(\"24:00\"-TabUren2[[#This Row],[begintijd]]+TabUren2[[#This Row],[eindtijd]])-TabUren2[[#This Row],[pauze]],(TabUren2[[#This Row],[eindtijd]]-TabUren2[[#This Row],[begintijd]])-TabUren2[[#This Row],[pauze]]))","v":""},{"$f":"IF(OR(TabUren2[hoofdcategorie]=\"\",TabUren2[hoofdcategorie]=0),\"anders dan hoofdcategorie\",TabUren2[hoofdcategorie])","v":"anders dan hoofdcategorie"}]
[{"$f":"IF(TabUren2[[#This Row],[datum]]=\"\",\"\",INT((TabUren2[[#This Row],[datum]]-SUM(MOD(DATE(YEAR(TabUren2[[#This Row],[datum]]-MOD(TabUren2[[#This Row],[datum]]-2,7)+3),1,2),{1E+99;7})*{1;-1})+5) /7))","v":""},{"$f":"IF(TabUren2[[#This Row],[datum]]=\"\",\"\",TabUren2[[#This Row],[datum]])","v":""},null,null,{"$f":"IF(TabUren2[[#This Row],[datum]]=\"\",\"\",verzameldata!$C$3)","v":""},null,null,null,null,{"$f":"IF(TabUren2[[#This Row],[eindtijd]]=\"\",\"\",IF(TabUren2[[#This Row],[eindtijd]]<TabUren2[[#This Row],[begintijd]],(\"24:00\"-TabUren2[[#This Row],[begintijd]]+TabUren2[[#This Row],[eindtijd]])-TabUren2[[#This Row],[pauze]],(TabUren2[[#This Row],[eindtijd]]-TabUren2[[#This Row],[begintijd]])-TabUren2[[#This Row],[pauze]]))","v":""},{"$f":"IF(OR(TabUren2[hoofdcategorie]=\"\",TabUren2[hoofdcategorie]=0),\"anders dan hoofdcategorie\",TabUren2[hoofdcategorie])","v":"anders dan hoofdcategorie"}]
[{"$f":"IF(TabUren2[[#This Row],[datum]]=\"\",\"\",INT((TabUren2[[#This Row],[datum]]-SUM(MOD(DATE(YEAR(TabUren2[[#This Row],[datum]]-MOD(TabUren2[[#This Row],[datum]]-2,7)+3),1,2),{1E+99;7})*{1;-1})+5) /7))","v":""},{"$f":"IF(TabUren2[[#This Row],[datum]]=\"\",\"\",TabUren2[[#This Row],[datum]])","v":""},null,null,{"$f":"IF(TabUren2[[#This Row],[datum]]=\"\",\"\",verzameldata!$C$3)","v":""},null,null,null,null,{"$f":"IF(TabUren2[[#This Row],[eindtijd]]=\"\",\"\",IF(TabUren2[[#This Row],[eindtijd]]<TabUren2[[#This Row],[begintijd]],(\"24:00\"-TabUren2[[#This Row],[begintijd]]+TabUren2[[#This Row],[eindtijd]])-TabUren2[[#This Row],[pauze]],(TabUren2[[#This Row],[eindtijd]]-TabUren2[[#This Row],[begintijd]])-TabUren2[[#This Row],[pauze]]))","v":""},{"$f":"IF(OR(TabUren2[hoofdcategorie]=\"\",TabUren2[hoofdcategorie]=0),\"anders dan hoofdcategorie\",TabUren2[hoofdcategorie])","v":"anders dan hoofdcategorie"}]
[{"$f":"IF(TabUren2[[#This Row],[datum]]=\"\",\"\",INT((TabUren2[[#This Row],[datum]]-SUM(MOD(DATE(YEAR(TabUren2[[#This Row],[datum]]-MOD(TabUren2[[#This Row],[datum]]-2,7)+3),1,2),{1E+99;7})*{1;-1})+5) /7))","v":""},{"$f":"IF(TabUren2[[#This Row],[datum]]=\"\",\"\",TabUren2[[#This Row],[datum]])","v":""},null,null,{"$f":"IF(TabUren2[[#This Row],[datum]]=\"\",\"\",verzameldata!$C$3)","v":""},null,null,null,null,{"$f":"IF(TabUren2[[#This Row],[eindtijd]]=\"\",\"\",IF(TabUren2[[#This Row],[eindtijd]]<TabUren2[[#This Row],[begintijd]],(\"24:00\"-TabUren2[[#This Row],[begintijd]]+TabUren2[[#This Row],[eindtijd]])-TabUren2[[#This Row],[pauze]],(TabUren2[[#This Row],[eindtijd]]-TabUren2[[#This Row],[begintijd]])-TabUren2[[#This Row],[pauze]]))","v":""},{"$f":"IF(OR(TabUren2[hoofdcategorie]=\"\",TabUren2[hoofdcategorie]=0),\"anders dan hoofdcategorie\",TabUren2[hoofdcategorie])","v":"anders dan hoofdcategorie"}]
[{"$f":"IF(TabUren2[[#This Row],[datum]]=\"\",\"\",INT((TabUren2[[#This Row],[datum]]-SUM(MOD(DATE(YEAR(TabUren2[[#This Row],[datum]]-MOD(TabUren2[[#This Row],[datum]]-2,7)+3),1,2),{1E+99;7})*{1;-1})+5) /7))","v":""},{"$f":"IF(TabUren2[[#This Row],[datum]]=\"\",\"\",TabUren2[[#This Row],[datum]])","v":""},null,null,{"$f":"IF(TabUren2[[#This Row],[datum]]=\"\",\"\",verzameldata!$C$3)","v":""},null,null,null,null,{"$f":"IF(TabUren2[[#This Row],[eindtijd]]=\"\",\"\",IF(TabUren2[[#This Row],[eindtijd]]<TabUren2[[#This Row],[begintijd]],(\"24:00\"-TabUren2[[#This Row],[begintijd]]+TabUren2[[#This Row],[eindtijd]])-TabUren2[[#This Row],[pauze]],(TabUren2[[#This Row],[eindtijd]]-TabUren2[[#This Row],[begintijd]])-TabUren2[[#This Row],[pauze]]))","v":""},{"$f":"IF(OR(TabUren2[hoofdcategorie]=\"\",TabUren2[hoofdcategorie]=0),\"anders dan hoofdcategorie\",TabUren2[hoofdcategorie])","v":"anders dan hoofdcategorie"}]
[{"$f":"IF(TabUren2[[#This Row],[datum]]=\"\",\"\",INT((TabUren2[[#This Row],[datum]]-SUM(MOD(DATE(YEAR(TabUren2[[#This Row],[datum]]-MOD(TabUren2[[#This Row],[datum]]-2,7)+3),1,2),{1E+99;7})*{1;-1})+5) /7))","v":""},{"$f":"IF(TabUren2[[#This Row],[datum]]=\"\",\"\",TabUren2[[#This Row],[datum]])","v":""},null,null,{"$f":"IF(TabUren2[[#This Row],[datum]]=\"\",\"\",verzameldata!$C$3)","v":""},null,null,null,null,{"$f":"IF(TabUren2[[#This Row],[eindtijd]]=\"\",\"\",IF(TabUren2[[#This Row],[eindtijd]]<TabUren2[[#This Row],[begintijd]],(\"24:00\"-TabUren2[[#This Row],[begintijd]]+TabUren2[[#This Row],[eindtijd]])-TabUren2[[#This Row],[pauze]],(TabUren2[[#This Row],[eindtijd]]-TabUren2[[#This Row],[begintijd]])-TabUren2[[#This Row],[pauze]]))","v":""},{"$f":"IF(OR(TabUren2[hoofdcategorie]=\"\",TabUren2[hoofdcategorie]=0),\"anders dan hoofdcategorie\",TabUren2[hoofdcategorie])","v":"anders dan hoofdcategorie"}]
[{"$f":"IF(TabUren2[[#This Row],[datum]]=\"\",\"\",INT((TabUren2[[#This Row],[datum]]-SUM(MOD(DATE(YEAR(TabUren2[[#This Row],[datum]]-MOD(TabUren2[[#This Row],[datum]]-2,7)+3),1,2),{1E+99;7})*{1;-1})+5) /7))","v":""},{"$f":"IF(TabUren2[[#This Row],[datum]]=\"\",\"\",TabUren2[[#This Row],[datum]])","v":""},null,null,{"$f":"IF(TabUren2[[#This Row],[datum]]=\"\",\"\",verzameldata!$C$3)","v":""},null,null,null,null,{"$f":"IF(TabUren2[[#This Row],[eindtijd]]=\"\",\"\",IF(TabUren2[[#This Row],[eindtijd]]<TabUren2[[#This Row],[begintijd]],(\"24:00\"-TabUren2[[#This Row],[begintijd]]+TabUren2[[#This Row],[eindtijd]])-TabUren2[[#This Row],[pauze]],(TabUren2[[#This Row],[eindtijd]]-TabUren2[[#This Row],[begintijd]])-TabUren2[[#This Row],[pauze]]))","v":""},{"$f":"IF(OR(TabUren2[hoofdcategorie]=\"\",TabUren2[hoofdcategorie]=0),\"anders dan hoofdcategorie\",TabUren2[hoofdcategorie])","v":"anders dan hoofdcategorie"}]
[{"$f":"IF(TabUren2[[#This Row],[datum]]=\"\",\"\",INT((TabUren2[[#This Row],[datum]]-SUM(MOD(DATE(YEAR(TabUren2[[#This Row],[datum]]-MOD(TabUren2[[#This Row],[datum]]-2,7)+3),1,2),{1E+99;7})*{1;-1})+5) /7))","v":""},{"$f":"IF(TabUren2[[#This Row],[datum]]=\"\",\"\",TabUren2[[#This Row],[datum]])","v":""},null,null,{"$f":"IF(TabUren2[[#This Row],[datum]]=\"\",\"\",verzameldata!$C$3)","v":""},null,null,null,null,{"$f":"IF(TabUren2[[#This Row],[eindtijd]]=\"\",\"\",IF(TabUren2[[#This Row],[eindtijd]]<TabUren2[[#This Row],[begintijd]],(\"24:00\"-TabUren2[[#This Row],[begintijd]]+TabUren2[[#This Row],[eindtijd]])-TabUren2[[#This Row],[pauze]],(TabUren2[[#This Row],[eindtijd]]-TabUren2[[#This Row],[begintijd]])-TabUren2[[#This Row],[pauze]]))","v":""},{"$f":"IF(OR(TabUren2[hoofdcategorie]=\"\",TabUren2[hoofdcategorie]=0),\"anders dan hoofdcategorie\",TabUren2[hoofdcategorie])","v":"anders dan hoofdcategorie"}]
[{"$f":"IF(TabUren2[[#This Row],[datum]]=\"\",\"\",INT((TabUren2[[#This Row],[datum]]-SUM(MOD(DATE(YEAR(TabUren2[[#This Row],[datum]]-MOD(TabUren2[[#This Row],[datum]]-2,7)+3),1,2),{1E+99;7})*{1;-1})+5) /7))","v":""},{"$f":"IF(TabUren2[[#This Row],[datum]]=\"\",\"\",TabUren2[[#This Row],[datum]])","v":""},null,null,{"$f":"IF(TabUren2[[#This Row],[datum]]=\"\",\"\",verzameldata!$C$3)","v":""},null,null,null,null,{"$f":"IF(TabUren2[[#This Row],[eindtijd]]=\"\",\"\",IF(TabUren2[[#This Row],[eindtijd]]<TabUren2[[#This Row],[begintijd]],(\"24:00\"-TabUren2[[#This Row],[begintijd]]+TabUren2[[#This Row],[eindtijd]])-TabUren2[[#This Row],[pauze]],(TabUren2[[#This Row],[eindtijd]]-TabUren2[[#This Row],[begintijd]])-TabUren2[[#This Row],[pauze]]))","v":""},{"$f":"IF(OR(TabUren2[hoofdcategorie]=\"\",TabUren2[hoofdcategorie]=0),\"anders dan hoofdcategorie\",TabUren2[hoofdcategorie])","v":"anders dan hoofdcategorie"}]
[{"$f":"IF(TabUren2[[#This Row],[datum]]=\"\",\"\",INT((TabUren2[[#This Row],[datum]]-SUM(MOD(DATE(YEAR(TabUren2[[#This Row],[datum]]-MOD(TabUren2[[#This Row],[datum]]-2,7)+3),1,2),{1E+99;7})*{1;-1})+5) /7))","v":""},{"$f":"IF(TabUren2[[#This Row],[datum]]=\"\",\"\",TabUren2[[#This Row],[datum]])","v":""},null,null,{"$f":"IF(TabUren2[[#This Row],[datum]]=\"\",\"\",verzameldata!$C$3)","v":""},null,null,null,null,{"$f":"IF(TabUren2[[#This Row],[eindtijd]]=\"\",\"\",IF(TabUren2[[#This Row],[eindtijd]]<TabUren2[[#This Row],[begintijd]],(\"24:00\"-TabUren2[[#This Row],[begintijd]]+TabUren2[[#This Row],[eindtijd]])-TabUren2[[#This Row],[pauze]],(TabUren2[[#This Row],[eindtijd]]-TabUren2[[#This Row],[begintijd]])-TabUren2[[#This Row],[pauze]]))","v":""},{"$f":"IF(OR(TabUren2[hoofdcategorie]=\"\",TabUren2[hoofdcategorie]=0),\"anders dan hoofdcategorie\",TabUren2[hoofdcategorie])","v":"anders dan hoofdcategorie"}]
[{"$f":"IF(TabUren2[[#This Row],[datum]]=\"\",\"\",INT((TabUren2[[#This Row],[datum]]-SUM(MOD(DATE(YEAR(TabUren2[[#This Row],[datum]]-MOD(TabUren2[[#This Row],[datum]]-2,7)+3),1,2),{1E+99;7})*{1;-1})+5) /7))","v":""},{"$f":"IF(TabUren2[[#This Row],[datum]]=\"\",\"\",TabUren2[[#This Row],[datum]])","v":""},null,null,{"$f":"IF(TabUren2[[#This Row],[datum]]=\"\",\"\",verzameldata!$C$3)","v":""},null,null,null,null,{"$f":"IF(TabUren2[[#This Row],[eindtijd]]=\"\",\"\",IF(TabUren2[[#This Row],[eindtijd]]<TabUren2[[#This Row],[begintijd]],(\"24:00\"-TabUren2[[#This Row],[begintijd]]+TabUren2[[#This Row],[eindtijd]])-TabUren2[[#This Row],[pauze]],(TabUren2[[#This Row],[eindtijd]]-TabUren2[[#This Row],[begintijd]])-TabUren2[[#This Row],[pauze]]))","v":""},{"$f":"IF(OR(TabUren2[hoofdcategorie]=\"\",TabUren2[hoofdcategorie]=0),\"anders dan hoofdcategorie\",TabUren2[hoofdcategorie])","v":"anders dan hoofdcategorie"}]
[{"$f":"IF(TabUren2[[#This Row],[datum]]=\"\",\"\",INT((TabUren2[[#This Row],[datum]]-SUM(MOD(DATE(YEAR(TabUren2[[#This Row],[datum]]-MOD(TabUren2[[#This Row],[datum]]-2,7)+3),1,2),{1E+99;7})*{1;-1})+5) /7))","v":""},{"$f":"IF(TabUren2[[#This Row],[datum]]=\"\",\"\",TabUren2[[#This Row],[datum]])","v":""},null,null,{"$f":"IF(TabUren2[[#This Row],[datum]]=\"\",\"\",verzameldata!$C$3)","v":""},null,null,null,null,{"$f":"IF(TabUren2[[#This Row],[eindtijd]]=\"\",\"\",IF(TabUren2[[#This Row],[eindtijd]]<TabUren2[[#This Row],[begintijd]],(\"24:00\"-TabUren2[[#This Row],[begintijd]]+TabUren2[[#This Row],[eindtijd]])-TabUren2[[#This Row],[pauze]],(TabUren2[[#This Row],[eindtijd]]-TabUren2[[#This Row],[begintijd]])-TabUren2[[#This Row],[pauze]]))","v":""},{"$f":"IF(OR(TabUren2[hoofdcategorie]=\"\",TabUren2[hoofdcategorie]=0),\"anders dan hoofdcategorie\",TabUren2[hoofdcategorie])","v":"anders dan hoofdcategorie"}]
[{"$f":"IF(TabUren2[[#This Row],[datum]]=\"\",\"\",INT((TabUren2[[#This Row],[datum]]-SUM(MOD(DATE(YEAR(TabUren2[[#This Row],[datum]]-MOD(TabUren2[[#This Row],[datum]]-2,7)+3),1,2),{1E+99;7})*{1;-1})+5) /7))","v":""},{"$f":"IF(TabUren2[[#This Row],[datum]]=\"\",\"\",TabUren2[[#This Row],[datum]])","v":""},null,null,{"$f":"IF(TabUren2[[#This Row],[datum]]=\"\",\"\",verzameldata!$C$3)","v":""},null,null,null,null,{"$f":"IF(TabUren2[[#This Row],[eindtijd]]=\"\",\"\",IF(TabUren2[[#This Row],[eindtijd]]<TabUren2[[#This Row],[begintijd]],(\"24:00\"-TabUren2[[#This Row],[begintijd]]+TabUren2[[#This Row],[eindtijd]])-TabUren2[[#This Row],[pauze]],(TabUren2[[#This Row],[eindtijd]]-TabUren2[[#This Row],[begintijd]])-TabUren2[[#This Row],[pauze]]))","v":""},{"$f":"IF(OR(TabUren2[hoofdcategorie]=\"\",TabUren2[hoofdcategorie]=0),\"anders dan hoofdcategorie\",TabUren2[hoofdcategorie])","v":"anders dan hoofdcategorie"}]
[{"$f":"IF(TabUren2[[#This Row],[datum]]=\"\",\"\",INT((TabUren2[[#This Row],[datum]]-SUM(MOD(DATE(YEAR(TabUren2[[#This Row],[datum]]-MOD(TabUren2[[#This Row],[datum]]-2,7)+3),1,2),{1E+99;7})*{1;-1})+5) /7))","v":""},{"$f":"IF(TabUren2[[#This Row],[datum]]=\"\",\"\",TabUren2[[#This Row],[datum]])","v":""},null,null,{"$f":"IF(TabUren2[[#This Row],[datum]]=\"\",\"\",verzameldata!$C$3)","v":""},null,null,null,null,{"$f":"IF(TabUren2[[#This Row],[eindtijd]]=\"\",\"\",IF(TabUren2[[#This Row],[eindtijd]]<TabUren2[[#This Row],[begintijd]],(\"24:00\"-TabUren2[[#This Row],[begintijd]]+TabUren2[[#This Row],[eindtijd]])-TabUren2[[#This Row],[pauze]],(TabUren2[[#This Row],[eindtijd]]-TabUren2[[#This Row],[begintijd]])-TabUren2[[#This Row],[pauze]]))","v":""},{"$f":"IF(OR(TabUren2[hoofdcategorie]=\"\",TabUren2[hoofdcategorie]=0),\"anders dan hoofdcategorie\",TabUren2[hoofdcategorie])","v":"anders dan hoofdcategorie"}]
[{"$f":"IF(TabUren2[[#This Row],[datum]]=\"\",\"\",INT((TabUren2[[#This Row],[datum]]-SUM(MOD(DATE(YEAR(TabUren2[[#This Row],[datum]]-MOD(TabUren2[[#This Row],[datum]]-2,7)+3),1,2),{1E+99;7})*{1;-1})+5) /7))","v":""},{"$f":"IF(TabUren2[[#This Row],[datum]]=\"\",\"\",TabUren2[[#This Row],[datum]])","v":""},null,null,{"$f":"IF(TabUren2[[#This Row],[datum]]=\"\",\"\",verzameldata!$C$3)","v":""},null,null,null,null,{"$f":"IF(TabUren2[[#This Row],[eindtijd]]=\"\",\"\",IF(TabUren2[[#This Row],[eindtijd]]<TabUren2[[#This Row],[begintijd]],(\"24:00\"-TabUren2[[#This Row],[begintijd]]+TabUren2[[#This Row],[eindtijd]])-TabUren2[[#This Row],[pauze]],(TabUren2[[#This Row],[eindtijd]]-TabUren2[[#This Row],[begintijd]])-TabUren2[[#This Row],[pauze]]))","v":""},{"$f":"IF(OR(TabUren2[hoofdcategorie]=\"\",TabUren2[hoofdcategorie]=0),\"anders dan hoofdcategorie\",TabUren2[hoofdcategorie])","v":"anders dan hoofdcategorie"}]
[{"$f":"IF(TabUren2[[#This Row],[datum]]=\"\",\"\",INT((TabUren2[[#This Row],[datum]]-SUM(MOD(DATE(YEAR(TabUren2[[#This Row],[datum]]-MOD(TabUren2[[#This Row],[datum]]-2,7)+3),1,2),{1E+99;7})*{1;-1})+5) /7))","v":""},{"$f":"IF(TabUren2[[#This Row],[datum]]=\"\",\"\",TabUren2[[#This Row],[datum]])","v":""},null,null,{"$f":"IF(TabUren2[[#This Row],[datum]]=\"\",\"\",verzameldata!$C$3)","v":""},null,null,null,null,{"$f":"IF(TabUren2[[#This Row],[eindtijd]]=\"\",\"\",IF(TabUren2[[#This Row],[eindtijd]]<TabUren2[[#This Row],[begintijd]],(\"24:00\"-TabUren2[[#This Row],[begintijd]]+TabUren2[[#This Row],[eindtijd]])-TabUren2[[#This Row],[pauze]],(TabUren2[[#This Row],[eindtijd]]-TabUren2[[#This Row],[begintijd]])-TabUren2[[#This Row],[pauze]]))","v":""},{"$f":"IF(OR(TabUren2[hoofdcategorie]=\"\",TabUren2[hoofdcategorie]=0),\"anders dan hoofdcategorie\",TabUren2[hoofdcategorie])","v":"anders dan hoofdcategorie"}]
[{"$f":"IF(TabUren2[[#This Row],[datum]]=\"\",\"\",INT((TabUren2[[#This Row],[datum]]-SUM(MOD(DATE(YEAR(TabUren2[[#This Row],[datum]]-MOD(TabUren2[[#This Row],[datum]]-2,7)+3),1,2),{1E+99;7})*{1;-1})+5) /7))","v":""},{"$f":"IF(TabUren2[[#This Row],[datum]]=\"\",\"\",TabUren2[[#This Row],[datum]])","v":""},null,null,{"$f":"IF(TabUren2[[#This Row],[datum]]=\"\",\"\",verzameldata!$C$3)","v":""},null,null,null,null,{"$f":"IF(TabUren2[[#This Row],[eindtijd]]=\"\",\"\",IF(TabUren2[[#This Row],[eindtijd]]<TabUren2[[#This Row],[begintijd]],(\"24:00\"-TabUren2[[#This Row],[begintijd]]+TabUren2[[#This Row],[eindtijd]])-TabUren2[[#This Row],[pauze]],(TabUren2[[#This Row],[eindtijd]]-TabUren2[[#This Row],[begintijd]])-TabUren2[[#This Row],[pauze]]))","v":""},{"$f":"IF(OR(TabUren2[hoofdcategorie]=\"\",TabUren2[hoofdcategorie]=0),\"anders dan hoofdcategorie\",TabUren2[hoofdcategorie])","v":"anders dan hoofdcategorie"}]
[{"$f":"IF(TabUren2[[#This Row],[datum]]=\"\",\"\",INT((TabUren2[[#This Row],[datum]]-SUM(MOD(DATE(YEAR(TabUren2[[#This Row],[datum]]-MOD(TabUren2[[#This Row],[datum]]-2,7)+3),1,2),{1E+99;7})*{1;-1})+5) /7))","v":""},{"$f":"IF(TabUren2[[#This Row],[datum]]=\"\",\"\",TabUren2[[#This Row],[datum]])","v":""},null,null,{"$f":"IF(TabUren2[[#This Row],[datum]]=\"\",\"\",verzameldata!$C$3)","v":""},null,null,null,null,{"$f":"IF(TabUren2[[#This Row],[eindtijd]]=\"\",\"\",IF(TabUren2[[#This Row],[eindtijd]]<TabUren2[[#This Row],[begintijd]],(\"24:00\"-TabUren2[[#This Row],[begintijd]]+TabUren2[[#This Row],[eindtijd]])-TabUren2[[#This Row],[pauze]],(TabUren2[[#This Row],[eindtijd]]-TabUren2[[#This Row],[begintijd]])-TabUren2[[#This Row],[pauze]]))","v":""},{"$f":"IF(OR(TabUren2[hoofdcategorie]=\"\",TabUren2[hoofdcategorie]=0),\"anders dan hoofdcategorie\",TabUren2[hoofdcategorie])","v":"anders dan hoofdcategorie"}]
[{"$f":"IF(TabUren2[[#This Row],[datum]]=\"\",\"\",INT((TabUren2[[#This Row],[datum]]-SUM(MOD(DATE(YEAR(TabUren2[[#This Row],[datum]]-MOD(TabUren2[[#This Row],[datum]]-2,7)+3),1,2),{1E+99;7})*{1;-1})+5) /7))","v":""},{"$f":"IF(TabUren2[[#This Row],[datum]]=\"\",\"\",TabUren2[[#This Row],[datum]])","v":""},null,null,{"$f":"IF(TabUren2[[#This Row],[datum]]=\"\",\"\",verzameldata!$C$3)","v":""},null,null,null,null,{"$f":"IF(TabUren2[[#This Row],[eindtijd]]=\"\",\"\",IF(TabUren2[[#This Row],[eindtijd]]<TabUren2[[#This Row],[begintijd]],(\"24:00\"-TabUren2[[#This Row],[begintijd]]+TabUren2[[#This Row],[eindtijd]])-TabUren2[[#This Row],[pauze]],(TabUren2[[#This Row],[eindtijd]]-TabUren2[[#This Row],[begintijd]])-TabUren2[[#This Row],[pauze]]))","v":""},{"$f":"IF(OR(TabUren2[hoofdcategorie]=\"\",TabUren2[hoofdcategorie]=0),\"anders dan hoofdcategorie\",TabUren2[hoofdcategorie])","v":"anders dan hoofdcategorie"}]
[{"$f":"IF(TabUren2[[#This Row],[datum]]=\"\",\"\",INT((TabUren2[[#This Row],[datum]]-SUM(MOD(DATE(YEAR(TabUren2[[#This Row],[datum]]-MOD(TabUren2[[#This Row],[datum]]-2,7)+3),1,2),{1E+99;7})*{1;-1})+5) /7))","v":""},{"$f":"IF(TabUren2[[#This Row],[datum]]=\"\",\"\",TabUren2[[#This Row],[datum]])","v":""},null,null,{"$f":"IF(TabUren2[[#This Row],[datum]]=\"\",\"\",verzameldata!$C$3)","v":""},null,null,null,null,{"$f":"IF(TabUren2[[#This Row],[eindtijd]]=\"\",\"\",IF(TabUren2[[#This Row],[eindtijd]]<TabUren2[[#This Row],[begintijd]],(\"24:00\"-TabUren2[[#This Row],[begintijd]]+TabUren2[[#This Row],[eindtijd]])-TabUren2[[#This Row],[pauze]],(TabUren2[[#This Row],[eindtijd]]-TabUren2[[#This Row],[begintijd]])-TabUren2[[#This Row],[pauze]]))","v":""},{"$f":"IF(OR(TabUren2[hoofdcategorie]=\"\",TabUren2[hoofdcategorie]=0),\"anders dan hoofdcategorie\",TabUren2[hoofdcategorie])","v":"anders dan hoofdcategorie"}]
[{"$f":"IF(TabUren2[[#This Row],[datum]]=\"\",\"\",INT((TabUren2[[#This Row],[datum]]-SUM(MOD(DATE(YEAR(TabUren2[[#This Row],[datum]]-MOD(TabUren2[[#This Row],[datum]]-2,7)+3),1,2),{1E+99;7})*{1;-1})+5) /7))","v":""},{"$f":"IF(TabUren2[[#This Row],[datum]]=\"\",\"\",TabUren2[[#This Row],[datum]])","v":""},null,null,{"$f":"IF(TabUren2[[#This Row],[datum]]=\"\",\"\",verzameldata!$C$3)","v":""},null,null,null,null,{"$f":"IF(TabUren2[[#This Row],[eindtijd]]=\"\",\"\",IF(TabUren2[[#This Row],[eindtijd]]<TabUren2[[#This Row],[begintijd]],(\"24:00\"-TabUren2[[#This Row],[begintijd]]+TabUren2[[#This Row],[eindtijd]])-TabUren2[[#This Row],[pauze]],(TabUren2[[#This Row],[eindtijd]]-TabUren2[[#This Row],[begintijd]])-TabUren2[[#This Row],[pauze]]))","v":""},{"$f":"IF(OR(TabUren2[hoofdcategorie]=\"\",TabUren2[hoofdcategorie]=0),\"anders dan hoofdcategorie\",TabUren2[hoofdcategorie])","v":"anders dan hoofdcategorie"}]
[{"$f":"IF(TabUren2[[#This Row],[datum]]=\"\",\"\",INT((TabUren2[[#This Row],[datum]]-SUM(MOD(DATE(YEAR(TabUren2[[#This Row],[datum]]-MOD(TabUren2[[#This Row],[datum]]-2,7)+3),1,2),{1E+99;7})*{1;-1})+5) /7))","v":""},{"$f":"IF(TabUren2[[#This Row],[datum]]=\"\",\"\",TabUren2[[#This Row],[datum]])","v":""},null,null,{"$f":"IF(TabUren2[[#This Row],[datum]]=\"\",\"\",verzameldata!$C$3)","v":""},null,null,null,null,{"$f":"IF(TabUren2[[#This Row],[eindtijd]]=\"\",\"\",IF(TabUren2[[#This Row],[eindtijd]]<TabUren2[[#This Row],[begintijd]],(\"24:00\"-TabUren2[[#This Row],[begintijd]]+TabUren2[[#This Row],[eindtijd]])-TabUren2[[#This Row],[pauze]],(TabUren2[[#This Row],[eindtijd]]-TabUren2[[#This Row],[begintijd]])-TabUren2[[#This Row],[pauze]]))","v":""},{"$f":"IF(OR(TabUren2[hoofdcategorie]=\"\",TabUren2[hoofdcategorie]=0),\"anders dan hoofdcategorie\",TabUren2[hoofdcategorie])","v":"anders dan hoofdcategorie"}]
[{"$f":"IF(TabUren2[[#This Row],[datum]]=\"\",\"\",INT((TabUren2[[#This Row],[datum]]-SUM(MOD(DATE(YEAR(TabUren2[[#This Row],[datum]]-MOD(TabUren2[[#This Row],[datum]]-2,7)+3),1,2),{1E+99;7})*{1;-1})+5) /7))","v":""},{"$f":"IF(TabUren2[[#This Row],[datum]]=\"\",\"\",TabUren2[[#This Row],[datum]])","v":""},null,null,{"$f":"IF(TabUren2[[#This Row],[datum]]=\"\",\"\",verzameldata!$C$3)","v":""},null,null,null,null,{"$f":"IF(TabUren2[[#This Row],[eindtijd]]=\"\",\"\",IF(TabUren2[[#This Row],[eindtijd]]<TabUren2[[#This Row],[begintijd]],(\"24:00\"-TabUren2[[#This Row],[begintijd]]+TabUren2[[#This Row],[eindtijd]])-TabUren2[[#This Row],[pauze]],(TabUren2[[#This Row],[eindtijd]]-TabUren2[[#This Row],[begintijd]])-TabUren2[[#This Row],[pauze]]))","v":""},{"$f":"IF(OR(TabUren2[hoofdcategorie]=\"\",TabUren2[hoofdcategorie]=0),\"anders dan hoofdcategorie\",TabUren2[hoofdcategorie])","v":"anders dan hoofdcategorie"}]
[{"$f":"IF(TabUren2[[#This Row],[datum]]=\"\",\"\",INT((TabUren2[[#This Row],[datum]]-SUM(MOD(DATE(YEAR(TabUren2[[#This Row],[datum]]-MOD(TabUren2[[#This Row],[datum]]-2,7)+3),1,2),{1E+99;7})*{1;-1})+5) /7))","v":""},{"$f":"IF(TabUren2[[#This Row],[datum]]=\"\",\"\",TabUren2[[#This Row],[datum]])","v":""},null,null,{"$f":"IF(TabUren2[[#This Row],[datum]]=\"\",\"\",verzameldata!$C$3)","v":""},null,null,null,null,{"$f":"IF(TabUren2[[#This Row],[eindtijd]]=\"\",\"\",IF(TabUren2[[#This Row],[eindtijd]]<TabUren2[[#This Row],[begintijd]],(\"24:00\"-TabUren2[[#This Row],[begintijd]]+TabUren2[[#This Row],[eindtijd]])-TabUren2[[#This Row],[pauze]],(TabUren2[[#This Row],[eindtijd]]-TabUren2[[#This Row],[begintijd]])-TabUren2[[#This Row],[pauze]]))","v":""},{"$f":"IF(OR(TabUren2[hoofdcategorie]=\"\",TabUren2[hoofdcategorie]=0),\"anders dan hoofdcategorie\",TabUren2[hoofdcategorie])","v":"anders dan hoofdcategorie"}]
[{"$f":"IF(TabUren2[[#This Row],[datum]]=\"\",\"\",INT((TabUren2[[#This Row],[datum]]-SUM(MOD(DATE(YEAR(TabUren2[[#This Row],[datum]]-MOD(TabUren2[[#This Row],[datum]]-2,7)+3),1,2),{1E+99;7})*{1;-1})+5) /7))","v":""},{"$f":"IF(TabUren2[[#This Row],[datum]]=\"\",\"\",TabUren2[[#This Row],[datum]])","v":""},null,null,{"$f":"IF(TabUren2[[#This Row],[datum]]=\"\",\"\",verzameldata!$C$3)","v":""},null,null,null,null,{"$f":"IF(TabUren2[[#This Row],[eindtijd]]=\"\",\"\",IF(TabUren2[[#This Row],[eindtijd]]<TabUren2[[#This Row],[begintijd]],(\"24:00\"-TabUren2[[#This Row],[begintijd]]+TabUren2[[#This Row],[eindtijd]])-TabUren2[[#This Row],[pauze]],(TabUren2[[#This Row],[eindtijd]]-TabUren2[[#This Row],[begintijd]])-TabUren2[[#This Row],[pauze]]))","v":""},{"$f":"IF(OR(TabUren2[hoofdcategorie]=\"\",TabUren2[hoofdcategorie]=0),\"anders dan hoofdcategorie\",TabUren2[hoofdcategorie])","v":"anders dan hoofdcategorie"}]
[{"$f":"IF(TabUren2[[#This Row],[datum]]=\"\",\"\",INT((TabUren2[[#This Row],[datum]]-SUM(MOD(DATE(YEAR(TabUren2[[#This Row],[datum]]-MOD(TabUren2[[#This Row],[datum]]-2,7)+3),1,2),{1E+99;7})*{1;-1})+5) /7))","v":""},{"$f":"IF(TabUren2[[#This Row],[datum]]=\"\",\"\",TabUren2[[#This Row],[datum]])","v":""},null,null,{"$f":"IF(TabUren2[[#This Row],[datum]]=\"\",\"\",verzameldata!$C$3)","v":""},null,null,null,null,{"$f":"IF(TabUren2[[#This Row],[eindtijd]]=\"\",\"\",IF(TabUren2[[#This Row],[eindtijd]]<TabUren2[[#This Row],[begintijd]],(\"24:00\"-TabUren2[[#This Row],[begintijd]]+TabUren2[[#This Row],[eindtijd]])-TabUren2[[#This Row],[pauze]],(TabUren2[[#This Row],[eindtijd]]-TabUren2[[#This Row],[begintijd]])-TabUren2[[#This Row],[pauze]]))","v":""},{"$f":"IF(OR(TabUren2[hoofdcategorie]=\"\",TabUren2[hoofdcategorie]=0),\"anders dan hoofdcategorie\",TabUren2[hoofdcategorie])","v":"anders dan hoofdcategorie"}]
[{"$f":"IF(TabUren2[[#This Row],[datum]]=\"\",\"\",INT((TabUren2[[#This Row],[datum]]-SUM(MOD(DATE(YEAR(TabUren2[[#This Row],[datum]]-MOD(TabUren2[[#This Row],[datum]]-2,7)+3),1,2),{1E+99;7})*{1;-1})+5) /7))","v":""},{"$f":"IF(TabUren2[[#This Row],[datum]]=\"\",\"\",TabUren2[[#This Row],[datum]])","v":""},null,null,{"$f":"IF(TabUren2[[#This Row],[datum]]=\"\",\"\",verzameldata!$C$3)","v":""},null,null,null,null,{"$f":"IF(TabUren2[[#This Row],[eindtijd]]=\"\",\"\",IF(TabUren2[[#This Row],[eindtijd]]<TabUren2[[#This Row],[begintijd]],(\"24:00\"-TabUren2[[#This Row],[begintijd]]+TabUren2[[#This Row],[eindtijd]])-TabUren2[[#This Row],[pauze]],(TabUren2[[#This Row],[eindtijd]]-TabUren2[[#This Row],[begintijd]])-TabUren2[[#This Row],[pauze]]))","v":""},{"$f":"IF(OR(TabUren2[hoofdcategorie]=\"\",TabUren2[hoofdcategorie]=0),\"anders dan hoofdcategorie\",TabUren2[hoofdcategorie])","v":"anders dan hoofdcategorie"}]
[{"$f":"IF(TabUren2[[#This Row],[datum]]=\"\",\"\",INT((TabUren2[[#This Row],[datum]]-SUM(MOD(DATE(YEAR(TabUren2[[#This Row],[datum]]-MOD(TabUren2[[#This Row],[datum]]-2,7)+3),1,2),{1E+99;7})*{1;-1})+5) /7))","v":""},{"$f":"IF(TabUren2[[#This Row],[datum]]=\"\",\"\",TabUren2[[#This Row],[datum]])","v":""},null,null,{"$f":"IF(TabUren2[[#This Row],[datum]]=\"\",\"\",verzameldata!$C$3)","v":""},null,null,null,null,{"$f":"IF(TabUren2[[#This Row],[eindtijd]]=\"\",\"\",IF(TabUren2[[#This Row],[eindtijd]]<TabUren2[[#This Row],[begintijd]],(\"24:00\"-TabUren2[[#This Row],[begintijd]]+TabUren2[[#This Row],[eindtijd]])-TabUren2[[#This Row],[pauze]],(TabUren2[[#This Row],[eindtijd]]-TabUren2[[#This Row],[begintijd]])-TabUren2[[#This Row],[pauze]]))","v":""},{"$f":"IF(OR(TabUren2[hoofdcategorie]=\"\",TabUren2[hoofdcategorie]=0),\"anders dan hoofdcategorie\",TabUren2[hoofdcategorie])","v":"anders dan hoofdcategorie"}]
[{"$f":"IF(TabUren2[[#This Row],[datum]]=\"\",\"\",INT((TabUren2[[#This Row],[datum]]-SUM(MOD(DATE(YEAR(TabUren2[[#This Row],[datum]]-MOD(TabUren2[[#This Row],[datum]]-2,7)+3),1,2),{1E+99;7})*{1;-1})+5) /7))","v":""},{"$f":"IF(TabUren2[[#This Row],[datum]]=\"\",\"\",TabUren2[[#This Row],[datum]])","v":""},null,null,{"$f":"IF(TabUren2[[#This Row],[datum]]=\"\",\"\",verzameldata!$C$3)","v":""},null,null,null,null,{"$f":"IF(TabUren2[[#This Row],[eindtijd]]=\"\",\"\",IF(TabUren2[[#This Row],[eindtijd]]<TabUren2[[#This Row],[begintijd]],(\"24:00\"-TabUren2[[#This Row],[begintijd]]+TabUren2[[#This Row],[eindtijd]])-TabUren2[[#This Row],[pauze]],(TabUren2[[#This Row],[eindtijd]]-TabUren2[[#This Row],[begintijd]])-TabUren2[[#This Row],[pauze]]))","v":""},{"$f":"IF(OR(TabUren2[hoofdcategorie]=\"\",TabUren2[hoofdcategorie]=0),\"anders dan hoofdcategorie\",TabUren2[hoofdcategorie])","v":"anders dan hoofdcategorie"}]
[{"$f":"IF(TabUren2[[#This Row],[datum]]=\"\",\"\",INT((TabUren2[[#This Row],[datum]]-SUM(MOD(DATE(YEAR(TabUren2[[#This Row],[datum]]-MOD(TabUren2[[#This Row],[datum]]-2,7)+3),1,2),{1E+99;7})*{1;-1})+5) /7))","v":""},{"$f":"IF(TabUren2[[#This Row],[datum]]=\"\",\"\",TabUren2[[#This Row],[datum]])","v":""},null,null,{"$f":"IF(TabUren2[[#This Row],[datum]]=\"\",\"\",verzameldata!$C$3)","v":""},null,null,null,null,{"$f":"IF(TabUren2[[#This Row],[eindtijd]]=\"\",\"\",IF(TabUren2[[#This Row],[eindtijd]]<TabUren2[[#This Row],[begintijd]],(\"24:00\"-TabUren2[[#This Row],[begintijd]]+TabUren2[[#This Row],[eindtijd]])-TabUren2[[#This Row],[pauze]],(TabUren2[[#This Row],[eindtijd]]-TabUren2[[#This Row],[begintijd]])-TabUren2[[#This Row],[pauze]]))","v":""},{"$f":"IF(OR(TabUren2[hoofdcategorie]=\"\",TabUren2[hoofdcategorie]=0),\"anders dan hoofdcategorie\",TabUren2[hoofdcategorie])","v":"anders dan hoofdcategorie"}]
[{"$f":"IF(TabUren2[[#This Row],[datum]]=\"\",\"\",INT((TabUren2[[#This Row],[datum]]-SUM(MOD(DATE(YEAR(TabUren2[[#This Row],[datum]]-MOD(TabUren2[[#This Row],[datum]]-2,7)+3),1,2),{1E+99;7})*{1;-1})+5) /7))","v":""},{"$f":"IF(TabUren2[[#This Row],[datum]]=\"\",\"\",TabUren2[[#This Row],[datum]])","v":""},null,null,{"$f":"IF(TabUren2[[#This Row],[datum]]=\"\",\"\",verzameldata!$C$3)","v":""},null,null,null,null,{"$f":"IF(TabUren2[[#This Row],[eindtijd]]=\"\",\"\",IF(TabUren2[[#This Row],[eindtijd]]<TabUren2[[#This Row],[begintijd]],(\"24:00\"-TabUren2[[#This Row],[begintijd]]+TabUren2[[#This Row],[eindtijd]])-TabUren2[[#This Row],[pauze]],(TabUren2[[#This Row],[eindtijd]]-TabUren2[[#This Row],[begintijd]])-TabUren2[[#This Row],[pauze]]))","v":""},{"$f":"IF(OR(TabUren2[hoofdcategorie]=\"\",TabUren2[hoofdcategorie]=0),\"anders dan hoofdcategorie\",TabUren2[hoofdcategorie])","v":"anders dan hoofdcategorie"}]
[{"$f":"IF(TabUren2[[#This Row],[datum]]=\"\",\"\",INT((TabUren2[[#This Row],[datum]]-SUM(MOD(DATE(YEAR(TabUren2[[#This Row],[datum]]-MOD(TabUren2[[#This Row],[datum]]-2,7)+3),1,2),{1E+99;7})*{1;-1})+5) /7))","v":""},{"$f":"IF(TabUren2[[#This Row],[datum]]=\"\",\"\",TabUren2[[#This Row],[datum]])","v":""},null,null,{"$f":"IF(TabUren2[[#This Row],[datum]]=\"\",\"\",verzameldata!$C$3)","v":""},null,null,null,null,{"$f":"IF(TabUren2[[#This Row],[eindtijd]]=\"\",\"\",IF(TabUren2[[#This Row],[eindtijd]]<TabUren2[[#This Row],[begintijd]],(\"24:00\"-TabUren2[[#This Row],[begintijd]]+TabUren2[[#This Row],[eindtijd]])-TabUren2[[#This Row],[pauze]],(TabUren2[[#This Row],[eindtijd]]-TabUren2[[#This Row],[begintijd]])-TabUren2[[#This Row],[pauze]]))","v":""},{"$f":"IF(OR(TabUren2[hoofdcategorie]=\"\",TabUren2[hoofdcategorie]=0),\"anders dan hoofdcategorie\",TabUren2[hoofdcategorie])","v":"anders dan hoofdcategorie"}]
[{"$f":"IF(TabUren2[[#This Row],[datum]]=\"\",\"\",INT((TabUren2[[#This Row],[datum]]-SUM(MOD(DATE(YEAR(TabUren2[[#This Row],[datum]]-MOD(TabUren2[[#This Row],[datum]]-2,7)+3),1,2),{1E+99;7})*{1;-1})+5) /7))","v":""},{"$f":"IF(TabUren2[[#This Row],[datum]]=\"\",\"\",TabUren2[[#This Row],[datum]])","v":""},null,null,{"$f":"IF(TabUren2[[#This Row],[datum]]=\"\",\"\",verzameldata!$C$3)","v":""},null,null,null,null,{"$f":"IF(TabUren2[[#This Row],[eindtijd]]=\"\",\"\",IF(TabUren2[[#This Row],[eindtijd]]<TabUren2[[#This Row],[begintijd]],(\"24:00\"-TabUren2[[#This Row],[begintijd]]+TabUren2[[#This Row],[eindtijd]])-TabUren2[[#This Row],[pauze]],(TabUren2[[#This Row],[eindtijd]]-TabUren2[[#This Row],[begintijd]])-TabUren2[[#This Row],[pauze]]))","v":""},{"$f":"IF(OR(TabUren2[hoofdcategorie]=\"\",TabUren2[hoofdcategorie]=0),\"anders dan hoofdcategorie\",TabUren2[hoofdcategorie])","v":"anders dan hoofdcategorie"}]
[{"$f":"IF(TabUren2[[#This Row],[datum]]=\"\",\"\",INT((TabUren2[[#This Row],[datum]]-SUM(MOD(DATE(YEAR(TabUren2[[#This Row],[datum]]-MOD(TabUren2[[#This Row],[datum]]-2,7)+3),1,2),{1E+99;7})*{1;-1})+5) /7))","v":""},{"$f":"IF(TabUren2[[#This Row],[datum]]=\"\",\"\",TabUren2[[#This Row],[datum]])","v":""},null,null,{"$f":"IF(TabUren2[[#This Row],[datum]]=\"\",\"\",verzameldata!$C$3)","v":""},null,null,null,null,{"$f":"IF(TabUren2[[#This Row],[eindtijd]]=\"\",\"\",IF(TabUren2[[#This Row],[eindtijd]]<TabUren2[[#This Row],[begintijd]],(\"24:00\"-TabUren2[[#This Row],[begintijd]]+TabUren2[[#This Row],[eindtijd]])-TabUren2[[#This Row],[pauze]],(TabUren2[[#This Row],[eindtijd]]-TabUren2[[#This Row],[begintijd]])-TabUren2[[#This Row],[pauze]]))","v":""},{"$f":"IF(OR(TabUren2[hoofdcategorie]=\"\",TabUren2[hoofdcategorie]=0),\"anders dan hoofdcategorie\",TabUren2[hoofdcategorie])","v":"anders dan hoofdcategorie"}]
[{"$f":"IF(TabUren2[[#This Row],[datum]]=\"\",\"\",INT((TabUren2[[#This Row],[datum]]-SUM(MOD(DATE(YEAR(TabUren2[[#This Row],[datum]]-MOD(TabUren2[[#This Row],[datum]]-2,7)+3),1,2),{1E+99;7})*{1;-1})+5) /7))","v":""},{"$f":"IF(TabUren2[[#This Row],[datum]]=\"\",\"\",TabUren2[[#This Row],[datum]])","v":""},null,null,{"$f":"IF(TabUren2[[#This Row],[datum]]=\"\",\"\",verzameldata!$C$3)","v":""},null,null,null,null,{"$f":"IF(TabUren2[[#This Row],[eindtijd]]=\"\",\"\",IF(TabUren2[[#This Row],[eindtijd]]<TabUren2[[#This Row],[begintijd]],(\"24:00\"-TabUren2[[#This Row],[begintijd]]+TabUren2[[#This Row],[eindtijd]])-TabUren2[[#This Row],[pauze]],(TabUren2[[#This Row],[eindtijd]]-TabUren2[[#This Row],[begintijd]])-TabUren2[[#This Row],[pauze]]))","v":""},{"$f":"IF(OR(TabUren2[hoofdcategorie]=\"\",TabUren2[hoofdcategorie]=0),\"anders dan hoofdcategorie\",TabUren2[hoofdcategorie])","v":"anders dan hoofdcategorie"}]
[{"$f":"IF(TabUren2[[#This Row],[datum]]=\"\",\"\",INT((TabUren2[[#This Row],[datum]]-SUM(MOD(DATE(YEAR(TabUren2[[#This Row],[datum]]-MOD(TabUren2[[#This Row],[datum]]-2,7)+3),1,2),{1E+99;7})*{1;-1})+5) /7))","v":""},{"$f":"IF(TabUren2[[#This Row],[datum]]=\"\",\"\",TabUren2[[#This Row],[datum]])","v":""},null,null,{"$f":"IF(TabUren2[[#This Row],[datum]]=\"\",\"\",verzameldata!$C$3)","v":""},null,null,null,null,{"$f":"IF(TabUren2[[#This Row],[eindtijd]]=\"\",\"\",IF(TabUren2[[#This Row],[eindtijd]]<TabUren2[[#This Row],[begintijd]],(\"24:00\"-TabUren2[[#This Row],[begintijd]]+TabUren2[[#This Row],[eindtijd]])-TabUren2[[#This Row],[pauze]],(TabUren2[[#This Row],[eindtijd]]-TabUren2[[#This Row],[begintijd]])-TabUren2[[#This Row],[pauze]]))","v":""},{"$f":"IF(OR(TabUren2[hoofdcategorie]=\"\",TabUren2[hoofdcategorie]=0),\"anders dan hoofdcategorie\",TabUren2[hoofdcategorie])","v":"anders dan hoofdcategorie"}]
[{"$f":"IF(TabUren2[[#This Row],[datum]]=\"\",\"\",INT((TabUren2[[#This Row],[datum]]-SUM(MOD(DATE(YEAR(TabUren2[[#This Row],[datum]]-MOD(TabUren2[[#This Row],[datum]]-2,7)+3),1,2),{1E+99;7})*{1;-1})+5) /7))","v":""},{"$f":"IF(TabUren2[[#This Row],[datum]]=\"\",\"\",TabUren2[[#This Row],[datum]])","v":""},null,null,{"$f":"IF(TabUren2[[#This Row],[datum]]=\"\",\"\",verzameldata!$C$3)","v":""},null,null,null,null,{"$f":"IF(TabUren2[[#This Row],[eindtijd]]=\"\",\"\",IF(TabUren2[[#This Row],[eindtijd]]<TabUren2[[#This Row],[begintijd]],(\"24:00\"-TabUren2[[#This Row],[begintijd]]+TabUren2[[#This Row],[eindtijd]])-TabUren2[[#This Row],[pauze]],(TabUren2[[#This Row],[eindtijd]]-TabUren2[[#This Row],[begintijd]])-TabUren2[[#This Row],[pauze]]))","v":""},{"$f":"IF(OR(TabUren2[hoofdcategorie]=\"\",TabUren2[hoofdcategorie]=0),\"anders dan hoofdcategorie\",TabUren2[hoofdcategorie])","v":"anders dan hoofdcategorie"}]
[{"$f":"IF(TabUren2[[#This Row],[datum]]=\"\",\"\",INT((TabUren2[[#This Row],[datum]]-SUM(MOD(DATE(YEAR(TabUren2[[#This Row],[datum]]-MOD(TabUren2[[#This Row],[datum]]-2,7)+3),1,2),{1E+99;7})*{1;-1})+5) /7))","v":""},{"$f":"IF(TabUren2[[#This Row],[datum]]=\"\",\"\",TabUren2[[#This Row],[datum]])","v":""},null,null,{"$f":"IF(TabUren2[[#This Row],[datum]]=\"\",\"\",verzameldata!$C$3)","v":""},null,null,null,null,{"$f":"IF(TabUren2[[#This Row],[eindtijd]]=\"\",\"\",IF(TabUren2[[#This Row],[eindtijd]]<TabUren2[[#This Row],[begintijd]],(\"24:00\"-TabUren2[[#This Row],[begintijd]]+TabUren2[[#This Row],[eindtijd]])-TabUren2[[#This Row],[pauze]],(TabUren2[[#This Row],[eindtijd]]-TabUren2[[#This Row],[begintijd]])-TabUren2[[#This Row],[pauze]]))","v":""},{"$f":"IF(OR(TabUren2[hoofdcategorie]=\"\",TabUren2[hoofdcategorie]=0),\"anders dan hoofdcategorie\",TabUren2[hoofdcategorie])","v":"anders dan hoofdcategorie"}]
[{"$f":"IF(TabUren2[[#This Row],[datum]]=\"\",\"\",INT((TabUren2[[#This Row],[datum]]-SUM(MOD(DATE(YEAR(TabUren2[[#This Row],[datum]]-MOD(TabUren2[[#This Row],[datum]]-2,7)+3),1,2),{1E+99;7})*{1;-1})+5) /7))","v":""},{"$f":"IF(TabUren2[[#This Row],[datum]]=\"\",\"\",TabUren2[[#This Row],[datum]])","v":""},null,null,{"$f":"IF(TabUren2[[#This Row],[datum]]=\"\",\"\",verzameldata!$C$3)","v":""},null,null,null,null,{"$f":"IF(TabUren2[[#This Row],[eindtijd]]=\"\",\"\",IF(TabUren2[[#This Row],[eindtijd]]<TabUren2[[#This Row],[begintijd]],(\"24:00\"-TabUren2[[#This Row],[begintijd]]+TabUren2[[#This Row],[eindtijd]])-TabUren2[[#This Row],[pauze]],(TabUren2[[#This Row],[eindtijd]]-TabUren2[[#This Row],[begintijd]])-TabUren2[[#This Row],[pauze]]))","v":""},{"$f":"IF(OR(TabUren2[hoofdcategorie]=\"\",TabUren2[hoofdcategorie]=0),\"anders dan hoofdcategorie\",TabUren2[hoofdcategorie])","v":"anders dan hoofdcategorie"}]
[{"$f":"IF(TabUren2[[#This Row],[datum]]=\"\",\"\",INT((TabUren2[[#This Row],[datum]]-SUM(MOD(DATE(YEAR(TabUren2[[#This Row],[datum]]-MOD(TabUren2[[#This Row],[datum]]-2,7)+3),1,2),{1E+99;7})*{1;-1})+5) /7))","v":""},{"$f":"IF(TabUren2[[#This Row],[datum]]=\"\",\"\",TabUren2[[#This Row],[datum]])","v":""},null,null,{"$f":"IF(TabUren2[[#This Row],[datum]]=\"\",\"\",verzameldata!$C$3)","v":""},null,null,null,null,{"$f":"IF(TabUren2[[#This Row],[eindtijd]]=\"\",\"\",IF(TabUren2[[#This Row],[eindtijd]]<TabUren2[[#This Row],[begintijd]],(\"24:00\"-TabUren2[[#This Row],[begintijd]]+TabUren2[[#This Row],[eindtijd]])-TabUren2[[#This Row],[pauze]],(TabUren2[[#This Row],[eindtijd]]-TabUren2[[#This Row],[begintijd]])-TabUren2[[#This Row],[pauze]]))","v":""},{"$f":"IF(OR(TabUren2[hoofdcategorie]=\"\",TabUren2[hoofdcategorie]=0),\"anders dan hoofdcategorie\",TabUren2[hoofdcategorie])","v":"anders dan hoofdcategorie"}]
[{"$f":"IF(TabUren2[[#This Row],[datum]]=\"\",\"\",INT((TabUren2[[#This Row],[datum]]-SUM(MOD(DATE(YEAR(TabUren2[[#This Row],[datum]]-MOD(TabUren2[[#This Row],[datum]]-2,7)+3),1,2),{1E+99;7})*{1;-1})+5) /7))","v":""},{"$f":"IF(TabUren2[[#This Row],[datum]]=\"\",\"\",TabUren2[[#This Row],[datum]])","v":""},null,null,{"$f":"IF(TabUren2[[#This Row],[datum]]=\"\",\"\",verzameldata!$C$3)","v":""},null,null,null,null,{"$f":"IF(TabUren2[[#This Row],[eindtijd]]=\"\",\"\",IF(TabUren2[[#This Row],[eindtijd]]<TabUren2[[#This Row],[begintijd]],(\"24:00\"-TabUren2[[#This Row],[begintijd]]+TabUren2[[#This Row],[eindtijd]])-TabUren2[[#This Row],[pauze]],(TabUren2[[#This Row],[eindtijd]]-TabUren2[[#This Row],[begintijd]])-TabUren2[[#This Row],[pauze]]))","v":""},{"$f":"IF(OR(TabUren2[hoofdcategorie]=\"\",TabUren2[hoofdcategorie]=0),\"anders dan hoofdcategorie\",TabUren2[hoofdcategorie])","v":"anders dan hoofdcategorie"}]
[{"$f":"IF(TabUren2[[#This Row],[datum]]=\"\",\"\",INT((TabUren2[[#This Row],[datum]]-SUM(MOD(DATE(YEAR(TabUren2[[#This Row],[datum]]-MOD(TabUren2[[#This Row],[datum]]-2,7)+3),1,2),{1E+99;7})*{1;-1})+5) /7))","v":""},{"$f":"IF(TabUren2[[#This Row],[datum]]=\"\",\"\",TabUren2[[#This Row],[datum]])","v":""},null,null,{"$f":"IF(TabUren2[[#This Row],[datum]]=\"\",\"\",verzameldata!$C$3)","v":""},null,null,null,null,{"$f":"IF(TabUren2[[#This Row],[eindtijd]]=\"\",\"\",IF(TabUren2[[#This Row],[eindtijd]]<TabUren2[[#This Row],[begintijd]],(\"24:00\"-TabUren2[[#This Row],[begintijd]]+TabUren2[[#This Row],[eindtijd]])-TabUren2[[#This Row],[pauze]],(TabUren2[[#This Row],[eindtijd]]-TabUren2[[#This Row],[begintijd]])-TabUren2[[#This Row],[pauze]]))","v":""},{"$f":"IF(OR(TabUren2[hoofdcategorie]=\"\",TabUren2[hoofdcategorie]=0),\"anders dan hoofdcategorie\",TabUren2[hoofdcategorie])","v":"anders dan hoofdcategorie"}]
[{"$f":"IF(TabUren2[[#This Row],[datum]]=\"\",\"\",INT((TabUren2[[#This Row],[datum]]-SUM(MOD(DATE(YEAR(TabUren2[[#This Row],[datum]]-MOD(TabUren2[[#This Row],[datum]]-2,7)+3),1,2),{1E+99;7})*{1;-1})+5) /7))","v":""},{"$f":"IF(TabUren2[[#This Row],[datum]]=\"\",\"\",TabUren2[[#This Row],[datum]])","v":""},null,null,{"$f":"IF(TabUren2[[#This Row],[datum]]=\"\",\"\",verzameldata!$C$3)","v":""},null,null,null,null,{"$f":"IF(TabUren2[[#This Row],[eindtijd]]=\"\",\"\",IF(TabUren2[[#This Row],[eindtijd]]<TabUren2[[#This Row],[begintijd]],(\"24:00\"-TabUren2[[#This Row],[begintijd]]+TabUren2[[#This Row],[eindtijd]])-TabUren2[[#This Row],[pauze]],(TabUren2[[#This Row],[eindtijd]]-TabUren2[[#This Row],[begintijd]])-TabUren2[[#This Row],[pauze]]))","v":""},{"$f":"IF(OR(TabUren2[hoofdcategorie]=\"\",TabUren2[hoofdcategorie]=0),\"anders dan hoofdcategorie\",TabUren2[hoofdcategorie])","v":"anders dan hoofdcategorie"}]
[{"$f":"IF(TabUren2[[#This Row],[datum]]=\"\",\"\",INT((TabUren2[[#This Row],[datum]]-SUM(MOD(DATE(YEAR(TabUren2[[#This Row],[datum]]-MOD(TabUren2[[#This Row],[datum]]-2,7)+3),1,2),{1E+99;7})*{1;-1})+5) /7))","v":""},{"$f":"IF(TabUren2[[#This Row],[datum]]=\"\",\"\",TabUren2[[#This Row],[datum]])","v":""},null,null,{"$f":"IF(TabUren2[[#This Row],[datum]]=\"\",\"\",verzameldata!$C$3)","v":""},null,null,null,null,{"$f":"IF(TabUren2[[#This Row],[eindtijd]]=\"\",\"\",IF(TabUren2[[#This Row],[eindtijd]]<TabUren2[[#This Row],[begintijd]],(\"24:00\"-TabUren2[[#This Row],[begintijd]]+TabUren2[[#This Row],[eindtijd]])-TabUren2[[#This Row],[pauze]],(TabUren2[[#This Row],[eindtijd]]-TabUren2[[#This Row],[begintijd]])-TabUren2[[#This Row],[pauze]]))","v":""},{"$f":"IF(OR(TabUren2[hoofdcategorie]=\"\",TabUren2[hoofdcategorie]=0),\"anders dan hoofdcategorie\",TabUren2[hoofdcategorie])","v":"anders dan hoofdcategorie"}]
[{"$f":"IF(TabUren2[[#This Row],[datum]]=\"\",\"\",INT((TabUren2[[#This Row],[datum]]-SUM(MOD(DATE(YEAR(TabUren2[[#This Row],[datum]]-MOD(TabUren2[[#This Row],[datum]]-2,7)+3),1,2),{1E+99;7})*{1;-1})+5) /7))","v":""},{"$f":"IF(TabUren2[[#This Row],[datum]]=\"\",\"\",TabUren2[[#This Row],[datum]])","v":""},null,null,{"$f":"IF(TabUren2[[#This Row],[datum]]=\"\",\"\",verzameldata!$C$3)","v":""},null,null,null,null,{"$f":"IF(TabUren2[[#This Row],[eindtijd]]=\"\",\"\",IF(TabUren2[[#This Row],[eindtijd]]<TabUren2[[#This Row],[begintijd]],(\"24:00\"-TabUren2[[#This Row],[begintijd]]+TabUren2[[#This Row],[eindtijd]])-TabUren2[[#This Row],[pauze]],(TabUren2[[#This Row],[eindtijd]]-TabUren2[[#This Row],[begintijd]])-TabUren2[[#This Row],[pauze]]))","v":""},{"$f":"IF(OR(TabUren2[hoofdcategorie]=\"\",TabUren2[hoofdcategorie]=0),\"anders dan hoofdcategorie\",TabUren2[hoofdcategorie])","v":"anders dan hoofdcategorie"}]
[{"$f":"IF(TabUren2[[#This Row],[datum]]=\"\",\"\",INT((TabUren2[[#This Row],[datum]]-SUM(MOD(DATE(YEAR(TabUren2[[#This Row],[datum]]-MOD(TabUren2[[#This Row],[datum]]-2,7)+3),1,2),{1E+99;7})*{1;-1})+5) /7))","v":""},{"$f":"IF(TabUren2[[#This Row],[datum]]=\"\",\"\",TabUren2[[#This Row],[datum]])","v":""},null,null,{"$f":"IF(TabUren2[[#This Row],[datum]]=\"\",\"\",verzameldata!$C$3)","v":""},null,null,null,null,{"$f":"IF(TabUren2[[#This Row],[eindtijd]]=\"\",\"\",IF(TabUren2[[#This Row],[eindtijd]]<TabUren2[[#This Row],[begintijd]],(\"24:00\"-TabUren2[[#This Row],[begintijd]]+TabUren2[[#This Row],[eindtijd]])-TabUren2[[#This Row],[pauze]],(TabUren2[[#This Row],[eindtijd]]-TabUren2[[#This Row],[begintijd]])-TabUren2[[#This Row],[pauze]]))","v":""},{"$f":"IF(OR(TabUren2[hoofdcategorie]=\"\",TabUren2[hoofdcategorie]=0),\"anders dan hoofdcategorie\",TabUren2[hoofdcategorie])","v":"anders dan hoofdcategorie"}]
[{"$f":"IF(TabUren2[[#This Row],[datum]]=\"\",\"\",INT((TabUren2[[#This Row],[datum]]-SUM(MOD(DATE(YEAR(TabUren2[[#This Row],[datum]]-MOD(TabUren2[[#This Row],[datum]]-2,7)+3),1,2),{1E+99;7})*{1;-1})+5) /7))","v":""},{"$f":"IF(TabUren2[[#This Row],[datum]]=\"\",\"\",TabUren2[[#This Row],[datum]])","v":""},null,null,{"$f":"IF(TabUren2[[#This Row],[datum]]=\"\",\"\",verzameldata!$C$3)","v":""},null,null,null,null,{"$f":"IF(TabUren2[[#This Row],[eindtijd]]=\"\",\"\",IF(TabUren2[[#This Row],[eindtijd]]<TabUren2[[#This Row],[begintijd]],(\"24:00\"-TabUren2[[#This Row],[begintijd]]+TabUren2[[#This Row],[eindtijd]])-TabUren2[[#This Row],[pauze]],(TabUren2[[#This Row],[eindtijd]]-TabUren2[[#This Row],[begintijd]])-TabUren2[[#This Row],[pauze]]))","v":""},{"$f":"IF(OR(TabUren2[hoofdcategorie]=\"\",TabUren2[hoofdcategorie]=0),\"anders dan hoofdcategorie\",TabUren2[hoofdcategorie])","v":"anders dan hoofdcategorie"}]
[{"$f":"IF(TabUren2[[#This Row],[datum]]=\"\",\"\",INT((TabUren2[[#This Row],[datum]]-SUM(MOD(DATE(YEAR(TabUren2[[#This Row],[datum]]-MOD(TabUren2[[#This Row],[datum]]-2,7)+3),1,2),{1E+99;7})*{1;-1})+5) /7))","v":""},{"$f":"IF(TabUren2[[#This Row],[datum]]=\"\",\"\",TabUren2[[#This Row],[datum]])","v":""},null,null,{"$f":"IF(TabUren2[[#This Row],[datum]]=\"\",\"\",verzameldata!$C$3)","v":""},null,null,null,null,{"$f":"IF(TabUren2[[#This Row],[eindtijd]]=\"\",\"\",IF(TabUren2[[#This Row],[eindtijd]]<TabUren2[[#This Row],[begintijd]],(\"24:00\"-TabUren2[[#This Row],[begintijd]]+TabUren2[[#This Row],[eindtijd]])-TabUren2[[#This Row],[pauze]],(TabUren2[[#This Row],[eindtijd]]-TabUren2[[#This Row],[begintijd]])-TabUren2[[#This Row],[pauze]]))","v":""},{"$f":"IF(OR(TabUren2[hoofdcategorie]=\"\",TabUren2[hoofdcategorie]=0),\"anders dan hoofdcategorie\",TabUren2[hoofdcategorie])","v":"anders dan hoofdcategorie"}]
[{"$f":"IF(TabUren2[[#This Row],[datum]]=\"\",\"\",INT((TabUren2[[#This Row],[datum]]-SUM(MOD(DATE(YEAR(TabUren2[[#This Row],[datum]]-MOD(TabUren2[[#This Row],[datum]]-2,7)+3),1,2),{1E+99;7})*{1;-1})+5) /7))","v":""},{"$f":"IF(TabUren2[[#This Row],[datum]]=\"\",\"\",TabUren2[[#This Row],[datum]])","v":""},null,null,{"$f":"IF(TabUren2[[#This Row],[datum]]=\"\",\"\",verzameldata!$C$3)","v":""},null,null,null,null,{"$f":"IF(TabUren2[[#This Row],[eindtijd]]=\"\",\"\",IF(TabUren2[[#This Row],[eindtijd]]<TabUren2[[#This Row],[begintijd]],(\"24:00\"-TabUren2[[#This Row],[begintijd]]+TabUren2[[#This Row],[eindtijd]])-TabUren2[[#This Row],[pauze]],(TabUren2[[#This Row],[eindtijd]]-TabUren2[[#This Row],[begintijd]])-TabUren2[[#This Row],[pauze]]))","v":""},{"$f":"IF(OR(TabUren2[hoofdcategorie]=\"\",TabUren2[hoofdcategorie]=0),\"anders dan hoofdcategorie\",TabUren2[hoofdcategorie])","v":"anders dan hoofdcategorie"}]
[{"$f":"IF(TabUren2[[#This Row],[datum]]=\"\",\"\",INT((TabUren2[[#This Row],[datum]]-SUM(MOD(DATE(YEAR(TabUren2[[#This Row],[datum]]-MOD(TabUren2[[#This Row],[datum]]-2,7)+3),1,2),{1E+99;7})*{1;-1})+5) /7))","v":""},{"$f":"IF(TabUren2[[#This Row],[datum]]=\"\",\"\",TabUren2[[#This Row],[datum]])","v":""},null,null,{"$f":"IF(TabUren2[[#This Row],[datum]]=\"\",\"\",verzameldata!$C$3)","v":""},null,null,null,null,{"$f":"IF(TabUren2[[#This Row],[eindtijd]]=\"\",\"\",IF(TabUren2[[#This Row],[eindtijd]]<TabUren2[[#This Row],[begintijd]],(\"24:00\"-TabUren2[[#This Row],[begintijd]]+TabUren2[[#This Row],[eindtijd]])-TabUren2[[#This Row],[pauze]],(TabUren2[[#This Row],[eindtijd]]-TabUren2[[#This Row],[begintijd]])-TabUren2[[#This Row],[pauze]]))","v":""},{"$f":"IF(OR(TabUren2[hoofdcategorie]=\"\",TabUren2[hoofdcategorie]=0),\"anders dan hoofdcategorie\",TabUren2[hoofdcategorie])","v":"anders dan hoofdcategorie"}]
[{"$f":"IF(TabUren2[[#This Row],[datum]]=\"\",\"\",INT((TabUren2[[#This Row],[datum]]-SUM(MOD(DATE(YEAR(TabUren2[[#This Row],[datum]]-MOD(TabUren2[[#This Row],[datum]]-2,7)+3),1,2),{1E+99;7})*{1;-1})+5) /7))","v":""},{"$f":"IF(TabUren2[[#This Row],[datum]]=\"\",\"\",TabUren2[[#This Row],[datum]])","v":""},null,null,{"$f":"IF(TabUren2[[#This Row],[datum]]=\"\",\"\",verzameldata!$C$3)","v":""},null,null,null,null,{"$f":"IF(TabUren2[[#This Row],[eindtijd]]=\"\",\"\",IF(TabUren2[[#This Row],[eindtijd]]<TabUren2[[#This Row],[begintijd]],(\"24:00\"-TabUren2[[#This Row],[begintijd]]+TabUren2[[#This Row],[eindtijd]])-TabUren2[[#This Row],[pauze]],(TabUren2[[#This Row],[eindtijd]]-TabUren2[[#This Row],[begintijd]])-TabUren2[[#This Row],[pauze]]))","v":""},{"$f":"IF(OR(TabUren2[hoofdcategorie]=\"\",TabUren2[hoofdcategorie]=0),\"anders dan hoofdcategorie\",TabUren2[hoofdcategorie])","v":"anders dan hoofdcategorie"}]
[{"$f":"IF(TabUren2[[#This Row],[datum]]=\"\",\"\",INT((TabUren2[[#This Row],[datum]]-SUM(MOD(DATE(YEAR(TabUren2[[#This Row],[datum]]-MOD(TabUren2[[#This Row],[datum]]-2,7)+3),1,2),{1E+99;7})*{1;-1})+5) /7))","v":""},{"$f":"IF(TabUren2[[#This Row],[datum]]=\"\",\"\",TabUren2[[#This Row],[datum]])","v":""},null,null,{"$f":"IF(TabUren2[[#This Row],[datum]]=\"\",\"\",verzameldata!$C$3)","v":""},null,null,null,null,{"$f":"IF(TabUren2[[#This Row],[eindtijd]]=\"\",\"\",IF(TabUren2[[#This Row],[eindtijd]]<TabUren2[[#This Row],[begintijd]],(\"24:00\"-TabUren2[[#This Row],[begintijd]]+TabUren2[[#This Row],[eindtijd]])-TabUren2[[#This Row],[pauze]],(TabUren2[[#This Row],[eindtijd]]-TabUren2[[#This Row],[begintijd]])-TabUren2[[#This Row],[pauze]]))","v":""},{"$f":"IF(OR(TabUren2[hoofdcategorie]=\"\",TabUren2[hoofdcategorie]=0),\"anders dan hoofdcategorie\",TabUren2[hoofdcategorie])","v":"anders dan hoofdcategorie"}]
[{"$f":"IF(TabUren2[[#This Row],[datum]]=\"\",\"\",INT((TabUren2[[#This Row],[datum]]-SUM(MOD(DATE(YEAR(TabUren2[[#This Row],[datum]]-MOD(TabUren2[[#This Row],[datum]]-2,7)+3),1,2),{1E+99;7})*{1;-1})+5) /7))","v":""},{"$f":"IF(TabUren2[[#This Row],[datum]]=\"\",\"\",TabUren2[[#This Row],[datum]])","v":""},null,null,{"$f":"IF(TabUren2[[#This Row],[datum]]=\"\",\"\",verzameldata!$C$3)","v":""},null,null,null,null,{"$f":"IF(TabUren2[[#This Row],[eindtijd]]=\"\",\"\",IF(TabUren2[[#This Row],[eindtijd]]<TabUren2[[#This Row],[begintijd]],(\"24:00\"-TabUren2[[#This Row],[begintijd]]+TabUren2[[#This Row],[eindtijd]])-TabUren2[[#This Row],[pauze]],(TabUren2[[#This Row],[eindtijd]]-TabUren2[[#This Row],[begintijd]])-TabUren2[[#This Row],[pauze]]))","v":""},{"$f":"IF(OR(TabUren2[hoofdcategorie]=\"\",TabUren2[hoofdcategorie]=0),\"anders dan hoofdcategorie\",TabUren2[hoofdcategorie])","v":"anders dan hoofdcategorie"}]
[{"$f":"IF(TabUren2[[#This Row],[datum]]=\"\",\"\",INT((TabUren2[[#This Row],[datum]]-SUM(MOD(DATE(YEAR(TabUren2[[#This Row],[datum]]-MOD(TabUren2[[#This Row],[datum]]-2,7)+3),1,2),{1E+99;7})*{1;-1})+5) /7))","v":""},{"$f":"IF(TabUren2[[#This Row],[datum]]=\"\",\"\",TabUren2[[#This Row],[datum]])","v":""},null,null,{"$f":"IF(TabUren2[[#This Row],[datum]]=\"\",\"\",verzameldata!$C$3)","v":""},null,null,null,null,{"$f":"IF(TabUren2[[#This Row],[eindtijd]]=\"\",\"\",IF(TabUren2[[#This Row],[eindtijd]]<TabUren2[[#This Row],[begintijd]],(\"24:00\"-TabUren2[[#This Row],[begintijd]]+TabUren2[[#This Row],[eindtijd]])-TabUren2[[#This Row],[pauze]],(TabUren2[[#This Row],[eindtijd]]-TabUren2[[#This Row],[begintijd]])-TabUren2[[#This Row],[pauze]]))","v":""},{"$f":"IF(OR(TabUren2[hoofdcategorie]=\"\",TabUren2[hoofdcategorie]=0),\"anders dan hoofdcategorie\",TabUren2[hoofdcategorie])","v":"anders dan hoofdcategorie"}]
[{"$f":"IF(TabUren2[[#This Row],[datum]]=\"\",\"\",INT((TabUren2[[#This Row],[datum]]-SUM(MOD(DATE(YEAR(TabUren2[[#This Row],[datum]]-MOD(TabUren2[[#This Row],[datum]]-2,7)+3),1,2),{1E+99;7})*{1;-1})+5) /7))","v":""},{"$f":"IF(TabUren2[[#This Row],[datum]]=\"\",\"\",TabUren2[[#This Row],[datum]])","v":""},null,null,{"$f":"IF(TabUren2[[#This Row],[datum]]=\"\",\"\",verzameldata!$C$3)","v":""},null,null,null,null,{"$f":"IF(TabUren2[[#This Row],[eindtijd]]=\"\",\"\",IF(TabUren2[[#This Row],[eindtijd]]<TabUren2[[#This Row],[begintijd]],(\"24:00\"-TabUren2[[#This Row],[begintijd]]+TabUren2[[#This Row],[eindtijd]])-TabUren2[[#This Row],[pauze]],(TabUren2[[#This Row],[eindtijd]]-TabUren2[[#This Row],[begintijd]])-TabUren2[[#This Row],[pauze]]))","v":""},{"$f":"IF(OR(TabUren2[hoofdcategorie]=\"\",TabUren2[hoofdcategorie]=0),\"anders dan hoofdcategorie\",TabUren2[hoofdcategorie])","v":"anders dan hoofdcategorie"}]
[{"$f":"IF(TabUren2[[#This Row],[datum]]=\"\",\"\",INT((TabUren2[[#This Row],[datum]]-SUM(MOD(DATE(YEAR(TabUren2[[#This Row],[datum]]-MOD(TabUren2[[#This Row],[datum]]-2,7)+3),1,2),{1E+99;7})*{1;-1})+5) /7))","v":""},{"$f":"IF(TabUren2[[#This Row],[datum]]=\"\",\"\",TabUren2[[#This Row],[datum]])","v":""},null,null,{"$f":"IF(TabUren2[[#This Row],[datum]]=\"\",\"\",verzameldata!$C$3)","v":""},null,null,null,null,{"$f":"IF(TabUren2[[#This Row],[eindtijd]]=\"\",\"\",IF(TabUren2[[#This Row],[eindtijd]]<TabUren2[[#This Row],[begintijd]],(\"24:00\"-TabUren2[[#This Row],[begintijd]]+TabUren2[[#This Row],[eindtijd]])-TabUren2[[#This Row],[pauze]],(TabUren2[[#This Row],[eindtijd]]-TabUren2[[#This Row],[begintijd]])-TabUren2[[#This Row],[pauze]]))","v":""},{"$f":"IF(OR(TabUren2[hoofdcategorie]=\"\",TabUren2[hoofdcategorie]=0),\"anders dan hoofdcategorie\",TabUren2[hoofdcategorie])","v":"anders dan hoofdcategorie"}]
[{"$f":"IF(TabUren2[[#This Row],[datum]]=\"\",\"\",INT((TabUren2[[#This Row],[datum]]-SUM(MOD(DATE(YEAR(TabUren2[[#This Row],[datum]]-MOD(TabUren2[[#This Row],[datum]]-2,7)+3),1,2),{1E+99;7})*{1;-1})+5) /7))","v":""},{"$f":"IF(TabUren2[[#This Row],[datum]]=\"\",\"\",TabUren2[[#This Row],[datum]])","v":""},null,null,{"$f":"IF(TabUren2[[#This Row],[datum]]=\"\",\"\",verzameldata!$C$3)","v":""},null,null,null,null,{"$f":"IF(TabUren2[[#This Row],[eindtijd]]=\"\",\"\",IF(TabUren2[[#This Row],[eindtijd]]<TabUren2[[#This Row],[begintijd]],(\"24:00\"-TabUren2[[#This Row],[begintijd]]+TabUren2[[#This Row],[eindtijd]])-TabUren2[[#This Row],[pauze]],(TabUren2[[#This Row],[eindtijd]]-TabUren2[[#This Row],[begintijd]])-TabUren2[[#This Row],[pauze]]))","v":""},{"$f":"IF(OR(TabUren2[hoofdcategorie]=\"\",TabUren2[hoofdcategorie]=0),\"anders dan hoofdcategorie\",TabUren2[hoofdcategorie])","v":"anders dan hoofdcategorie"}]
[{"$f":"IF(TabUren2[[#This Row],[datum]]=\"\",\"\",INT((TabUren2[[#This Row],[datum]]-SUM(MOD(DATE(YEAR(TabUren2[[#This Row],[datum]]-MOD(TabUren2[[#This Row],[datum]]-2,7)+3),1,2),{1E+99;7})*{1;-1})+5) /7))","v":""},{"$f":"IF(TabUren2[[#This Row],[datum]]=\"\",\"\",TabUren2[[#This Row],[datum]])","v":""},null,null,{"$f":"IF(TabUren2[[#This Row],[datum]]=\"\",\"\",verzameldata!$C$3)","v":""},null,null,null,null,{"$f":"IF(TabUren2[[#This Row],[eindtijd]]=\"\",\"\",IF(TabUren2[[#This Row],[eindtijd]]<TabUren2[[#This Row],[begintijd]],(\"24:00\"-TabUren2[[#This Row],[begintijd]]+TabUren2[[#This Row],[eindtijd]])-TabUren2[[#This Row],[pauze]],(TabUren2[[#This Row],[eindtijd]]-TabUren2[[#This Row],[begintijd]])-TabUren2[[#This Row],[pauze]]))","v":""},{"$f":"IF(OR(TabUren2[hoofdcategorie]=\"\",TabUren2[hoofdcategorie]=0),\"anders dan hoofdcategorie\",TabUren2[hoofdcategorie])","v":"anders dan hoofdcategorie"}]
[{"$f":"IF(TabUren2[[#This Row],[datum]]=\"\",\"\",INT((TabUren2[[#This Row],[datum]]-SUM(MOD(DATE(YEAR(TabUren2[[#This Row],[datum]]-MOD(TabUren2[[#This Row],[datum]]-2,7)+3),1,2),{1E+99;7})*{1;-1})+5) /7))","v":""},{"$f":"IF(TabUren2[[#This Row],[datum]]=\"\",\"\",TabUren2[[#This Row],[datum]])","v":""},null,null,{"$f":"IF(TabUren2[[#This Row],[datum]]=\"\",\"\",verzameldata!$C$3)","v":""},null,null,null,null,{"$f":"IF(TabUren2[[#This Row],[eindtijd]]=\"\",\"\",IF(TabUren2[[#This Row],[eindtijd]]<TabUren2[[#This Row],[begintijd]],(\"24:00\"-TabUren2[[#This Row],[begintijd]]+TabUren2[[#This Row],[eindtijd]])-TabUren2[[#This Row],[pauze]],(TabUren2[[#This Row],[eindtijd]]-TabUren2[[#This Row],[begintijd]])-TabUren2[[#This Row],[pauze]]))","v":""},{"$f":"IF(OR(TabUren2[hoofdcategorie]=\"\",TabUren2[hoofdcategorie]=0),\"anders dan hoofdcategorie\",TabUren2[hoofdcategorie])","v":"anders dan hoofdcategorie"}]
[{"$f":"IF(TabUren2[[#This Row],[datum]]=\"\",\"\",INT((TabUren2[[#This Row],[datum]]-SUM(MOD(DATE(YEAR(TabUren2[[#This Row],[datum]]-MOD(TabUren2[[#This Row],[datum]]-2,7)+3),1,2),{1E+99;7})*{1;-1})+5) /7))","v":""},{"$f":"IF(TabUren2[[#This Row],[datum]]=\"\",\"\",TabUren2[[#This Row],[datum]])","v":""},null,null,{"$f":"IF(TabUren2[[#This Row],[datum]]=\"\",\"\",verzameldata!$C$3)","v":""},null,null,null,null,{"$f":"IF(TabUren2[[#This Row],[eindtijd]]=\"\",\"\",IF(TabUren2[[#This Row],[eindtijd]]<TabUren2[[#This Row],[begintijd]],(\"24:00\"-TabUren2[[#This Row],[begintijd]]+TabUren2[[#This Row],[eindtijd]])-TabUren2[[#This Row],[pauze]],(TabUren2[[#This Row],[eindtijd]]-TabUren2[[#This Row],[begintijd]])-TabUren2[[#This Row],[pauze]]))","v":""},{"$f":"IF(OR(TabUren2[hoofdcategorie]=\"\",TabUren2[hoofdcategorie]=0),\"anders dan hoofdcategorie\",TabUren2[hoofdcategorie])","v":"anders dan hoofdcategorie"}]
[{"$f":"IF(TabUren2[[#This Row],[datum]]=\"\",\"\",INT((TabUren2[[#This Row],[datum]]-SUM(MOD(DATE(YEAR(TabUren2[[#This Row],[datum]]-MOD(TabUren2[[#This Row],[datum]]-2,7)+3),1,2),{1E+99;7})*{1;-1})+5) /7))","v":""},{"$f":"IF(TabUren2[[#This Row],[datum]]=\"\",\"\",TabUren2[[#This Row],[datum]])","v":""},null,null,{"$f":"IF(TabUren2[[#This Row],[datum]]=\"\",\"\",verzameldata!$C$3)","v":""},null,null,null,null,{"$f":"IF(TabUren2[[#This Row],[eindtijd]]=\"\",\"\",IF(TabUren2[[#This Row],[eindtijd]]<TabUren2[[#This Row],[begintijd]],(\"24:00\"-TabUren2[[#This Row],[begintijd]]+TabUren2[[#This Row],[eindtijd]])-TabUren2[[#This Row],[pauze]],(TabUren2[[#This Row],[eindtijd]]-TabUren2[[#This Row],[begintijd]])-TabUren2[[#This Row],[pauze]]))","v":""},{"$f":"IF(OR(TabUren2[hoofdcategorie]=\"\",TabUren2[hoofdcategorie]=0),\"anders dan hoofdcategorie\",TabUren2[hoofdcategorie])","v":"anders dan hoofdcategorie"}]
[{"$f":"IF(TabUren2[[#This Row],[datum]]=\"\",\"\",INT((TabUren2[[#This Row],[datum]]-SUM(MOD(DATE(YEAR(TabUren2[[#This Row],[datum]]-MOD(TabUren2[[#This Row],[datum]]-2,7)+3),1,2),{1E+99;7})*{1;-1})+5) /7))","v":""},{"$f":"IF(TabUren2[[#This Row],[datum]]=\"\",\"\",TabUren2[[#This Row],[datum]])","v":""},null,null,{"$f":"IF(TabUren2[[#This Row],[datum]]=\"\",\"\",verzameldata!$C$3)","v":""},null,null,null,null,{"$f":"IF(TabUren2[[#This Row],[eindtijd]]=\"\",\"\",IF(TabUren2[[#This Row],[eindtijd]]<TabUren2[[#This Row],[begintijd]],(\"24:00\"-TabUren2[[#This Row],[begintijd]]+TabUren2[[#This Row],[eindtijd]])-TabUren2[[#This Row],[pauze]],(TabUren2[[#This Row],[eindtijd]]-TabUren2[[#This Row],[begintijd]])-TabUren2[[#This Row],[pauze]]))","v":""},{"$f":"IF(OR(TabUren2[hoofdcategorie]=\"\",TabUren2[hoofdcategorie]=0),\"anders dan hoofdcategorie\",TabUren2[hoofdcategorie])","v":"anders dan hoofdcategorie"}]
[{"$f":"IF(TabUren2[[#This Row],[datum]]=\"\",\"\",INT((TabUren2[[#This Row],[datum]]-SUM(MOD(DATE(YEAR(TabUren2[[#This Row],[datum]]-MOD(TabUren2[[#This Row],[datum]]-2,7)+3),1,2),{1E+99;7})*{1;-1})+5) /7))","v":""},{"$f":"IF(TabUren2[[#This Row],[datum]]=\"\",\"\",TabUren2[[#This Row],[datum]])","v":""},null,null,{"$f":"IF(TabUren2[[#This Row],[datum]]=\"\",\"\",verzameldata!$C$3)","v":""},null,null,null,null,{"$f":"IF(TabUren2[[#This Row],[eindtijd]]=\"\",\"\",IF(TabUren2[[#This Row],[eindtijd]]<TabUren2[[#This Row],[begintijd]],(\"24:00\"-TabUren2[[#This Row],[begintijd]]+TabUren2[[#This Row],[eindtijd]])-TabUren2[[#This Row],[pauze]],(TabUren2[[#This Row],[eindtijd]]-TabUren2[[#This Row],[begintijd]])-TabUren2[[#This Row],[pauze]]))","v":""},{"$f":"IF(OR(TabUren2[hoofdcategorie]=\"\",TabUren2[hoofdcategorie]=0),\"anders dan hoofdcategorie\",TabUren2[hoofdcategorie])","v":"anders dan hoofdcategorie"}]
[{"$f":"IF(TabUren2[[#This Row],[datum]]=\"\",\"\",INT((TabUren2[[#This Row],[datum]]-SUM(MOD(DATE(YEAR(TabUren2[[#This Row],[datum]]-MOD(TabUren2[[#This Row],[datum]]-2,7)+3),1,2),{1E+99;7})*{1;-1})+5) /7))","v":""},{"$f":"IF(TabUren2[[#This Row],[datum]]=\"\",\"\",TabUren2[[#This Row],[datum]])","v":""},null,null,{"$f":"IF(TabUren2[[#This Row],[datum]]=\"\",\"\",verzameldata!$C$3)","v":""},null,null,null,null,{"$f":"IF(TabUren2[[#This Row],[eindtijd]]=\"\",\"\",IF(TabUren2[[#This Row],[eindtijd]]<TabUren2[[#This Row],[begintijd]],(\"24:00\"-TabUren2[[#This Row],[begintijd]]+TabUren2[[#This Row],[eindtijd]])-TabUren2[[#This Row],[pauze]],(TabUren2[[#This Row],[eindtijd]]-TabUren2[[#This Row],[begintijd]])-TabUren2[[#This Row],[pauze]]))","v":""},{"$f":"IF(OR(TabUren2[hoofdcategorie]=\"\",TabUren2[hoofdcategorie]=0),\"anders dan hoofdcategorie\",TabUren2[hoofdcategorie])","v":"anders dan hoofdcategorie"}]
[{"$f":"IF(TabUren2[[#This Row],[datum]]=\"\",\"\",INT((TabUren2[[#This Row],[datum]]-SUM(MOD(DATE(YEAR(TabUren2[[#This Row],[datum]]-MOD(TabUren2[[#This Row],[datum]]-2,7)+3),1,2),{1E+99;7})*{1;-1})+5) /7))","v":""},{"$f":"IF(TabUren2[[#This Row],[datum]]=\"\",\"\",TabUren2[[#This Row],[datum]])","v":""},null,null,{"$f":"IF(TabUren2[[#This Row],[datum]]=\"\",\"\",verzameldata!$C$3)","v":""},null,null,null,null,{"$f":"IF(TabUren2[[#This Row],[eindtijd]]=\"\",\"\",IF(TabUren2[[#This Row],[eindtijd]]<TabUren2[[#This Row],[begintijd]],(\"24:00\"-TabUren2[[#This Row],[begintijd]]+TabUren2[[#This Row],[eindtijd]])-TabUren2[[#This Row],[pauze]],(TabUren2[[#This Row],[eindtijd]]-TabUren2[[#This Row],[begintijd]])-TabUren2[[#This Row],[pauze]]))","v":""},{"$f":"IF(OR(TabUren2[hoofdcategorie]=\"\",TabUren2[hoofdcategorie]=0),\"anders dan hoofdcategorie\",TabUren2[hoofdcategorie])","v":"anders dan hoofdcategorie"}]
[{"$f":"IF(TabUren2[[#This Row],[datum]]=\"\",\"\",INT((TabUren2[[#This Row],[datum]]-SUM(MOD(DATE(YEAR(TabUren2[[#This Row],[datum]]-MOD(TabUren2[[#This Row],[datum]]-2,7)+3),1,2),{1E+99;7})*{1;-1})+5) /7))","v":""},{"$f":"IF(TabUren2[[#This Row],[datum]]=\"\",\"\",TabUren2[[#This Row],[datum]])","v":""},null,null,{"$f":"IF(TabUren2[[#This Row],[datum]]=\"\",\"\",verzameldata!$C$3)","v":""},null,null,null,null,{"$f":"IF(TabUren2[[#This Row],[eindtijd]]=\"\",\"\",IF(TabUren2[[#This Row],[eindtijd]]<TabUren2[[#This Row],[begintijd]],(\"24:00\"-TabUren2[[#This Row],[begintijd]]+TabUren2[[#This Row],[eindtijd]])-TabUren2[[#This Row],[pauze]],(TabUren2[[#This Row],[eindtijd]]-TabUren2[[#This Row],[begintijd]])-TabUren2[[#This Row],[pauze]]))","v":""},{"$f":"IF(OR(TabUren2[hoofdcategorie]=\"\",TabUren2[hoofdcategorie]=0),\"anders dan hoofdcategorie\",TabUren2[hoofdcategorie])","v":"anders dan hoofdcategorie"}]
[{"$f":"IF(TabUren2[[#This Row],[datum]]=\"\",\"\",INT((TabUren2[[#This Row],[datum]]-SUM(MOD(DATE(YEAR(TabUren2[[#This Row],[datum]]-MOD(TabUren2[[#This Row],[datum]]-2,7)+3),1,2),{1E+99;7})*{1;-1})+5) /7))","v":""},{"$f":"IF(TabUren2[[#This Row],[datum]]=\"\",\"\",TabUren2[[#This Row],[datum]])","v":""},null,null,{"$f":"IF(TabUren2[[#This Row],[datum]]=\"\",\"\",verzameldata!$C$3)","v":""},null,null,null,null,{"$f":"IF(TabUren2[[#This Row],[eindtijd]]=\"\",\"\",IF(TabUren2[[#This Row],[eindtijd]]<TabUren2[[#This Row],[begintijd]],(\"24:00\"-TabUren2[[#This Row],[begintijd]]+TabUren2[[#This Row],[eindtijd]])-TabUren2[[#This Row],[pauze]],(TabUren2[[#This Row],[eindtijd]]-TabUren2[[#This Row],[begintijd]])-TabUren2[[#This Row],[pauze]]))","v":""},{"$f":"IF(OR(TabUren2[hoofdcategorie]=\"\",TabUren2[hoofdcategorie]=0),\"anders dan hoofdcategorie\",TabUren2[hoofdcategorie])","v":"anders dan hoofdcategorie"}]
[{"$f":"IF(TabUren2[[#This Row],[datum]]=\"\",\"\",INT((TabUren2[[#This Row],[datum]]-SUM(MOD(DATE(YEAR(TabUren2[[#This Row],[datum]]-MOD(TabUren2[[#This Row],[datum]]-2,7)+3),1,2),{1E+99;7})*{1;-1})+5) /7))","v":""},{"$f":"IF(TabUren2[[#This Row],[datum]]=\"\",\"\",TabUren2[[#This Row],[datum]])","v":""},null,null,{"$f":"IF(TabUren2[[#This Row],[datum]]=\"\",\"\",verzameldata!$C$3)","v":""},null,null,null,null,{"$f":"IF(TabUren2[[#This Row],[eindtijd]]=\"\",\"\",IF(TabUren2[[#This Row],[eindtijd]]<TabUren2[[#This Row],[begintijd]],(\"24:00\"-TabUren2[[#This Row],[begintijd]]+TabUren2[[#This Row],[eindtijd]])-TabUren2[[#This Row],[pauze]],(TabUren2[[#This Row],[eindtijd]]-TabUren2[[#This Row],[begintijd]])-TabUren2[[#This Row],[pauze]]))","v":""},{"$f":"IF(OR(TabUren2[hoofdcategorie]=\"\",TabUren2[hoofdcategorie]=0),\"anders dan hoofdcategorie\",TabUren2[hoofdcategorie])","v":"anders dan hoofdcategorie"}]
[{"$f":"IF(TabUren2[[#This Row],[datum]]=\"\",\"\",INT((TabUren2[[#This Row],[datum]]-SUM(MOD(DATE(YEAR(TabUren2[[#This Row],[datum]]-MOD(TabUren2[[#This Row],[datum]]-2,7)+3),1,2),{1E+99;7})*{1;-1})+5) /7))","v":""},{"$f":"IF(TabUren2[[#This Row],[datum]]=\"\",\"\",TabUren2[[#This Row],[datum]])","v":""},null,null,{"$f":"IF(TabUren2[[#This Row],[datum]]=\"\",\"\",verzameldata!$C$3)","v":""},null,null,null,null,{"$f":"IF(TabUren2[[#This Row],[eindtijd]]=\"\",\"\",IF(TabUren2[[#This Row],[eindtijd]]<TabUren2[[#This Row],[begintijd]],(\"24:00\"-TabUren2[[#This Row],[begintijd]]+TabUren2[[#This Row],[eindtijd]])-TabUren2[[#This Row],[pauze]],(TabUren2[[#This Row],[eindtijd]]-TabUren2[[#This Row],[begintijd]])-TabUren2[[#This Row],[pauze]]))","v":""},{"$f":"IF(OR(TabUren2[hoofdcategorie]=\"\",TabUren2[hoofdcategorie]=0),\"anders dan hoofdcategorie\",TabUren2[hoofdcategorie])","v":"anders dan hoofdcategorie"}]
[{"$f":"IF(TabUren2[[#This Row],[datum]]=\"\",\"\",INT((TabUren2[[#This Row],[datum]]-SUM(MOD(DATE(YEAR(TabUren2[[#This Row],[datum]]-MOD(TabUren2[[#This Row],[datum]]-2,7)+3),1,2),{1E+99;7})*{1;-1})+5) /7))","v":""},{"$f":"IF(TabUren2[[#This Row],[datum]]=\"\",\"\",TabUren2[[#This Row],[datum]])","v":""},null,null,{"$f":"IF(TabUren2[[#This Row],[datum]]=\"\",\"\",verzameldata!$C$3)","v":""},null,null,null,null,{"$f":"IF(TabUren2[[#This Row],[eindtijd]]=\"\",\"\",IF(TabUren2[[#This Row],[eindtijd]]<TabUren2[[#This Row],[begintijd]],(\"24:00\"-TabUren2[[#This Row],[begintijd]]+TabUren2[[#This Row],[eindtijd]])-TabUren2[[#This Row],[pauze]],(TabUren2[[#This Row],[eindtijd]]-TabUren2[[#This Row],[begintijd]])-TabUren2[[#This Row],[pauze]]))","v":""},{"$f":"IF(OR(TabUren2[hoofdcategorie]=\"\",TabUren2[hoofdcategorie]=0),\"anders dan hoofdcategorie\",TabUren2[hoofdcategorie])","v":"anders dan hoofdcategorie"}]
[{"$f":"IF(TabUren2[[#This Row],[datum]]=\"\",\"\",INT((TabUren2[[#This Row],[datum]]-SUM(MOD(DATE(YEAR(TabUren2[[#This Row],[datum]]-MOD(TabUren2[[#This Row],[datum]]-2,7)+3),1,2),{1E+99;7})*{1;-1})+5) /7))","v":""},{"$f":"IF(TabUren2[[#This Row],[datum]]=\"\",\"\",TabUren2[[#This Row],[datum]])","v":""},null,null,{"$f":"IF(TabUren2[[#This Row],[datum]]=\"\",\"\",verzameldata!$C$3)","v":""},null,null,null,null,{"$f":"IF(TabUren2[[#This Row],[eindtijd]]=\"\",\"\",IF(TabUren2[[#This Row],[eindtijd]]<TabUren2[[#This Row],[begintijd]],(\"24:00\"-TabUren2[[#This Row],[begintijd]]+TabUren2[[#This Row],[eindtijd]])-TabUren2[[#This Row],[pauze]],(TabUren2[[#This Row],[eindtijd]]-TabUren2[[#This Row],[begintijd]])-TabUren2[[#This Row],[pauze]]))","v":""},{"$f":"IF(OR(TabUren2[hoofdcategorie]=\"\",TabUren2[hoofdcategorie]=0),\"anders dan hoofdcategorie\",TabUren2[hoofdcategorie])","v":"anders dan hoofdcategorie"}]
[{"$f":"IF(TabUren2[[#This Row],[datum]]=\"\",\"\",INT((TabUren2[[#This Row],[datum]]-SUM(MOD(DATE(YEAR(TabUren2[[#This Row],[datum]]-MOD(TabUren2[[#This Row],[datum]]-2,7)+3),1,2),{1E+99;7})*{1;-1})+5) /7))","v":""},{"$f":"IF(TabUren2[[#This Row],[datum]]=\"\",\"\",TabUren2[[#This Row],[datum]])","v":""},null,null,{"$f":"IF(TabUren2[[#This Row],[datum]]=\"\",\"\",verzameldata!$C$3)","v":""},null,null,null,null,{"$f":"IF(TabUren2[[#This Row],[eindtijd]]=\"\",\"\",IF(TabUren2[[#This Row],[eindtijd]]<TabUren2[[#This Row],[begintijd]],(\"24:00\"-TabUren2[[#This Row],[begintijd]]+TabUren2[[#This Row],[eindtijd]])-TabUren2[[#This Row],[pauze]],(TabUren2[[#This Row],[eindtijd]]-TabUren2[[#This Row],[begintijd]])-TabUren2[[#This Row],[pauze]]))","v":""},{"$f":"IF(OR(TabUren2[hoofdcategorie]=\"\",TabUren2[hoofdcategorie]=0),\"anders dan hoofdcategorie\",TabUren2[hoofdcategorie])","v":"anders dan hoofdcategorie"}]
[{"$f":"IF(TabUren2[[#This Row],[datum]]=\"\",\"\",INT((TabUren2[[#This Row],[datum]]-SUM(MOD(DATE(YEAR(TabUren2[[#This Row],[datum]]-MOD(TabUren2[[#This Row],[datum]]-2,7)+3),1,2),{1E+99;7})*{1;-1})+5) /7))","v":""},{"$f":"IF(TabUren2[[#This Row],[datum]]=\"\",\"\",TabUren2[[#This Row],[datum]])","v":""},null,null,{"$f":"IF(TabUren2[[#This Row],[datum]]=\"\",\"\",verzameldata!$C$3)","v":""},null,null,null,null,{"$f":"IF(TabUren2[[#This Row],[eindtijd]]=\"\",\"\",IF(TabUren2[[#This Row],[eindtijd]]<TabUren2[[#This Row],[begintijd]],(\"24:00\"-TabUren2[[#This Row],[begintijd]]+TabUren2[[#This Row],[eindtijd]])-TabUren2[[#This Row],[pauze]],(TabUren2[[#This Row],[eindtijd]]-TabUren2[[#This Row],[begintijd]])-TabUren2[[#This Row],[pauze]]))","v":""},{"$f":"IF(OR(TabUren2[hoofdcategorie]=\"\",TabUren2[hoofdcategorie]=0),\"anders dan hoofdcategorie\",TabUren2[hoofdcategorie])","v":"anders dan hoofdcategorie"}]
[{"$f":"IF(TabUren2[[#This Row],[datum]]=\"\",\"\",INT((TabUren2[[#This Row],[datum]]-SUM(MOD(DATE(YEAR(TabUren2[[#This Row],[datum]]-MOD(TabUren2[[#This Row],[datum]]-2,7)+3),1,2),{1E+99;7})*{1;-1})+5) /7))","v":""},{"$f":"IF(TabUren2[[#This Row],[datum]]=\"\",\"\",TabUren2[[#This Row],[datum]])","v":""},null,null,{"$f":"IF(TabUren2[[#This Row],[datum]]=\"\",\"\",verzameldata!$C$3)","v":""},null,null,null,null,{"$f":"IF(TabUren2[[#This Row],[eindtijd]]=\"\",\"\",IF(TabUren2[[#This Row],[eindtijd]]<TabUren2[[#This Row],[begintijd]],(\"24:00\"-TabUren2[[#This Row],[begintijd]]+TabUren2[[#This Row],[eindtijd]])-TabUren2[[#This Row],[pauze]],(TabUren2[[#This Row],[eindtijd]]-TabUren2[[#This Row],[begintijd]])-TabUren2[[#This Row],[pauze]]))","v":""},{"$f":"IF(OR(TabUren2[hoofdcategorie]=\"\",TabUren2[hoofdcategorie]=0),\"anders dan hoofdcategorie\",TabUren2[hoofdcategorie])","v":"anders dan hoofdcategorie"}]
[{"$f":"IF(TabUren2[[#This Row],[datum]]=\"\",\"\",INT((TabUren2[[#This Row],[datum]]-SUM(MOD(DATE(YEAR(TabUren2[[#This Row],[datum]]-MOD(TabUren2[[#This Row],[datum]]-2,7)+3),1,2),{1E+99;7})*{1;-1})+5) /7))","v":""},{"$f":"IF(TabUren2[[#This Row],[datum]]=\"\",\"\",TabUren2[[#This Row],[datum]])","v":""},null,null,{"$f":"IF(TabUren2[[#This Row],[datum]]=\"\",\"\",verzameldata!$C$3)","v":""},null,null,null,null,{"$f":"IF(TabUren2[[#This Row],[eindtijd]]=\"\",\"\",IF(TabUren2[[#This Row],[eindtijd]]<TabUren2[[#This Row],[begintijd]],(\"24:00\"-TabUren2[[#This Row],[begintijd]]+TabUren2[[#This Row],[eindtijd]])-TabUren2[[#This Row],[pauze]],(TabUren2[[#This Row],[eindtijd]]-TabUren2[[#This Row],[begintijd]])-TabUren2[[#This Row],[pauze]]))","v":""},{"$f":"IF(OR(TabUren2[hoofdcategorie]=\"\",TabUren2[hoofdcategorie]=0),\"anders dan hoofdcategorie\",TabUren2[hoofdcategorie])","v":"anders dan hoofdcategorie"}]
[{"$f":"IF(TabUren2[[#This Row],[datum]]=\"\",\"\",INT((TabUren2[[#This Row],[datum]]-SUM(MOD(DATE(YEAR(TabUren2[[#This Row],[datum]]-MOD(TabUren2[[#This Row],[datum]]-2,7)+3),1,2),{1E+99;7})*{1;-1})+5) /7))","v":""},{"$f":"IF(TabUren2[[#This Row],[datum]]=\"\",\"\",TabUren2[[#This Row],[datum]])","v":""},null,null,{"$f":"IF(TabUren2[[#This Row],[datum]]=\"\",\"\",verzameldata!$C$3)","v":""},null,null,null,null,{"$f":"IF(TabUren2[[#This Row],[eindtijd]]=\"\",\"\",IF(TabUren2[[#This Row],[eindtijd]]<TabUren2[[#This Row],[begintijd]],(\"24:00\"-TabUren2[[#This Row],[begintijd]]+TabUren2[[#This Row],[eindtijd]])-TabUren2[[#This Row],[pauze]],(TabUren2[[#This Row],[eindtijd]]-TabUren2[[#This Row],[begintijd]])-TabUren2[[#This Row],[pauze]]))","v":""},{"$f":"IF(OR(TabUren2[hoofdcategorie]=\"\",TabUren2[hoofdcategorie]=0),\"anders dan hoofdcategorie\",TabUren2[hoofdcategorie])","v":"anders dan hoofdcategorie"}]
[{"$f":"IF(TabUren2[[#This Row],[datum]]=\"\",\"\",INT((TabUren2[[#This Row],[datum]]-SUM(MOD(DATE(YEAR(TabUren2[[#This Row],[datum]]-MOD(TabUren2[[#This Row],[datum]]-2,7)+3),1,2),{1E+99;7})*{1;-1})+5) /7))","v":""},{"$f":"IF(TabUren2[[#This Row],[datum]]=\"\",\"\",TabUren2[[#This Row],[datum]])","v":""},null,null,{"$f":"IF(TabUren2[[#This Row],[datum]]=\"\",\"\",verzameldata!$C$3)","v":""},null,null,null,null,{"$f":"IF(TabUren2[[#This Row],[eindtijd]]=\"\",\"\",IF(TabUren2[[#This Row],[eindtijd]]<TabUren2[[#This Row],[begintijd]],(\"24:00\"-TabUren2[[#This Row],[begintijd]]+TabUren2[[#This Row],[eindtijd]])-TabUren2[[#This Row],[pauze]],(TabUren2[[#This Row],[eindtijd]]-TabUren2[[#This Row],[begintijd]])-TabUren2[[#This Row],[pauze]]))","v":""},{"$f":"IF(OR(TabUren2[hoofdcategorie]=\"\",TabUren2[hoofdcategorie]=0),\"anders dan hoofdcategorie\",TabUren2[hoofdcategorie])","v":"anders dan hoofdcategorie"}]
[{"$f":"IF(TabUren2[[#This Row],[datum]]=\"\",\"\",INT((TabUren2[[#This Row],[datum]]-SUM(MOD(DATE(YEAR(TabUren2[[#This Row],[datum]]-MOD(TabUren2[[#This Row],[datum]]-2,7)+3),1,2),{1E+99;7})*{1;-1})+5) /7))","v":""},{"$f":"IF(TabUren2[[#This Row],[datum]]=\"\",\"\",TabUren2[[#This Row],[datum]])","v":""},null,null,{"$f":"IF(TabUren2[[#This Row],[datum]]=\"\",\"\",verzameldata!$C$3)","v":""},null,null,null,null,{"$f":"IF(TabUren2[[#This Row],[eindtijd]]=\"\",\"\",IF(TabUren2[[#This Row],[eindtijd]]<TabUren2[[#This Row],[begintijd]],(\"24:00\"-TabUren2[[#This Row],[begintijd]]+TabUren2[[#This Row],[eindtijd]])-TabUren2[[#This Row],[pauze]],(TabUren2[[#This Row],[eindtijd]]-TabUren2[[#This Row],[begintijd]])-TabUren2[[#This Row],[pauze]]))","v":""},{"$f":"IF(OR(TabUren2[hoofdcategorie]=\"\",TabUren2[hoofdcategorie]=0),\"anders dan hoofdcategorie\",TabUren2[hoofdcategorie])","v":"anders dan hoofdcategorie"}]
[{"$f":"IF(TabUren2[[#This Row],[datum]]=\"\",\"\",INT((TabUren2[[#This Row],[datum]]-SUM(MOD(DATE(YEAR(TabUren2[[#This Row],[datum]]-MOD(TabUren2[[#This Row],[datum]]-2,7)+3),1,2),{1E+99;7})*{1;-1})+5) /7))","v":""},{"$f":"IF(TabUren2[[#This Row],[datum]]=\"\",\"\",TabUren2[[#This Row],[datum]])","v":""},null,null,{"$f":"IF(TabUren2[[#This Row],[datum]]=\"\",\"\",verzameldata!$C$3)","v":""},null,null,null,null,{"$f":"IF(TabUren2[[#This Row],[eindtijd]]=\"\",\"\",IF(TabUren2[[#This Row],[eindtijd]]<TabUren2[[#This Row],[begintijd]],(\"24:00\"-TabUren2[[#This Row],[begintijd]]+TabUren2[[#This Row],[eindtijd]])-TabUren2[[#This Row],[pauze]],(TabUren2[[#This Row],[eindtijd]]-TabUren2[[#This Row],[begintijd]])-TabUren2[[#This Row],[pauze]]))","v":""},{"$f":"IF(OR(TabUren2[hoofdcategorie]=\"\",TabUren2[hoofdcategorie]=0),\"anders dan hoofdcategorie\",TabUren2[hoofdcategorie])","v":"anders dan hoofdcategorie"}]
[{"$f":"IF(TabUren2[[#This Row],[datum]]=\"\",\"\",INT((TabUren2[[#This Row],[datum]]-SUM(MOD(DATE(YEAR(TabUren2[[#This Row],[datum]]-MOD(TabUren2[[#This Row],[datum]]-2,7)+3),1,2),{1E+99;7})*{1;-1})+5) /7))","v":""},{"$f":"IF(TabUren2[[#This Row],[datum]]=\"\",\"\",TabUren2[[#This Row],[datum]])","v":""},null,null,{"$f":"IF(TabUren2[[#This Row],[datum]]=\"\",\"\",verzameldata!$C$3)","v":""},null,null,null,null,{"$f":"IF(TabUren2[[#This Row],[eindtijd]]=\"\",\"\",IF(TabUren2[[#This Row],[eindtijd]]<TabUren2[[#This Row],[begintijd]],(\"24:00\"-TabUren2[[#This Row],[begintijd]]+TabUren2[[#This Row],[eindtijd]])-TabUren2[[#This Row],[pauze]],(TabUren2[[#This Row],[eindtijd]]-TabUren2[[#This Row],[begintijd]])-TabUren2[[#This Row],[pauze]]))","v":""},{"$f":"IF(OR(TabUren2[hoofdcategorie]=\"\",TabUren2[hoofdcategorie]=0),\"anders dan hoofdcategorie\",TabUren2[hoofdcategorie])","v":"anders dan hoofdcategorie"}]
[{"$f":"IF(TabUren2[[#This Row],[datum]]=\"\",\"\",INT((TabUren2[[#This Row],[datum]]-SUM(MOD(DATE(YEAR(TabUren2[[#This Row],[datum]]-MOD(TabUren2[[#This Row],[datum]]-2,7)+3),1,2),{1E+99;7})*{1;-1})+5) /7))","v":""},{"$f":"IF(TabUren2[[#This Row],[datum]]=\"\",\"\",TabUren2[[#This Row],[datum]])","v":""},null,null,{"$f":"IF(TabUren2[[#This Row],[datum]]=\"\",\"\",verzameldata!$C$3)","v":""},null,null,null,null,{"$f":"IF(TabUren2[[#This Row],[eindtijd]]=\"\",\"\",IF(TabUren2[[#This Row],[eindtijd]]<TabUren2[[#This Row],[begintijd]],(\"24:00\"-TabUren2[[#This Row],[begintijd]]+TabUren2[[#This Row],[eindtijd]])-TabUren2[[#This Row],[pauze]],(TabUren2[[#This Row],[eindtijd]]-TabUren2[[#This Row],[begintijd]])-TabUren2[[#This Row],[pauze]]))","v":""},{"$f":"IF(OR(TabUren2[hoofdcategorie]=\"\",TabUren2[hoofdcategorie]=0),\"anders dan hoofdcategorie\",TabUren2[hoofdcategorie])","v":"anders dan hoofdcategorie"}]
[{"$f":"IF(TabUren2[[#This Row],[datum]]=\"\",\"\",INT((TabUren2[[#This Row],[datum]]-SUM(MOD(DATE(YEAR(TabUren2[[#This Row],[datum]]-MOD(TabUren2[[#This Row],[datum]]-2,7)+3),1,2),{1E+99;7})*{1;-1})+5) /7))","v":""},{"$f":"IF(TabUren2[[#This Row],[datum]]=\"\",\"\",TabUren2[[#This Row],[datum]])","v":""},null,null,{"$f":"IF(TabUren2[[#This Row],[datum]]=\"\",\"\",verzameldata!$C$3)","v":""},null,null,null,null,{"$f":"IF(TabUren2[[#This Row],[eindtijd]]=\"\",\"\",IF(TabUren2[[#This Row],[eindtijd]]<TabUren2[[#This Row],[begintijd]],(\"24:00\"-TabUren2[[#This Row],[begintijd]]+TabUren2[[#This Row],[eindtijd]])-TabUren2[[#This Row],[pauze]],(TabUren2[[#This Row],[eindtijd]]-TabUren2[[#This Row],[begintijd]])-TabUren2[[#This Row],[pauze]]))","v":""},{"$f":"IF(OR(TabUren2[hoofdcategorie]=\"\",TabUren2[hoofdcategorie]=0),\"anders dan hoofdcategorie\",TabUren2[hoofdcategorie])","v":"anders dan hoofdcategorie"}]
[{"$f":"IF(TabUren2[[#This Row],[datum]]=\"\",\"\",INT((TabUren2[[#This Row],[datum]]-SUM(MOD(DATE(YEAR(TabUren2[[#This Row],[datum]]-MOD(TabUren2[[#This Row],[datum]]-2,7)+3),1,2),{1E+99;7})*{1;-1})+5) /7))","v":""},{"$f":"IF(TabUren2[[#This Row],[datum]]=\"\",\"\",TabUren2[[#This Row],[datum]])","v":""},null,null,{"$f":"IF(TabUren2[[#This Row],[datum]]=\"\",\"\",verzameldata!$C$3)","v":""},null,null,null,null,{"$f":"IF(TabUren2[[#This Row],[eindtijd]]=\"\",\"\",IF(TabUren2[[#This Row],[eindtijd]]<TabUren2[[#This Row],[begintijd]],(\"24:00\"-TabUren2[[#This Row],[begintijd]]+TabUren2[[#This Row],[eindtijd]])-TabUren2[[#This Row],[pauze]],(TabUren2[[#This Row],[eindtijd]]-TabUren2[[#This Row],[begintijd]])-TabUren2[[#This Row],[pauze]]))","v":""},{"$f":"IF(OR(TabUren2[hoofdcategorie]=\"\",TabUren2[hoofdcategorie]=0),\"anders dan hoofdcategorie\",TabUren2[hoofdcategorie])","v":"anders dan hoofdcategorie"}]
[{"$f":"IF(TabUren2[[#This Row],[datum]]=\"\",\"\",INT((TabUren2[[#This Row],[datum]]-SUM(MOD(DATE(YEAR(TabUren2[[#This Row],[datum]]-MOD(TabUren2[[#This Row],[datum]]-2,7)+3),1,2),{1E+99;7})*{1;-1})+5) /7))","v":""},{"$f":"IF(TabUren2[[#This Row],[datum]]=\"\",\"\",TabUren2[[#This Row],[datum]])","v":""},null,null,{"$f":"IF(TabUren2[[#This Row],[datum]]=\"\",\"\",verzameldata!$C$3)","v":""},null,null,null,null,{"$f":"IF(TabUren2[[#This Row],[eindtijd]]=\"\",\"\",IF(TabUren2[[#This Row],[eindtijd]]<TabUren2[[#This Row],[begintijd]],(\"24:00\"-TabUren2[[#This Row],[begintijd]]+TabUren2[[#This Row],[eindtijd]])-TabUren2[[#This Row],[pauze]],(TabUren2[[#This Row],[eindtijd]]-TabUren2[[#This Row],[begintijd]])-TabUren2[[#This Row],[pauze]]))","v":""},{"$f":"IF(OR(TabUren2[hoofdcategorie]=\"\",TabUren2[hoofdcategorie]=0),\"anders dan hoofdcategorie\",TabUren2[hoofdcategorie])","v":"anders dan hoofdcategorie"}]
[{"$f":"IF(TabUren2[[#This Row],[datum]]=\"\",\"\",INT((TabUren2[[#This Row],[datum]]-SUM(MOD(DATE(YEAR(TabUren2[[#This Row],[datum]]-MOD(TabUren2[[#This Row],[datum]]-2,7)+3),1,2),{1E+99;7})*{1;-1})+5) /7))","v":""},{"$f":"IF(TabUren2[[#This Row],[datum]]=\"\",\"\",TabUren2[[#This Row],[datum]])","v":""},null,null,{"$f":"IF(TabUren2[[#This Row],[datum]]=\"\",\"\",verzameldata!$C$3)","v":""},null,null,null,null,{"$f":"IF(TabUren2[[#This Row],[eindtijd]]=\"\",\"\",IF(TabUren2[[#This Row],[eindtijd]]<TabUren2[[#This Row],[begintijd]],(\"24:00\"-TabUren2[[#This Row],[begintijd]]+TabUren2[[#This Row],[eindtijd]])-TabUren2[[#This Row],[pauze]],(TabUren2[[#This Row],[eindtijd]]-TabUren2[[#This Row],[begintijd]])-TabUren2[[#This Row],[pauze]]))","v":""},{"$f":"IF(OR(TabUren2[hoofdcategorie]=\"\",TabUren2[hoofdcategorie]=0),\"anders dan hoofdcategorie\",TabUren2[hoofdcategorie])","v":"anders dan hoofdcategorie"}]
[{"$f":"IF(TabUren2[[#This Row],[datum]]=\"\",\"\",INT((TabUren2[[#This Row],[datum]]-SUM(MOD(DATE(YEAR(TabUren2[[#This Row],[datum]]-MOD(TabUren2[[#This Row],[datum]]-2,7)+3),1,2),{1E+99;7})*{1;-1})+5) /7))","v":""},{"$f":"IF(TabUren2[[#This Row],[datum]]=\"\",\"\",TabUren2[[#This Row],[datum]])","v":""},null,null,{"$f":"IF(TabUren2[[#This Row],[datum]]=\"\",\"\",verzameldata!$C$3)","v":""},null,null,null,null,{"$f":"IF(TabUren2[[#This Row],[eindtijd]]=\"\",\"\",IF(TabUren2[[#This Row],[eindtijd]]<TabUren2[[#This Row],[begintijd]],(\"24:00\"-TabUren2[[#This Row],[begintijd]]+TabUren2[[#This Row],[eindtijd]])-TabUren2[[#This Row],[pauze]],(TabUren2[[#This Row],[eindtijd]]-TabUren2[[#This Row],[begintijd]])-TabUren2[[#This Row],[pauze]]))","v":""},{"$f":"IF(OR(TabUren2[hoofdcategorie]=\"\",TabUren2[hoofdcategorie]=0),\"anders dan hoofdcategorie\",TabUren2[hoofdcategorie])","v":"anders dan hoofdcategorie"}]
[{"$f":"IF(TabUren2[[#This Row],[datum]]=\"\",\"\",INT((TabUren2[[#This Row],[datum]]-SUM(MOD(DATE(YEAR(TabUren2[[#This Row],[datum]]-MOD(TabUren2[[#This Row],[datum]]-2,7)+3),1,2),{1E+99;7})*{1;-1})+5) /7))","v":""},{"$f":"IF(TabUren2[[#This Row],[datum]]=\"\",\"\",TabUren2[[#This Row],[datum]])","v":""},null,null,{"$f":"IF(TabUren2[[#This Row],[datum]]=\"\",\"\",verzameldata!$C$3)","v":""},null,null,null,null,{"$f":"IF(TabUren2[[#This Row],[eindtijd]]=\"\",\"\",IF(TabUren2[[#This Row],[eindtijd]]<TabUren2[[#This Row],[begintijd]],(\"24:00\"-TabUren2[[#This Row],[begintijd]]+TabUren2[[#This Row],[eindtijd]])-TabUren2[[#This Row],[pauze]],(TabUren2[[#This Row],[eindtijd]]-TabUren2[[#This Row],[begintijd]])-TabUren2[[#This Row],[pauze]]))","v":""},{"$f":"IF(OR(TabUren2[hoofdcategorie]=\"\",TabUren2[hoofdcategorie]=0),\"anders dan hoofdcategorie\",TabUren2[hoofdcategorie])","v":"anders dan hoofdcategorie"}]
[{"$f":"IF(TabUren2[[#This Row],[datum]]=\"\",\"\",INT((TabUren2[[#This Row],[datum]]-SUM(MOD(DATE(YEAR(TabUren2[[#This Row],[datum]]-MOD(TabUren2[[#This Row],[datum]]-2,7)+3),1,2),{1E+99;7})*{1;-1})+5) /7))","v":""},{"$f":"IF(TabUren2[[#This Row],[datum]]=\"\",\"\",TabUren2[[#This Row],[datum]])","v":""},null,null,{"$f":"IF(TabUren2[[#This Row],[datum]]=\"\",\"\",verzameldata!$C$3)","v":""},null,null,null,null,{"$f":"IF(TabUren2[[#This Row],[eindtijd]]=\"\",\"\",IF(TabUren2[[#This Row],[eindtijd]]<TabUren2[[#This Row],[begintijd]],(\"24:00\"-TabUren2[[#This Row],[begintijd]]+TabUren2[[#This Row],[eindtijd]])-TabUren2[[#This Row],[pauze]],(TabUren2[[#This Row],[eindtijd]]-TabUren2[[#This Row],[begintijd]])-TabUren2[[#This Row],[pauze]]))","v":""},{"$f":"IF(OR(TabUren2[hoofdcategorie]=\"\",TabUren2[hoofdcategorie]=0),\"anders dan hoofdcategorie\",TabUren2[hoofdcategorie])","v":"anders dan hoofdcategorie"}]
[{"$f":"IF(TabUren2[[#This Row],[datum]]=\"\",\"\",INT((TabUren2[[#This Row],[datum]]-SUM(MOD(DATE(YEAR(TabUren2[[#This Row],[datum]]-MOD(TabUren2[[#This Row],[datum]]-2,7)+3),1,2),{1E+99;7})*{1;-1})+5) /7))","v":""},{"$f":"IF(TabUren2[[#This Row],[datum]]=\"\",\"\",TabUren2[[#This Row],[datum]])","v":""},null,null,{"$f":"IF(TabUren2[[#This Row],[datum]]=\"\",\"\",verzameldata!$C$3)","v":""},null,null,null,null,{"$f":"IF(TabUren2[[#This Row],[eindtijd]]=\"\",\"\",IF(TabUren2[[#This Row],[eindtijd]]<TabUren2[[#This Row],[begintijd]],(\"24:00\"-TabUren2[[#This Row],[begintijd]]+TabUren2[[#This Row],[eindtijd]])-TabUren2[[#This Row],[pauze]],(TabUren2[[#This Row],[eindtijd]]-TabUren2[[#This Row],[begintijd]])-TabUren2[[#This Row],[pauze]]))","v":""},{"$f":"IF(OR(TabUren2[hoofdcategorie]=\"\",TabUren2[hoofdcategorie]=0),\"anders dan hoofdcategorie\",TabUren2[hoofdcategorie])","v":"anders dan hoofdcategorie"}]
[{"$f":"IF(TabUren2[[#This Row],[datum]]=\"\",\"\",INT((TabUren2[[#This Row],[datum]]-SUM(MOD(DATE(YEAR(TabUren2[[#This Row],[datum]]-MOD(TabUren2[[#This Row],[datum]]-2,7)+3),1,2),{1E+99;7})*{1;-1})+5) /7))","v":""},{"$f":"IF(TabUren2[[#This Row],[datum]]=\"\",\"\",TabUren2[[#This Row],[datum]])","v":""},null,null,{"$f":"IF(TabUren2[[#This Row],[datum]]=\"\",\"\",verzameldata!$C$3)","v":""},null,null,null,null,{"$f":"IF(TabUren2[[#This Row],[eindtijd]]=\"\",\"\",IF(TabUren2[[#This Row],[eindtijd]]<TabUren2[[#This Row],[begintijd]],(\"24:00\"-TabUren2[[#This Row],[begintijd]]+TabUren2[[#This Row],[eindtijd]])-TabUren2[[#This Row],[pauze]],(TabUren2[[#This Row],[eindtijd]]-TabUren2[[#This Row],[begintijd]])-TabUren2[[#This Row],[pauze]]))","v":""},{"$f":"IF(OR(TabUren2[hoofdcategorie]=\"\",TabUren2[hoofdcategorie]=0),\"anders dan hoofdcategorie\",TabUren2[hoofdcategorie])","v":"anders dan hoofdcategorie"}]
[{"$f":"IF(TabUren2[[#This Row],[datum]]=\"\",\"\",INT((TabUren2[[#This Row],[datum]]-SUM(MOD(DATE(YEAR(TabUren2[[#This Row],[datum]]-MOD(TabUren2[[#This Row],[datum]]-2,7)+3),1,2),{1E+99;7})*{1;-1})+5) /7))","v":""},{"$f":"IF(TabUren2[[#This Row],[datum]]=\"\",\"\",TabUren2[[#This Row],[datum]])","v":""},null,null,{"$f":"IF(TabUren2[[#This Row],[datum]]=\"\",\"\",verzameldata!$C$3)","v":""},null,null,null,null,{"$f":"IF(TabUren2[[#This Row],[eindtijd]]=\"\",\"\",IF(TabUren2[[#This Row],[eindtijd]]<TabUren2[[#This Row],[begintijd]],(\"24:00\"-TabUren2[[#This Row],[begintijd]]+TabUren2[[#This Row],[eindtijd]])-TabUren2[[#This Row],[pauze]],(TabUren2[[#This Row],[eindtijd]]-TabUren2[[#This Row],[begintijd]])-TabUren2[[#This Row],[pauze]]))","v":""},{"$f":"IF(OR(TabUren2[hoofdcategorie]=\"\",TabUren2[hoofdcategorie]=0),\"anders dan hoofdcategorie\",TabUren2[hoofdcategorie])","v":"anders dan hoofdcategorie"}]
[{"$f":"IF(TabUren2[[#This Row],[datum]]=\"\",\"\",INT((TabUren2[[#This Row],[datum]]-SUM(MOD(DATE(YEAR(TabUren2[[#This Row],[datum]]-MOD(TabUren2[[#This Row],[datum]]-2,7)+3),1,2),{1E+99;7})*{1;-1})+5) /7))","v":""},{"$f":"IF(TabUren2[[#This Row],[datum]]=\"\",\"\",TabUren2[[#This Row],[datum]])","v":""},null,null,{"$f":"IF(TabUren2[[#This Row],[datum]]=\"\",\"\",verzameldata!$C$3)","v":""},null,null,null,null,{"$f":"IF(TabUren2[[#This Row],[eindtijd]]=\"\",\"\",IF(TabUren2[[#This Row],[eindtijd]]<TabUren2[[#This Row],[begintijd]],(\"24:00\"-TabUren2[[#This Row],[begintijd]]+TabUren2[[#This Row],[eindtijd]])-TabUren2[[#This Row],[pauze]],(TabUren2[[#This Row],[eindtijd]]-TabUren2[[#This Row],[begintijd]])-TabUren2[[#This Row],[pauze]]))","v":""},{"$f":"IF(OR(TabUren2[hoofdcategorie]=\"\",TabUren2[hoofdcategorie]=0),\"anders dan hoofdcategorie\",TabUren2[hoofdcategorie])","v":"anders dan hoofdcategorie"}]
[{"$f":"IF(TabUren2[[#This Row],[datum]]=\"\",\"\",INT((TabUren2[[#This Row],[datum]]-SUM(MOD(DATE(YEAR(TabUren2[[#This Row],[datum]]-MOD(TabUren2[[#This Row],[datum]]-2,7)+3),1,2),{1E+99;7})*{1;-1})+5) /7))","v":""},{"$f":"IF(TabUren2[[#This Row],[datum]]=\"\",\"\",TabUren2[[#This Row],[datum]])","v":""},null,null,{"$f":"IF(TabUren2[[#This Row],[datum]]=\"\",\"\",verzameldata!$C$3)","v":""},null,null,null,null,{"$f":"IF(TabUren2[[#This Row],[eindtijd]]=\"\",\"\",IF(TabUren2[[#This Row],[eindtijd]]<TabUren2[[#This Row],[begintijd]],(\"24:00\"-TabUren2[[#This Row],[begintijd]]+TabUren2[[#This Row],[eindtijd]])-TabUren2[[#This Row],[pauze]],(TabUren2[[#This Row],[eindtijd]]-TabUren2[[#This Row],[begintijd]])-TabUren2[[#This Row],[pauze]]))","v":""},{"$f":"IF(OR(TabUren2[hoofdcategorie]=\"\",TabUren2[hoofdcategorie]=0),\"anders dan hoofdcategorie\",TabUren2[hoofdcategorie])","v":"anders dan hoofdcategorie"}]
[{"$f":"IF(TabUren2[[#This Row],[datum]]=\"\",\"\",INT((TabUren2[[#This Row],[datum]]-SUM(MOD(DATE(YEAR(TabUren2[[#This Row],[datum]]-MOD(TabUren2[[#This Row],[datum]]-2,7)+3),1,2),{1E+99;7})*{1;-1})+5) /7))","v":""},{"$f":"IF(TabUren2[[#This Row],[datum]]=\"\",\"\",TabUren2[[#This Row],[datum]])","v":""},null,null,{"$f":"IF(TabUren2[[#This Row],[datum]]=\"\",\"\",verzameldata!$C$3)","v":""},null,null,null,null,{"$f":"IF(TabUren2[[#This Row],[eindtijd]]=\"\",\"\",IF(TabUren2[[#This Row],[eindtijd]]<TabUren2[[#This Row],[begintijd]],(\"24:00\"-TabUren2[[#This Row],[begintijd]]+TabUren2[[#This Row],[eindtijd]])-TabUren2[[#This Row],[pauze]],(TabUren2[[#This Row],[eindtijd]]-TabUren2[[#This Row],[begintijd]])-TabUren2[[#This Row],[pauze]]))","v":""},{"$f":"IF(OR(TabUren2[hoofdcategorie]=\"\",TabUren2[hoofdcategorie]=0),\"anders dan hoofdcategorie\",TabUren2[hoofdcategorie])","v":"anders dan hoofdcategorie"}]
[{"$f":"IF(TabUren2[[#This Row],[datum]]=\"\",\"\",INT((TabUren2[[#This Row],[datum]]-SUM(MOD(DATE(YEAR(TabUren2[[#This Row],[datum]]-MOD(TabUren2[[#This Row],[datum]]-2,7)+3),1,2),{1E+99;7})*{1;-1})+5) /7))","v":""},{"$f":"IF(TabUren2[[#This Row],[datum]]=\"\",\"\",TabUren2[[#This Row],[datum]])","v":""},null,null,{"$f":"IF(TabUren2[[#This Row],[datum]]=\"\",\"\",verzameldata!$C$3)","v":""},null,null,null,null,{"$f":"IF(TabUren2[[#This Row],[eindtijd]]=\"\",\"\",IF(TabUren2[[#This Row],[eindtijd]]<TabUren2[[#This Row],[begintijd]],(\"24:00\"-TabUren2[[#This Row],[begintijd]]+TabUren2[[#This Row],[eindtijd]])-TabUren2[[#This Row],[pauze]],(TabUren2[[#This Row],[eindtijd]]-TabUren2[[#This Row],[begintijd]])-TabUren2[[#This Row],[pauze]]))","v":""},{"$f":"IF(OR(TabUren2[hoofdcategorie]=\"\",TabUren2[hoofdcategorie]=0),\"anders dan hoofdcategorie\",TabUren2[hoofdcategorie])","v":"anders dan hoofdcategorie"}]
[{"$f":"IF(TabUren2[[#This Row],[datum]]=\"\",\"\",INT((TabUren2[[#This Row],[datum]]-SUM(MOD(DATE(YEAR(TabUren2[[#This Row],[datum]]-MOD(TabUren2[[#This Row],[datum]]-2,7)+3),1,2),{1E+99;7})*{1;-1})+5) /7))","v":""},{"$f":"IF(TabUren2[[#This Row],[datum]]=\"\",\"\",TabUren2[[#This Row],[datum]])","v":""},null,null,{"$f":"IF(TabUren2[[#This Row],[datum]]=\"\",\"\",verzameldata!$C$3)","v":""},null,null,null,null,{"$f":"IF(TabUren2[[#This Row],[eindtijd]]=\"\",\"\",IF(TabUren2[[#This Row],[eindtijd]]<TabUren2[[#This Row],[begintijd]],(\"24:00\"-TabUren2[[#This Row],[begintijd]]+TabUren2[[#This Row],[eindtijd]])-TabUren2[[#This Row],[pauze]],(TabUren2[[#This Row],[eindtijd]]-TabUren2[[#This Row],[begintijd]])-TabUren2[[#This Row],[pauze]]))","v":""},{"$f":"IF(OR(TabUren2[hoofdcategorie]=\"\",TabUren2[hoofdcategorie]=0),\"anders dan hoofdcategorie\",TabUren2[hoofdcategorie])","v":"anders dan hoofdcategorie"}]
[{"$f":"IF(TabUren2[[#This Row],[datum]]=\"\",\"\",INT((TabUren2[[#This Row],[datum]]-SUM(MOD(DATE(YEAR(TabUren2[[#This Row],[datum]]-MOD(TabUren2[[#This Row],[datum]]-2,7)+3),1,2),{1E+99;7})*{1;-1})+5) /7))","v":""},{"$f":"IF(TabUren2[[#This Row],[datum]]=\"\",\"\",TabUren2[[#This Row],[datum]])","v":""},null,null,{"$f":"IF(TabUren2[[#This Row],[datum]]=\"\",\"\",verzameldata!$C$3)","v":""},null,null,null,null,{"$f":"IF(TabUren2[[#This Row],[eindtijd]]=\"\",\"\",IF(TabUren2[[#This Row],[eindtijd]]<TabUren2[[#This Row],[begintijd]],(\"24:00\"-TabUren2[[#This Row],[begintijd]]+TabUren2[[#This Row],[eindtijd]])-TabUren2[[#This Row],[pauze]],(TabUren2[[#This Row],[eindtijd]]-TabUren2[[#This Row],[begintijd]])-TabUren2[[#This Row],[pauze]]))","v":""},{"$f":"IF(OR(TabUren2[hoofdcategorie]=\"\",TabUren2[hoofdcategorie]=0),\"anders dan hoofdcategorie\",TabUren2[hoofdcategorie])","v":"anders dan hoofdcategorie"}]
[{"$f":"IF(TabUren2[[#This Row],[datum]]=\"\",\"\",INT((TabUren2[[#This Row],[datum]]-SUM(MOD(DATE(YEAR(TabUren2[[#This Row],[datum]]-MOD(TabUren2[[#This Row],[datum]]-2,7)+3),1,2),{1E+99;7})*{1;-1})+5) /7))","v":""},{"$f":"IF(TabUren2[[#This Row],[datum]]=\"\",\"\",TabUren2[[#This Row],[datum]])","v":""},null,null,{"$f":"IF(TabUren2[[#This Row],[datum]]=\"\",\"\",verzameldata!$C$3)","v":""},null,null,null,null,{"$f":"IF(TabUren2[[#This Row],[eindtijd]]=\"\",\"\",IF(TabUren2[[#This Row],[eindtijd]]<TabUren2[[#This Row],[begintijd]],(\"24:00\"-TabUren2[[#This Row],[begintijd]]+TabUren2[[#This Row],[eindtijd]])-TabUren2[[#This Row],[pauze]],(TabUren2[[#This Row],[eindtijd]]-TabUren2[[#This Row],[begintijd]])-TabUren2[[#This Row],[pauze]]))","v":""},{"$f":"IF(OR(TabUren2[hoofdcategorie]=\"\",TabUren2[hoofdcategorie]=0),\"anders dan hoofdcategorie\",TabUren2[hoofdcategorie])","v":"anders dan hoofdcategorie"}]
[{"$f":"IF(TabUren2[[#This Row],[datum]]=\"\",\"\",INT((TabUren2[[#This Row],[datum]]-SUM(MOD(DATE(YEAR(TabUren2[[#This Row],[datum]]-MOD(TabUren2[[#This Row],[datum]]-2,7)+3),1,2),{1E+99;7})*{1;-1})+5) /7))","v":""},{"$f":"IF(TabUren2[[#This Row],[datum]]=\"\",\"\",TabUren2[[#This Row],[datum]])","v":""},null,null,{"$f":"IF(TabUren2[[#This Row],[datum]]=\"\",\"\",verzameldata!$C$3)","v":""},null,null,null,null,{"$f":"IF(TabUren2[[#This Row],[eindtijd]]=\"\",\"\",IF(TabUren2[[#This Row],[eindtijd]]<TabUren2[[#This Row],[begintijd]],(\"24:00\"-TabUren2[[#This Row],[begintijd]]+TabUren2[[#This Row],[eindtijd]])-TabUren2[[#This Row],[pauze]],(TabUren2[[#This Row],[eindtijd]]-TabUren2[[#This Row],[begintijd]])-TabUren2[[#This Row],[pauze]]))","v":""},{"$f":"IF(OR(TabUren2[hoofdcategorie]=\"\",TabUren2[hoofdcategorie]=0),\"anders dan hoofdcategorie\",TabUren2[hoofdcategorie])","v":"anders dan hoofdcategorie"}]
[{"$f":"IF(TabUren2[[#This Row],[datum]]=\"\",\"\",INT((TabUren2[[#This Row],[datum]]-SUM(MOD(DATE(YEAR(TabUren2[[#This Row],[datum]]-MOD(TabUren2[[#This Row],[datum]]-2,7)+3),1,2),{1E+99;7})*{1;-1})+5) /7))","v":""},{"$f":"IF(TabUren2[[#This Row],[datum]]=\"\",\"\",TabUren2[[#This Row],[datum]])","v":""},null,null,{"$f":"IF(TabUren2[[#This Row],[datum]]=\"\",\"\",verzameldata!$C$3)","v":""},null,null,null,null,{"$f":"IF(TabUren2[[#This Row],[eindtijd]]=\"\",\"\",IF(TabUren2[[#This Row],[eindtijd]]<TabUren2[[#This Row],[begintijd]],(\"24:00\"-TabUren2[[#This Row],[begintijd]]+TabUren2[[#This Row],[eindtijd]])-TabUren2[[#This Row],[pauze]],(TabUren2[[#This Row],[eindtijd]]-TabUren2[[#This Row],[begintijd]])-TabUren2[[#This Row],[pauze]]))","v":""},{"$f":"IF(OR(TabUren2[hoofdcategorie]=\"\",TabUren2[hoofdcategorie]=0),\"anders dan hoofdcategorie\",TabUren2[hoofdcategorie])","v":"anders dan hoofdcategorie"}]
[{"$f":"IF(TabUren2[[#This Row],[datum]]=\"\",\"\",INT((TabUren2[[#This Row],[datum]]-SUM(MOD(DATE(YEAR(TabUren2[[#This Row],[datum]]-MOD(TabUren2[[#This Row],[datum]]-2,7)+3),1,2),{1E+99;7})*{1;-1})+5) /7))","v":""},{"$f":"IF(TabUren2[[#This Row],[datum]]=\"\",\"\",TabUren2[[#This Row],[datum]])","v":""},null,null,{"$f":"IF(TabUren2[[#This Row],[datum]]=\"\",\"\",verzameldata!$C$3)","v":""},null,null,null,null,{"$f":"IF(TabUren2[[#This Row],[eindtijd]]=\"\",\"\",IF(TabUren2[[#This Row],[eindtijd]]<TabUren2[[#This Row],[begintijd]],(\"24:00\"-TabUren2[[#This Row],[begintijd]]+TabUren2[[#This Row],[eindtijd]])-TabUren2[[#This Row],[pauze]],(TabUren2[[#This Row],[eindtijd]]-TabUren2[[#This Row],[begintijd]])-TabUren2[[#This Row],[pauze]]))","v":""},{"$f":"IF(OR(TabUren2[hoofdcategorie]=\"\",TabUren2[hoofdcategorie]=0),\"anders dan hoofdcategorie\",TabUren2[hoofdcategorie])","v":"anders dan hoofdcategorie"}]
[{"$f":"IF(TabUren2[[#This Row],[datum]]=\"\",\"\",INT((TabUren2[[#This Row],[datum]]-SUM(MOD(DATE(YEAR(TabUren2[[#This Row],[datum]]-MOD(TabUren2[[#This Row],[datum]]-2,7)+3),1,2),{1E+99;7})*{1;-1})+5) /7))","v":""},{"$f":"IF(TabUren2[[#This Row],[datum]]=\"\",\"\",TabUren2[[#This Row],[datum]])","v":""},null,null,{"$f":"IF(TabUren2[[#This Row],[datum]]=\"\",\"\",verzameldata!$C$3)","v":""},null,null,null,null,{"$f":"IF(TabUren2[[#This Row],[eindtijd]]=\"\",\"\",IF(TabUren2[[#This Row],[eindtijd]]<TabUren2[[#This Row],[begintijd]],(\"24:00\"-TabUren2[[#This Row],[begintijd]]+TabUren2[[#This Row],[eindtijd]])-TabUren2[[#This Row],[pauze]],(TabUren2[[#This Row],[eindtijd]]-TabUren2[[#This Row],[begintijd]])-TabUren2[[#This Row],[pauze]]))","v":""},{"$f":"IF(OR(TabUren2[hoofdcategorie]=\"\",TabUren2[hoofdcategorie]=0),\"anders dan hoofdcategorie\",TabUren2[hoofdcategorie])","v":"anders dan hoofdcategorie"}]
[{"$f":"IF(TabUren2[[#This Row],[datum]]=\"\",\"\",INT((TabUren2[[#This Row],[datum]]-SUM(MOD(DATE(YEAR(TabUren2[[#This Row],[datum]]-MOD(TabUren2[[#This Row],[datum]]-2,7)+3),1,2),{1E+99;7})*{1;-1})+5) /7))","v":""},{"$f":"IF(TabUren2[[#This Row],[datum]]=\"\",\"\",TabUren2[[#This Row],[datum]])","v":""},null,null,{"$f":"IF(TabUren2[[#This Row],[datum]]=\"\",\"\",verzameldata!$C$3)","v":""},null,null,null,null,{"$f":"IF(TabUren2[[#This Row],[eindtijd]]=\"\",\"\",IF(TabUren2[[#This Row],[eindtijd]]<TabUren2[[#This Row],[begintijd]],(\"24:00\"-TabUren2[[#This Row],[begintijd]]+TabUren2[[#This Row],[eindtijd]])-TabUren2[[#This Row],[pauze]],(TabUren2[[#This Row],[eindtijd]]-TabUren2[[#This Row],[begintijd]])-TabUren2[[#This Row],[pauze]]))","v":""},{"$f":"IF(OR(TabUren2[hoofdcategorie]=\"\",TabUren2[hoofdcategorie]=0),\"anders dan hoofdcategorie\",TabUren2[hoofdcategorie])","v":"anders dan hoofdcategorie"}]
[{"$f":"IF(TabUren2[[#This Row],[datum]]=\"\",\"\",INT((TabUren2[[#This Row],[datum]]-SUM(MOD(DATE(YEAR(TabUren2[[#This Row],[datum]]-MOD(TabUren2[[#This Row],[datum]]-2,7)+3),1,2),{1E+99;7})*{1;-1})+5) /7))","v":""},{"$f":"IF(TabUren2[[#This Row],[datum]]=\"\",\"\",TabUren2[[#This Row],[datum]])","v":""},null,null,{"$f":"IF(TabUren2[[#This Row],[datum]]=\"\",\"\",verzameldata!$C$3)","v":""},null,null,null,null,{"$f":"IF(TabUren2[[#This Row],[eindtijd]]=\"\",\"\",IF(TabUren2[[#This Row],[eindtijd]]<TabUren2[[#This Row],[begintijd]],(\"24:00\"-TabUren2[[#This Row],[begintijd]]+TabUren2[[#This Row],[eindtijd]])-TabUren2[[#This Row],[pauze]],(TabUren2[[#This Row],[eindtijd]]-TabUren2[[#This Row],[begintijd]])-TabUren2[[#This Row],[pauze]]))","v":""},{"$f":"IF(OR(TabUren2[hoofdcategorie]=\"\",TabUren2[hoofdcategorie]=0),\"anders dan hoofdcategorie\",TabUren2[hoofdcategorie])","v":"anders dan hoofdcategorie"}]
[{"$f":"IF(TabUren2[[#This Row],[datum]]=\"\",\"\",INT((TabUren2[[#This Row],[datum]]-SUM(MOD(DATE(YEAR(TabUren2[[#This Row],[datum]]-MOD(TabUren2[[#This Row],[datum]]-2,7)+3),1,2),{1E+99;7})*{1;-1})+5) /7))","v":""},{"$f":"IF(TabUren2[[#This Row],[datum]]=\"\",\"\",TabUren2[[#This Row],[datum]])","v":""},null,null,{"$f":"IF(TabUren2[[#This Row],[datum]]=\"\",\"\",verzameldata!$C$3)","v":""},null,null,null,null,{"$f":"IF(TabUren2[[#This Row],[eindtijd]]=\"\",\"\",IF(TabUren2[[#This Row],[eindtijd]]<TabUren2[[#This Row],[begintijd]],(\"24:00\"-TabUren2[[#This Row],[begintijd]]+TabUren2[[#This Row],[eindtijd]])-TabUren2[[#This Row],[pauze]],(TabUren2[[#This Row],[eindtijd]]-TabUren2[[#This Row],[begintijd]])-TabUren2[[#This Row],[pauze]]))","v":""},{"$f":"IF(OR(TabUren2[hoofdcategorie]=\"\",TabUren2[hoofdcategorie]=0),\"anders dan hoofdcategorie\",TabUren2[hoofdcategorie])","v":"anders dan hoofdcategorie"}]
[{"$f":"IF(TabUren2[[#This Row],[datum]]=\"\",\"\",INT((TabUren2[[#This Row],[datum]]-SUM(MOD(DATE(YEAR(TabUren2[[#This Row],[datum]]-MOD(TabUren2[[#This Row],[datum]]-2,7)+3),1,2),{1E+99;7})*{1;-1})+5) /7))","v":""},{"$f":"IF(TabUren2[[#This Row],[datum]]=\"\",\"\",TabUren2[[#This Row],[datum]])","v":""},null,null,{"$f":"IF(TabUren2[[#This Row],[datum]]=\"\",\"\",verzameldata!$C$3)","v":""},null,null,null,null,{"$f":"IF(TabUren2[[#This Row],[eindtijd]]=\"\",\"\",IF(TabUren2[[#This Row],[eindtijd]]<TabUren2[[#This Row],[begintijd]],(\"24:00\"-TabUren2[[#This Row],[begintijd]]+TabUren2[[#This Row],[eindtijd]])-TabUren2[[#This Row],[pauze]],(TabUren2[[#This Row],[eindtijd]]-TabUren2[[#This Row],[begintijd]])-TabUren2[[#This Row],[pauze]]))","v":""},{"$f":"IF(OR(TabUren2[hoofdcategorie]=\"\",TabUren2[hoofdcategorie]=0),\"anders dan hoofdcategorie\",TabUren2[hoofdcategorie])","v":"anders dan hoofdcategorie"}]
[{"$f":"IF(TabUren2[[#This Row],[datum]]=\"\",\"\",INT((TabUren2[[#This Row],[datum]]-SUM(MOD(DATE(YEAR(TabUren2[[#This Row],[datum]]-MOD(TabUren2[[#This Row],[datum]]-2,7)+3),1,2),{1E+99;7})*{1;-1})+5) /7))","v":""},{"$f":"IF(TabUren2[[#This Row],[datum]]=\"\",\"\",TabUren2[[#This Row],[datum]])","v":""},null,null,{"$f":"IF(TabUren2[[#This Row],[datum]]=\"\",\"\",verzameldata!$C$3)","v":""},null,null,null,null,{"$f":"IF(TabUren2[[#This Row],[eindtijd]]=\"\",\"\",IF(TabUren2[[#This Row],[eindtijd]]<TabUren2[[#This Row],[begintijd]],(\"24:00\"-TabUren2[[#This Row],[begintijd]]+TabUren2[[#This Row],[eindtijd]])-TabUren2[[#This Row],[pauze]],(TabUren2[[#This Row],[eindtijd]]-TabUren2[[#This Row],[begintijd]])-TabUren2[[#This Row],[pauze]]))","v":""},{"$f":"IF(OR(TabUren2[hoofdcategorie]=\"\",TabUren2[hoofdcategorie]=0),\"anders dan hoofdcategorie\",TabUren2[hoofdcategorie])","v":"anders dan hoofdcategorie"}]
[{"$f":"IF(TabUren2[[#This Row],[datum]]=\"\",\"\",INT((TabUren2[[#This Row],[datum]]-SUM(MOD(DATE(YEAR(TabUren2[[#This Row],[datum]]-MOD(TabUren2[[#This Row],[datum]]-2,7)+3),1,2),{1E+99;7})*{1;-1})+5) /7))","v":""},{"$f":"IF(TabUren2[[#This Row],[datum]]=\"\",\"\",TabUren2[[#This Row],[datum]])","v":""},null,null,{"$f":"IF(TabUren2[[#This Row],[datum]]=\"\",\"\",verzameldata!$C$3)","v":""},null,null,null,null,{"$f":"IF(TabUren2[[#This Row],[eindtijd]]=\"\",\"\",IF(TabUren2[[#This Row],[eindtijd]]<TabUren2[[#This Row],[begintijd]],(\"24:00\"-TabUren2[[#This Row],[begintijd]]+TabUren2[[#This Row],[eindtijd]])-TabUren2[[#This Row],[pauze]],(TabUren2[[#This Row],[eindtijd]]-TabUren2[[#This Row],[begintijd]])-TabUren2[[#This Row],[pauze]]))","v":""},{"$f":"IF(OR(TabUren2[hoofdcategorie]=\"\",TabUren2[hoofdcategorie]=0),\"anders dan hoofdcategorie\",TabUren2[hoofdcategorie])","v":"anders dan hoofdcategorie"}]
[{"$f":"IF(TabUren2[[#This Row],[datum]]=\"\",\"\",INT((TabUren2[[#This Row],[datum]]-SUM(MOD(DATE(YEAR(TabUren2[[#This Row],[datum]]-MOD(TabUren2[[#This Row],[datum]]-2,7)+3),1,2),{1E+99;7})*{1;-1})+5) /7))","v":""},{"$f":"IF(TabUren2[[#This Row],[datum]]=\"\",\"\",TabUren2[[#This Row],[datum]])","v":""},null,null,{"$f":"IF(TabUren2[[#This Row],[datum]]=\"\",\"\",verzameldata!$C$3)","v":""},null,null,null,null,{"$f":"IF(TabUren2[[#This Row],[eindtijd]]=\"\",\"\",IF(TabUren2[[#This Row],[eindtijd]]<TabUren2[[#This Row],[begintijd]],(\"24:00\"-TabUren2[[#This Row],[begintijd]]+TabUren2[[#This Row],[eindtijd]])-TabUren2[[#This Row],[pauze]],(TabUren2[[#This Row],[eindtijd]]-TabUren2[[#This Row],[begintijd]])-TabUren2[[#This Row],[pauze]]))","v":""},{"$f":"IF(OR(TabUren2[hoofdcategorie]=\"\",TabUren2[hoofdcategorie]=0),\"anders dan hoofdcategorie\",TabUren2[hoofdcategorie])","v":"anders dan hoofdcategorie"}]
[{"$f":"IF(TabUren2[[#This Row],[datum]]=\"\",\"\",INT((TabUren2[[#This Row],[datum]]-SUM(MOD(DATE(YEAR(TabUren2[[#This Row],[datum]]-MOD(TabUren2[[#This Row],[datum]]-2,7)+3),1,2),{1E+99;7})*{1;-1})+5) /7))","v":""},{"$f":"IF(TabUren2[[#This Row],[datum]]=\"\",\"\",TabUren2[[#This Row],[datum]])","v":""},null,null,{"$f":"IF(TabUren2[[#This Row],[datum]]=\"\",\"\",verzameldata!$C$3)","v":""},null,null,null,null,{"$f":"IF(TabUren2[[#This Row],[eindtijd]]=\"\",\"\",IF(TabUren2[[#This Row],[eindtijd]]<TabUren2[[#This Row],[begintijd]],(\"24:00\"-TabUren2[[#This Row],[begintijd]]+TabUren2[[#This Row],[eindtijd]])-TabUren2[[#This Row],[pauze]],(TabUren2[[#This Row],[eindtijd]]-TabUren2[[#This Row],[begintijd]])-TabUren2[[#This Row],[pauze]]))","v":""},{"$f":"IF(OR(TabUren2[hoofdcategorie]=\"\",TabUren2[hoofdcategorie]=0),\"anders dan hoofdcategorie\",TabUren2[hoofdcategorie])","v":"anders dan hoofdcategorie"}]
[{"$f":"IF(TabUren2[[#This Row],[datum]]=\"\",\"\",INT((TabUren2[[#This Row],[datum]]-SUM(MOD(DATE(YEAR(TabUren2[[#This Row],[datum]]-MOD(TabUren2[[#This Row],[datum]]-2,7)+3),1,2),{1E+99;7})*{1;-1})+5) /7))","v":""},{"$f":"IF(TabUren2[[#This Row],[datum]]=\"\",\"\",TabUren2[[#This Row],[datum]])","v":""},null,null,{"$f":"IF(TabUren2[[#This Row],[datum]]=\"\",\"\",verzameldata!$C$3)","v":""},null,null,null,null,{"$f":"IF(TabUren2[[#This Row],[eindtijd]]=\"\",\"\",IF(TabUren2[[#This Row],[eindtijd]]<TabUren2[[#This Row],[begintijd]],(\"24:00\"-TabUren2[[#This Row],[begintijd]]+TabUren2[[#This Row],[eindtijd]])-TabUren2[[#This Row],[pauze]],(TabUren2[[#This Row],[eindtijd]]-TabUren2[[#This Row],[begintijd]])-TabUren2[[#This Row],[pauze]]))","v":""},{"$f":"IF(OR(TabUren2[hoofdcategorie]=\"\",TabUren2[hoofdcategorie]=0),\"anders dan hoofdcategorie\",TabUren2[hoofdcategorie])","v":"anders dan hoofdcategorie"}]
[{"$f":"IF(TabUren2[[#This Row],[datum]]=\"\",\"\",INT((TabUren2[[#This Row],[datum]]-SUM(MOD(DATE(YEAR(TabUren2[[#This Row],[datum]]-MOD(TabUren2[[#This Row],[datum]]-2,7)+3),1,2),{1E+99;7})*{1;-1})+5) /7))","v":""},{"$f":"IF(TabUren2[[#This Row],[datum]]=\"\",\"\",TabUren2[[#This Row],[datum]])","v":""},null,null,{"$f":"IF(TabUren2[[#This Row],[datum]]=\"\",\"\",verzameldata!$C$3)","v":""},null,null,null,null,{"$f":"IF(TabUren2[[#This Row],[eindtijd]]=\"\",\"\",IF(TabUren2[[#This Row],[eindtijd]]<TabUren2[[#This Row],[begintijd]],(\"24:00\"-TabUren2[[#This Row],[begintijd]]+TabUren2[[#This Row],[eindtijd]])-TabUren2[[#This Row],[pauze]],(TabUren2[[#This Row],[eindtijd]]-TabUren2[[#This Row],[begintijd]])-TabUren2[[#This Row],[pauze]]))","v":""},{"$f":"IF(OR(TabUren2[hoofdcategorie]=\"\",TabUren2[hoofdcategorie]=0),\"anders dan hoofdcategorie\",TabUren2[hoofdcategorie])","v":"anders dan hoofdcategorie"}]
[{"$f":"IF(TabUren2[[#This Row],[datum]]=\"\",\"\",INT((TabUren2[[#This Row],[datum]]-SUM(MOD(DATE(YEAR(TabUren2[[#This Row],[datum]]-MOD(TabUren2[[#This Row],[datum]]-2,7)+3),1,2),{1E+99;7})*{1;-1})+5) /7))","v":""},{"$f":"IF(TabUren2[[#This Row],[datum]]=\"\",\"\",TabUren2[[#This Row],[datum]])","v":""},null,null,{"$f":"IF(TabUren2[[#This Row],[datum]]=\"\",\"\",verzameldata!$C$3)","v":""},null,null,null,null,{"$f":"IF(TabUren2[[#This Row],[eindtijd]]=\"\",\"\",IF(TabUren2[[#This Row],[eindtijd]]<TabUren2[[#This Row],[begintijd]],(\"24:00\"-TabUren2[[#This Row],[begintijd]]+TabUren2[[#This Row],[eindtijd]])-TabUren2[[#This Row],[pauze]],(TabUren2[[#This Row],[eindtijd]]-TabUren2[[#This Row],[begintijd]])-TabUren2[[#This Row],[pauze]]))","v":""},{"$f":"IF(OR(TabUren2[hoofdcategorie]=\"\",TabUren2[hoofdcategorie]=0),\"anders dan hoofdcategorie\",TabUren2[hoofdcategorie])","v":"anders dan hoofdcategorie"}]
[{"$f":"IF(TabUren2[[#This Row],[datum]]=\"\",\"\",INT((TabUren2[[#This Row],[datum]]-SUM(MOD(DATE(YEAR(TabUren2[[#This Row],[datum]]-MOD(TabUren2[[#This Row],[datum]]-2,7)+3),1,2),{1E+99;7})*{1;-1})+5) /7))","v":""},{"$f":"IF(TabUren2[[#This Row],[datum]]=\"\",\"\",TabUren2[[#This Row],[datum]])","v":""},null,null,{"$f":"IF(TabUren2[[#This Row],[datum]]=\"\",\"\",verzameldata!$C$3)","v":""},null,null,null,null,{"$f":"IF(TabUren2[[#This Row],[eindtijd]]=\"\",\"\",IF(TabUren2[[#This Row],[eindtijd]]<TabUren2[[#This Row],[begintijd]],(\"24:00\"-TabUren2[[#This Row],[begintijd]]+TabUren2[[#This Row],[eindtijd]])-TabUren2[[#This Row],[pauze]],(TabUren2[[#This Row],[eindtijd]]-TabUren2[[#This Row],[begintijd]])-TabUren2[[#This Row],[pauze]]))","v":""},{"$f":"IF(OR(TabUren2[hoofdcategorie]=\"\",TabUren2[hoofdcategorie]=0),\"anders dan hoofdcategorie\",TabUren2[hoofdcategorie])","v":"anders dan hoofdcategorie"}]
[{"$f":"IF(TabUren2[[#This Row],[datum]]=\"\",\"\",INT((TabUren2[[#This Row],[datum]]-SUM(MOD(DATE(YEAR(TabUren2[[#This Row],[datum]]-MOD(TabUren2[[#This Row],[datum]]-2,7)+3),1,2),{1E+99;7})*{1;-1})+5) /7))","v":""},{"$f":"IF(TabUren2[[#This Row],[datum]]=\"\",\"\",TabUren2[[#This Row],[datum]])","v":""},null,null,{"$f":"IF(TabUren2[[#This Row],[datum]]=\"\",\"\",verzameldata!$C$3)","v":""},null,null,null,null,{"$f":"IF(TabUren2[[#This Row],[eindtijd]]=\"\",\"\",IF(TabUren2[[#This Row],[eindtijd]]<TabUren2[[#This Row],[begintijd]],(\"24:00\"-TabUren2[[#This Row],[begintijd]]+TabUren2[[#This Row],[eindtijd]])-TabUren2[[#This Row],[pauze]],(TabUren2[[#This Row],[eindtijd]]-TabUren2[[#This Row],[begintijd]])-TabUren2[[#This Row],[pauze]]))","v":""},{"$f":"IF(OR(TabUren2[hoofdcategorie]=\"\",TabUren2[hoofdcategorie]=0),\"anders dan hoofdcategorie\",TabUren2[hoofdcategorie])","v":"anders dan hoofdcategorie"}]
[{"$f":"IF(TabUren2[[#This Row],[datum]]=\"\",\"\",INT((TabUren2[[#This Row],[datum]]-SUM(MOD(DATE(YEAR(TabUren2[[#This Row],[datum]]-MOD(TabUren2[[#This Row],[datum]]-2,7)+3),1,2),{1E+99;7})*{1;-1})+5) /7))","v":""},{"$f":"IF(TabUren2[[#This Row],[datum]]=\"\",\"\",TabUren2[[#This Row],[datum]])","v":""},null,null,{"$f":"IF(TabUren2[[#This Row],[datum]]=\"\",\"\",verzameldata!$C$3)","v":""},null,null,null,null,{"$f":"IF(TabUren2[[#This Row],[eindtijd]]=\"\",\"\",IF(TabUren2[[#This Row],[eindtijd]]<TabUren2[[#This Row],[begintijd]],(\"24:00\"-TabUren2[[#This Row],[begintijd]]+TabUren2[[#This Row],[eindtijd]])-TabUren2[[#This Row],[pauze]],(TabUren2[[#This Row],[eindtijd]]-TabUren2[[#This Row],[begintijd]])-TabUren2[[#This Row],[pauze]]))","v":""},{"$f":"IF(OR(TabUren2[hoofdcategorie]=\"\",TabUren2[hoofdcategorie]=0),\"anders dan hoofdcategorie\",TabUren2[hoofdcategorie])","v":"anders dan hoofdcategorie"}]
[{"$f":"IF(TabUren2[[#This Row],[datum]]=\"\",\"\",INT((TabUren2[[#This Row],[datum]]-SUM(MOD(DATE(YEAR(TabUren2[[#This Row],[datum]]-MOD(TabUren2[[#This Row],[datum]]-2,7)+3),1,2),{1E+99;7})*{1;-1})+5) /7))","v":""},{"$f":"IF(TabUren2[[#This Row],[datum]]=\"\",\"\",TabUren2[[#This Row],[datum]])","v":""},null,null,{"$f":"IF(TabUren2[[#This Row],[datum]]=\"\",\"\",verzameldata!$C$3)","v":""},null,null,null,null,{"$f":"IF(TabUren2[[#This Row],[eindtijd]]=\"\",\"\",IF(TabUren2[[#This Row],[eindtijd]]<TabUren2[[#This Row],[begintijd]],(\"24:00\"-TabUren2[[#This Row],[begintijd]]+TabUren2[[#This Row],[eindtijd]])-TabUren2[[#This Row],[pauze]],(TabUren2[[#This Row],[eindtijd]]-TabUren2[[#This Row],[begintijd]])-TabUren2[[#This Row],[pauze]]))","v":""},{"$f":"IF(OR(TabUren2[hoofdcategorie]=\"\",TabUren2[hoofdcategorie]=0),\"anders dan hoofdcategorie\",TabUren2[hoofdcategorie])","v":"anders dan hoofdcategorie"}]
[{"$f":"IF(TabUren2[[#This Row],[datum]]=\"\",\"\",INT((TabUren2[[#This Row],[datum]]-SUM(MOD(DATE(YEAR(TabUren2[[#This Row],[datum]]-MOD(TabUren2[[#This Row],[datum]]-2,7)+3),1,2),{1E+99;7})*{1;-1})+5) /7))","v":""},{"$f":"IF(TabUren2[[#This Row],[datum]]=\"\",\"\",TabUren2[[#This Row],[datum]])","v":""},null,null,{"$f":"IF(TabUren2[[#This Row],[datum]]=\"\",\"\",verzameldata!$C$3)","v":""},null,null,null,null,{"$f":"IF(TabUren2[[#This Row],[eindtijd]]=\"\",\"\",IF(TabUren2[[#This Row],[eindtijd]]<TabUren2[[#This Row],[begintijd]],(\"24:00\"-TabUren2[[#This Row],[begintijd]]+TabUren2[[#This Row],[eindtijd]])-TabUren2[[#This Row],[pauze]],(TabUren2[[#This Row],[eindtijd]]-TabUren2[[#This Row],[begintijd]])-TabUren2[[#This Row],[pauze]]))","v":""},{"$f":"IF(OR(TabUren2[hoofdcategorie]=\"\",TabUren2[hoofdcategorie]=0),\"anders dan hoofdcategorie\",TabUren2[hoofdcategorie])","v":"anders dan hoofdcategorie"}]
[{"$f":"IF(TabUren2[[#This Row],[datum]]=\"\",\"\",INT((TabUren2[[#This Row],[datum]]-SUM(MOD(DATE(YEAR(TabUren2[[#This Row],[datum]]-MOD(TabUren2[[#This Row],[datum]]-2,7)+3),1,2),{1E+99;7})*{1;-1})+5) /7))","v":""},{"$f":"IF(TabUren2[[#This Row],[datum]]=\"\",\"\",TabUren2[[#This Row],[datum]])","v":""},null,null,{"$f":"IF(TabUren2[[#This Row],[datum]]=\"\",\"\",verzameldata!$C$3)","v":""},null,null,null,null,{"$f":"IF(TabUren2[[#This Row],[eindtijd]]=\"\",\"\",IF(TabUren2[[#This Row],[eindtijd]]<TabUren2[[#This Row],[begintijd]],(\"24:00\"-TabUren2[[#This Row],[begintijd]]+TabUren2[[#This Row],[eindtijd]])-TabUren2[[#This Row],[pauze]],(TabUren2[[#This Row],[eindtijd]]-TabUren2[[#This Row],[begintijd]])-TabUren2[[#This Row],[pauze]]))","v":""},{"$f":"IF(OR(TabUren2[hoofdcategorie]=\"\",TabUren2[hoofdcategorie]=0),\"anders dan hoofdcategorie\",TabUren2[hoofdcategorie])","v":"anders dan hoofdcategorie"}]
[{"$f":"IF(TabUren2[[#This Row],[datum]]=\"\",\"\",INT((TabUren2[[#This Row],[datum]]-SUM(MOD(DATE(YEAR(TabUren2[[#This Row],[datum]]-MOD(TabUren2[[#This Row],[datum]]-2,7)+3),1,2),{1E+99;7})*{1;-1})+5) /7))","v":""},{"$f":"IF(TabUren2[[#This Row],[datum]]=\"\",\"\",TabUren2[[#This Row],[datum]])","v":""},null,null,{"$f":"IF(TabUren2[[#This Row],[datum]]=\"\",\"\",verzameldata!$C$3)","v":""},null,null,null,null,{"$f":"IF(TabUren2[[#This Row],[eindtijd]]=\"\",\"\",IF(TabUren2[[#This Row],[eindtijd]]<TabUren2[[#This Row],[begintijd]],(\"24:00\"-TabUren2[[#This Row],[begintijd]]+TabUren2[[#This Row],[eindtijd]])-TabUren2[[#This Row],[pauze]],(TabUren2[[#This Row],[eindtijd]]-TabUren2[[#This Row],[begintijd]])-TabUren2[[#This Row],[pauze]]))","v":""},{"$f":"IF(OR(TabUren2[hoofdcategorie]=\"\",TabUren2[hoofdcategorie]=0),\"anders dan hoofdcategorie\",TabUren2[hoofdcategorie])","v":"anders dan hoofdcategorie"}]
[{"$f":"IF(TabUren2[[#This Row],[datum]]=\"\",\"\",INT((TabUren2[[#This Row],[datum]]-SUM(MOD(DATE(YEAR(TabUren2[[#This Row],[datum]]-MOD(TabUren2[[#This Row],[datum]]-2,7)+3),1,2),{1E+99;7})*{1;-1})+5) /7))","v":""},{"$f":"IF(TabUren2[[#This Row],[datum]]=\"\",\"\",TabUren2[[#This Row],[datum]])","v":""},null,null,{"$f":"IF(TabUren2[[#This Row],[datum]]=\"\",\"\",verzameldata!$C$3)","v":""},null,null,null,null,{"$f":"IF(TabUren2[[#This Row],[eindtijd]]=\"\",\"\",IF(TabUren2[[#This Row],[eindtijd]]<TabUren2[[#This Row],[begintijd]],(\"24:00\"-TabUren2[[#This Row],[begintijd]]+TabUren2[[#This Row],[eindtijd]])-TabUren2[[#This Row],[pauze]],(TabUren2[[#This Row],[eindtijd]]-TabUren2[[#This Row],[begintijd]])-TabUren2[[#This Row],[pauze]]))","v":""},{"$f":"IF(OR(TabUren2[hoofdcategorie]=\"\",TabUren2[hoofdcategorie]=0),\"anders dan hoofdcategorie\",TabUren2[hoofdcategorie])","v":"anders dan hoofdcategorie"}]
[{"$f":"IF(TabUren2[[#This Row],[datum]]=\"\",\"\",INT((TabUren2[[#This Row],[datum]]-SUM(MOD(DATE(YEAR(TabUren2[[#This Row],[datum]]-MOD(TabUren2[[#This Row],[datum]]-2,7)+3),1,2),{1E+99;7})*{1;-1})+5) /7))","v":""},{"$f":"IF(TabUren2[[#This Row],[datum]]=\"\",\"\",TabUren2[[#This Row],[datum]])","v":""},null,null,{"$f":"IF(TabUren2[[#This Row],[datum]]=\"\",\"\",verzameldata!$C$3)","v":""},null,null,null,null,{"$f":"IF(TabUren2[[#This Row],[eindtijd]]=\"\",\"\",IF(TabUren2[[#This Row],[eindtijd]]<TabUren2[[#This Row],[begintijd]],(\"24:00\"-TabUren2[[#This Row],[begintijd]]+TabUren2[[#This Row],[eindtijd]])-TabUren2[[#This Row],[pauze]],(TabUren2[[#This Row],[eindtijd]]-TabUren2[[#This Row],[begintijd]])-TabUren2[[#This Row],[pauze]]))","v":""},{"$f":"IF(OR(TabUren2[hoofdcategorie]=\"\",TabUren2[hoofdcategorie]=0),\"anders dan hoofdcategorie\",TabUren2[hoofdcategorie])","v":"anders dan hoofdcategorie"}]
[{"$f":"IF(TabUren2[[#This Row],[datum]]=\"\",\"\",INT((TabUren2[[#This Row],[datum]]-SUM(MOD(DATE(YEAR(TabUren2[[#This Row],[datum]]-MOD(TabUren2[[#This Row],[datum]]-2,7)+3),1,2),{1E+99;7})*{1;-1})+5) /7))","v":""},{"$f":"IF(TabUren2[[#This Row],[datum]]=\"\",\"\",TabUren2[[#This Row],[datum]])","v":""},null,null,{"$f":"IF(TabUren2[[#This Row],[datum]]=\"\",\"\",verzameldata!$C$3)","v":""},null,null,null,null,{"$f":"IF(TabUren2[[#This Row],[eindtijd]]=\"\",\"\",IF(TabUren2[[#This Row],[eindtijd]]<TabUren2[[#This Row],[begintijd]],(\"24:00\"-TabUren2[[#This Row],[begintijd]]+TabUren2[[#This Row],[eindtijd]])-TabUren2[[#This Row],[pauze]],(TabUren2[[#This Row],[eindtijd]]-TabUren2[[#This Row],[begintijd]])-TabUren2[[#This Row],[pauze]]))","v":""},{"$f":"IF(OR(TabUren2[hoofdcategorie]=\"\",TabUren2[hoofdcategorie]=0),\"anders dan hoofdcategorie\",TabUren2[hoofdcategorie])","v":"anders dan hoofdcategorie"}]
[{"$f":"IF(TabUren2[[#This Row],[datum]]=\"\",\"\",INT((TabUren2[[#This Row],[datum]]-SUM(MOD(DATE(YEAR(TabUren2[[#This Row],[datum]]-MOD(TabUren2[[#This Row],[datum]]-2,7)+3),1,2),{1E+99;7})*{1;-1})+5) /7))","v":""},{"$f":"IF(TabUren2[[#This Row],[datum]]=\"\",\"\",TabUren2[[#This Row],[datum]])","v":""},null,null,{"$f":"IF(TabUren2[[#This Row],[datum]]=\"\",\"\",verzameldata!$C$3)","v":""},null,null,null,null,{"$f":"IF(TabUren2[[#This Row],[eindtijd]]=\"\",\"\",IF(TabUren2[[#This Row],[eindtijd]]<TabUren2[[#This Row],[begintijd]],(\"24:00\"-TabUren2[[#This Row],[begintijd]]+TabUren2[[#This Row],[eindtijd]])-TabUren2[[#This Row],[pauze]],(TabUren2[[#This Row],[eindtijd]]-TabUren2[[#This Row],[begintijd]])-TabUren2[[#This Row],[pauze]]))","v":""},{"$f":"IF(OR(TabUren2[hoofdcategorie]=\"\",TabUren2[hoofdcategorie]=0),\"anders dan hoofdcategorie\",TabUren2[hoofdcategorie])","v":"anders dan hoofdcategorie"}]
[{"$f":"IF(TabUren2[[#This Row],[datum]]=\"\",\"\",INT((TabUren2[[#This Row],[datum]]-SUM(MOD(DATE(YEAR(TabUren2[[#This Row],[datum]]-MOD(TabUren2[[#This Row],[datum]]-2,7)+3),1,2),{1E+99;7})*{1;-1})+5) /7))","v":""},{"$f":"IF(TabUren2[[#This Row],[datum]]=\"\",\"\",TabUren2[[#This Row],[datum]])","v":""},null,null,{"$f":"IF(TabUren2[[#This Row],[datum]]=\"\",\"\",verzameldata!$C$3)","v":""},null,null,null,null,{"$f":"IF(TabUren2[[#This Row],[eindtijd]]=\"\",\"\",IF(TabUren2[[#This Row],[eindtijd]]<TabUren2[[#This Row],[begintijd]],(\"24:00\"-TabUren2[[#This Row],[begintijd]]+TabUren2[[#This Row],[eindtijd]])-TabUren2[[#This Row],[pauze]],(TabUren2[[#This Row],[eindtijd]]-TabUren2[[#This Row],[begintijd]])-TabUren2[[#This Row],[pauze]]))","v":""},{"$f":"IF(OR(TabUren2[hoofdcategorie]=\"\",TabUren2[hoofdcategorie]=0),\"anders dan hoofdcategorie\",TabUren2[hoofdcategorie])","v":"anders dan hoofdcategorie"}]
[{"$f":"IF(TabUren2[[#This Row],[datum]]=\"\",\"\",INT((TabUren2[[#This Row],[datum]]-SUM(MOD(DATE(YEAR(TabUren2[[#This Row],[datum]]-MOD(TabUren2[[#This Row],[datum]]-2,7)+3),1,2),{1E+99;7})*{1;-1})+5) /7))","v":""},{"$f":"IF(TabUren2[[#This Row],[datum]]=\"\",\"\",TabUren2[[#This Row],[datum]])","v":""},null,null,{"$f":"IF(TabUren2[[#This Row],[datum]]=\"\",\"\",verzameldata!$C$3)","v":""},null,null,null,null,{"$f":"IF(TabUren2[[#This Row],[eindtijd]]=\"\",\"\",IF(TabUren2[[#This Row],[eindtijd]]<TabUren2[[#This Row],[begintijd]],(\"24:00\"-TabUren2[[#This Row],[begintijd]]+TabUren2[[#This Row],[eindtijd]])-TabUren2[[#This Row],[pauze]],(TabUren2[[#This Row],[eindtijd]]-TabUren2[[#This Row],[begintijd]])-TabUren2[[#This Row],[pauze]]))","v":""},{"$f":"IF(OR(TabUren2[hoofdcategorie]=\"\",TabUren2[hoofdcategorie]=0),\"anders dan hoofdcategorie\",TabUren2[hoofdcategorie])","v":"anders dan hoofdcategorie"}]
[{"$f":"IF(TabUren2[[#This Row],[datum]]=\"\",\"\",INT((TabUren2[[#This Row],[datum]]-SUM(MOD(DATE(YEAR(TabUren2[[#This Row],[datum]]-MOD(TabUren2[[#This Row],[datum]]-2,7)+3),1,2),{1E+99;7})*{1;-1})+5) /7))","v":""},{"$f":"IF(TabUren2[[#This Row],[datum]]=\"\",\"\",TabUren2[[#This Row],[datum]])","v":""},null,null,{"$f":"IF(TabUren2[[#This Row],[datum]]=\"\",\"\",verzameldata!$C$3)","v":""},null,null,null,null,{"$f":"IF(TabUren2[[#This Row],[eindtijd]]=\"\",\"\",IF(TabUren2[[#This Row],[eindtijd]]<TabUren2[[#This Row],[begintijd]],(\"24:00\"-TabUren2[[#This Row],[begintijd]]+TabUren2[[#This Row],[eindtijd]])-TabUren2[[#This Row],[pauze]],(TabUren2[[#This Row],[eindtijd]]-TabUren2[[#This Row],[begintijd]])-TabUren2[[#This Row],[pauze]]))","v":""},{"$f":"IF(OR(TabUren2[hoofdcategorie]=\"\",TabUren2[hoofdcategorie]=0),\"anders dan hoofdcategorie\",TabUren2[hoofdcategorie])","v":"anders dan hoofdcategorie"}]
[{"$f":"IF(TabUren2[[#This Row],[datum]]=\"\",\"\",INT((TabUren2[[#This Row],[datum]]-SUM(MOD(DATE(YEAR(TabUren2[[#This Row],[datum]]-MOD(TabUren2[[#This Row],[datum]]-2,7)+3),1,2),{1E+99;7})*{1;-1})+5) /7))","v":""},{"$f":"IF(TabUren2[[#This Row],[datum]]=\"\",\"\",TabUren2[[#This Row],[datum]])","v":""},null,null,{"$f":"IF(TabUren2[[#This Row],[datum]]=\"\",\"\",verzameldata!$C$3)","v":""},null,null,null,null,{"$f":"IF(TabUren2[[#This Row],[eindtijd]]=\"\",\"\",IF(TabUren2[[#This Row],[eindtijd]]<TabUren2[[#This Row],[begintijd]],(\"24:00\"-TabUren2[[#This Row],[begintijd]]+TabUren2[[#This Row],[eindtijd]])-TabUren2[[#This Row],[pauze]],(TabUren2[[#This Row],[eindtijd]]-TabUren2[[#This Row],[begintijd]])-TabUren2[[#This Row],[pauze]]))","v":""},{"$f":"IF(OR(TabUren2[hoofdcategorie]=\"\",TabUren2[hoofdcategorie]=0),\"anders dan hoofdcategorie\",TabUren2[hoofdcategorie])","v":"anders dan hoofdcategorie"}]
[{"$f":"IF(TabUren2[[#This Row],[datum]]=\"\",\"\",INT((TabUren2[[#This Row],[datum]]-SUM(MOD(DATE(YEAR(TabUren2[[#This Row],[datum]]-MOD(TabUren2[[#This Row],[datum]]-2,7)+3),1,2),{1E+99;7})*{1;-1})+5) /7))","v":""},{"$f":"IF(TabUren2[[#This Row],[datum]]=\"\",\"\",TabUren2[[#This Row],[datum]])","v":""},null,null,{"$f":"IF(TabUren2[[#This Row],[datum]]=\"\",\"\",verzameldata!$C$3)","v":""},null,null,null,null,{"$f":"IF(TabUren2[[#This Row],[eindtijd]]=\"\",\"\",IF(TabUren2[[#This Row],[eindtijd]]<TabUren2[[#This Row],[begintijd]],(\"24:00\"-TabUren2[[#This Row],[begintijd]]+TabUren2[[#This Row],[eindtijd]])-TabUren2[[#This Row],[pauze]],(TabUren2[[#This Row],[eindtijd]]-TabUren2[[#This Row],[begintijd]])-TabUren2[[#This Row],[pauze]]))","v":""},{"$f":"IF(OR(TabUren2[hoofdcategorie]=\"\",TabUren2[hoofdcategorie]=0),\"anders dan hoofdcategorie\",TabUren2[hoofdcategorie])","v":"anders dan hoofdcategorie"}]
[{"$f":"IF(TabUren2[[#This Row],[datum]]=\"\",\"\",INT((TabUren2[[#This Row],[datum]]-SUM(MOD(DATE(YEAR(TabUren2[[#This Row],[datum]]-MOD(TabUren2[[#This Row],[datum]]-2,7)+3),1,2),{1E+99;7})*{1;-1})+5) /7))","v":""},{"$f":"IF(TabUren2[[#This Row],[datum]]=\"\",\"\",TabUren2[[#This Row],[datum]])","v":""},null,null,{"$f":"IF(TabUren2[[#This Row],[datum]]=\"\",\"\",verzameldata!$C$3)","v":""},null,null,null,null,{"$f":"IF(TabUren2[[#This Row],[eindtijd]]=\"\",\"\",IF(TabUren2[[#This Row],[eindtijd]]<TabUren2[[#This Row],[begintijd]],(\"24:00\"-TabUren2[[#This Row],[begintijd]]+TabUren2[[#This Row],[eindtijd]])-TabUren2[[#This Row],[pauze]],(TabUren2[[#This Row],[eindtijd]]-TabUren2[[#This Row],[begintijd]])-TabUren2[[#This Row],[pauze]]))","v":""},{"$f":"IF(OR(TabUren2[hoofdcategorie]=\"\",TabUren2[hoofdcategorie]=0),\"anders dan hoofdcategorie\",TabUren2[hoofdcategorie])","v":"anders dan hoofdcategorie"}]
[{"$f":"IF(TabUren2[[#This Row],[datum]]=\"\",\"\",INT((TabUren2[[#This Row],[datum]]-SUM(MOD(DATE(YEAR(TabUren2[[#This Row],[datum]]-MOD(TabUren2[[#This Row],[datum]]-2,7)+3),1,2),{1E+99;7})*{1;-1})+5) /7))","v":""},{"$f":"IF(TabUren2[[#This Row],[datum]]=\"\",\"\",TabUren2[[#This Row],[datum]])","v":""},null,null,{"$f":"IF(TabUren2[[#This Row],[datum]]=\"\",\"\",verzameldata!$C$3)","v":""},null,null,null,null,{"$f":"IF(TabUren2[[#This Row],[eindtijd]]=\"\",\"\",IF(TabUren2[[#This Row],[eindtijd]]<TabUren2[[#This Row],[begintijd]],(\"24:00\"-TabUren2[[#This Row],[begintijd]]+TabUren2[[#This Row],[eindtijd]])-TabUren2[[#This Row],[pauze]],(TabUren2[[#This Row],[eindtijd]]-TabUren2[[#This Row],[begintijd]])-TabUren2[[#This Row],[pauze]]))","v":""},{"$f":"IF(OR(TabUren2[hoofdcategorie]=\"\",TabUren2[hoofdcategorie]=0),\"anders dan hoofdcategorie\",TabUren2[hoofdcategorie])","v":"anders dan hoofdcategorie"}]
[{"$f":"IF(TabUren2[[#This Row],[datum]]=\"\",\"\",INT((TabUren2[[#This Row],[datum]]-SUM(MOD(DATE(YEAR(TabUren2[[#This Row],[datum]]-MOD(TabUren2[[#This Row],[datum]]-2,7)+3),1,2),{1E+99;7})*{1;-1})+5) /7))","v":""},{"$f":"IF(TabUren2[[#This Row],[datum]]=\"\",\"\",TabUren2[[#This Row],[datum]])","v":""},null,null,{"$f":"IF(TabUren2[[#This Row],[datum]]=\"\",\"\",verzameldata!$C$3)","v":""},null,null,null,null,{"$f":"IF(TabUren2[[#This Row],[eindtijd]]=\"\",\"\",IF(TabUren2[[#This Row],[eindtijd]]<TabUren2[[#This Row],[begintijd]],(\"24:00\"-TabUren2[[#This Row],[begintijd]]+TabUren2[[#This Row],[eindtijd]])-TabUren2[[#This Row],[pauze]],(TabUren2[[#This Row],[eindtijd]]-TabUren2[[#This Row],[begintijd]])-TabUren2[[#This Row],[pauze]]))","v":""},{"$f":"IF(OR(TabUren2[hoofdcategorie]=\"\",TabUren2[hoofdcategorie]=0),\"anders dan hoofdcategorie\",TabUren2[hoofdcategorie])","v":"anders dan hoofdcategorie"}]
[{"$f":"IF(TabUren2[[#This Row],[datum]]=\"\",\"\",INT((TabUren2[[#This Row],[datum]]-SUM(MOD(DATE(YEAR(TabUren2[[#This Row],[datum]]-MOD(TabUren2[[#This Row],[datum]]-2,7)+3),1,2),{1E+99;7})*{1;-1})+5) /7))","v":""},{"$f":"IF(TabUren2[[#This Row],[datum]]=\"\",\"\",TabUren2[[#This Row],[datum]])","v":""},null,null,{"$f":"IF(TabUren2[[#This Row],[datum]]=\"\",\"\",verzameldata!$C$3)","v":""},null,null,null,null,{"$f":"IF(TabUren2[[#This Row],[eindtijd]]=\"\",\"\",IF(TabUren2[[#This Row],[eindtijd]]<TabUren2[[#This Row],[begintijd]],(\"24:00\"-TabUren2[[#This Row],[begintijd]]+TabUren2[[#This Row],[eindtijd]])-TabUren2[[#This Row],[pauze]],(TabUren2[[#This Row],[eindtijd]]-TabUren2[[#This Row],[begintijd]])-TabUren2[[#This Row],[pauze]]))","v":""},{"$f":"IF(OR(TabUren2[hoofdcategorie]=\"\",TabUren2[hoofdcategorie]=0),\"anders dan hoofdcategorie\",TabUren2[hoofdcategorie])","v":"anders dan hoofdcategorie"}]
[{"$f":"IF(TabUren2[[#This Row],[datum]]=\"\",\"\",INT((TabUren2[[#This Row],[datum]]-SUM(MOD(DATE(YEAR(TabUren2[[#This Row],[datum]]-MOD(TabUren2[[#This Row],[datum]]-2,7)+3),1,2),{1E+99;7})*{1;-1})+5) /7))","v":""},{"$f":"IF(TabUren2[[#This Row],[datum]]=\"\",\"\",TabUren2[[#This Row],[datum]])","v":""},null,null,{"$f":"IF(TabUren2[[#This Row],[datum]]=\"\",\"\",verzameldata!$C$3)","v":""},null,null,null,null,{"$f":"IF(TabUren2[[#This Row],[eindtijd]]=\"\",\"\",IF(TabUren2[[#This Row],[eindtijd]]<TabUren2[[#This Row],[begintijd]],(\"24:00\"-TabUren2[[#This Row],[begintijd]]+TabUren2[[#This Row],[eindtijd]])-TabUren2[[#This Row],[pauze]],(TabUren2[[#This Row],[eindtijd]]-TabUren2[[#This Row],[begintijd]])-TabUren2[[#This Row],[pauze]]))","v":""},{"$f":"IF(OR(TabUren2[hoofdcategorie]=\"\",TabUren2[hoofdcategorie]=0),\"anders dan hoofdcategorie\",TabUren2[hoofdcategorie])","v":"anders dan hoofdcategorie"}]
[{"$f":"IF(TabUren2[[#This Row],[datum]]=\"\",\"\",INT((TabUren2[[#This Row],[datum]]-SUM(MOD(DATE(YEAR(TabUren2[[#This Row],[datum]]-MOD(TabUren2[[#This Row],[datum]]-2,7)+3),1,2),{1E+99;7})*{1;-1})+5) /7))","v":""},{"$f":"IF(TabUren2[[#This Row],[datum]]=\"\",\"\",TabUren2[[#This Row],[datum]])","v":""},null,null,{"$f":"IF(TabUren2[[#This Row],[datum]]=\"\",\"\",verzameldata!$C$3)","v":""},null,null,null,null,{"$f":"IF(TabUren2[[#This Row],[eindtijd]]=\"\",\"\",IF(TabUren2[[#This Row],[eindtijd]]<TabUren2[[#This Row],[begintijd]],(\"24:00\"-TabUren2[[#This Row],[begintijd]]+TabUren2[[#This Row],[eindtijd]])-TabUren2[[#This Row],[pauze]],(TabUren2[[#This Row],[eindtijd]]-TabUren2[[#This Row],[begintijd]])-TabUren2[[#This Row],[pauze]]))","v":""},{"$f":"IF(OR(TabUren2[hoofdcategorie]=\"\",TabUren2[hoofdcategorie]=0),\"anders dan hoofdcategorie\",TabUren2[hoofdcategorie])","v":"anders dan hoofdcategorie"}]
[{"$f":"IF(TabUren2[[#This Row],[datum]]=\"\",\"\",INT((TabUren2[[#This Row],[datum]]-SUM(MOD(DATE(YEAR(TabUren2[[#This Row],[datum]]-MOD(TabUren2[[#This Row],[datum]]-2,7)+3),1,2),{1E+99;7})*{1;-1})+5) /7))","v":""},{"$f":"IF(TabUren2[[#This Row],[datum]]=\"\",\"\",TabUren2[[#This Row],[datum]])","v":""},null,null,{"$f":"IF(TabUren2[[#This Row],[datum]]=\"\",\"\",verzameldata!$C$3)","v":""},null,null,null,null,{"$f":"IF(TabUren2[[#This Row],[eindtijd]]=\"\",\"\",IF(TabUren2[[#This Row],[eindtijd]]<TabUren2[[#This Row],[begintijd]],(\"24:00\"-TabUren2[[#This Row],[begintijd]]+TabUren2[[#This Row],[eindtijd]])-TabUren2[[#This Row],[pauze]],(TabUren2[[#This Row],[eindtijd]]-TabUren2[[#This Row],[begintijd]])-TabUren2[[#This Row],[pauze]]))","v":""},{"$f":"IF(OR(TabUren2[hoofdcategorie]=\"\",TabUren2[hoofdcategorie]=0),\"anders dan hoofdcategorie\",TabUren2[hoofdcategorie])","v":"anders dan hoofdcategorie"}]
[{"$f":"IF(TabUren2[[#This Row],[datum]]=\"\",\"\",INT((TabUren2[[#This Row],[datum]]-SUM(MOD(DATE(YEAR(TabUren2[[#This Row],[datum]]-MOD(TabUren2[[#This Row],[datum]]-2,7)+3),1,2),{1E+99;7})*{1;-1})+5) /7))","v":""},{"$f":"IF(TabUren2[[#This Row],[datum]]=\"\",\"\",TabUren2[[#This Row],[datum]])","v":""},null,null,{"$f":"IF(TabUren2[[#This Row],[datum]]=\"\",\"\",verzameldata!$C$3)","v":""},null,null,null,null,{"$f":"IF(TabUren2[[#This Row],[eindtijd]]=\"\",\"\",IF(TabUren2[[#This Row],[eindtijd]]<TabUren2[[#This Row],[begintijd]],(\"24:00\"-TabUren2[[#This Row],[begintijd]]+TabUren2[[#This Row],[eindtijd]])-TabUren2[[#This Row],[pauze]],(TabUren2[[#This Row],[eindtijd]]-TabUren2[[#This Row],[begintijd]])-TabUren2[[#This Row],[pauze]]))","v":""},{"$f":"IF(OR(TabUren2[hoofdcategorie]=\"\",TabUren2[hoofdcategorie]=0),\"anders dan hoofdcategorie\",TabUren2[hoofdcategorie])","v":"anders dan hoofdcategorie"}]
[{"$f":"IF(TabUren2[[#This Row],[datum]]=\"\",\"\",INT((TabUren2[[#This Row],[datum]]-SUM(MOD(DATE(YEAR(TabUren2[[#This Row],[datum]]-MOD(TabUren2[[#This Row],[datum]]-2,7)+3),1,2),{1E+99;7})*{1;-1})+5) /7))","v":""},{"$f":"IF(TabUren2[[#This Row],[datum]]=\"\",\"\",TabUren2[[#This Row],[datum]])","v":""},null,null,{"$f":"IF(TabUren2[[#This Row],[datum]]=\"\",\"\",verzameldata!$C$3)","v":""},null,null,null,null,{"$f":"IF(TabUren2[[#This Row],[eindtijd]]=\"\",\"\",IF(TabUren2[[#This Row],[eindtijd]]<TabUren2[[#This Row],[begintijd]],(\"24:00\"-TabUren2[[#This Row],[begintijd]]+TabUren2[[#This Row],[eindtijd]])-TabUren2[[#This Row],[pauze]],(TabUren2[[#This Row],[eindtijd]]-TabUren2[[#This Row],[begintijd]])-TabUren2[[#This Row],[pauze]]))","v":""},{"$f":"IF(OR(TabUren2[hoofdcategorie]=\"\",TabUren2[hoofdcategorie]=0),\"anders dan hoofdcategorie\",TabUren2[hoofdcategorie])","v":"anders dan hoofdcategorie"}]
[{"$f":"IF(TabUren2[[#This Row],[datum]]=\"\",\"\",INT((TabUren2[[#This Row],[datum]]-SUM(MOD(DATE(YEAR(TabUren2[[#This Row],[datum]]-MOD(TabUren2[[#This Row],[datum]]-2,7)+3),1,2),{1E+99;7})*{1;-1})+5) /7))","v":""},{"$f":"IF(TabUren2[[#This Row],[datum]]=\"\",\"\",TabUren2[[#This Row],[datum]])","v":""},null,null,{"$f":"IF(TabUren2[[#This Row],[datum]]=\"\",\"\",verzameldata!$C$3)","v":""},null,null,null,null,{"$f":"IF(TabUren2[[#This Row],[eindtijd]]=\"\",\"\",IF(TabUren2[[#This Row],[eindtijd]]<TabUren2[[#This Row],[begintijd]],(\"24:00\"-TabUren2[[#This Row],[begintijd]]+TabUren2[[#This Row],[eindtijd]])-TabUren2[[#This Row],[pauze]],(TabUren2[[#This Row],[eindtijd]]-TabUren2[[#This Row],[begintijd]])-TabUren2[[#This Row],[pauze]]))","v":""},{"$f":"IF(OR(TabUren2[hoofdcategorie]=\"\",TabUren2[hoofdcategorie]=0),\"anders dan hoofdcategorie\",TabUren2[hoofdcategorie])","v":"anders dan hoofdcategorie"}]
[{"$f":"IF(TabUren2[[#This Row],[datum]]=\"\",\"\",INT((TabUren2[[#This Row],[datum]]-SUM(MOD(DATE(YEAR(TabUren2[[#This Row],[datum]]-MOD(TabUren2[[#This Row],[datum]]-2,7)+3),1,2),{1E+99;7})*{1;-1})+5) /7))","v":""},{"$f":"IF(TabUren2[[#This Row],[datum]]=\"\",\"\",TabUren2[[#This Row],[datum]])","v":""},null,null,{"$f":"IF(TabUren2[[#This Row],[datum]]=\"\",\"\",verzameldata!$C$3)","v":""},null,null,null,null,{"$f":"IF(TabUren2[[#This Row],[eindtijd]]=\"\",\"\",IF(TabUren2[[#This Row],[eindtijd]]<TabUren2[[#This Row],[begintijd]],(\"24:00\"-TabUren2[[#This Row],[begintijd]]+TabUren2[[#This Row],[eindtijd]])-TabUren2[[#This Row],[pauze]],(TabUren2[[#This Row],[eindtijd]]-TabUren2[[#This Row],[begintijd]])-TabUren2[[#This Row],[pauze]]))","v":""},{"$f":"IF(OR(TabUren2[hoofdcategorie]=\"\",TabUren2[hoofdcategorie]=0),\"anders dan hoofdcategorie\",TabUren2[hoofdcategorie])","v":"anders dan hoofdcategorie"}]
[{"$f":"IF(TabUren2[[#This Row],[datum]]=\"\",\"\",INT((TabUren2[[#This Row],[datum]]-SUM(MOD(DATE(YEAR(TabUren2[[#This Row],[datum]]-MOD(TabUren2[[#This Row],[datum]]-2,7)+3),1,2),{1E+99;7})*{1;-1})+5) /7))","v":""},{"$f":"IF(TabUren2[[#This Row],[datum]]=\"\",\"\",TabUren2[[#This Row],[datum]])","v":""},null,null,{"$f":"IF(TabUren2[[#This Row],[datum]]=\"\",\"\",verzameldata!$C$3)","v":""},null,null,null,null,{"$f":"IF(TabUren2[[#This Row],[eindtijd]]=\"\",\"\",IF(TabUren2[[#This Row],[eindtijd]]<TabUren2[[#This Row],[begintijd]],(\"24:00\"-TabUren2[[#This Row],[begintijd]]+TabUren2[[#This Row],[eindtijd]])-TabUren2[[#This Row],[pauze]],(TabUren2[[#This Row],[eindtijd]]-TabUren2[[#This Row],[begintijd]])-TabUren2[[#This Row],[pauze]]))","v":""},{"$f":"IF(OR(TabUren2[hoofdcategorie]=\"\",TabUren2[hoofdcategorie]=0),\"anders dan hoofdcategorie\",TabUren2[hoofdcategorie])","v":"anders dan hoofdcategorie"}]
[{"$f":"IF(TabUren2[[#This Row],[datum]]=\"\",\"\",INT((TabUren2[[#This Row],[datum]]-SUM(MOD(DATE(YEAR(TabUren2[[#This Row],[datum]]-MOD(TabUren2[[#This Row],[datum]]-2,7)+3),1,2),{1E+99;7})*{1;-1})+5) /7))","v":""},{"$f":"IF(TabUren2[[#This Row],[datum]]=\"\",\"\",TabUren2[[#This Row],[datum]])","v":""},null,null,{"$f":"IF(TabUren2[[#This Row],[datum]]=\"\",\"\",verzameldata!$C$3)","v":""},null,null,null,null,{"$f":"IF(TabUren2[[#This Row],[eindtijd]]=\"\",\"\",IF(TabUren2[[#This Row],[eindtijd]]<TabUren2[[#This Row],[begintijd]],(\"24:00\"-TabUren2[[#This Row],[begintijd]]+TabUren2[[#This Row],[eindtijd]])-TabUren2[[#This Row],[pauze]],(TabUren2[[#This Row],[eindtijd]]-TabUren2[[#This Row],[begintijd]])-TabUren2[[#This Row],[pauze]]))","v":""},{"$f":"IF(OR(TabUren2[hoofdcategorie]=\"\",TabUren2[hoofdcategorie]=0),\"anders dan hoofdcategorie\",TabUren2[hoofdcategorie])","v":"anders dan hoofdcategorie"}]
[{"$f":"IF(TabUren2[[#This Row],[datum]]=\"\",\"\",INT((TabUren2[[#This Row],[datum]]-SUM(MOD(DATE(YEAR(TabUren2[[#This Row],[datum]]-MOD(TabUren2[[#This Row],[datum]]-2,7)+3),1,2),{1E+99;7})*{1;-1})+5) /7))","v":""},{"$f":"IF(TabUren2[[#This Row],[datum]]=\"\",\"\",TabUren2[[#This Row],[datum]])","v":""},null,null,{"$f":"IF(TabUren2[[#This Row],[datum]]=\"\",\"\",verzameldata!$C$3)","v":""},null,null,null,null,{"$f":"IF(TabUren2[[#This Row],[eindtijd]]=\"\",\"\",IF(TabUren2[[#This Row],[eindtijd]]<TabUren2[[#This Row],[begintijd]],(\"24:00\"-TabUren2[[#This Row],[begintijd]]+TabUren2[[#This Row],[eindtijd]])-TabUren2[[#This Row],[pauze]],(TabUren2[[#This Row],[eindtijd]]-TabUren2[[#This Row],[begintijd]])-TabUren2[[#This Row],[pauze]]))","v":""},{"$f":"IF(OR(TabUren2[hoofdcategorie]=\"\",TabUren2[hoofdcategorie]=0),\"anders dan hoofdcategorie\",TabUren2[hoofdcategorie])","v":"anders dan hoofdcategorie"}]
[{"$f":"IF(TabUren2[[#This Row],[datum]]=\"\",\"\",INT((TabUren2[[#This Row],[datum]]-SUM(MOD(DATE(YEAR(TabUren2[[#This Row],[datum]]-MOD(TabUren2[[#This Row],[datum]]-2,7)+3),1,2),{1E+99;7})*{1;-1})+5) /7))","v":""},{"$f":"IF(TabUren2[[#This Row],[datum]]=\"\",\"\",TabUren2[[#This Row],[datum]])","v":""},null,null,{"$f":"IF(TabUren2[[#This Row],[datum]]=\"\",\"\",verzameldata!$C$3)","v":""},null,null,null,null,{"$f":"IF(TabUren2[[#This Row],[eindtijd]]=\"\",\"\",IF(TabUren2[[#This Row],[eindtijd]]<TabUren2[[#This Row],[begintijd]],(\"24:00\"-TabUren2[[#This Row],[begintijd]]+TabUren2[[#This Row],[eindtijd]])-TabUren2[[#This Row],[pauze]],(TabUren2[[#This Row],[eindtijd]]-TabUren2[[#This Row],[begintijd]])-TabUren2[[#This Row],[pauze]]))","v":""},{"$f":"IF(OR(TabUren2[hoofdcategorie]=\"\",TabUren2[hoofdcategorie]=0),\"anders dan hoofdcategorie\",TabUren2[hoofdcategorie])","v":"anders dan hoofdcategorie"}]
[{"$f":"IF(TabUren2[[#This Row],[datum]]=\"\",\"\",INT((TabUren2[[#This Row],[datum]]-SUM(MOD(DATE(YEAR(TabUren2[[#This Row],[datum]]-MOD(TabUren2[[#This Row],[datum]]-2,7)+3),1,2),{1E+99;7})*{1;-1})+5) /7))","v":""},{"$f":"IF(TabUren2[[#This Row],[datum]]=\"\",\"\",TabUren2[[#This Row],[datum]])","v":""},null,null,{"$f":"IF(TabUren2[[#This Row],[datum]]=\"\",\"\",verzameldata!$C$3)","v":""},null,null,null,null,{"$f":"IF(TabUren2[[#This Row],[eindtijd]]=\"\",\"\",IF(TabUren2[[#This Row],[eindtijd]]<TabUren2[[#This Row],[begintijd]],(\"24:00\"-TabUren2[[#This Row],[begintijd]]+TabUren2[[#This Row],[eindtijd]])-TabUren2[[#This Row],[pauze]],(TabUren2[[#This Row],[eindtijd]]-TabUren2[[#This Row],[begintijd]])-TabUren2[[#This Row],[pauze]]))","v":""},{"$f":"IF(OR(TabUren2[hoofdcategorie]=\"\",TabUren2[hoofdcategorie]=0),\"anders dan hoofdcategorie\",TabUren2[hoofdcategorie])","v":"anders dan hoofdcategorie"}]
[{"$f":"IF(TabUren2[[#This Row],[datum]]=\"\",\"\",INT((TabUren2[[#This Row],[datum]]-SUM(MOD(DATE(YEAR(TabUren2[[#This Row],[datum]]-MOD(TabUren2[[#This Row],[datum]]-2,7)+3),1,2),{1E+99;7})*{1;-1})+5) /7))","v":""},{"$f":"IF(TabUren2[[#This Row],[datum]]=\"\",\"\",TabUren2[[#This Row],[datum]])","v":""},null,null,{"$f":"IF(TabUren2[[#This Row],[datum]]=\"\",\"\",verzameldata!$C$3)","v":""},null,null,null,null,{"$f":"IF(TabUren2[[#This Row],[eindtijd]]=\"\",\"\",IF(TabUren2[[#This Row],[eindtijd]]<TabUren2[[#This Row],[begintijd]],(\"24:00\"-TabUren2[[#This Row],[begintijd]]+TabUren2[[#This Row],[eindtijd]])-TabUren2[[#This Row],[pauze]],(TabUren2[[#This Row],[eindtijd]]-TabUren2[[#This Row],[begintijd]])-TabUren2[[#This Row],[pauze]]))","v":""},{"$f":"IF(OR(TabUren2[hoofdcategorie]=\"\",TabUren2[hoofdcategorie]=0),\"anders dan hoofdcategorie\",TabUren2[hoofdcategorie])","v":"anders dan hoofdcategorie"}]
[{"$f":"IF(TabUren2[[#This Row],[datum]]=\"\",\"\",INT((TabUren2[[#This Row],[datum]]-SUM(MOD(DATE(YEAR(TabUren2[[#This Row],[datum]]-MOD(TabUren2[[#This Row],[datum]]-2,7)+3),1,2),{1E+99;7})*{1;-1})+5) /7))","v":""},{"$f":"IF(TabUren2[[#This Row],[datum]]=\"\",\"\",TabUren2[[#This Row],[datum]])","v":""},null,null,{"$f":"IF(TabUren2[[#This Row],[datum]]=\"\",\"\",verzameldata!$C$3)","v":""},null,null,null,null,{"$f":"IF(TabUren2[[#This Row],[eindtijd]]=\"\",\"\",IF(TabUren2[[#This Row],[eindtijd]]<TabUren2[[#This Row],[begintijd]],(\"24:00\"-TabUren2[[#This Row],[begintijd]]+TabUren2[[#This Row],[eindtijd]])-TabUren2[[#This Row],[pauze]],(TabUren2[[#This Row],[eindtijd]]-TabUren2[[#This Row],[begintijd]])-TabUren2[[#This Row],[pauze]]))","v":""},{"$f":"IF(OR(TabUren2[hoofdcategorie]=\"\",TabUren2[hoofdcategorie]=0),\"anders dan hoofdcategorie\",TabUren2[hoofdcategorie])","v":"anders dan hoofdcategorie"}]
[{"$f":"IF(TabUren2[[#This Row],[datum]]=\"\",\"\",INT((TabUren2[[#This Row],[datum]]-SUM(MOD(DATE(YEAR(TabUren2[[#This Row],[datum]]-MOD(TabUren2[[#This Row],[datum]]-2,7)+3),1,2),{1E+99;7})*{1;-1})+5) /7))","v":""},{"$f":"IF(TabUren2[[#This Row],[datum]]=\"\",\"\",TabUren2[[#This Row],[datum]])","v":""},null,null,{"$f":"IF(TabUren2[[#This Row],[datum]]=\"\",\"\",verzameldata!$C$3)","v":""},null,null,null,null,{"$f":"IF(TabUren2[[#This Row],[eindtijd]]=\"\",\"\",IF(TabUren2[[#This Row],[eindtijd]]<TabUren2[[#This Row],[begintijd]],(\"24:00\"-TabUren2[[#This Row],[begintijd]]+TabUren2[[#This Row],[eindtijd]])-TabUren2[[#This Row],[pauze]],(TabUren2[[#This Row],[eindtijd]]-TabUren2[[#This Row],[begintijd]])-TabUren2[[#This Row],[pauze]]))","v":""},{"$f":"IF(OR(TabUren2[hoofdcategorie]=\"\",TabUren2[hoofdcategorie]=0),\"anders dan hoofdcategorie\",TabUren2[hoofdcategorie])","v":"anders dan hoofdcategorie"}]
[{"$f":"IF(TabUren2[[#This Row],[datum]]=\"\",\"\",INT((TabUren2[[#This Row],[datum]]-SUM(MOD(DATE(YEAR(TabUren2[[#This Row],[datum]]-MOD(TabUren2[[#This Row],[datum]]-2,7)+3),1,2),{1E+99;7})*{1;-1})+5) /7))","v":""},{"$f":"IF(TabUren2[[#This Row],[datum]]=\"\",\"\",TabUren2[[#This Row],[datum]])","v":""},null,null,{"$f":"IF(TabUren2[[#This Row],[datum]]=\"\",\"\",verzameldata!$C$3)","v":""},null,null,null,null,{"$f":"IF(TabUren2[[#This Row],[eindtijd]]=\"\",\"\",IF(TabUren2[[#This Row],[eindtijd]]<TabUren2[[#This Row],[begintijd]],(\"24:00\"-TabUren2[[#This Row],[begintijd]]+TabUren2[[#This Row],[eindtijd]])-TabUren2[[#This Row],[pauze]],(TabUren2[[#This Row],[eindtijd]]-TabUren2[[#This Row],[begintijd]])-TabUren2[[#This Row],[pauze]]))","v":""},{"$f":"IF(OR(TabUren2[hoofdcategorie]=\"\",TabUren2[hoofdcategorie]=0),\"anders dan hoofdcategorie\",TabUren2[hoofdcategorie])","v":"anders dan hoofdcategorie"}]
[{"$f":"IF(TabUren2[[#This Row],[datum]]=\"\",\"\",INT((TabUren2[[#This Row],[datum]]-SUM(MOD(DATE(YEAR(TabUren2[[#This Row],[datum]]-MOD(TabUren2[[#This Row],[datum]]-2,7)+3),1,2),{1E+99;7})*{1;-1})+5) /7))","v":""},{"$f":"IF(TabUren2[[#This Row],[datum]]=\"\",\"\",TabUren2[[#This Row],[datum]])","v":""},null,null,{"$f":"IF(TabUren2[[#This Row],[datum]]=\"\",\"\",verzameldata!$C$3)","v":""},null,null,null,null,{"$f":"IF(TabUren2[[#This Row],[eindtijd]]=\"\",\"\",IF(TabUren2[[#This Row],[eindtijd]]<TabUren2[[#This Row],[begintijd]],(\"24:00\"-TabUren2[[#This Row],[begintijd]]+TabUren2[[#This Row],[eindtijd]])-TabUren2[[#This Row],[pauze]],(TabUren2[[#This Row],[eindtijd]]-TabUren2[[#This Row],[begintijd]])-TabUren2[[#This Row],[pauze]]))","v":""},{"$f":"IF(OR(TabUren2[hoofdcategorie]=\"\",TabUren2[hoofdcategorie]=0),\"anders dan hoofdcategorie\",TabUren2[hoofdcategorie])","v":"anders dan hoofdcategorie"}]
[{"$f":"IF(TabUren2[[#This Row],[datum]]=\"\",\"\",INT((TabUren2[[#This Row],[datum]]-SUM(MOD(DATE(YEAR(TabUren2[[#This Row],[datum]]-MOD(TabUren2[[#This Row],[datum]]-2,7)+3),1,2),{1E+99;7})*{1;-1})+5) /7))","v":""},{"$f":"IF(TabUren2[[#This Row],[datum]]=\"\",\"\",TabUren2[[#This Row],[datum]])","v":""},null,null,{"$f":"IF(TabUren2[[#This Row],[datum]]=\"\",\"\",verzameldata!$C$3)","v":""},null,null,null,null,{"$f":"IF(TabUren2[[#This Row],[eindtijd]]=\"\",\"\",IF(TabUren2[[#This Row],[eindtijd]]<TabUren2[[#This Row],[begintijd]],(\"24:00\"-TabUren2[[#This Row],[begintijd]]+TabUren2[[#This Row],[eindtijd]])-TabUren2[[#This Row],[pauze]],(TabUren2[[#This Row],[eindtijd]]-TabUren2[[#This Row],[begintijd]])-TabUren2[[#This Row],[pauze]]))","v":""},{"$f":"IF(OR(TabUren2[hoofdcategorie]=\"\",TabUren2[hoofdcategorie]=0),\"anders dan hoofdcategorie\",TabUren2[hoofdcategorie])","v":"anders dan hoofdcategorie"}]
[{"$f":"IF(TabUren2[[#This Row],[datum]]=\"\",\"\",INT((TabUren2[[#This Row],[datum]]-SUM(MOD(DATE(YEAR(TabUren2[[#This Row],[datum]]-MOD(TabUren2[[#This Row],[datum]]-2,7)+3),1,2),{1E+99;7})*{1;-1})+5) /7))","v":""},{"$f":"IF(TabUren2[[#This Row],[datum]]=\"\",\"\",TabUren2[[#This Row],[datum]])","v":""},null,null,{"$f":"IF(TabUren2[[#This Row],[datum]]=\"\",\"\",verzameldata!$C$3)","v":""},null,null,null,null,{"$f":"IF(TabUren2[[#This Row],[eindtijd]]=\"\",\"\",IF(TabUren2[[#This Row],[eindtijd]]<TabUren2[[#This Row],[begintijd]],(\"24:00\"-TabUren2[[#This Row],[begintijd]]+TabUren2[[#This Row],[eindtijd]])-TabUren2[[#This Row],[pauze]],(TabUren2[[#This Row],[eindtijd]]-TabUren2[[#This Row],[begintijd]])-TabUren2[[#This Row],[pauze]]))","v":""},{"$f":"IF(OR(TabUren2[hoofdcategorie]=\"\",TabUren2[hoofdcategorie]=0),\"anders dan hoofdcategorie\",TabUren2[hoofdcategorie])","v":"anders dan hoofdcategorie"}]
[{"$f":"IF(TabUren2[[#This Row],[datum]]=\"\",\"\",INT((TabUren2[[#This Row],[datum]]-SUM(MOD(DATE(YEAR(TabUren2[[#This Row],[datum]]-MOD(TabUren2[[#This Row],[datum]]-2,7)+3),1,2),{1E+99;7})*{1;-1})+5) /7))","v":""},{"$f":"IF(TabUren2[[#This Row],[datum]]=\"\",\"\",TabUren2[[#This Row],[datum]])","v":""},null,null,{"$f":"IF(TabUren2[[#This Row],[datum]]=\"\",\"\",verzameldata!$C$3)","v":""},null,null,null,null,{"$f":"IF(TabUren2[[#This Row],[eindtijd]]=\"\",\"\",IF(TabUren2[[#This Row],[eindtijd]]<TabUren2[[#This Row],[begintijd]],(\"24:00\"-TabUren2[[#This Row],[begintijd]]+TabUren2[[#This Row],[eindtijd]])-TabUren2[[#This Row],[pauze]],(TabUren2[[#This Row],[eindtijd]]-TabUren2[[#This Row],[begintijd]])-TabUren2[[#This Row],[pauze]]))","v":""},{"$f":"IF(OR(TabUren2[hoofdcategorie]=\"\",TabUren2[hoofdcategorie]=0),\"anders dan hoofdcategorie\",TabUren2[hoofdcategorie])","v":"anders dan hoofdcategorie"}]
[{"$f":"IF(TabUren2[[#This Row],[datum]]=\"\",\"\",INT((TabUren2[[#This Row],[datum]]-SUM(MOD(DATE(YEAR(TabUren2[[#This Row],[datum]]-MOD(TabUren2[[#This Row],[datum]]-2,7)+3),1,2),{1E+99;7})*{1;-1})+5) /7))","v":""},{"$f":"IF(TabUren2[[#This Row],[datum]]=\"\",\"\",TabUren2[[#This Row],[datum]])","v":""},null,null,{"$f":"IF(TabUren2[[#This Row],[datum]]=\"\",\"\",verzameldata!$C$3)","v":""},null,null,null,null,{"$f":"IF(TabUren2[[#This Row],[eindtijd]]=\"\",\"\",IF(TabUren2[[#This Row],[eindtijd]]<TabUren2[[#This Row],[begintijd]],(\"24:00\"-TabUren2[[#This Row],[begintijd]]+TabUren2[[#This Row],[eindtijd]])-TabUren2[[#This Row],[pauze]],(TabUren2[[#This Row],[eindtijd]]-TabUren2[[#This Row],[begintijd]])-TabUren2[[#This Row],[pauze]]))","v":""},{"$f":"IF(OR(TabUren2[hoofdcategorie]=\"\",TabUren2[hoofdcategorie]=0),\"anders dan hoofdcategorie\",TabUren2[hoofdcategorie])","v":"anders dan hoofdcategorie"}]
[{"$f":"IF(TabUren2[[#This Row],[datum]]=\"\",\"\",INT((TabUren2[[#This Row],[datum]]-SUM(MOD(DATE(YEAR(TabUren2[[#This Row],[datum]]-MOD(TabUren2[[#This Row],[datum]]-2,7)+3),1,2),{1E+99;7})*{1;-1})+5) /7))","v":""},{"$f":"IF(TabUren2[[#This Row],[datum]]=\"\",\"\",TabUren2[[#This Row],[datum]])","v":""},null,null,{"$f":"IF(TabUren2[[#This Row],[datum]]=\"\",\"\",verzameldata!$C$3)","v":""},null,null,null,null,{"$f":"IF(TabUren2[[#This Row],[eindtijd]]=\"\",\"\",IF(TabUren2[[#This Row],[eindtijd]]<TabUren2[[#This Row],[begintijd]],(\"24:00\"-TabUren2[[#This Row],[begintijd]]+TabUren2[[#This Row],[eindtijd]])-TabUren2[[#This Row],[pauze]],(TabUren2[[#This Row],[eindtijd]]-TabUren2[[#This Row],[begintijd]])-TabUren2[[#This Row],[pauze]]))","v":""},{"$f":"IF(OR(TabUren2[hoofdcategorie]=\"\",TabUren2[hoofdcategorie]=0),\"anders dan hoofdcategorie\",TabUren2[hoofdcategorie])","v":"anders dan hoofdcategorie"}]
[{"$f":"IF(TabUren2[[#This Row],[datum]]=\"\",\"\",INT((TabUren2[[#This Row],[datum]]-SUM(MOD(DATE(YEAR(TabUren2[[#This Row],[datum]]-MOD(TabUren2[[#This Row],[datum]]-2,7)+3),1,2),{1E+99;7})*{1;-1})+5) /7))","v":""},{"$f":"IF(TabUren2[[#This Row],[datum]]=\"\",\"\",TabUren2[[#This Row],[datum]])","v":""},null,null,{"$f":"IF(TabUren2[[#This Row],[datum]]=\"\",\"\",verzameldata!$C$3)","v":""},null,null,null,null,{"$f":"IF(TabUren2[[#This Row],[eindtijd]]=\"\",\"\",IF(TabUren2[[#This Row],[eindtijd]]<TabUren2[[#This Row],[begintijd]],(\"24:00\"-TabUren2[[#This Row],[begintijd]]+TabUren2[[#This Row],[eindtijd]])-TabUren2[[#This Row],[pauze]],(TabUren2[[#This Row],[eindtijd]]-TabUren2[[#This Row],[begintijd]])-TabUren2[[#This Row],[pauze]]))","v":""},{"$f":"IF(OR(TabUren2[hoofdcategorie]=\"\",TabUren2[hoofdcategorie]=0),\"anders dan hoofdcategorie\",TabUren2[hoofdcategorie])","v":"anders dan hoofdcategorie"}]
[{"$f":"IF(TabUren2[[#This Row],[datum]]=\"\",\"\",INT((TabUren2[[#This Row],[datum]]-SUM(MOD(DATE(YEAR(TabUren2[[#This Row],[datum]]-MOD(TabUren2[[#This Row],[datum]]-2,7)+3),1,2),{1E+99;7})*{1;-1})+5) /7))","v":""},{"$f":"IF(TabUren2[[#This Row],[datum]]=\"\",\"\",TabUren2[[#This Row],[datum]])","v":""},null,null,{"$f":"IF(TabUren2[[#This Row],[datum]]=\"\",\"\",verzameldata!$C$3)","v":""},null,null,null,null,{"$f":"IF(TabUren2[[#This Row],[eindtijd]]=\"\",\"\",IF(TabUren2[[#This Row],[eindtijd]]<TabUren2[[#This Row],[begintijd]],(\"24:00\"-TabUren2[[#This Row],[begintijd]]+TabUren2[[#This Row],[eindtijd]])-TabUren2[[#This Row],[pauze]],(TabUren2[[#This Row],[eindtijd]]-TabUren2[[#This Row],[begintijd]])-TabUren2[[#This Row],[pauze]]))","v":""},{"$f":"IF(OR(TabUren2[hoofdcategorie]=\"\",TabUren2[hoofdcategorie]=0),\"anders dan hoofdcategorie\",TabUren2[hoofdcategorie])","v":"anders dan hoofdcategorie"}]
[{"$f":"IF(TabUren2[[#This Row],[datum]]=\"\",\"\",INT((TabUren2[[#This Row],[datum]]-SUM(MOD(DATE(YEAR(TabUren2[[#This Row],[datum]]-MOD(TabUren2[[#This Row],[datum]]-2,7)+3),1,2),{1E+99;7})*{1;-1})+5) /7))","v":""},{"$f":"IF(TabUren2[[#This Row],[datum]]=\"\",\"\",TabUren2[[#This Row],[datum]])","v":""},null,null,{"$f":"IF(TabUren2[[#This Row],[datum]]=\"\",\"\",verzameldata!$C$3)","v":""},null,null,null,null,{"$f":"IF(TabUren2[[#This Row],[eindtijd]]=\"\",\"\",IF(TabUren2[[#This Row],[eindtijd]]<TabUren2[[#This Row],[begintijd]],(\"24:00\"-TabUren2[[#This Row],[begintijd]]+TabUren2[[#This Row],[eindtijd]])-TabUren2[[#This Row],[pauze]],(TabUren2[[#This Row],[eindtijd]]-TabUren2[[#This Row],[begintijd]])-TabUren2[[#This Row],[pauze]]))","v":""},{"$f":"IF(OR(TabUren2[hoofdcategorie]=\"\",TabUren2[hoofdcategorie]=0),\"anders dan hoofdcategorie\",TabUren2[hoofdcategorie])","v":"anders dan hoofdcategorie"}]
[{"$f":"IF(TabUren2[[#This Row],[datum]]=\"\",\"\",INT((TabUren2[[#This Row],[datum]]-SUM(MOD(DATE(YEAR(TabUren2[[#This Row],[datum]]-MOD(TabUren2[[#This Row],[datum]]-2,7)+3),1,2),{1E+99;7})*{1;-1})+5) /7))","v":""},{"$f":"IF(TabUren2[[#This Row],[datum]]=\"\",\"\",TabUren2[[#This Row],[datum]])","v":""},null,null,{"$f":"IF(TabUren2[[#This Row],[datum]]=\"\",\"\",verzameldata!$C$3)","v":""},null,null,null,null,{"$f":"IF(TabUren2[[#This Row],[eindtijd]]=\"\",\"\",IF(TabUren2[[#This Row],[eindtijd]]<TabUren2[[#This Row],[begintijd]],(\"24:00\"-TabUren2[[#This Row],[begintijd]]+TabUren2[[#This Row],[eindtijd]])-TabUren2[[#This Row],[pauze]],(TabUren2[[#This Row],[eindtijd]]-TabUren2[[#This Row],[begintijd]])-TabUren2[[#This Row],[pauze]]))","v":""},{"$f":"IF(OR(TabUren2[hoofdcategorie]=\"\",TabUren2[hoofdcategorie]=0),\"anders dan hoofdcategorie\",TabUren2[hoofdcategorie])","v":"anders dan hoofdcategorie"}]
[{"$f":"IF(TabUren2[[#This Row],[datum]]=\"\",\"\",INT((TabUren2[[#This Row],[datum]]-SUM(MOD(DATE(YEAR(TabUren2[[#This Row],[datum]]-MOD(TabUren2[[#This Row],[datum]]-2,7)+3),1,2),{1E+99;7})*{1;-1})+5) /7))","v":""},{"$f":"IF(TabUren2[[#This Row],[datum]]=\"\",\"\",TabUren2[[#This Row],[datum]])","v":""},null,null,{"$f":"IF(TabUren2[[#This Row],[datum]]=\"\",\"\",verzameldata!$C$3)","v":""},null,null,null,null,{"$f":"IF(TabUren2[[#This Row],[eindtijd]]=\"\",\"\",IF(TabUren2[[#This Row],[eindtijd]]<TabUren2[[#This Row],[begintijd]],(\"24:00\"-TabUren2[[#This Row],[begintijd]]+TabUren2[[#This Row],[eindtijd]])-TabUren2[[#This Row],[pauze]],(TabUren2[[#This Row],[eindtijd]]-TabUren2[[#This Row],[begintijd]])-TabUren2[[#This Row],[pauze]]))","v":""},{"$f":"IF(OR(TabUren2[hoofdcategorie]=\"\",TabUren2[hoofdcategorie]=0),\"anders dan hoofdcategorie\",TabUren2[hoofdcategorie])","v":"anders dan hoofdcategorie"}]
[{"$f":"IF(TabUren2[[#This Row],[datum]]=\"\",\"\",INT((TabUren2[[#This Row],[datum]]-SUM(MOD(DATE(YEAR(TabUren2[[#This Row],[datum]]-MOD(TabUren2[[#This Row],[datum]]-2,7)+3),1,2),{1E+99;7})*{1;-1})+5) /7))","v":""},{"$f":"IF(TabUren2[[#This Row],[datum]]=\"\",\"\",TabUren2[[#This Row],[datum]])","v":""},null,null,{"$f":"IF(TabUren2[[#This Row],[datum]]=\"\",\"\",verzameldata!$C$3)","v":""},null,null,null,null,{"$f":"IF(TabUren2[[#This Row],[eindtijd]]=\"\",\"\",IF(TabUren2[[#This Row],[eindtijd]]<TabUren2[[#This Row],[begintijd]],(\"24:00\"-TabUren2[[#This Row],[begintijd]]+TabUren2[[#This Row],[eindtijd]])-TabUren2[[#This Row],[pauze]],(TabUren2[[#This Row],[eindtijd]]-TabUren2[[#This Row],[begintijd]])-TabUren2[[#This Row],[pauze]]))","v":""},{"$f":"IF(OR(TabUren2[hoofdcategorie]=\"\",TabUren2[hoofdcategorie]=0),\"anders dan hoofdcategorie\",TabUren2[hoofdcategorie])","v":"anders dan hoofdcategorie"}]
[{"$f":"IF(TabUren2[[#This Row],[datum]]=\"\",\"\",INT((TabUren2[[#This Row],[datum]]-SUM(MOD(DATE(YEAR(TabUren2[[#This Row],[datum]]-MOD(TabUren2[[#This Row],[datum]]-2,7)+3),1,2),{1E+99;7})*{1;-1})+5) /7))","v":""},{"$f":"IF(TabUren2[[#This Row],[datum]]=\"\",\"\",TabUren2[[#This Row],[datum]])","v":""},null,null,{"$f":"IF(TabUren2[[#This Row],[datum]]=\"\",\"\",verzameldata!$C$3)","v":""},null,null,null,null,{"$f":"IF(TabUren2[[#This Row],[eindtijd]]=\"\",\"\",IF(TabUren2[[#This Row],[eindtijd]]<TabUren2[[#This Row],[begintijd]],(\"24:00\"-TabUren2[[#This Row],[begintijd]]+TabUren2[[#This Row],[eindtijd]])-TabUren2[[#This Row],[pauze]],(TabUren2[[#This Row],[eindtijd]]-TabUren2[[#This Row],[begintijd]])-TabUren2[[#This Row],[pauze]]))","v":""},{"$f":"IF(OR(TabUren2[hoofdcategorie]=\"\",TabUren2[hoofdcategorie]=0),\"anders dan hoofdcategorie\",TabUren2[hoofdcategorie])","v":"anders dan hoofdcategorie"}]
[{"$f":"IF(TabUren2[[#This Row],[datum]]=\"\",\"\",INT((TabUren2[[#This Row],[datum]]-SUM(MOD(DATE(YEAR(TabUren2[[#This Row],[datum]]-MOD(TabUren2[[#This Row],[datum]]-2,7)+3),1,2),{1E+99;7})*{1;-1})+5) /7))","v":""},{"$f":"IF(TabUren2[[#This Row],[datum]]=\"\",\"\",TabUren2[[#This Row],[datum]])","v":""},null,null,{"$f":"IF(TabUren2[[#This Row],[datum]]=\"\",\"\",verzameldata!$C$3)","v":""},null,null,null,null,{"$f":"IF(TabUren2[[#This Row],[eindtijd]]=\"\",\"\",IF(TabUren2[[#This Row],[eindtijd]]<TabUren2[[#This Row],[begintijd]],(\"24:00\"-TabUren2[[#This Row],[begintijd]]+TabUren2[[#This Row],[eindtijd]])-TabUren2[[#This Row],[pauze]],(TabUren2[[#This Row],[eindtijd]]-TabUren2[[#This Row],[begintijd]])-TabUren2[[#This Row],[pauze]]))","v":""},{"$f":"IF(OR(TabUren2[hoofdcategorie]=\"\",TabUren2[hoofdcategorie]=0),\"anders dan hoofdcategorie\",TabUren2[hoofdcategorie])","v":"anders dan hoofdcategorie"}]
[{"$f":"IF(TabUren2[[#This Row],[datum]]=\"\",\"\",INT((TabUren2[[#This Row],[datum]]-SUM(MOD(DATE(YEAR(TabUren2[[#This Row],[datum]]-MOD(TabUren2[[#This Row],[datum]]-2,7)+3),1,2),{1E+99;7})*{1;-1})+5) /7))","v":""},{"$f":"IF(TabUren2[[#This Row],[datum]]=\"\",\"\",TabUren2[[#This Row],[datum]])","v":""},null,null,{"$f":"IF(TabUren2[[#This Row],[datum]]=\"\",\"\",verzameldata!$C$3)","v":""},null,null,null,null,{"$f":"IF(TabUren2[[#This Row],[eindtijd]]=\"\",\"\",IF(TabUren2[[#This Row],[eindtijd]]<TabUren2[[#This Row],[begintijd]],(\"24:00\"-TabUren2[[#This Row],[begintijd]]+TabUren2[[#This Row],[eindtijd]])-TabUren2[[#This Row],[pauze]],(TabUren2[[#This Row],[eindtijd]]-TabUren2[[#This Row],[begintijd]])-TabUren2[[#This Row],[pauze]]))","v":""},{"$f":"IF(OR(TabUren2[hoofdcategorie]=\"\",TabUren2[hoofdcategorie]=0),\"anders dan hoofdcategorie\",TabUren2[hoofdcategorie])","v":"anders dan hoofdcategorie"}]
[{"$f":"IF(TabUren2[[#This Row],[datum]]=\"\",\"\",INT((TabUren2[[#This Row],[datum]]-SUM(MOD(DATE(YEAR(TabUren2[[#This Row],[datum]]-MOD(TabUren2[[#This Row],[datum]]-2,7)+3),1,2),{1E+99;7})*{1;-1})+5) /7))","v":""},{"$f":"IF(TabUren2[[#This Row],[datum]]=\"\",\"\",TabUren2[[#This Row],[datum]])","v":""},null,null,{"$f":"IF(TabUren2[[#This Row],[datum]]=\"\",\"\",verzameldata!$C$3)","v":""},null,null,null,null,{"$f":"IF(TabUren2[[#This Row],[eindtijd]]=\"\",\"\",IF(TabUren2[[#This Row],[eindtijd]]<TabUren2[[#This Row],[begintijd]],(\"24:00\"-TabUren2[[#This Row],[begintijd]]+TabUren2[[#This Row],[eindtijd]])-TabUren2[[#This Row],[pauze]],(TabUren2[[#This Row],[eindtijd]]-TabUren2[[#This Row],[begintijd]])-TabUren2[[#This Row],[pauze]]))","v":""},{"$f":"IF(OR(TabUren2[hoofdcategorie]=\"\",TabUren2[hoofdcategorie]=0),\"anders dan hoofdcategorie\",TabUren2[hoofdcategorie])","v":"anders dan hoofdcategorie"}]
[{"$f":"IF(TabUren2[[#This Row],[datum]]=\"\",\"\",INT((TabUren2[[#This Row],[datum]]-SUM(MOD(DATE(YEAR(TabUren2[[#This Row],[datum]]-MOD(TabUren2[[#This Row],[datum]]-2,7)+3),1,2),{1E+99;7})*{1;-1})+5) /7))","v":""},{"$f":"IF(TabUren2[[#This Row],[datum]]=\"\",\"\",TabUren2[[#This Row],[datum]])","v":""},null,null,{"$f":"IF(TabUren2[[#This Row],[datum]]=\"\",\"\",verzameldata!$C$3)","v":""},null,null,null,null,{"$f":"IF(TabUren2[[#This Row],[eindtijd]]=\"\",\"\",IF(TabUren2[[#This Row],[eindtijd]]<TabUren2[[#This Row],[begintijd]],(\"24:00\"-TabUren2[[#This Row],[begintijd]]+TabUren2[[#This Row],[eindtijd]])-TabUren2[[#This Row],[pauze]],(TabUren2[[#This Row],[eindtijd]]-TabUren2[[#This Row],[begintijd]])-TabUren2[[#This Row],[pauze]]))","v":""},{"$f":"IF(OR(TabUren2[hoofdcategorie]=\"\",TabUren2[hoofdcategorie]=0),\"anders dan hoofdcategorie\",TabUren2[hoofdcategorie])","v":"anders dan hoofdcategorie"}]
[{"$f":"IF(TabUren2[[#This Row],[datum]]=\"\",\"\",INT((TabUren2[[#This Row],[datum]]-SUM(MOD(DATE(YEAR(TabUren2[[#This Row],[datum]]-MOD(TabUren2[[#This Row],[datum]]-2,7)+3),1,2),{1E+99;7})*{1;-1})+5) /7))","v":""},{"$f":"IF(TabUren2[[#This Row],[datum]]=\"\",\"\",TabUren2[[#This Row],[datum]])","v":""},null,null,{"$f":"IF(TabUren2[[#This Row],[datum]]=\"\",\"\",verzameldata!$C$3)","v":""},null,null,null,null,{"$f":"IF(TabUren2[[#This Row],[eindtijd]]=\"\",\"\",IF(TabUren2[[#This Row],[eindtijd]]<TabUren2[[#This Row],[begintijd]],(\"24:00\"-TabUren2[[#This Row],[begintijd]]+TabUren2[[#This Row],[eindtijd]])-TabUren2[[#This Row],[pauze]],(TabUren2[[#This Row],[eindtijd]]-TabUren2[[#This Row],[begintijd]])-TabUren2[[#This Row],[pauze]]))","v":""},{"$f":"IF(OR(TabUren2[hoofdcategorie]=\"\",TabUren2[hoofdcategorie]=0),\"anders dan hoofdcategorie\",TabUren2[hoofdcategorie])","v":"anders dan hoofdcategorie"}]
[{"$f":"IF(TabUren2[[#This Row],[datum]]=\"\",\"\",INT((TabUren2[[#This Row],[datum]]-SUM(MOD(DATE(YEAR(TabUren2[[#This Row],[datum]]-MOD(TabUren2[[#This Row],[datum]]-2,7)+3),1,2),{1E+99;7})*{1;-1})+5) /7))","v":""},{"$f":"IF(TabUren2[[#This Row],[datum]]=\"\",\"\",TabUren2[[#This Row],[datum]])","v":""},null,null,{"$f":"IF(TabUren2[[#This Row],[datum]]=\"\",\"\",verzameldata!$C$3)","v":""},null,null,null,null,{"$f":"IF(TabUren2[[#This Row],[eindtijd]]=\"\",\"\",IF(TabUren2[[#This Row],[eindtijd]]<TabUren2[[#This Row],[begintijd]],(\"24:00\"-TabUren2[[#This Row],[begintijd]]+TabUren2[[#This Row],[eindtijd]])-TabUren2[[#This Row],[pauze]],(TabUren2[[#This Row],[eindtijd]]-TabUren2[[#This Row],[begintijd]])-TabUren2[[#This Row],[pauze]]))","v":""},{"$f":"IF(OR(TabUren2[hoofdcategorie]=\"\",TabUren2[hoofdcategorie]=0),\"anders dan hoofdcategorie\",TabUren2[hoofdcategorie])","v":"anders dan hoofdcategorie"}]
[{"$f":"IF(TabUren2[[#This Row],[datum]]=\"\",\"\",INT((TabUren2[[#This Row],[datum]]-SUM(MOD(DATE(YEAR(TabUren2[[#This Row],[datum]]-MOD(TabUren2[[#This Row],[datum]]-2,7)+3),1,2),{1E+99;7})*{1;-1})+5) /7))","v":""},{"$f":"IF(TabUren2[[#This Row],[datum]]=\"\",\"\",TabUren2[[#This Row],[datum]])","v":""},null,null,{"$f":"IF(TabUren2[[#This Row],[datum]]=\"\",\"\",verzameldata!$C$3)","v":""},null,null,null,null,{"$f":"IF(TabUren2[[#This Row],[eindtijd]]=\"\",\"\",IF(TabUren2[[#This Row],[eindtijd]]<TabUren2[[#This Row],[begintijd]],(\"24:00\"-TabUren2[[#This Row],[begintijd]]+TabUren2[[#This Row],[eindtijd]])-TabUren2[[#This Row],[pauze]],(TabUren2[[#This Row],[eindtijd]]-TabUren2[[#This Row],[begintijd]])-TabUren2[[#This Row],[pauze]]))","v":""},{"$f":"IF(OR(TabUren2[hoofdcategorie]=\"\",TabUren2[hoofdcategorie]=0),\"anders dan hoofdcategorie\",TabUren2[hoofdcategorie])","v":"anders dan hoofdcategorie"}]
[{"$f":"IF(TabUren2[[#This Row],[datum]]=\"\",\"\",INT((TabUren2[[#This Row],[datum]]-SUM(MOD(DATE(YEAR(TabUren2[[#This Row],[datum]]-MOD(TabUren2[[#This Row],[datum]]-2,7)+3),1,2),{1E+99;7})*{1;-1})+5) /7))","v":""},{"$f":"IF(TabUren2[[#This Row],[datum]]=\"\",\"\",TabUren2[[#This Row],[datum]])","v":""},null,null,{"$f":"IF(TabUren2[[#This Row],[datum]]=\"\",\"\",verzameldata!$C$3)","v":""},null,null,null,null,{"$f":"IF(TabUren2[[#This Row],[eindtijd]]=\"\",\"\",IF(TabUren2[[#This Row],[eindtijd]]<TabUren2[[#This Row],[begintijd]],(\"24:00\"-TabUren2[[#This Row],[begintijd]]+TabUren2[[#This Row],[eindtijd]])-TabUren2[[#This Row],[pauze]],(TabUren2[[#This Row],[eindtijd]]-TabUren2[[#This Row],[begintijd]])-TabUren2[[#This Row],[pauze]]))","v":""},{"$f":"IF(OR(TabUren2[hoofdcategorie]=\"\",TabUren2[hoofdcategorie]=0),\"anders dan hoofdcategorie\",TabUren2[hoofdcategorie])","v":"anders dan hoofdcategorie"}]
[{"$f":"IF(TabUren2[[#This Row],[datum]]=\"\",\"\",INT((TabUren2[[#This Row],[datum]]-SUM(MOD(DATE(YEAR(TabUren2[[#This Row],[datum]]-MOD(TabUren2[[#This Row],[datum]]-2,7)+3),1,2),{1E+99;7})*{1;-1})+5) /7))","v":""},{"$f":"IF(TabUren2[[#This Row],[datum]]=\"\",\"\",TabUren2[[#This Row],[datum]])","v":""},null,null,{"$f":"IF(TabUren2[[#This Row],[datum]]=\"\",\"\",verzameldata!$C$3)","v":""},null,null,null,null,{"$f":"IF(TabUren2[[#This Row],[eindtijd]]=\"\",\"\",IF(TabUren2[[#This Row],[eindtijd]]<TabUren2[[#This Row],[begintijd]],(\"24:00\"-TabUren2[[#This Row],[begintijd]]+TabUren2[[#This Row],[eindtijd]])-TabUren2[[#This Row],[pauze]],(TabUren2[[#This Row],[eindtijd]]-TabUren2[[#This Row],[begintijd]])-TabUren2[[#This Row],[pauze]]))","v":""},{"$f":"IF(OR(TabUren2[hoofdcategorie]=\"\",TabUren2[hoofdcategorie]=0),\"anders dan hoofdcategorie\",TabUren2[hoofdcategorie])","v":"anders dan hoofdcategorie"}]
[{"$f":"IF(TabUren2[[#This Row],[datum]]=\"\",\"\",INT((TabUren2[[#This Row],[datum]]-SUM(MOD(DATE(YEAR(TabUren2[[#This Row],[datum]]-MOD(TabUren2[[#This Row],[datum]]-2,7)+3),1,2),{1E+99;7})*{1;-1})+5) /7))","v":""},{"$f":"IF(TabUren2[[#This Row],[datum]]=\"\",\"\",TabUren2[[#This Row],[datum]])","v":""},null,null,{"$f":"IF(TabUren2[[#This Row],[datum]]=\"\",\"\",verzameldata!$C$3)","v":""},null,null,null,null,{"$f":"IF(TabUren2[[#This Row],[eindtijd]]=\"\",\"\",IF(TabUren2[[#This Row],[eindtijd]]<TabUren2[[#This Row],[begintijd]],(\"24:00\"-TabUren2[[#This Row],[begintijd]]+TabUren2[[#This Row],[eindtijd]])-TabUren2[[#This Row],[pauze]],(TabUren2[[#This Row],[eindtijd]]-TabUren2[[#This Row],[begintijd]])-TabUren2[[#This Row],[pauze]]))","v":""},{"$f":"IF(OR(TabUren2[hoofdcategorie]=\"\",TabUren2[hoofdcategorie]=0),\"anders dan hoofdcategorie\",TabUren2[hoofdcategorie])","v":"anders dan hoofdcategorie"}]
[{"$f":"IF(TabUren2[[#This Row],[datum]]=\"\",\"\",INT((TabUren2[[#This Row],[datum]]-SUM(MOD(DATE(YEAR(TabUren2[[#This Row],[datum]]-MOD(TabUren2[[#This Row],[datum]]-2,7)+3),1,2),{1E+99;7})*{1;-1})+5) /7))","v":""},{"$f":"IF(TabUren2[[#This Row],[datum]]=\"\",\"\",TabUren2[[#This Row],[datum]])","v":""},null,null,{"$f":"IF(TabUren2[[#This Row],[datum]]=\"\",\"\",verzameldata!$C$3)","v":""},null,null,null,null,{"$f":"IF(TabUren2[[#This Row],[eindtijd]]=\"\",\"\",IF(TabUren2[[#This Row],[eindtijd]]<TabUren2[[#This Row],[begintijd]],(\"24:00\"-TabUren2[[#This Row],[begintijd]]+TabUren2[[#This Row],[eindtijd]])-TabUren2[[#This Row],[pauze]],(TabUren2[[#This Row],[eindtijd]]-TabUren2[[#This Row],[begintijd]])-TabUren2[[#This Row],[pauze]]))","v":""},{"$f":"IF(OR(TabUren2[hoofdcategorie]=\"\",TabUren2[hoofdcategorie]=0),\"anders dan hoofdcategorie\",TabUren2[hoofdcategorie])","v":"anders dan hoofdcategorie"}]
[{"$f":"IF(TabUren2[[#This Row],[datum]]=\"\",\"\",INT((TabUren2[[#This Row],[datum]]-SUM(MOD(DATE(YEAR(TabUren2[[#This Row],[datum]]-MOD(TabUren2[[#This Row],[datum]]-2,7)+3),1,2),{1E+99;7})*{1;-1})+5) /7))","v":""},{"$f":"IF(TabUren2[[#This Row],[datum]]=\"\",\"\",TabUren2[[#This Row],[datum]])","v":""},null,null,{"$f":"IF(TabUren2[[#This Row],[datum]]=\"\",\"\",verzameldata!$C$3)","v":""},null,null,null,null,{"$f":"IF(TabUren2[[#This Row],[eindtijd]]=\"\",\"\",IF(TabUren2[[#This Row],[eindtijd]]<TabUren2[[#This Row],[begintijd]],(\"24:00\"-TabUren2[[#This Row],[begintijd]]+TabUren2[[#This Row],[eindtijd]])-TabUren2[[#This Row],[pauze]],(TabUren2[[#This Row],[eindtijd]]-TabUren2[[#This Row],[begintijd]])-TabUren2[[#This Row],[pauze]]))","v":""},{"$f":"IF(OR(TabUren2[hoofdcategorie]=\"\",TabUren2[hoofdcategorie]=0),\"anders dan hoofdcategorie\",TabUren2[hoofdcategorie])","v":"anders dan hoofdcategorie"}]
[{"$f":"IF(TabUren2[[#This Row],[datum]]=\"\",\"\",INT((TabUren2[[#This Row],[datum]]-SUM(MOD(DATE(YEAR(TabUren2[[#This Row],[datum]]-MOD(TabUren2[[#This Row],[datum]]-2,7)+3),1,2),{1E+99;7})*{1;-1})+5) /7))","v":""},{"$f":"IF(TabUren2[[#This Row],[datum]]=\"\",\"\",TabUren2[[#This Row],[datum]])","v":""},null,null,{"$f":"IF(TabUren2[[#This Row],[datum]]=\"\",\"\",verzameldata!$C$3)","v":""},null,null,null,null,{"$f":"IF(TabUren2[[#This Row],[eindtijd]]=\"\",\"\",IF(TabUren2[[#This Row],[eindtijd]]<TabUren2[[#This Row],[begintijd]],(\"24:00\"-TabUren2[[#This Row],[begintijd]]+TabUren2[[#This Row],[eindtijd]])-TabUren2[[#This Row],[pauze]],(TabUren2[[#This Row],[eindtijd]]-TabUren2[[#This Row],[begintijd]])-TabUren2[[#This Row],[pauze]]))","v":""},{"$f":"IF(OR(TabUren2[hoofdcategorie]=\"\",TabUren2[hoofdcategorie]=0),\"anders dan hoofdcategorie\",TabUren2[hoofdcategorie])","v":"anders dan hoofdcategorie"}]
[{"$f":"IF(TabUren2[[#This Row],[datum]]=\"\",\"\",INT((TabUren2[[#This Row],[datum]]-SUM(MOD(DATE(YEAR(TabUren2[[#This Row],[datum]]-MOD(TabUren2[[#This Row],[datum]]-2,7)+3),1,2),{1E+99;7})*{1;-1})+5) /7))","v":""},{"$f":"IF(TabUren2[[#This Row],[datum]]=\"\",\"\",TabUren2[[#This Row],[datum]])","v":""},null,null,{"$f":"IF(TabUren2[[#This Row],[datum]]=\"\",\"\",verzameldata!$C$3)","v":""},null,null,null,null,{"$f":"IF(TabUren2[[#This Row],[eindtijd]]=\"\",\"\",IF(TabUren2[[#This Row],[eindtijd]]<TabUren2[[#This Row],[begintijd]],(\"24:00\"-TabUren2[[#This Row],[begintijd]]+TabUren2[[#This Row],[eindtijd]])-TabUren2[[#This Row],[pauze]],(TabUren2[[#This Row],[eindtijd]]-TabUren2[[#This Row],[begintijd]])-TabUren2[[#This Row],[pauze]]))","v":""},{"$f":"IF(OR(TabUren2[hoofdcategorie]=\"\",TabUren2[hoofdcategorie]=0),\"anders dan hoofdcategorie\",TabUren2[hoofdcategorie])","v":"anders dan hoofdcategorie"}]
[{"$f":"IF(TabUren2[[#This Row],[datum]]=\"\",\"\",INT((TabUren2[[#This Row],[datum]]-SUM(MOD(DATE(YEAR(TabUren2[[#This Row],[datum]]-MOD(TabUren2[[#This Row],[datum]]-2,7)+3),1,2),{1E+99;7})*{1;-1})+5) /7))","v":""},{"$f":"IF(TabUren2[[#This Row],[datum]]=\"\",\"\",TabUren2[[#This Row],[datum]])","v":""},null,null,{"$f":"IF(TabUren2[[#This Row],[datum]]=\"\",\"\",verzameldata!$C$3)","v":""},null,null,null,null,{"$f":"IF(TabUren2[[#This Row],[eindtijd]]=\"\",\"\",IF(TabUren2[[#This Row],[eindtijd]]<TabUren2[[#This Row],[begintijd]],(\"24:00\"-TabUren2[[#This Row],[begintijd]]+TabUren2[[#This Row],[eindtijd]])-TabUren2[[#This Row],[pauze]],(TabUren2[[#This Row],[eindtijd]]-TabUren2[[#This Row],[begintijd]])-TabUren2[[#This Row],[pauze]]))","v":""},{"$f":"IF(OR(TabUren2[hoofdcategorie]=\"\",TabUren2[hoofdcategorie]=0),\"anders dan hoofdcategorie\",TabUren2[hoofdcategorie])","v":"anders dan hoofdcategorie"}]
[{"$f":"IF(TabUren2[[#This Row],[datum]]=\"\",\"\",INT((TabUren2[[#This Row],[datum]]-SUM(MOD(DATE(YEAR(TabUren2[[#This Row],[datum]]-MOD(TabUren2[[#This Row],[datum]]-2,7)+3),1,2),{1E+99;7})*{1;-1})+5) /7))","v":""},{"$f":"IF(TabUren2[[#This Row],[datum]]=\"\",\"\",TabUren2[[#This Row],[datum]])","v":""},null,null,{"$f":"IF(TabUren2[[#This Row],[datum]]=\"\",\"\",verzameldata!$C$3)","v":""},null,null,null,null,{"$f":"IF(TabUren2[[#This Row],[eindtijd]]=\"\",\"\",IF(TabUren2[[#This Row],[eindtijd]]<TabUren2[[#This Row],[begintijd]],(\"24:00\"-TabUren2[[#This Row],[begintijd]]+TabUren2[[#This Row],[eindtijd]])-TabUren2[[#This Row],[pauze]],(TabUren2[[#This Row],[eindtijd]]-TabUren2[[#This Row],[begintijd]])-TabUren2[[#This Row],[pauze]]))","v":""},{"$f":"IF(OR(TabUren2[hoofdcategorie]=\"\",TabUren2[hoofdcategorie]=0),\"anders dan hoofdcategorie\",TabUren2[hoofdcategorie])","v":"anders dan hoofdcategorie"}]
[{"$f":"IF(TabUren2[[#This Row],[datum]]=\"\",\"\",INT((TabUren2[[#This Row],[datum]]-SUM(MOD(DATE(YEAR(TabUren2[[#This Row],[datum]]-MOD(TabUren2[[#This Row],[datum]]-2,7)+3),1,2),{1E+99;7})*{1;-1})+5) /7))","v":""},{"$f":"IF(TabUren2[[#This Row],[datum]]=\"\",\"\",TabUren2[[#This Row],[datum]])","v":""},null,null,{"$f":"IF(TabUren2[[#This Row],[datum]]=\"\",\"\",verzameldata!$C$3)","v":""},null,null,null,null,{"$f":"IF(TabUren2[[#This Row],[eindtijd]]=\"\",\"\",IF(TabUren2[[#This Row],[eindtijd]]<TabUren2[[#This Row],[begintijd]],(\"24:00\"-TabUren2[[#This Row],[begintijd]]+TabUren2[[#This Row],[eindtijd]])-TabUren2[[#This Row],[pauze]],(TabUren2[[#This Row],[eindtijd]]-TabUren2[[#This Row],[begintijd]])-TabUren2[[#This Row],[pauze]]))","v":""},{"$f":"IF(OR(TabUren2[hoofdcategorie]=\"\",TabUren2[hoofdcategorie]=0),\"anders dan hoofdcategorie\",TabUren2[hoofdcategorie])","v":"anders dan hoofdcategorie"}]
[{"$f":"IF(TabUren2[[#This Row],[datum]]=\"\",\"\",INT((TabUren2[[#This Row],[datum]]-SUM(MOD(DATE(YEAR(TabUren2[[#This Row],[datum]]-MOD(TabUren2[[#This Row],[datum]]-2,7)+3),1,2),{1E+99;7})*{1;-1})+5) /7))","v":""},{"$f":"IF(TabUren2[[#This Row],[datum]]=\"\",\"\",TabUren2[[#This Row],[datum]])","v":""},null,null,{"$f":"IF(TabUren2[[#This Row],[datum]]=\"\",\"\",verzameldata!$C$3)","v":""},null,null,null,null,{"$f":"IF(TabUren2[[#This Row],[eindtijd]]=\"\",\"\",IF(TabUren2[[#This Row],[eindtijd]]<TabUren2[[#This Row],[begintijd]],(\"24:00\"-TabUren2[[#This Row],[begintijd]]+TabUren2[[#This Row],[eindtijd]])-TabUren2[[#This Row],[pauze]],(TabUren2[[#This Row],[eindtijd]]-TabUren2[[#This Row],[begintijd]])-TabUren2[[#This Row],[pauze]]))","v":""},{"$f":"IF(OR(TabUren2[hoofdcategorie]=\"\",TabUren2[hoofdcategorie]=0),\"anders dan hoofdcategorie\",TabUren2[hoofdcategorie])","v":"anders dan hoofdcategorie"}]
[{"$f":"IF(TabUren2[[#This Row],[datum]]=\"\",\"\",INT((TabUren2[[#This Row],[datum]]-SUM(MOD(DATE(YEAR(TabUren2[[#This Row],[datum]]-MOD(TabUren2[[#This Row],[datum]]-2,7)+3),1,2),{1E+99;7})*{1;-1})+5) /7))","v":""},{"$f":"IF(TabUren2[[#This Row],[datum]]=\"\",\"\",TabUren2[[#This Row],[datum]])","v":""},null,null,{"$f":"IF(TabUren2[[#This Row],[datum]]=\"\",\"\",verzameldata!$C$3)","v":""},null,null,null,null,{"$f":"IF(TabUren2[[#This Row],[eindtijd]]=\"\",\"\",IF(TabUren2[[#This Row],[eindtijd]]<TabUren2[[#This Row],[begintijd]],(\"24:00\"-TabUren2[[#This Row],[begintijd]]+TabUren2[[#This Row],[eindtijd]])-TabUren2[[#This Row],[pauze]],(TabUren2[[#This Row],[eindtijd]]-TabUren2[[#This Row],[begintijd]])-TabUren2[[#This Row],[pauze]]))","v":""},{"$f":"IF(OR(TabUren2[hoofdcategorie]=\"\",TabUren2[hoofdcategorie]=0),\"anders dan hoofdcategorie\",TabUren2[hoofdcategorie])","v":"anders dan hoofdcategorie"}]
[{"$f":"IF(TabUren2[[#This Row],[datum]]=\"\",\"\",INT((TabUren2[[#This Row],[datum]]-SUM(MOD(DATE(YEAR(TabUren2[[#This Row],[datum]]-MOD(TabUren2[[#This Row],[datum]]-2,7)+3),1,2),{1E+99;7})*{1;-1})+5) /7))","v":""},{"$f":"IF(TabUren2[[#This Row],[datum]]=\"\",\"\",TabUren2[[#This Row],[datum]])","v":""},null,null,{"$f":"IF(TabUren2[[#This Row],[datum]]=\"\",\"\",verzameldata!$C$3)","v":""},null,null,null,null,{"$f":"IF(TabUren2[[#This Row],[eindtijd]]=\"\",\"\",IF(TabUren2[[#This Row],[eindtijd]]<TabUren2[[#This Row],[begintijd]],(\"24:00\"-TabUren2[[#This Row],[begintijd]]+TabUren2[[#This Row],[eindtijd]])-TabUren2[[#This Row],[pauze]],(TabUren2[[#This Row],[eindtijd]]-TabUren2[[#This Row],[begintijd]])-TabUren2[[#This Row],[pauze]]))","v":""},{"$f":"IF(OR(TabUren2[hoofdcategorie]=\"\",TabUren2[hoofdcategorie]=0),\"anders dan hoofdcategorie\",TabUren2[hoofdcategorie])","v":"anders dan hoofdcategorie"}]
[{"$f":"IF(TabUren2[[#This Row],[datum]]=\"\",\"\",INT((TabUren2[[#This Row],[datum]]-SUM(MOD(DATE(YEAR(TabUren2[[#This Row],[datum]]-MOD(TabUren2[[#This Row],[datum]]-2,7)+3),1,2),{1E+99;7})*{1;-1})+5) /7))","v":""},{"$f":"IF(TabUren2[[#This Row],[datum]]=\"\",\"\",TabUren2[[#This Row],[datum]])","v":""},null,null,{"$f":"IF(TabUren2[[#This Row],[datum]]=\"\",\"\",verzameldata!$C$3)","v":""},null,null,null,null,{"$f":"IF(TabUren2[[#This Row],[eindtijd]]=\"\",\"\",IF(TabUren2[[#This Row],[eindtijd]]<TabUren2[[#This Row],[begintijd]],(\"24:00\"-TabUren2[[#This Row],[begintijd]]+TabUren2[[#This Row],[eindtijd]])-TabUren2[[#This Row],[pauze]],(TabUren2[[#This Row],[eindtijd]]-TabUren2[[#This Row],[begintijd]])-TabUren2[[#This Row],[pauze]]))","v":""},{"$f":"IF(OR(TabUren2[hoofdcategorie]=\"\",TabUren2[hoofdcategorie]=0),\"anders dan hoofdcategorie\",TabUren2[hoofdcategorie])","v":"anders dan hoofdcategorie"}]
[{"$f":"IF(TabUren2[[#This Row],[datum]]=\"\",\"\",INT((TabUren2[[#This Row],[datum]]-SUM(MOD(DATE(YEAR(TabUren2[[#This Row],[datum]]-MOD(TabUren2[[#This Row],[datum]]-2,7)+3),1,2),{1E+99;7})*{1;-1})+5) /7))","v":""},{"$f":"IF(TabUren2[[#This Row],[datum]]=\"\",\"\",TabUren2[[#This Row],[datum]])","v":""},null,null,{"$f":"IF(TabUren2[[#This Row],[datum]]=\"\",\"\",verzameldata!$C$3)","v":""},null,null,null,null,{"$f":"IF(TabUren2[[#This Row],[eindtijd]]=\"\",\"\",IF(TabUren2[[#This Row],[eindtijd]]<TabUren2[[#This Row],[begintijd]],(\"24:00\"-TabUren2[[#This Row],[begintijd]]+TabUren2[[#This Row],[eindtijd]])-TabUren2[[#This Row],[pauze]],(TabUren2[[#This Row],[eindtijd]]-TabUren2[[#This Row],[begintijd]])-TabUren2[[#This Row],[pauze]]))","v":""},{"$f":"IF(OR(TabUren2[hoofdcategorie]=\"\",TabUren2[hoofdcategorie]=0),\"anders dan hoofdcategorie\",TabUren2[hoofdcategorie])","v":"anders dan hoofdcategorie"}]
[{"$f":"IF(TabUren2[[#This Row],[datum]]=\"\",\"\",INT((TabUren2[[#This Row],[datum]]-SUM(MOD(DATE(YEAR(TabUren2[[#This Row],[datum]]-MOD(TabUren2[[#This Row],[datum]]-2,7)+3),1,2),{1E+99;7})*{1;-1})+5) /7))","v":""},{"$f":"IF(TabUren2[[#This Row],[datum]]=\"\",\"\",TabUren2[[#This Row],[datum]])","v":""},null,null,{"$f":"IF(TabUren2[[#This Row],[datum]]=\"\",\"\",verzameldata!$C$3)","v":""},null,null,null,null,{"$f":"IF(TabUren2[[#This Row],[eindtijd]]=\"\",\"\",IF(TabUren2[[#This Row],[eindtijd]]<TabUren2[[#This Row],[begintijd]],(\"24:00\"-TabUren2[[#This Row],[begintijd]]+TabUren2[[#This Row],[eindtijd]])-TabUren2[[#This Row],[pauze]],(TabUren2[[#This Row],[eindtijd]]-TabUren2[[#This Row],[begintijd]])-TabUren2[[#This Row],[pauze]]))","v":""},{"$f":"IF(OR(TabUren2[hoofdcategorie]=\"\",TabUren2[hoofdcategorie]=0),\"anders dan hoofdcategorie\",TabUren2[hoofdcategorie])","v":"anders dan hoofdcategorie"}]
[{"$f":"IF(TabUren2[[#This Row],[datum]]=\"\",\"\",INT((TabUren2[[#This Row],[datum]]-SUM(MOD(DATE(YEAR(TabUren2[[#This Row],[datum]]-MOD(TabUren2[[#This Row],[datum]]-2,7)+3),1,2),{1E+99;7})*{1;-1})+5) /7))","v":""},{"$f":"IF(TabUren2[[#This Row],[datum]]=\"\",\"\",TabUren2[[#This Row],[datum]])","v":""},null,null,{"$f":"IF(TabUren2[[#This Row],[datum]]=\"\",\"\",verzameldata!$C$3)","v":""},null,null,null,null,{"$f":"IF(TabUren2[[#This Row],[eindtijd]]=\"\",\"\",IF(TabUren2[[#This Row],[eindtijd]]<TabUren2[[#This Row],[begintijd]],(\"24:00\"-TabUren2[[#This Row],[begintijd]]+TabUren2[[#This Row],[eindtijd]])-TabUren2[[#This Row],[pauze]],(TabUren2[[#This Row],[eindtijd]]-TabUren2[[#This Row],[begintijd]])-TabUren2[[#This Row],[pauze]]))","v":""},{"$f":"IF(OR(TabUren2[hoofdcategorie]=\"\",TabUren2[hoofdcategorie]=0),\"anders dan hoofdcategorie\",TabUren2[hoofdcategorie])","v":"anders dan hoofdcategorie"}]
[{"$f":"IF(TabUren2[[#This Row],[datum]]=\"\",\"\",INT((TabUren2[[#This Row],[datum]]-SUM(MOD(DATE(YEAR(TabUren2[[#This Row],[datum]]-MOD(TabUren2[[#This Row],[datum]]-2,7)+3),1,2),{1E+99;7})*{1;-1})+5) /7))","v":""},{"$f":"IF(TabUren2[[#This Row],[datum]]=\"\",\"\",TabUren2[[#This Row],[datum]])","v":""},null,null,{"$f":"IF(TabUren2[[#This Row],[datum]]=\"\",\"\",verzameldata!$C$3)","v":""},null,null,null,null,{"$f":"IF(TabUren2[[#This Row],[eindtijd]]=\"\",\"\",IF(TabUren2[[#This Row],[eindtijd]]<TabUren2[[#This Row],[begintijd]],(\"24:00\"-TabUren2[[#This Row],[begintijd]]+TabUren2[[#This Row],[eindtijd]])-TabUren2[[#This Row],[pauze]],(TabUren2[[#This Row],[eindtijd]]-TabUren2[[#This Row],[begintijd]])-TabUren2[[#This Row],[pauze]]))","v":""},{"$f":"IF(OR(TabUren2[hoofdcategorie]=\"\",TabUren2[hoofdcategorie]=0),\"anders dan hoofdcategorie\",TabUren2[hoofdcategorie])","v":"anders dan hoofdcategorie"}]
[{"$f":"IF(TabUren2[[#This Row],[datum]]=\"\",\"\",INT((TabUren2[[#This Row],[datum]]-SUM(MOD(DATE(YEAR(TabUren2[[#This Row],[datum]]-MOD(TabUren2[[#This Row],[datum]]-2,7)+3),1,2),{1E+99;7})*{1;-1})+5) /7))","v":""},{"$f":"IF(TabUren2[[#This Row],[datum]]=\"\",\"\",TabUren2[[#This Row],[datum]])","v":""},null,null,{"$f":"IF(TabUren2[[#This Row],[datum]]=\"\",\"\",verzameldata!$C$3)","v":""},null,null,null,null,{"$f":"IF(TabUren2[[#This Row],[eindtijd]]=\"\",\"\",IF(TabUren2[[#This Row],[eindtijd]]<TabUren2[[#This Row],[begintijd]],(\"24:00\"-TabUren2[[#This Row],[begintijd]]+TabUren2[[#This Row],[eindtijd]])-TabUren2[[#This Row],[pauze]],(TabUren2[[#This Row],[eindtijd]]-TabUren2[[#This Row],[begintijd]])-TabUren2[[#This Row],[pauze]]))","v":""},{"$f":"IF(OR(TabUren2[hoofdcategorie]=\"\",TabUren2[hoofdcategorie]=0),\"anders dan hoofdcategorie\",TabUren2[hoofdcategorie])","v":"anders dan hoofdcategorie"}]
[{"$f":"IF(TabUren2[[#This Row],[datum]]=\"\",\"\",INT((TabUren2[[#This Row],[datum]]-SUM(MOD(DATE(YEAR(TabUren2[[#This Row],[datum]]-MOD(TabUren2[[#This Row],[datum]]-2,7)+3),1,2),{1E+99;7})*{1;-1})+5) /7))","v":""},{"$f":"IF(TabUren2[[#This Row],[datum]]=\"\",\"\",TabUren2[[#This Row],[datum]])","v":""},null,null,{"$f":"IF(TabUren2[[#This Row],[datum]]=\"\",\"\",verzameldata!$C$3)","v":""},null,null,null,null,{"$f":"IF(TabUren2[[#This Row],[eindtijd]]=\"\",\"\",IF(TabUren2[[#This Row],[eindtijd]]<TabUren2[[#This Row],[begintijd]],(\"24:00\"-TabUren2[[#This Row],[begintijd]]+TabUren2[[#This Row],[eindtijd]])-TabUren2[[#This Row],[pauze]],(TabUren2[[#This Row],[eindtijd]]-TabUren2[[#This Row],[begintijd]])-TabUren2[[#This Row],[pauze]]))","v":""},{"$f":"IF(OR(TabUren2[hoofdcategorie]=\"\",TabUren2[hoofdcategorie]=0),\"anders dan hoofdcategorie\",TabUren2[hoofdcategorie])","v":"anders dan hoofdcategorie"}]
[{"$f":"IF(TabUren2[[#This Row],[datum]]=\"\",\"\",INT((TabUren2[[#This Row],[datum]]-SUM(MOD(DATE(YEAR(TabUren2[[#This Row],[datum]]-MOD(TabUren2[[#This Row],[datum]]-2,7)+3),1,2),{1E+99;7})*{1;-1})+5) /7))","v":""},{"$f":"IF(TabUren2[[#This Row],[datum]]=\"\",\"\",TabUren2[[#This Row],[datum]])","v":""},null,null,{"$f":"IF(TabUren2[[#This Row],[datum]]=\"\",\"\",verzameldata!$C$3)","v":""},null,null,null,null,{"$f":"IF(TabUren2[[#This Row],[eindtijd]]=\"\",\"\",IF(TabUren2[[#This Row],[eindtijd]]<TabUren2[[#This Row],[begintijd]],(\"24:00\"-TabUren2[[#This Row],[begintijd]]+TabUren2[[#This Row],[eindtijd]])-TabUren2[[#This Row],[pauze]],(TabUren2[[#This Row],[eindtijd]]-TabUren2[[#This Row],[begintijd]])-TabUren2[[#This Row],[pauze]]))","v":""},{"$f":"IF(OR(TabUren2[hoofdcategorie]=\"\",TabUren2[hoofdcategorie]=0),\"anders dan hoofdcategorie\",TabUren2[hoofdcategorie])","v":"anders dan hoofdcategorie"}]
[{"$f":"IF(TabUren2[[#This Row],[datum]]=\"\",\"\",INT((TabUren2[[#This Row],[datum]]-SUM(MOD(DATE(YEAR(TabUren2[[#This Row],[datum]]-MOD(TabUren2[[#This Row],[datum]]-2,7)+3),1,2),{1E+99;7})*{1;-1})+5) /7))","v":""},{"$f":"IF(TabUren2[[#This Row],[datum]]=\"\",\"\",TabUren2[[#This Row],[datum]])","v":""},null,null,{"$f":"IF(TabUren2[[#This Row],[datum]]=\"\",\"\",verzameldata!$C$3)","v":""},null,null,null,null,{"$f":"IF(TabUren2[[#This Row],[eindtijd]]=\"\",\"\",IF(TabUren2[[#This Row],[eindtijd]]<TabUren2[[#This Row],[begintijd]],(\"24:00\"-TabUren2[[#This Row],[begintijd]]+TabUren2[[#This Row],[eindtijd]])-TabUren2[[#This Row],[pauze]],(TabUren2[[#This Row],[eindtijd]]-TabUren2[[#This Row],[begintijd]])-TabUren2[[#This Row],[pauze]]))","v":""},{"$f":"IF(OR(TabUren2[hoofdcategorie]=\"\",TabUren2[hoofdcategorie]=0),\"anders dan hoofdcategorie\",TabUren2[hoofdcategorie])","v":"anders dan hoofdcategorie"}]
[{"$f":"IF(TabUren2[[#This Row],[datum]]=\"\",\"\",INT((TabUren2[[#This Row],[datum]]-SUM(MOD(DATE(YEAR(TabUren2[[#This Row],[datum]]-MOD(TabUren2[[#This Row],[datum]]-2,7)+3),1,2),{1E+99;7})*{1;-1})+5) /7))","v":""},{"$f":"IF(TabUren2[[#This Row],[datum]]=\"\",\"\",TabUren2[[#This Row],[datum]])","v":""},null,null,{"$f":"IF(TabUren2[[#This Row],[datum]]=\"\",\"\",verzameldata!$C$3)","v":""},null,null,null,null,{"$f":"IF(TabUren2[[#This Row],[eindtijd]]=\"\",\"\",IF(TabUren2[[#This Row],[eindtijd]]<TabUren2[[#This Row],[begintijd]],(\"24:00\"-TabUren2[[#This Row],[begintijd]]+TabUren2[[#This Row],[eindtijd]])-TabUren2[[#This Row],[pauze]],(TabUren2[[#This Row],[eindtijd]]-TabUren2[[#This Row],[begintijd]])-TabUren2[[#This Row],[pauze]]))","v":""},{"$f":"IF(OR(TabUren2[hoofdcategorie]=\"\",TabUren2[hoofdcategorie]=0),\"anders dan hoofdcategorie\",TabUren2[hoofdcategorie])","v":"anders dan hoofdcategorie"}]
[{"$f":"IF(TabUren2[[#This Row],[datum]]=\"\",\"\",INT((TabUren2[[#This Row],[datum]]-SUM(MOD(DATE(YEAR(TabUren2[[#This Row],[datum]]-MOD(TabUren2[[#This Row],[datum]]-2,7)+3),1,2),{1E+99;7})*{1;-1})+5) /7))","v":""},{"$f":"IF(TabUren2[[#This Row],[datum]]=\"\",\"\",TabUren2[[#This Row],[datum]])","v":""},null,null,{"$f":"IF(TabUren2[[#This Row],[datum]]=\"\",\"\",verzameldata!$C$3)","v":""},null,null,null,null,{"$f":"IF(TabUren2[[#This Row],[eindtijd]]=\"\",\"\",IF(TabUren2[[#This Row],[eindtijd]]<TabUren2[[#This Row],[begintijd]],(\"24:00\"-TabUren2[[#This Row],[begintijd]]+TabUren2[[#This Row],[eindtijd]])-TabUren2[[#This Row],[pauze]],(TabUren2[[#This Row],[eindtijd]]-TabUren2[[#This Row],[begintijd]])-TabUren2[[#This Row],[pauze]]))","v":""},{"$f":"IF(OR(TabUren2[hoofdcategorie]=\"\",TabUren2[hoofdcategorie]=0),\"anders dan hoofdcategorie\",TabUren2[hoofdcategorie])","v":"anders dan hoofdcategorie"}]
[{"$f":"IF(TabUren2[[#This Row],[datum]]=\"\",\"\",INT((TabUren2[[#This Row],[datum]]-SUM(MOD(DATE(YEAR(TabUren2[[#This Row],[datum]]-MOD(TabUren2[[#This Row],[datum]]-2,7)+3),1,2),{1E+99;7})*{1;-1})+5) /7))","v":""},{"$f":"IF(TabUren2[[#This Row],[datum]]=\"\",\"\",TabUren2[[#This Row],[datum]])","v":""},null,null,{"$f":"IF(TabUren2[[#This Row],[datum]]=\"\",\"\",verzameldata!$C$3)","v":""},null,null,null,null,{"$f":"IF(TabUren2[[#This Row],[eindtijd]]=\"\",\"\",IF(TabUren2[[#This Row],[eindtijd]]<TabUren2[[#This Row],[begintijd]],(\"24:00\"-TabUren2[[#This Row],[begintijd]]+TabUren2[[#This Row],[eindtijd]])-TabUren2[[#This Row],[pauze]],(TabUren2[[#This Row],[eindtijd]]-TabUren2[[#This Row],[begintijd]])-TabUren2[[#This Row],[pauze]]))","v":""},{"$f":"IF(OR(TabUren2[hoofdcategorie]=\"\",TabUren2[hoofdcategorie]=0),\"anders dan hoofdcategorie\",TabUren2[hoofdcategorie])","v":"anders dan hoofdcategorie"}]
[{"$f":"IF(TabUren2[[#This Row],[datum]]=\"\",\"\",INT((TabUren2[[#This Row],[datum]]-SUM(MOD(DATE(YEAR(TabUren2[[#This Row],[datum]]-MOD(TabUren2[[#This Row],[datum]]-2,7)+3),1,2),{1E+99;7})*{1;-1})+5) /7))","v":""},{"$f":"IF(TabUren2[[#This Row],[datum]]=\"\",\"\",TabUren2[[#This Row],[datum]])","v":""},null,null,{"$f":"IF(TabUren2[[#This Row],[datum]]=\"\",\"\",verzameldata!$C$3)","v":""},null,null,null,null,{"$f":"IF(TabUren2[[#This Row],[eindtijd]]=\"\",\"\",IF(TabUren2[[#This Row],[eindtijd]]<TabUren2[[#This Row],[begintijd]],(\"24:00\"-TabUren2[[#This Row],[begintijd]]+TabUren2[[#This Row],[eindtijd]])-TabUren2[[#This Row],[pauze]],(TabUren2[[#This Row],[eindtijd]]-TabUren2[[#This Row],[begintijd]])-TabUren2[[#This Row],[pauze]]))","v":""},{"$f":"IF(OR(TabUren2[hoofdcategorie]=\"\",TabUren2[hoofdcategorie]=0),\"anders dan hoofdcategorie\",TabUren2[hoofdcategorie])","v":"anders dan hoofdcategorie"}]
[{"$f":"IF(TabUren2[[#This Row],[datum]]=\"\",\"\",INT((TabUren2[[#This Row],[datum]]-SUM(MOD(DATE(YEAR(TabUren2[[#This Row],[datum]]-MOD(TabUren2[[#This Row],[datum]]-2,7)+3),1,2),{1E+99;7})*{1;-1})+5) /7))","v":""},{"$f":"IF(TabUren2[[#This Row],[datum]]=\"\",\"\",TabUren2[[#This Row],[datum]])","v":""},null,null,{"$f":"IF(TabUren2[[#This Row],[datum]]=\"\",\"\",verzameldata!$C$3)","v":""},null,null,null,null,{"$f":"IF(TabUren2[[#This Row],[eindtijd]]=\"\",\"\",IF(TabUren2[[#This Row],[eindtijd]]<TabUren2[[#This Row],[begintijd]],(\"24:00\"-TabUren2[[#This Row],[begintijd]]+TabUren2[[#This Row],[eindtijd]])-TabUren2[[#This Row],[pauze]],(TabUren2[[#This Row],[eindtijd]]-TabUren2[[#This Row],[begintijd]])-TabUren2[[#This Row],[pauze]]))","v":""},{"$f":"IF(OR(TabUren2[hoofdcategorie]=\"\",TabUren2[hoofdcategorie]=0),\"anders dan hoofdcategorie\",TabUren2[hoofdcategorie])","v":"anders dan hoofdcategorie"}]
[{"$f":"IF(TabUren2[[#This Row],[datum]]=\"\",\"\",INT((TabUren2[[#This Row],[datum]]-SUM(MOD(DATE(YEAR(TabUren2[[#This Row],[datum]]-MOD(TabUren2[[#This Row],[datum]]-2,7)+3),1,2),{1E+99;7})*{1;-1})+5) /7))","v":""},{"$f":"IF(TabUren2[[#This Row],[datum]]=\"\",\"\",TabUren2[[#This Row],[datum]])","v":""},null,null,{"$f":"IF(TabUren2[[#This Row],[datum]]=\"\",\"\",verzameldata!$C$3)","v":""},null,null,null,null,{"$f":"IF(TabUren2[[#This Row],[eindtijd]]=\"\",\"\",IF(TabUren2[[#This Row],[eindtijd]]<TabUren2[[#This Row],[begintijd]],(\"24:00\"-TabUren2[[#This Row],[begintijd]]+TabUren2[[#This Row],[eindtijd]])-TabUren2[[#This Row],[pauze]],(TabUren2[[#This Row],[eindtijd]]-TabUren2[[#This Row],[begintijd]])-TabUren2[[#This Row],[pauze]]))","v":""},{"$f":"IF(OR(TabUren2[hoofdcategorie]=\"\",TabUren2[hoofdcategorie]=0),\"anders dan hoofdcategorie\",TabUren2[hoofdcategorie])","v":"anders dan hoofdcategorie"}]
[{"$f":"IF(TabUren2[[#This Row],[datum]]=\"\",\"\",INT((TabUren2[[#This Row],[datum]]-SUM(MOD(DATE(YEAR(TabUren2[[#This Row],[datum]]-MOD(TabUren2[[#This Row],[datum]]-2,7)+3),1,2),{1E+99;7})*{1;-1})+5) /7))","v":""},{"$f":"IF(TabUren2[[#This Row],[datum]]=\"\",\"\",TabUren2[[#This Row],[datum]])","v":""},null,null,{"$f":"IF(TabUren2[[#This Row],[datum]]=\"\",\"\",verzameldata!$C$3)","v":""},null,null,null,null,{"$f":"IF(TabUren2[[#This Row],[eindtijd]]=\"\",\"\",IF(TabUren2[[#This Row],[eindtijd]]<TabUren2[[#This Row],[begintijd]],(\"24:00\"-TabUren2[[#This Row],[begintijd]]+TabUren2[[#This Row],[eindtijd]])-TabUren2[[#This Row],[pauze]],(TabUren2[[#This Row],[eindtijd]]-TabUren2[[#This Row],[begintijd]])-TabUren2[[#This Row],[pauze]]))","v":""},{"$f":"IF(OR(TabUren2[hoofdcategorie]=\"\",TabUren2[hoofdcategorie]=0),\"anders dan hoofdcategorie\",TabUren2[hoofdcategorie])","v":"anders dan hoofdcategorie"}]
[{"$f":"IF(TabUren2[[#This Row],[datum]]=\"\",\"\",INT((TabUren2[[#This Row],[datum]]-SUM(MOD(DATE(YEAR(TabUren2[[#This Row],[datum]]-MOD(TabUren2[[#This Row],[datum]]-2,7)+3),1,2),{1E+99;7})*{1;-1})+5) /7))","v":""},{"$f":"IF(TabUren2[[#This Row],[datum]]=\"\",\"\",TabUren2[[#This Row],[datum]])","v":""},null,null,{"$f":"IF(TabUren2[[#This Row],[datum]]=\"\",\"\",verzameldata!$C$3)","v":""},null,null,null,null,{"$f":"IF(TabUren2[[#This Row],[eindtijd]]=\"\",\"\",IF(TabUren2[[#This Row],[eindtijd]]<TabUren2[[#This Row],[begintijd]],(\"24:00\"-TabUren2[[#This Row],[begintijd]]+TabUren2[[#This Row],[eindtijd]])-TabUren2[[#This Row],[pauze]],(TabUren2[[#This Row],[eindtijd]]-TabUren2[[#This Row],[begintijd]])-TabUren2[[#This Row],[pauze]]))","v":""},{"$f":"IF(OR(TabUren2[hoofdcategorie]=\"\",TabUren2[hoofdcategorie]=0),\"anders dan hoofdcategorie\",TabUren2[hoofdcategorie])","v":"anders dan hoofdcategorie"}]
[{"$f":"IF(TabUren2[[#This Row],[datum]]=\"\",\"\",INT((TabUren2[[#This Row],[datum]]-SUM(MOD(DATE(YEAR(TabUren2[[#This Row],[datum]]-MOD(TabUren2[[#This Row],[datum]]-2,7)+3),1,2),{1E+99;7})*{1;-1})+5) /7))","v":""},{"$f":"IF(TabUren2[[#This Row],[datum]]=\"\",\"\",TabUren2[[#This Row],[datum]])","v":""},null,null,{"$f":"IF(TabUren2[[#This Row],[datum]]=\"\",\"\",verzameldata!$C$3)","v":""},null,null,null,null,{"$f":"IF(TabUren2[[#This Row],[eindtijd]]=\"\",\"\",IF(TabUren2[[#This Row],[eindtijd]]<TabUren2[[#This Row],[begintijd]],(\"24:00\"-TabUren2[[#This Row],[begintijd]]+TabUren2[[#This Row],[eindtijd]])-TabUren2[[#This Row],[pauze]],(TabUren2[[#This Row],[eindtijd]]-TabUren2[[#This Row],[begintijd]])-TabUren2[[#This Row],[pauze]]))","v":""},{"$f":"IF(OR(TabUren2[hoofdcategorie]=\"\",TabUren2[hoofdcategorie]=0),\"anders dan hoofdcategorie\",TabUren2[hoofdcategorie])","v":"anders dan hoofdcategorie"}]
[{"$f":"IF(TabUren2[[#This Row],[datum]]=\"\",\"\",INT((TabUren2[[#This Row],[datum]]-SUM(MOD(DATE(YEAR(TabUren2[[#This Row],[datum]]-MOD(TabUren2[[#This Row],[datum]]-2,7)+3),1,2),{1E+99;7})*{1;-1})+5) /7))","v":""},{"$f":"IF(TabUren2[[#This Row],[datum]]=\"\",\"\",TabUren2[[#This Row],[datum]])","v":""},null,null,{"$f":"IF(TabUren2[[#This Row],[datum]]=\"\",\"\",verzameldata!$C$3)","v":""},null,null,null,null,{"$f":"IF(TabUren2[[#This Row],[eindtijd]]=\"\",\"\",IF(TabUren2[[#This Row],[eindtijd]]<TabUren2[[#This Row],[begintijd]],(\"24:00\"-TabUren2[[#This Row],[begintijd]]+TabUren2[[#This Row],[eindtijd]])-TabUren2[[#This Row],[pauze]],(TabUren2[[#This Row],[eindtijd]]-TabUren2[[#This Row],[begintijd]])-TabUren2[[#This Row],[pauze]]))","v":""},{"$f":"IF(OR(TabUren2[hoofdcategorie]=\"\",TabUren2[hoofdcategorie]=0),\"anders dan hoofdcategorie\",TabUren2[hoofdcategorie])","v":"anders dan hoofdcategorie"}]
[{"$f":"IF(TabUren2[[#This Row],[datum]]=\"\",\"\",INT((TabUren2[[#This Row],[datum]]-SUM(MOD(DATE(YEAR(TabUren2[[#This Row],[datum]]-MOD(TabUren2[[#This Row],[datum]]-2,7)+3),1,2),{1E+99;7})*{1;-1})+5) /7))","v":""},{"$f":"IF(TabUren2[[#This Row],[datum]]=\"\",\"\",TabUren2[[#This Row],[datum]])","v":""},null,null,{"$f":"IF(TabUren2[[#This Row],[datum]]=\"\",\"\",verzameldata!$C$3)","v":""},null,null,null,null,{"$f":"IF(TabUren2[[#This Row],[eindtijd]]=\"\",\"\",IF(TabUren2[[#This Row],[eindtijd]]<TabUren2[[#This Row],[begintijd]],(\"24:00\"-TabUren2[[#This Row],[begintijd]]+TabUren2[[#This Row],[eindtijd]])-TabUren2[[#This Row],[pauze]],(TabUren2[[#This Row],[eindtijd]]-TabUren2[[#This Row],[begintijd]])-TabUren2[[#This Row],[pauze]]))","v":""},{"$f":"IF(OR(TabUren2[hoofdcategorie]=\"\",TabUren2[hoofdcategorie]=0),\"anders dan hoofdcategorie\",TabUren2[hoofdcategorie])","v":"anders dan hoofdcategorie"}]
[{"$f":"IF(TabUren2[[#This Row],[datum]]=\"\",\"\",INT((TabUren2[[#This Row],[datum]]-SUM(MOD(DATE(YEAR(TabUren2[[#This Row],[datum]]-MOD(TabUren2[[#This Row],[datum]]-2,7)+3),1,2),{1E+99;7})*{1;-1})+5) /7))","v":""},{"$f":"IF(TabUren2[[#This Row],[datum]]=\"\",\"\",TabUren2[[#This Row],[datum]])","v":""},null,null,{"$f":"IF(TabUren2[[#This Row],[datum]]=\"\",\"\",verzameldata!$C$3)","v":""},null,null,null,null,{"$f":"IF(TabUren2[[#This Row],[eindtijd]]=\"\",\"\",IF(TabUren2[[#This Row],[eindtijd]]<TabUren2[[#This Row],[begintijd]],(\"24:00\"-TabUren2[[#This Row],[begintijd]]+TabUren2[[#This Row],[eindtijd]])-TabUren2[[#This Row],[pauze]],(TabUren2[[#This Row],[eindtijd]]-TabUren2[[#This Row],[begintijd]])-TabUren2[[#This Row],[pauze]]))","v":""},{"$f":"IF(OR(TabUren2[hoofdcategorie]=\"\",TabUren2[hoofdcategorie]=0),\"anders dan hoofdcategorie\",TabUren2[hoofdcategorie])","v":"anders dan hoofdcategorie"}]
[{"$f":"IF(TabUren2[[#This Row],[datum]]=\"\",\"\",INT((TabUren2[[#This Row],[datum]]-SUM(MOD(DATE(YEAR(TabUren2[[#This Row],[datum]]-MOD(TabUren2[[#This Row],[datum]]-2,7)+3),1,2),{1E+99;7})*{1;-1})+5) /7))","v":""},{"$f":"IF(TabUren2[[#This Row],[datum]]=\"\",\"\",TabUren2[[#This Row],[datum]])","v":""},null,null,{"$f":"IF(TabUren2[[#This Row],[datum]]=\"\",\"\",verzameldata!$C$3)","v":""},null,null,null,null,{"$f":"IF(TabUren2[[#This Row],[eindtijd]]=\"\",\"\",IF(TabUren2[[#This Row],[eindtijd]]<TabUren2[[#This Row],[begintijd]],(\"24:00\"-TabUren2[[#This Row],[begintijd]]+TabUren2[[#This Row],[eindtijd]])-TabUren2[[#This Row],[pauze]],(TabUren2[[#This Row],[eindtijd]]-TabUren2[[#This Row],[begintijd]])-TabUren2[[#This Row],[pauze]]))","v":""},{"$f":"IF(OR(TabUren2[hoofdcategorie]=\"\",TabUren2[hoofdcategorie]=0),\"anders dan hoofdcategorie\",TabUren2[hoofdcategorie])","v":"anders dan hoofdcategorie"}]
[{"$f":"IF(TabUren2[[#This Row],[datum]]=\"\",\"\",INT((TabUren2[[#This Row],[datum]]-SUM(MOD(DATE(YEAR(TabUren2[[#This Row],[datum]]-MOD(TabUren2[[#This Row],[datum]]-2,7)+3),1,2),{1E+99;7})*{1;-1})+5) /7))","v":""},{"$f":"IF(TabUren2[[#This Row],[datum]]=\"\",\"\",TabUren2[[#This Row],[datum]])","v":""},null,null,{"$f":"IF(TabUren2[[#This Row],[datum]]=\"\",\"\",verzameldata!$C$3)","v":""},null,null,null,null,{"$f":"IF(TabUren2[[#This Row],[eindtijd]]=\"\",\"\",IF(TabUren2[[#This Row],[eindtijd]]<TabUren2[[#This Row],[begintijd]],(\"24:00\"-TabUren2[[#This Row],[begintijd]]+TabUren2[[#This Row],[eindtijd]])-TabUren2[[#This Row],[pauze]],(TabUren2[[#This Row],[eindtijd]]-TabUren2[[#This Row],[begintijd]])-TabUren2[[#This Row],[pauze]]))","v":""},{"$f":"IF(OR(TabUren2[hoofdcategorie]=\"\",TabUren2[hoofdcategorie]=0),\"anders dan hoofdcategorie\",TabUren2[hoofdcategorie])","v":"anders dan hoofdcategorie"}]
[{"$f":"IF(TabUren2[[#This Row],[datum]]=\"\",\"\",INT((TabUren2[[#This Row],[datum]]-SUM(MOD(DATE(YEAR(TabUren2[[#This Row],[datum]]-MOD(TabUren2[[#This Row],[datum]]-2,7)+3),1,2),{1E+99;7})*{1;-1})+5) /7))","v":""},{"$f":"IF(TabUren2[[#This Row],[datum]]=\"\",\"\",TabUren2[[#This Row],[datum]])","v":""},null,null,{"$f":"IF(TabUren2[[#This Row],[datum]]=\"\",\"\",verzameldata!$C$3)","v":""},null,null,null,null,{"$f":"IF(TabUren2[[#This Row],[eindtijd]]=\"\",\"\",IF(TabUren2[[#This Row],[eindtijd]]<TabUren2[[#This Row],[begintijd]],(\"24:00\"-TabUren2[[#This Row],[begintijd]]+TabUren2[[#This Row],[eindtijd]])-TabUren2[[#This Row],[pauze]],(TabUren2[[#This Row],[eindtijd]]-TabUren2[[#This Row],[begintijd]])-TabUren2[[#This Row],[pauze]]))","v":""},{"$f":"IF(OR(TabUren2[hoofdcategorie]=\"\",TabUren2[hoofdcategorie]=0),\"anders dan hoofdcategorie\",TabUren2[hoofdcategorie])","v":"anders dan hoofdcategorie"}]
[{"$f":"IF(TabUren2[[#This Row],[datum]]=\"\",\"\",INT((TabUren2[[#This Row],[datum]]-SUM(MOD(DATE(YEAR(TabUren2[[#This Row],[datum]]-MOD(TabUren2[[#This Row],[datum]]-2,7)+3),1,2),{1E+99;7})*{1;-1})+5) /7))","v":""},{"$f":"IF(TabUren2[[#This Row],[datum]]=\"\",\"\",TabUren2[[#This Row],[datum]])","v":""},null,null,{"$f":"IF(TabUren2[[#This Row],[datum]]=\"\",\"\",verzameldata!$C$3)","v":""},null,null,null,null,{"$f":"IF(TabUren2[[#This Row],[eindtijd]]=\"\",\"\",IF(TabUren2[[#This Row],[eindtijd]]<TabUren2[[#This Row],[begintijd]],(\"24:00\"-TabUren2[[#This Row],[begintijd]]+TabUren2[[#This Row],[eindtijd]])-TabUren2[[#This Row],[pauze]],(TabUren2[[#This Row],[eindtijd]]-TabUren2[[#This Row],[begintijd]])-TabUren2[[#This Row],[pauze]]))","v":""},{"$f":"IF(OR(TabUren2[hoofdcategorie]=\"\",TabUren2[hoofdcategorie]=0),\"anders dan hoofdcategorie\",TabUren2[hoofdcategorie])","v":"anders dan hoofdcategorie"}]
[{"$f":"IF(TabUren2[[#This Row],[datum]]=\"\",\"\",INT((TabUren2[[#This Row],[datum]]-SUM(MOD(DATE(YEAR(TabUren2[[#This Row],[datum]]-MOD(TabUren2[[#This Row],[datum]]-2,7)+3),1,2),{1E+99;7})*{1;-1})+5) /7))","v":""},{"$f":"IF(TabUren2[[#This Row],[datum]]=\"\",\"\",TabUren2[[#This Row],[datum]])","v":""},null,null,{"$f":"IF(TabUren2[[#This Row],[datum]]=\"\",\"\",verzameldata!$C$3)","v":""},null,null,null,null,{"$f":"IF(TabUren2[[#This Row],[eindtijd]]=\"\",\"\",IF(TabUren2[[#This Row],[eindtijd]]<TabUren2[[#This Row],[begintijd]],(\"24:00\"-TabUren2[[#This Row],[begintijd]]+TabUren2[[#This Row],[eindtijd]])-TabUren2[[#This Row],[pauze]],(TabUren2[[#This Row],[eindtijd]]-TabUren2[[#This Row],[begintijd]])-TabUren2[[#This Row],[pauze]]))","v":""},{"$f":"IF(OR(TabUren2[hoofdcategorie]=\"\",TabUren2[hoofdcategorie]=0),\"anders dan hoofdcategorie\",TabUren2[hoofdcategorie])","v":"anders dan hoofdcategorie"}]
[{"$f":"IF(TabUren2[[#This Row],[datum]]=\"\",\"\",INT((TabUren2[[#This Row],[datum]]-SUM(MOD(DATE(YEAR(TabUren2[[#This Row],[datum]]-MOD(TabUren2[[#This Row],[datum]]-2,7)+3),1,2),{1E+99;7})*{1;-1})+5) /7))","v":""},{"$f":"IF(TabUren2[[#This Row],[datum]]=\"\",\"\",TabUren2[[#This Row],[datum]])","v":""},null,null,{"$f":"IF(TabUren2[[#This Row],[datum]]=\"\",\"\",verzameldata!$C$3)","v":""},null,null,null,null,{"$f":"IF(TabUren2[[#This Row],[eindtijd]]=\"\",\"\",IF(TabUren2[[#This Row],[eindtijd]]<TabUren2[[#This Row],[begintijd]],(\"24:00\"-TabUren2[[#This Row],[begintijd]]+TabUren2[[#This Row],[eindtijd]])-TabUren2[[#This Row],[pauze]],(TabUren2[[#This Row],[eindtijd]]-TabUren2[[#This Row],[begintijd]])-TabUren2[[#This Row],[pauze]]))","v":""},{"$f":"IF(OR(TabUren2[hoofdcategorie]=\"\",TabUren2[hoofdcategorie]=0),\"anders dan hoofdcategorie\",TabUren2[hoofdcategorie])","v":"anders dan hoofdcategorie"}]
[{"$f":"IF(TabUren2[[#This Row],[datum]]=\"\",\"\",INT((TabUren2[[#This Row],[datum]]-SUM(MOD(DATE(YEAR(TabUren2[[#This Row],[datum]]-MOD(TabUren2[[#This Row],[datum]]-2,7)+3),1,2),{1E+99;7})*{1;-1})+5) /7))","v":""},{"$f":"IF(TabUren2[[#This Row],[datum]]=\"\",\"\",TabUren2[[#This Row],[datum]])","v":""},null,null,{"$f":"IF(TabUren2[[#This Row],[datum]]=\"\",\"\",verzameldata!$C$3)","v":""},null,null,null,null,{"$f":"IF(TabUren2[[#This Row],[eindtijd]]=\"\",\"\",IF(TabUren2[[#This Row],[eindtijd]]<TabUren2[[#This Row],[begintijd]],(\"24:00\"-TabUren2[[#This Row],[begintijd]]+TabUren2[[#This Row],[eindtijd]])-TabUren2[[#This Row],[pauze]],(TabUren2[[#This Row],[eindtijd]]-TabUren2[[#This Row],[begintijd]])-TabUren2[[#This Row],[pauze]]))","v":""},{"$f":"IF(OR(TabUren2[hoofdcategorie]=\"\",TabUren2[hoofdcategorie]=0),\"anders dan hoofdcategorie\",TabUren2[hoofdcategorie])","v":"anders dan hoofdcategorie"}]
[{"$f":"IF(TabUren2[[#This Row],[datum]]=\"\",\"\",INT((TabUren2[[#This Row],[datum]]-SUM(MOD(DATE(YEAR(TabUren2[[#This Row],[datum]]-MOD(TabUren2[[#This Row],[datum]]-2,7)+3),1,2),{1E+99;7})*{1;-1})+5) /7))","v":""},{"$f":"IF(TabUren2[[#This Row],[datum]]=\"\",\"\",TabUren2[[#This Row],[datum]])","v":""},null,null,{"$f":"IF(TabUren2[[#This Row],[datum]]=\"\",\"\",verzameldata!$C$3)","v":""},null,null,null,null,{"$f":"IF(TabUren2[[#This Row],[eindtijd]]=\"\",\"\",IF(TabUren2[[#This Row],[eindtijd]]<TabUren2[[#This Row],[begintijd]],(\"24:00\"-TabUren2[[#This Row],[begintijd]]+TabUren2[[#This Row],[eindtijd]])-TabUren2[[#This Row],[pauze]],(TabUren2[[#This Row],[eindtijd]]-TabUren2[[#This Row],[begintijd]])-TabUren2[[#This Row],[pauze]]))","v":""},{"$f":"IF(OR(TabUren2[hoofdcategorie]=\"\",TabUren2[hoofdcategorie]=0),\"anders dan hoofdcategorie\",TabUren2[hoofdcategorie])","v":"anders dan hoofdcategorie"}]
[{"$f":"IF(TabUren2[[#This Row],[datum]]=\"\",\"\",INT((TabUren2[[#This Row],[datum]]-SUM(MOD(DATE(YEAR(TabUren2[[#This Row],[datum]]-MOD(TabUren2[[#This Row],[datum]]-2,7)+3),1,2),{1E+99;7})*{1;-1})+5) /7))","v":""},{"$f":"IF(TabUren2[[#This Row],[datum]]=\"\",\"\",TabUren2[[#This Row],[datum]])","v":""},null,null,{"$f":"IF(TabUren2[[#This Row],[datum]]=\"\",\"\",verzameldata!$C$3)","v":""},null,null,null,null,{"$f":"IF(TabUren2[[#This Row],[eindtijd]]=\"\",\"\",IF(TabUren2[[#This Row],[eindtijd]]<TabUren2[[#This Row],[begintijd]],(\"24:00\"-TabUren2[[#This Row],[begintijd]]+TabUren2[[#This Row],[eindtijd]])-TabUren2[[#This Row],[pauze]],(TabUren2[[#This Row],[eindtijd]]-TabUren2[[#This Row],[begintijd]])-TabUren2[[#This Row],[pauze]]))","v":""},{"$f":"IF(OR(TabUren2[hoofdcategorie]=\"\",TabUren2[hoofdcategorie]=0),\"anders dan hoofdcategorie\",TabUren2[hoofdcategorie])","v":"anders dan hoofdcategorie"}]
[{"$f":"IF(TabUren2[[#This Row],[datum]]=\"\",\"\",INT((TabUren2[[#This Row],[datum]]-SUM(MOD(DATE(YEAR(TabUren2[[#This Row],[datum]]-MOD(TabUren2[[#This Row],[datum]]-2,7)+3),1,2),{1E+99;7})*{1;-1})+5) /7))","v":""},{"$f":"IF(TabUren2[[#This Row],[datum]]=\"\",\"\",TabUren2[[#This Row],[datum]])","v":""},null,null,{"$f":"IF(TabUren2[[#This Row],[datum]]=\"\",\"\",verzameldata!$C$3)","v":""},null,null,null,null,{"$f":"IF(TabUren2[[#This Row],[eindtijd]]=\"\",\"\",IF(TabUren2[[#This Row],[eindtijd]]<TabUren2[[#This Row],[begintijd]],(\"24:00\"-TabUren2[[#This Row],[begintijd]]+TabUren2[[#This Row],[eindtijd]])-TabUren2[[#This Row],[pauze]],(TabUren2[[#This Row],[eindtijd]]-TabUren2[[#This Row],[begintijd]])-TabUren2[[#This Row],[pauze]]))","v":""},{"$f":"IF(OR(TabUren2[hoofdcategorie]=\"\",TabUren2[hoofdcategorie]=0),\"anders dan hoofdcategorie\",TabUren2[hoofdcategorie])","v":"anders dan hoofdcategorie"}]
[{"$f":"IF(TabUren2[[#This Row],[datum]]=\"\",\"\",INT((TabUren2[[#This Row],[datum]]-SUM(MOD(DATE(YEAR(TabUren2[[#This Row],[datum]]-MOD(TabUren2[[#This Row],[datum]]-2,7)+3),1,2),{1E+99;7})*{1;-1})+5) /7))","v":""},{"$f":"IF(TabUren2[[#This Row],[datum]]=\"\",\"\",TabUren2[[#This Row],[datum]])","v":""},null,null,{"$f":"IF(TabUren2[[#This Row],[datum]]=\"\",\"\",verzameldata!$C$3)","v":""},null,null,null,null,{"$f":"IF(TabUren2[[#This Row],[eindtijd]]=\"\",\"\",IF(TabUren2[[#This Row],[eindtijd]]<TabUren2[[#This Row],[begintijd]],(\"24:00\"-TabUren2[[#This Row],[begintijd]]+TabUren2[[#This Row],[eindtijd]])-TabUren2[[#This Row],[pauze]],(TabUren2[[#This Row],[eindtijd]]-TabUren2[[#This Row],[begintijd]])-TabUren2[[#This Row],[pauze]]))","v":""},{"$f":"IF(OR(TabUren2[hoofdcategorie]=\"\",TabUren2[hoofdcategorie]=0),\"anders dan hoofdcategorie\",TabUren2[hoofdcategorie])","v":"anders dan hoofdcategorie"}]
[{"$f":"IF(TabUren2[[#This Row],[datum]]=\"\",\"\",INT((TabUren2[[#This Row],[datum]]-SUM(MOD(DATE(YEAR(TabUren2[[#This Row],[datum]]-MOD(TabUren2[[#This Row],[datum]]-2,7)+3),1,2),{1E+99;7})*{1;-1})+5) /7))","v":""},{"$f":"IF(TabUren2[[#This Row],[datum]]=\"\",\"\",TabUren2[[#This Row],[datum]])","v":""},null,null,{"$f":"IF(TabUren2[[#This Row],[datum]]=\"\",\"\",verzameldata!$C$3)","v":""},null,null,null,null,{"$f":"IF(TabUren2[[#This Row],[eindtijd]]=\"\",\"\",IF(TabUren2[[#This Row],[eindtijd]]<TabUren2[[#This Row],[begintijd]],(\"24:00\"-TabUren2[[#This Row],[begintijd]]+TabUren2[[#This Row],[eindtijd]])-TabUren2[[#This Row],[pauze]],(TabUren2[[#This Row],[eindtijd]]-TabUren2[[#This Row],[begintijd]])-TabUren2[[#This Row],[pauze]]))","v":""},{"$f":"IF(OR(TabUren2[hoofdcategorie]=\"\",TabUren2[hoofdcategorie]=0),\"anders dan hoofdcategorie\",TabUren2[hoofdcategorie])","v":"anders dan hoofdcategorie"}]
[{"$f":"IF(TabUren2[[#This Row],[datum]]=\"\",\"\",INT((TabUren2[[#This Row],[datum]]-SUM(MOD(DATE(YEAR(TabUren2[[#This Row],[datum]]-MOD(TabUren2[[#This Row],[datum]]-2,7)+3),1,2),{1E+99;7})*{1;-1})+5) /7))","v":""},{"$f":"IF(TabUren2[[#This Row],[datum]]=\"\",\"\",TabUren2[[#This Row],[datum]])","v":""},null,null,{"$f":"IF(TabUren2[[#This Row],[datum]]=\"\",\"\",verzameldata!$C$3)","v":""},null,null,null,null,{"$f":"IF(TabUren2[[#This Row],[eindtijd]]=\"\",\"\",IF(TabUren2[[#This Row],[eindtijd]]<TabUren2[[#This Row],[begintijd]],(\"24:00\"-TabUren2[[#This Row],[begintijd]]+TabUren2[[#This Row],[eindtijd]])-TabUren2[[#This Row],[pauze]],(TabUren2[[#This Row],[eindtijd]]-TabUren2[[#This Row],[begintijd]])-TabUren2[[#This Row],[pauze]]))","v":""},{"$f":"IF(OR(TabUren2[hoofdcategorie]=\"\",TabUren2[hoofdcategorie]=0),\"anders dan hoofdcategorie\",TabUren2[hoofdcategorie])","v":"anders dan hoofdcategorie"}]
[{"$f":"IF(TabUren2[[#This Row],[datum]]=\"\",\"\",INT((TabUren2[[#This Row],[datum]]-SUM(MOD(DATE(YEAR(TabUren2[[#This Row],[datum]]-MOD(TabUren2[[#This Row],[datum]]-2,7)+3),1,2),{1E+99;7})*{1;-1})+5) /7))","v":""},{"$f":"IF(TabUren2[[#This Row],[datum]]=\"\",\"\",TabUren2[[#This Row],[datum]])","v":""},null,null,{"$f":"IF(TabUren2[[#This Row],[datum]]=\"\",\"\",verzameldata!$C$3)","v":""},null,null,null,null,{"$f":"IF(TabUren2[[#This Row],[eindtijd]]=\"\",\"\",IF(TabUren2[[#This Row],[eindtijd]]<TabUren2[[#This Row],[begintijd]],(\"24:00\"-TabUren2[[#This Row],[begintijd]]+TabUren2[[#This Row],[eindtijd]])-TabUren2[[#This Row],[pauze]],(TabUren2[[#This Row],[eindtijd]]-TabUren2[[#This Row],[begintijd]])-TabUren2[[#This Row],[pauze]]))","v":""},{"$f":"IF(OR(TabUren2[hoofdcategorie]=\"\",TabUren2[hoofdcategorie]=0),\"anders dan hoofdcategorie\",TabUren2[hoofdcategorie])","v":"anders dan hoofdcategorie"}]
[{"$f":"IF(TabUren2[[#This Row],[datum]]=\"\",\"\",INT((TabUren2[[#This Row],[datum]]-SUM(MOD(DATE(YEAR(TabUren2[[#This Row],[datum]]-MOD(TabUren2[[#This Row],[datum]]-2,7)+3),1,2),{1E+99;7})*{1;-1})+5) /7))","v":""},{"$f":"IF(TabUren2[[#This Row],[datum]]=\"\",\"\",TabUren2[[#This Row],[datum]])","v":""},null,null,{"$f":"IF(TabUren2[[#This Row],[datum]]=\"\",\"\",verzameldata!$C$3)","v":""},null,null,null,null,{"$f":"IF(TabUren2[[#This Row],[eindtijd]]=\"\",\"\",IF(TabUren2[[#This Row],[eindtijd]]<TabUren2[[#This Row],[begintijd]],(\"24:00\"-TabUren2[[#This Row],[begintijd]]+TabUren2[[#This Row],[eindtijd]])-TabUren2[[#This Row],[pauze]],(TabUren2[[#This Row],[eindtijd]]-TabUren2[[#This Row],[begintijd]])-TabUren2[[#This Row],[pauze]]))","v":""},{"$f":"IF(OR(TabUren2[hoofdcategorie]=\"\",TabUren2[hoofdcategorie]=0),\"anders dan hoofdcategorie\",TabUren2[hoofdcategorie])","v":"anders dan hoofdcategorie"}]
[{"$f":"IF(TabUren2[[#This Row],[datum]]=\"\",\"\",INT((TabUren2[[#This Row],[datum]]-SUM(MOD(DATE(YEAR(TabUren2[[#This Row],[datum]]-MOD(TabUren2[[#This Row],[datum]]-2,7)+3),1,2),{1E+99;7})*{1;-1})+5) /7))","v":""},{"$f":"IF(TabUren2[[#This Row],[datum]]=\"\",\"\",TabUren2[[#This Row],[datum]])","v":""},null,null,{"$f":"IF(TabUren2[[#This Row],[datum]]=\"\",\"\",verzameldata!$C$3)","v":""},null,null,null,null,{"$f":"IF(TabUren2[[#This Row],[eindtijd]]=\"\",\"\",IF(TabUren2[[#This Row],[eindtijd]]<TabUren2[[#This Row],[begintijd]],(\"24:00\"-TabUren2[[#This Row],[begintijd]]+TabUren2[[#This Row],[eindtijd]])-TabUren2[[#This Row],[pauze]],(TabUren2[[#This Row],[eindtijd]]-TabUren2[[#This Row],[begintijd]])-TabUren2[[#This Row],[pauze]]))","v":""},{"$f":"IF(OR(TabUren2[hoofdcategorie]=\"\",TabUren2[hoofdcategorie]=0),\"anders dan hoofdcategorie\",TabUren2[hoofdcategorie])","v":"anders dan hoofdcategorie"}]
[{"$f":"IF(TabUren2[[#This Row],[datum]]=\"\",\"\",INT((TabUren2[[#This Row],[datum]]-SUM(MOD(DATE(YEAR(TabUren2[[#This Row],[datum]]-MOD(TabUren2[[#This Row],[datum]]-2,7)+3),1,2),{1E+99;7})*{1;-1})+5) /7))","v":""},{"$f":"IF(TabUren2[[#This Row],[datum]]=\"\",\"\",TabUren2[[#This Row],[datum]])","v":""},null,null,{"$f":"IF(TabUren2[[#This Row],[datum]]=\"\",\"\",verzameldata!$C$3)","v":""},null,null,null,null,{"$f":"IF(TabUren2[[#This Row],[eindtijd]]=\"\",\"\",IF(TabUren2[[#This Row],[eindtijd]]<TabUren2[[#This Row],[begintijd]],(\"24:00\"-TabUren2[[#This Row],[begintijd]]+TabUren2[[#This Row],[eindtijd]])-TabUren2[[#This Row],[pauze]],(TabUren2[[#This Row],[eindtijd]]-TabUren2[[#This Row],[begintijd]])-TabUren2[[#This Row],[pauze]]))","v":""},{"$f":"IF(OR(TabUren2[hoofdcategorie]=\"\",TabUren2[hoofdcategorie]=0),\"anders dan hoofdcategorie\",TabUren2[hoofdcategorie])","v":"anders dan hoofdcategorie"}]
[{"$f":"IF(TabUren2[[#This Row],[datum]]=\"\",\"\",INT((TabUren2[[#This Row],[datum]]-SUM(MOD(DATE(YEAR(TabUren2[[#This Row],[datum]]-MOD(TabUren2[[#This Row],[datum]]-2,7)+3),1,2),{1E+99;7})*{1;-1})+5) /7))","v":""},{"$f":"IF(TabUren2[[#This Row],[datum]]=\"\",\"\",TabUren2[[#This Row],[datum]])","v":""},null,null,{"$f":"IF(TabUren2[[#This Row],[datum]]=\"\",\"\",verzameldata!$C$3)","v":""},null,null,null,null,{"$f":"IF(TabUren2[[#This Row],[eindtijd]]=\"\",\"\",IF(TabUren2[[#This Row],[eindtijd]]<TabUren2[[#This Row],[begintijd]],(\"24:00\"-TabUren2[[#This Row],[begintijd]]+TabUren2[[#This Row],[eindtijd]])-TabUren2[[#This Row],[pauze]],(TabUren2[[#This Row],[eindtijd]]-TabUren2[[#This Row],[begintijd]])-TabUren2[[#This Row],[pauze]]))","v":""},{"$f":"IF(OR(TabUren2[hoofdcategorie]=\"\",TabUren2[hoofdcategorie]=0),\"anders dan hoofdcategorie\",TabUren2[hoofdcategorie])","v":"anders dan hoofdcategorie"}]
[{"$f":"IF(TabUren2[[#This Row],[datum]]=\"\",\"\",INT((TabUren2[[#This Row],[datum]]-SUM(MOD(DATE(YEAR(TabUren2[[#This Row],[datum]]-MOD(TabUren2[[#This Row],[datum]]-2,7)+3),1,2),{1E+99;7})*{1;-1})+5) /7))","v":""},{"$f":"IF(TabUren2[[#This Row],[datum]]=\"\",\"\",TabUren2[[#This Row],[datum]])","v":""},null,null,{"$f":"IF(TabUren2[[#This Row],[datum]]=\"\",\"\",verzameldata!$C$3)","v":""},null,null,null,null,{"$f":"IF(TabUren2[[#This Row],[eindtijd]]=\"\",\"\",IF(TabUren2[[#This Row],[eindtijd]]<TabUren2[[#This Row],[begintijd]],(\"24:00\"-TabUren2[[#This Row],[begintijd]]+TabUren2[[#This Row],[eindtijd]])-TabUren2[[#This Row],[pauze]],(TabUren2[[#This Row],[eindtijd]]-TabUren2[[#This Row],[begintijd]])-TabUren2[[#This Row],[pauze]]))","v":""},{"$f":"IF(OR(TabUren2[hoofdcategorie]=\"\",TabUren2[hoofdcategorie]=0),\"anders dan hoofdcategorie\",TabUren2[hoofdcategorie])","v":"anders dan hoofdcategorie"}]
[{"$f":"IF(TabUren2[[#This Row],[datum]]=\"\",\"\",INT((TabUren2[[#This Row],[datum]]-SUM(MOD(DATE(YEAR(TabUren2[[#This Row],[datum]]-MOD(TabUren2[[#This Row],[datum]]-2,7)+3),1,2),{1E+99;7})*{1;-1})+5) /7))","v":""},{"$f":"IF(TabUren2[[#This Row],[datum]]=\"\",\"\",TabUren2[[#This Row],[datum]])","v":""},null,null,{"$f":"IF(TabUren2[[#This Row],[datum]]=\"\",\"\",verzameldata!$C$3)","v":""},null,null,null,null,{"$f":"IF(TabUren2[[#This Row],[eindtijd]]=\"\",\"\",IF(TabUren2[[#This Row],[eindtijd]]<TabUren2[[#This Row],[begintijd]],(\"24:00\"-TabUren2[[#This Row],[begintijd]]+TabUren2[[#This Row],[eindtijd]])-TabUren2[[#This Row],[pauze]],(TabUren2[[#This Row],[eindtijd]]-TabUren2[[#This Row],[begintijd]])-TabUren2[[#This Row],[pauze]]))","v":""},{"$f":"IF(OR(TabUren2[hoofdcategorie]=\"\",TabUren2[hoofdcategorie]=0),\"anders dan hoofdcategorie\",TabUren2[hoofdcategorie])","v":"anders dan hoofdcategorie"}]
[{"$f":"IF(TabUren2[[#This Row],[datum]]=\"\",\"\",INT((TabUren2[[#This Row],[datum]]-SUM(MOD(DATE(YEAR(TabUren2[[#This Row],[datum]]-MOD(TabUren2[[#This Row],[datum]]-2,7)+3),1,2),{1E+99;7})*{1;-1})+5) /7))","v":""},{"$f":"IF(TabUren2[[#This Row],[datum]]=\"\",\"\",TabUren2[[#This Row],[datum]])","v":""},null,null,{"$f":"IF(TabUren2[[#This Row],[datum]]=\"\",\"\",verzameldata!$C$3)","v":""},null,null,null,null,{"$f":"IF(TabUren2[[#This Row],[eindtijd]]=\"\",\"\",IF(TabUren2[[#This Row],[eindtijd]]<TabUren2[[#This Row],[begintijd]],(\"24:00\"-TabUren2[[#This Row],[begintijd]]+TabUren2[[#This Row],[eindtijd]])-TabUren2[[#This Row],[pauze]],(TabUren2[[#This Row],[eindtijd]]-TabUren2[[#This Row],[begintijd]])-TabUren2[[#This Row],[pauze]]))","v":""},{"$f":"IF(OR(TabUren2[hoofdcategorie]=\"\",TabUren2[hoofdcategorie]=0),\"anders dan hoofdcategorie\",TabUren2[hoofdcategorie])","v":"anders dan hoofdcategorie"}]
[{"$f":"IF(TabUren2[[#This Row],[datum]]=\"\",\"\",INT((TabUren2[[#This Row],[datum]]-SUM(MOD(DATE(YEAR(TabUren2[[#This Row],[datum]]-MOD(TabUren2[[#This Row],[datum]]-2,7)+3),1,2),{1E+99;7})*{1;-1})+5) /7))","v":""},{"$f":"IF(TabUren2[[#This Row],[datum]]=\"\",\"\",TabUren2[[#This Row],[datum]])","v":""},null,null,{"$f":"IF(TabUren2[[#This Row],[datum]]=\"\",\"\",verzameldata!$C$3)","v":""},null,null,null,null,{"$f":"IF(TabUren2[[#This Row],[eindtijd]]=\"\",\"\",IF(TabUren2[[#This Row],[eindtijd]]<TabUren2[[#This Row],[begintijd]],(\"24:00\"-TabUren2[[#This Row],[begintijd]]+TabUren2[[#This Row],[eindtijd]])-TabUren2[[#This Row],[pauze]],(TabUren2[[#This Row],[eindtijd]]-TabUren2[[#This Row],[begintijd]])-TabUren2[[#This Row],[pauze]]))","v":""},{"$f":"IF(OR(TabUren2[hoofdcategorie]=\"\",TabUren2[hoofdcategorie]=0),\"anders dan hoofdcategorie\",TabUren2[hoofdcategorie])","v":"anders dan hoofdcategorie"}]
[{"$f":"IF(TabUren2[[#This Row],[datum]]=\"\",\"\",INT((TabUren2[[#This Row],[datum]]-SUM(MOD(DATE(YEAR(TabUren2[[#This Row],[datum]]-MOD(TabUren2[[#This Row],[datum]]-2,7)+3),1,2),{1E+99;7})*{1;-1})+5) /7))","v":""},{"$f":"IF(TabUren2[[#This Row],[datum]]=\"\",\"\",TabUren2[[#This Row],[datum]])","v":""},null,null,{"$f":"IF(TabUren2[[#This Row],[datum]]=\"\",\"\",verzameldata!$C$3)","v":""},null,null,null,null,{"$f":"IF(TabUren2[[#This Row],[eindtijd]]=\"\",\"\",IF(TabUren2[[#This Row],[eindtijd]]<TabUren2[[#This Row],[begintijd]],(\"24:00\"-TabUren2[[#This Row],[begintijd]]+TabUren2[[#This Row],[eindtijd]])-TabUren2[[#This Row],[pauze]],(TabUren2[[#This Row],[eindtijd]]-TabUren2[[#This Row],[begintijd]])-TabUren2[[#This Row],[pauze]]))","v":""},{"$f":"IF(OR(TabUren2[hoofdcategorie]=\"\",TabUren2[hoofdcategorie]=0),\"anders dan hoofdcategorie\",TabUren2[hoofdcategorie])","v":"anders dan hoofdcategorie"}]
[{"$f":"IF(TabUren2[[#This Row],[datum]]=\"\",\"\",INT((TabUren2[[#This Row],[datum]]-SUM(MOD(DATE(YEAR(TabUren2[[#This Row],[datum]]-MOD(TabUren2[[#This Row],[datum]]-2,7)+3),1,2),{1E+99;7})*{1;-1})+5) /7))","v":""},{"$f":"IF(TabUren2[[#This Row],[datum]]=\"\",\"\",TabUren2[[#This Row],[datum]])","v":""},null,null,{"$f":"IF(TabUren2[[#This Row],[datum]]=\"\",\"\",verzameldata!$C$3)","v":""},null,null,null,null,{"$f":"IF(TabUren2[[#This Row],[eindtijd]]=\"\",\"\",IF(TabUren2[[#This Row],[eindtijd]]<TabUren2[[#This Row],[begintijd]],(\"24:00\"-TabUren2[[#This Row],[begintijd]]+TabUren2[[#This Row],[eindtijd]])-TabUren2[[#This Row],[pauze]],(TabUren2[[#This Row],[eindtijd]]-TabUren2[[#This Row],[begintijd]])-TabUren2[[#This Row],[pauze]]))","v":""},{"$f":"IF(OR(TabUren2[hoofdcategorie]=\"\",TabUren2[hoofdcategorie]=0),\"anders dan hoofdcategorie\",TabUren2[hoofdcategorie])","v":"anders dan hoofdcategorie"}]
[{"$f":"IF(TabUren2[[#This Row],[datum]]=\"\",\"\",INT((TabUren2[[#This Row],[datum]]-SUM(MOD(DATE(YEAR(TabUren2[[#This Row],[datum]]-MOD(TabUren2[[#This Row],[datum]]-2,7)+3),1,2),{1E+99;7})*{1;-1})+5) /7))","v":""},{"$f":"IF(TabUren2[[#This Row],[datum]]=\"\",\"\",TabUren2[[#This Row],[datum]])","v":""},null,null,{"$f":"IF(TabUren2[[#This Row],[datum]]=\"\",\"\",verzameldata!$C$3)","v":""},null,null,null,null,{"$f":"IF(TabUren2[[#This Row],[eindtijd]]=\"\",\"\",IF(TabUren2[[#This Row],[eindtijd]]<TabUren2[[#This Row],[begintijd]],(\"24:00\"-TabUren2[[#This Row],[begintijd]]+TabUren2[[#This Row],[eindtijd]])-TabUren2[[#This Row],[pauze]],(TabUren2[[#This Row],[eindtijd]]-TabUren2[[#This Row],[begintijd]])-TabUren2[[#This Row],[pauze]]))","v":""},{"$f":"IF(OR(TabUren2[hoofdcategorie]=\"\",TabUren2[hoofdcategorie]=0),\"anders dan hoofdcategorie\",TabUren2[hoofdcategorie])","v":"anders dan hoofdcategorie"}]
[{"$f":"IF(TabUren2[[#This Row],[datum]]=\"\",\"\",INT((TabUren2[[#This Row],[datum]]-SUM(MOD(DATE(YEAR(TabUren2[[#This Row],[datum]]-MOD(TabUren2[[#This Row],[datum]]-2,7)+3),1,2),{1E+99;7})*{1;-1})+5) /7))","v":""},{"$f":"IF(TabUren2[[#This Row],[datum]]=\"\",\"\",TabUren2[[#This Row],[datum]])","v":""},null,null,{"$f":"IF(TabUren2[[#This Row],[datum]]=\"\",\"\",verzameldata!$C$3)","v":""},null,null,null,null,{"$f":"IF(TabUren2[[#This Row],[eindtijd]]=\"\",\"\",IF(TabUren2[[#This Row],[eindtijd]]<TabUren2[[#This Row],[begintijd]],(\"24:00\"-TabUren2[[#This Row],[begintijd]]+TabUren2[[#This Row],[eindtijd]])-TabUren2[[#This Row],[pauze]],(TabUren2[[#This Row],[eindtijd]]-TabUren2[[#This Row],[begintijd]])-TabUren2[[#This Row],[pauze]]))","v":""},{"$f":"IF(OR(TabUren2[hoofdcategorie]=\"\",TabUren2[hoofdcategorie]=0),\"anders dan hoofdcategorie\",TabUren2[hoofdcategorie])","v":"anders dan hoofdcategorie"}]
[{"$f":"IF(TabUren2[[#This Row],[datum]]=\"\",\"\",INT((TabUren2[[#This Row],[datum]]-SUM(MOD(DATE(YEAR(TabUren2[[#This Row],[datum]]-MOD(TabUren2[[#This Row],[datum]]-2,7)+3),1,2),{1E+99;7})*{1;-1})+5) /7))","v":""},{"$f":"IF(TabUren2[[#This Row],[datum]]=\"\",\"\",TabUren2[[#This Row],[datum]])","v":""},null,null,{"$f":"IF(TabUren2[[#This Row],[datum]]=\"\",\"\",verzameldata!$C$3)","v":""},null,null,null,null,{"$f":"IF(TabUren2[[#This Row],[eindtijd]]=\"\",\"\",IF(TabUren2[[#This Row],[eindtijd]]<TabUren2[[#This Row],[begintijd]],(\"24:00\"-TabUren2[[#This Row],[begintijd]]+TabUren2[[#This Row],[eindtijd]])-TabUren2[[#This Row],[pauze]],(TabUren2[[#This Row],[eindtijd]]-TabUren2[[#This Row],[begintijd]])-TabUren2[[#This Row],[pauze]]))","v":""},{"$f":"IF(OR(TabUren2[hoofdcategorie]=\"\",TabUren2[hoofdcategorie]=0),\"anders dan hoofdcategorie\",TabUren2[hoofdcategorie])","v":"anders dan hoofdcategorie"}]
[{"$f":"IF(TabUren2[[#This Row],[datum]]=\"\",\"\",INT((TabUren2[[#This Row],[datum]]-SUM(MOD(DATE(YEAR(TabUren2[[#This Row],[datum]]-MOD(TabUren2[[#This Row],[datum]]-2,7)+3),1,2),{1E+99;7})*{1;-1})+5) /7))","v":""},{"$f":"IF(TabUren2[[#This Row],[datum]]=\"\",\"\",TabUren2[[#This Row],[datum]])","v":""},null,null,{"$f":"IF(TabUren2[[#This Row],[datum]]=\"\",\"\",verzameldata!$C$3)","v":""},null,null,null,null,{"$f":"IF(TabUren2[[#This Row],[eindtijd]]=\"\",\"\",IF(TabUren2[[#This Row],[eindtijd]]<TabUren2[[#This Row],[begintijd]],(\"24:00\"-TabUren2[[#This Row],[begintijd]]+TabUren2[[#This Row],[eindtijd]])-TabUren2[[#This Row],[pauze]],(TabUren2[[#This Row],[eindtijd]]-TabUren2[[#This Row],[begintijd]])-TabUren2[[#This Row],[pauze]]))","v":""},{"$f":"IF(OR(TabUren2[hoofdcategorie]=\"\",TabUren2[hoofdcategorie]=0),\"anders dan hoofdcategorie\",TabUren2[hoofdcategorie])","v":"anders dan hoofdcategorie"}]
[{"$f":"IF(TabUren2[[#This Row],[datum]]=\"\",\"\",INT((TabUren2[[#This Row],[datum]]-SUM(MOD(DATE(YEAR(TabUren2[[#This Row],[datum]]-MOD(TabUren2[[#This Row],[datum]]-2,7)+3),1,2),{1E+99;7})*{1;-1})+5) /7))","v":""},{"$f":"IF(TabUren2[[#This Row],[datum]]=\"\",\"\",TabUren2[[#This Row],[datum]])","v":""},null,null,{"$f":"IF(TabUren2[[#This Row],[datum]]=\"\",\"\",verzameldata!$C$3)","v":""},null,null,null,null,{"$f":"IF(TabUren2[[#This Row],[eindtijd]]=\"\",\"\",IF(TabUren2[[#This Row],[eindtijd]]<TabUren2[[#This Row],[begintijd]],(\"24:00\"-TabUren2[[#This Row],[begintijd]]+TabUren2[[#This Row],[eindtijd]])-TabUren2[[#This Row],[pauze]],(TabUren2[[#This Row],[eindtijd]]-TabUren2[[#This Row],[begintijd]])-TabUren2[[#This Row],[pauze]]))","v":""},{"$f":"IF(OR(TabUren2[hoofdcategorie]=\"\",TabUren2[hoofdcategorie]=0),\"anders dan hoofdcategorie\",TabUren2[hoofdcategorie])","v":"anders dan hoofdcategorie"}]
[{"$f":"IF(TabUren2[[#This Row],[datum]]=\"\",\"\",INT((TabUren2[[#This Row],[datum]]-SUM(MOD(DATE(YEAR(TabUren2[[#This Row],[datum]]-MOD(TabUren2[[#This Row],[datum]]-2,7)+3),1,2),{1E+99;7})*{1;-1})+5) /7))","v":""},{"$f":"IF(TabUren2[[#This Row],[datum]]=\"\",\"\",TabUren2[[#This Row],[datum]])","v":""},null,null,{"$f":"IF(TabUren2[[#This Row],[datum]]=\"\",\"\",verzameldata!$C$3)","v":""},null,null,null,null,{"$f":"IF(TabUren2[[#This Row],[eindtijd]]=\"\",\"\",IF(TabUren2[[#This Row],[eindtijd]]<TabUren2[[#This Row],[begintijd]],(\"24:00\"-TabUren2[[#This Row],[begintijd]]+TabUren2[[#This Row],[eindtijd]])-TabUren2[[#This Row],[pauze]],(TabUren2[[#This Row],[eindtijd]]-TabUren2[[#This Row],[begintijd]])-TabUren2[[#This Row],[pauze]]))","v":""},{"$f":"IF(OR(TabUren2[hoofdcategorie]=\"\",TabUren2[hoofdcategorie]=0),\"anders dan hoofdcategorie\",TabUren2[hoofdcategorie])","v":"anders dan hoofdcategorie"}]
[{"$f":"IF(TabUren2[[#This Row],[datum]]=\"\",\"\",INT((TabUren2[[#This Row],[datum]]-SUM(MOD(DATE(YEAR(TabUren2[[#This Row],[datum]]-MOD(TabUren2[[#This Row],[datum]]-2,7)+3),1,2),{1E+99;7})*{1;-1})+5) /7))","v":""},{"$f":"IF(TabUren2[[#This Row],[datum]]=\"\",\"\",TabUren2[[#This Row],[datum]])","v":""},null,null,{"$f":"IF(TabUren2[[#This Row],[datum]]=\"\",\"\",verzameldata!$C$3)","v":""},null,null,null,null,{"$f":"IF(TabUren2[[#This Row],[eindtijd]]=\"\",\"\",IF(TabUren2[[#This Row],[eindtijd]]<TabUren2[[#This Row],[begintijd]],(\"24:00\"-TabUren2[[#This Row],[begintijd]]+TabUren2[[#This Row],[eindtijd]])-TabUren2[[#This Row],[pauze]],(TabUren2[[#This Row],[eindtijd]]-TabUren2[[#This Row],[begintijd]])-TabUren2[[#This Row],[pauze]]))","v":""},{"$f":"IF(OR(TabUren2[hoofdcategorie]=\"\",TabUren2[hoofdcategorie]=0),\"anders dan hoofdcategorie\",TabUren2[hoofdcategorie])","v":"anders dan hoofdcategorie"}]
[{"$f":"IF(TabUren2[[#This Row],[datum]]=\"\",\"\",INT((TabUren2[[#This Row],[datum]]-SUM(MOD(DATE(YEAR(TabUren2[[#This Row],[datum]]-MOD(TabUren2[[#This Row],[datum]]-2,7)+3),1,2),{1E+99;7})*{1;-1})+5) /7))","v":""},{"$f":"IF(TabUren2[[#This Row],[datum]]=\"\",\"\",TabUren2[[#This Row],[datum]])","v":""},null,null,{"$f":"IF(TabUren2[[#This Row],[datum]]=\"\",\"\",verzameldata!$C$3)","v":""},null,null,null,null,{"$f":"IF(TabUren2[[#This Row],[eindtijd]]=\"\",\"\",IF(TabUren2[[#This Row],[eindtijd]]<TabUren2[[#This Row],[begintijd]],(\"24:00\"-TabUren2[[#This Row],[begintijd]]+TabUren2[[#This Row],[eindtijd]])-TabUren2[[#This Row],[pauze]],(TabUren2[[#This Row],[eindtijd]]-TabUren2[[#This Row],[begintijd]])-TabUren2[[#This Row],[pauze]]))","v":""},{"$f":"IF(OR(TabUren2[hoofdcategorie]=\"\",TabUren2[hoofdcategorie]=0),\"anders dan hoofdcategorie\",TabUren2[hoofdcategorie])","v":"anders dan hoofdcategorie"}]
[{"$f":"IF(TabUren2[[#This Row],[datum]]=\"\",\"\",INT((TabUren2[[#This Row],[datum]]-SUM(MOD(DATE(YEAR(TabUren2[[#This Row],[datum]]-MOD(TabUren2[[#This Row],[datum]]-2,7)+3),1,2),{1E+99;7})*{1;-1})+5) /7))","v":""},{"$f":"IF(TabUren2[[#This Row],[datum]]=\"\",\"\",TabUren2[[#This Row],[datum]])","v":""},null,null,{"$f":"IF(TabUren2[[#This Row],[datum]]=\"\",\"\",verzameldata!$C$3)","v":""},null,null,null,null,{"$f":"IF(TabUren2[[#This Row],[eindtijd]]=\"\",\"\",IF(TabUren2[[#This Row],[eindtijd]]<TabUren2[[#This Row],[begintijd]],(\"24:00\"-TabUren2[[#This Row],[begintijd]]+TabUren2[[#This Row],[eindtijd]])-TabUren2[[#This Row],[pauze]],(TabUren2[[#This Row],[eindtijd]]-TabUren2[[#This Row],[begintijd]])-TabUren2[[#This Row],[pauze]]))","v":""},{"$f":"IF(OR(TabUren2[hoofdcategorie]=\"\",TabUren2[hoofdcategorie]=0),\"anders dan hoofdcategorie\",TabUren2[hoofdcategorie])","v":"anders dan hoofdcategorie"}]
[{"$f":"IF(TabUren2[[#This Row],[datum]]=\"\",\"\",INT((TabUren2[[#This Row],[datum]]-SUM(MOD(DATE(YEAR(TabUren2[[#This Row],[datum]]-MOD(TabUren2[[#This Row],[datum]]-2,7)+3),1,2),{1E+99;7})*{1;-1})+5) /7))","v":""},{"$f":"IF(TabUren2[[#This Row],[datum]]=\"\",\"\",TabUren2[[#This Row],[datum]])","v":""},null,null,{"$f":"IF(TabUren2[[#This Row],[datum]]=\"\",\"\",verzameldata!$C$3)","v":""},null,null,null,null,{"$f":"IF(TabUren2[[#This Row],[eindtijd]]=\"\",\"\",IF(TabUren2[[#This Row],[eindtijd]]<TabUren2[[#This Row],[begintijd]],(\"24:00\"-TabUren2[[#This Row],[begintijd]]+TabUren2[[#This Row],[eindtijd]])-TabUren2[[#This Row],[pauze]],(TabUren2[[#This Row],[eindtijd]]-TabUren2[[#This Row],[begintijd]])-TabUren2[[#This Row],[pauze]]))","v":""},{"$f":"IF(OR(TabUren2[hoofdcategorie]=\"\",TabUren2[hoofdcategorie]=0),\"anders dan hoofdcategorie\",TabUren2[hoofdcategorie])","v":"anders dan hoofdcategorie"}]
[{"$f":"IF(TabUren2[[#This Row],[datum]]=\"\",\"\",INT((TabUren2[[#This Row],[datum]]-SUM(MOD(DATE(YEAR(TabUren2[[#This Row],[datum]]-MOD(TabUren2[[#This Row],[datum]]-2,7)+3),1,2),{1E+99;7})*{1;-1})+5) /7))","v":""},{"$f":"IF(TabUren2[[#This Row],[datum]]=\"\",\"\",TabUren2[[#This Row],[datum]])","v":""},null,null,{"$f":"IF(TabUren2[[#This Row],[datum]]=\"\",\"\",verzameldata!$C$3)","v":""},null,null,null,null,{"$f":"IF(TabUren2[[#This Row],[eindtijd]]=\"\",\"\",IF(TabUren2[[#This Row],[eindtijd]]<TabUren2[[#This Row],[begintijd]],(\"24:00\"-TabUren2[[#This Row],[begintijd]]+TabUren2[[#This Row],[eindtijd]])-TabUren2[[#This Row],[pauze]],(TabUren2[[#This Row],[eindtijd]]-TabUren2[[#This Row],[begintijd]])-TabUren2[[#This Row],[pauze]]))","v":""},{"$f":"IF(OR(TabUren2[hoofdcategorie]=\"\",TabUren2[hoofdcategorie]=0),\"anders dan hoofdcategorie\",TabUren2[hoofdcategorie])","v":"anders dan hoofdcategorie"}]
[{"$f":"IF(TabUren2[[#This Row],[datum]]=\"\",\"\",INT((TabUren2[[#This Row],[datum]]-SUM(MOD(DATE(YEAR(TabUren2[[#This Row],[datum]]-MOD(TabUren2[[#This Row],[datum]]-2,7)+3),1,2),{1E+99;7})*{1;-1})+5) /7))","v":""},{"$f":"IF(TabUren2[[#This Row],[datum]]=\"\",\"\",TabUren2[[#This Row],[datum]])","v":""},null,null,{"$f":"IF(TabUren2[[#This Row],[datum]]=\"\",\"\",verzameldata!$C$3)","v":""},null,null,null,null,{"$f":"IF(TabUren2[[#This Row],[eindtijd]]=\"\",\"\",IF(TabUren2[[#This Row],[eindtijd]]<TabUren2[[#This Row],[begintijd]],(\"24:00\"-TabUren2[[#This Row],[begintijd]]+TabUren2[[#This Row],[eindtijd]])-TabUren2[[#This Row],[pauze]],(TabUren2[[#This Row],[eindtijd]]-TabUren2[[#This Row],[begintijd]])-TabUren2[[#This Row],[pauze]]))","v":""},{"$f":"IF(OR(TabUren2[hoofdcategorie]=\"\",TabUren2[hoofdcategorie]=0),\"anders dan hoofdcategorie\",TabUren2[hoofdcategorie])","v":"anders dan hoofdcategorie"}]
[{"$f":"IF(TabUren2[[#This Row],[datum]]=\"\",\"\",INT((TabUren2[[#This Row],[datum]]-SUM(MOD(DATE(YEAR(TabUren2[[#This Row],[datum]]-MOD(TabUren2[[#This Row],[datum]]-2,7)+3),1,2),{1E+99;7})*{1;-1})+5) /7))","v":""},{"$f":"IF(TabUren2[[#This Row],[datum]]=\"\",\"\",TabUren2[[#This Row],[datum]])","v":""},null,null,{"$f":"IF(TabUren2[[#This Row],[datum]]=\"\",\"\",verzameldata!$C$3)","v":""},null,null,null,null,{"$f":"IF(TabUren2[[#This Row],[eindtijd]]=\"\",\"\",IF(TabUren2[[#This Row],[eindtijd]]<TabUren2[[#This Row],[begintijd]],(\"24:00\"-TabUren2[[#This Row],[begintijd]]+TabUren2[[#This Row],[eindtijd]])-TabUren2[[#This Row],[pauze]],(TabUren2[[#This Row],[eindtijd]]-TabUren2[[#This Row],[begintijd]])-TabUren2[[#This Row],[pauze]]))","v":""},{"$f":"IF(OR(TabUren2[hoofdcategorie]=\"\",TabUren2[hoofdcategorie]=0),\"anders dan hoofdcategorie\",TabUren2[hoofdcategorie])","v":"anders dan hoofdcategorie"}]
[{"$f":"IF(TabUren2[[#This Row],[datum]]=\"\",\"\",INT((TabUren2[[#This Row],[datum]]-SUM(MOD(DATE(YEAR(TabUren2[[#This Row],[datum]]-MOD(TabUren2[[#This Row],[datum]]-2,7)+3),1,2),{1E+99;7})*{1;-1})+5) /7))","v":""},{"$f":"IF(TabUren2[[#This Row],[datum]]=\"\",\"\",TabUren2[[#This Row],[datum]])","v":""},null,null,{"$f":"IF(TabUren2[[#This Row],[datum]]=\"\",\"\",verzameldata!$C$3)","v":""},null,null,null,null,{"$f":"IF(TabUren2[[#This Row],[eindtijd]]=\"\",\"\",IF(TabUren2[[#This Row],[eindtijd]]<TabUren2[[#This Row],[begintijd]],(\"24:00\"-TabUren2[[#This Row],[begintijd]]+TabUren2[[#This Row],[eindtijd]])-TabUren2[[#This Row],[pauze]],(TabUren2[[#This Row],[eindtijd]]-TabUren2[[#This Row],[begintijd]])-TabUren2[[#This Row],[pauze]]))","v":""},{"$f":"IF(OR(TabUren2[hoofdcategorie]=\"\",TabUren2[hoofdcategorie]=0),\"anders dan hoofdcategorie\",TabUren2[hoofdcategorie])","v":"anders dan hoofdcategorie"}]
[{"$f":"IF(TabUren2[[#This Row],[datum]]=\"\",\"\",INT((TabUren2[[#This Row],[datum]]-SUM(MOD(DATE(YEAR(TabUren2[[#This Row],[datum]]-MOD(TabUren2[[#This Row],[datum]]-2,7)+3),1,2),{1E+99;7})*{1;-1})+5) /7))","v":""},{"$f":"IF(TabUren2[[#This Row],[datum]]=\"\",\"\",TabUren2[[#This Row],[datum]])","v":""},null,null,{"$f":"IF(TabUren2[[#This Row],[datum]]=\"\",\"\",verzameldata!$C$3)","v":""},null,null,null,null,{"$f":"IF(TabUren2[[#This Row],[eindtijd]]=\"\",\"\",IF(TabUren2[[#This Row],[eindtijd]]<TabUren2[[#This Row],[begintijd]],(\"24:00\"-TabUren2[[#This Row],[begintijd]]+TabUren2[[#This Row],[eindtijd]])-TabUren2[[#This Row],[pauze]],(TabUren2[[#This Row],[eindtijd]]-TabUren2[[#This Row],[begintijd]])-TabUren2[[#This Row],[pauze]]))","v":""},{"$f":"IF(OR(TabUren2[hoofdcategorie]=\"\",TabUren2[hoofdcategorie]=0),\"anders dan hoofdcategorie\",TabUren2[hoofdcategorie])","v":"anders dan hoofdcategorie"}]
[{"$f":"IF(TabUren2[[#This Row],[datum]]=\"\",\"\",INT((TabUren2[[#This Row],[datum]]-SUM(MOD(DATE(YEAR(TabUren2[[#This Row],[datum]]-MOD(TabUren2[[#This Row],[datum]]-2,7)+3),1,2),{1E+99;7})*{1;-1})+5) /7))","v":""},{"$f":"IF(TabUren2[[#This Row],[datum]]=\"\",\"\",TabUren2[[#This Row],[datum]])","v":""},null,null,{"$f":"IF(TabUren2[[#This Row],[datum]]=\"\",\"\",verzameldata!$C$3)","v":""},null,null,null,null,{"$f":"IF(TabUren2[[#This Row],[eindtijd]]=\"\",\"\",IF(TabUren2[[#This Row],[eindtijd]]<TabUren2[[#This Row],[begintijd]],(\"24:00\"-TabUren2[[#This Row],[begintijd]]+TabUren2[[#This Row],[eindtijd]])-TabUren2[[#This Row],[pauze]],(TabUren2[[#This Row],[eindtijd]]-TabUren2[[#This Row],[begintijd]])-TabUren2[[#This Row],[pauze]]))","v":""},{"$f":"IF(OR(TabUren2[hoofdcategorie]=\"\",TabUren2[hoofdcategorie]=0),\"anders dan hoofdcategorie\",TabUren2[hoofdcategorie])","v":"anders dan hoofdcategorie"}]
[{"$f":"IF(TabUren2[[#This Row],[datum]]=\"\",\"\",INT((TabUren2[[#This Row],[datum]]-SUM(MOD(DATE(YEAR(TabUren2[[#This Row],[datum]]-MOD(TabUren2[[#This Row],[datum]]-2,7)+3),1,2),{1E+99;7})*{1;-1})+5) /7))","v":""},{"$f":"IF(TabUren2[[#This Row],[datum]]=\"\",\"\",TabUren2[[#This Row],[datum]])","v":""},null,null,{"$f":"IF(TabUren2[[#This Row],[datum]]=\"\",\"\",verzameldata!$C$3)","v":""},null,null,null,null,{"$f":"IF(TabUren2[[#This Row],[eindtijd]]=\"\",\"\",IF(TabUren2[[#This Row],[eindtijd]]<TabUren2[[#This Row],[begintijd]],(\"24:00\"-TabUren2[[#This Row],[begintijd]]+TabUren2[[#This Row],[eindtijd]])-TabUren2[[#This Row],[pauze]],(TabUren2[[#This Row],[eindtijd]]-TabUren2[[#This Row],[begintijd]])-TabUren2[[#This Row],[pauze]]))","v":""},{"$f":"IF(OR(TabUren2[hoofdcategorie]=\"\",TabUren2[hoofdcategorie]=0),\"anders dan hoofdcategorie\",TabUren2[hoofdcategorie])","v":"anders dan hoofdcategorie"}]
[{"$f":"IF(TabUren2[[#This Row],[datum]]=\"\",\"\",INT((TabUren2[[#This Row],[datum]]-SUM(MOD(DATE(YEAR(TabUren2[[#This Row],[datum]]-MOD(TabUren2[[#This Row],[datum]]-2,7)+3),1,2),{1E+99;7})*{1;-1})+5) /7))","v":""},{"$f":"IF(TabUren2[[#This Row],[datum]]=\"\",\"\",TabUren2[[#This Row],[datum]])","v":""},null,null,{"$f":"IF(TabUren2[[#This Row],[datum]]=\"\",\"\",verzameldata!$C$3)","v":""},null,null,null,null,{"$f":"IF(TabUren2[[#This Row],[eindtijd]]=\"\",\"\",IF(TabUren2[[#This Row],[eindtijd]]<TabUren2[[#This Row],[begintijd]],(\"24:00\"-TabUren2[[#This Row],[begintijd]]+TabUren2[[#This Row],[eindtijd]])-TabUren2[[#This Row],[pauze]],(TabUren2[[#This Row],[eindtijd]]-TabUren2[[#This Row],[begintijd]])-TabUren2[[#This Row],[pauze]]))","v":""},{"$f":"IF(OR(TabUren2[hoofdcategorie]=\"\",TabUren2[hoofdcategorie]=0),\"anders dan hoofdcategorie\",TabUren2[hoofdcategorie])","v":"anders dan hoofdcategorie"}]
[{"$f":"IF(TabUren2[[#This Row],[datum]]=\"\",\"\",INT((TabUren2[[#This Row],[datum]]-SUM(MOD(DATE(YEAR(TabUren2[[#This Row],[datum]]-MOD(TabUren2[[#This Row],[datum]]-2,7)+3),1,2),{1E+99;7})*{1;-1})+5) /7))","v":""},{"$f":"IF(TabUren2[[#This Row],[datum]]=\"\",\"\",TabUren2[[#This Row],[datum]])","v":""},null,null,{"$f":"IF(TabUren2[[#This Row],[datum]]=\"\",\"\",verzameldata!$C$3)","v":""},null,null,null,null,{"$f":"IF(TabUren2[[#This Row],[eindtijd]]=\"\",\"\",IF(TabUren2[[#This Row],[eindtijd]]<TabUren2[[#This Row],[begintijd]],(\"24:00\"-TabUren2[[#This Row],[begintijd]]+TabUren2[[#This Row],[eindtijd]])-TabUren2[[#This Row],[pauze]],(TabUren2[[#This Row],[eindtijd]]-TabUren2[[#This Row],[begintijd]])-TabUren2[[#This Row],[pauze]]))","v":""},{"$f":"IF(OR(TabUren2[hoofdcategorie]=\"\",TabUren2[hoofdcategorie]=0),\"anders dan hoofdcategorie\",TabUren2[hoofdcategorie])","v":"anders dan hoofdcategorie"}]
[{"$f":"IF(TabUren2[[#This Row],[datum]]=\"\",\"\",INT((TabUren2[[#This Row],[datum]]-SUM(MOD(DATE(YEAR(TabUren2[[#This Row],[datum]]-MOD(TabUren2[[#This Row],[datum]]-2,7)+3),1,2),{1E+99;7})*{1;-1})+5) /7))","v":""},{"$f":"IF(TabUren2[[#This Row],[datum]]=\"\",\"\",TabUren2[[#This Row],[datum]])","v":""},null,null,{"$f":"IF(TabUren2[[#This Row],[datum]]=\"\",\"\",verzameldata!$C$3)","v":""},null,null,null,null,{"$f":"IF(TabUren2[[#This Row],[eindtijd]]=\"\",\"\",IF(TabUren2[[#This Row],[eindtijd]]<TabUren2[[#This Row],[begintijd]],(\"24:00\"-TabUren2[[#This Row],[begintijd]]+TabUren2[[#This Row],[eindtijd]])-TabUren2[[#This Row],[pauze]],(TabUren2[[#This Row],[eindtijd]]-TabUren2[[#This Row],[begintijd]])-TabUren2[[#This Row],[pauze]]))","v":""},{"$f":"IF(OR(TabUren2[hoofdcategorie]=\"\",TabUren2[hoofdcategorie]=0),\"anders dan hoofdcategorie\",TabUren2[hoofdcategorie])","v":"anders dan hoofdcategorie"}]
[{"$f":"IF(TabUren2[[#This Row],[datum]]=\"\",\"\",INT((TabUren2[[#This Row],[datum]]-SUM(MOD(DATE(YEAR(TabUren2[[#This Row],[datum]]-MOD(TabUren2[[#This Row],[datum]]-2,7)+3),1,2),{1E+99;7})*{1;-1})+5) /7))","v":""},{"$f":"IF(TabUren2[[#This Row],[datum]]=\"\",\"\",TabUren2[[#This Row],[datum]])","v":""},null,null,{"$f":"IF(TabUren2[[#This Row],[datum]]=\"\",\"\",verzameldata!$C$3)","v":""},null,null,null,null,{"$f":"IF(TabUren2[[#This Row],[eindtijd]]=\"\",\"\",IF(TabUren2[[#This Row],[eindtijd]]<TabUren2[[#This Row],[begintijd]],(\"24:00\"-TabUren2[[#This Row],[begintijd]]+TabUren2[[#This Row],[eindtijd]])-TabUren2[[#This Row],[pauze]],(TabUren2[[#This Row],[eindtijd]]-TabUren2[[#This Row],[begintijd]])-TabUren2[[#This Row],[pauze]]))","v":""},{"$f":"IF(OR(TabUren2[hoofdcategorie]=\"\",TabUren2[hoofdcategorie]=0),\"anders dan hoofdcategorie\",TabUren2[hoofdcategorie])","v":"anders dan hoofdcategorie"}]
[{"$f":"IF(TabUren2[[#This Row],[datum]]=\"\",\"\",INT((TabUren2[[#This Row],[datum]]-SUM(MOD(DATE(YEAR(TabUren2[[#This Row],[datum]]-MOD(TabUren2[[#This Row],[datum]]-2,7)+3),1,2),{1E+99;7})*{1;-1})+5) /7))","v":""},{"$f":"IF(TabUren2[[#This Row],[datum]]=\"\",\"\",TabUren2[[#This Row],[datum]])","v":""},null,null,{"$f":"IF(TabUren2[[#This Row],[datum]]=\"\",\"\",verzameldata!$C$3)","v":""},null,null,null,null,{"$f":"IF(TabUren2[[#This Row],[eindtijd]]=\"\",\"\",IF(TabUren2[[#This Row],[eindtijd]]<TabUren2[[#This Row],[begintijd]],(\"24:00\"-TabUren2[[#This Row],[begintijd]]+TabUren2[[#This Row],[eindtijd]])-TabUren2[[#This Row],[pauze]],(TabUren2[[#This Row],[eindtijd]]-TabUren2[[#This Row],[begintijd]])-TabUren2[[#This Row],[pauze]]))","v":""},{"$f":"IF(OR(TabUren2[hoofdcategorie]=\"\",TabUren2[hoofdcategorie]=0),\"anders dan hoofdcategorie\",TabUren2[hoofdcategorie])","v":"anders dan hoofdcategorie"}]
[{"$f":"IF(TabUren2[[#This Row],[datum]]=\"\",\"\",INT((TabUren2[[#This Row],[datum]]-SUM(MOD(DATE(YEAR(TabUren2[[#This Row],[datum]]-MOD(TabUren2[[#This Row],[datum]]-2,7)+3),1,2),{1E+99;7})*{1;-1})+5) /7))","v":""},{"$f":"IF(TabUren2[[#This Row],[datum]]=\"\",\"\",TabUren2[[#This Row],[datum]])","v":""},null,null,{"$f":"IF(TabUren2[[#This Row],[datum]]=\"\",\"\",verzameldata!$C$3)","v":""},null,null,null,null,{"$f":"IF(TabUren2[[#This Row],[eindtijd]]=\"\",\"\",IF(TabUren2[[#This Row],[eindtijd]]<TabUren2[[#This Row],[begintijd]],(\"24:00\"-TabUren2[[#This Row],[begintijd]]+TabUren2[[#This Row],[eindtijd]])-TabUren2[[#This Row],[pauze]],(TabUren2[[#This Row],[eindtijd]]-TabUren2[[#This Row],[begintijd]])-TabUren2[[#This Row],[pauze]]))","v":""},{"$f":"IF(OR(TabUren2[hoofdcategorie]=\"\",TabUren2[hoofdcategorie]=0),\"anders dan hoofdcategorie\",TabUren2[hoofdcategorie])","v":"anders dan hoofdcategorie"}]
[{"$f":"IF(TabUren2[[#This Row],[datum]]=\"\",\"\",INT((TabUren2[[#This Row],[datum]]-SUM(MOD(DATE(YEAR(TabUren2[[#This Row],[datum]]-MOD(TabUren2[[#This Row],[datum]]-2,7)+3),1,2),{1E+99;7})*{1;-1})+5) /7))","v":""},{"$f":"IF(TabUren2[[#This Row],[datum]]=\"\",\"\",TabUren2[[#This Row],[datum]])","v":""},null,null,{"$f":"IF(TabUren2[[#This Row],[datum]]=\"\",\"\",verzameldata!$C$3)","v":""},null,null,null,null,{"$f":"IF(TabUren2[[#This Row],[eindtijd]]=\"\",\"\",IF(TabUren2[[#This Row],[eindtijd]]<TabUren2[[#This Row],[begintijd]],(\"24:00\"-TabUren2[[#This Row],[begintijd]]+TabUren2[[#This Row],[eindtijd]])-TabUren2[[#This Row],[pauze]],(TabUren2[[#This Row],[eindtijd]]-TabUren2[[#This Row],[begintijd]])-TabUren2[[#This Row],[pauze]]))","v":""},{"$f":"IF(OR(TabUren2[hoofdcategorie]=\"\",TabUren2[hoofdcategorie]=0),\"anders dan hoofdcategorie\",TabUren2[hoofdcategorie])","v":"anders dan hoofdcategorie"}]
[{"$f":"IF(TabUren2[[#This Row],[datum]]=\"\",\"\",INT((TabUren2[[#This Row],[datum]]-SUM(MOD(DATE(YEAR(TabUren2[[#This Row],[datum]]-MOD(TabUren2[[#This Row],[datum]]-2,7)+3),1,2),{1E+99;7})*{1;-1})+5) /7))","v":""},{"$f":"IF(TabUren2[[#This Row],[datum]]=\"\",\"\",TabUren2[[#This Row],[datum]])","v":""},null,null,{"$f":"IF(TabUren2[[#This Row],[datum]]=\"\",\"\",verzameldata!$C$3)","v":""},null,null,null,null,{"$f":"IF(TabUren2[[#This Row],[eindtijd]]=\"\",\"\",IF(TabUren2[[#This Row],[eindtijd]]<TabUren2[[#This Row],[begintijd]],(\"24:00\"-TabUren2[[#This Row],[begintijd]]+TabUren2[[#This Row],[eindtijd]])-TabUren2[[#This Row],[pauze]],(TabUren2[[#This Row],[eindtijd]]-TabUren2[[#This Row],[begintijd]])-TabUren2[[#This Row],[pauze]]))","v":""},{"$f":"IF(OR(TabUren2[hoofdcategorie]=\"\",TabUren2[hoofdcategorie]=0),\"anders dan hoofdcategorie\",TabUren2[hoofdcategorie])","v":"anders dan hoofdcategorie"}]
[{"$f":"IF(TabUren2[[#This Row],[datum]]=\"\",\"\",INT((TabUren2[[#This Row],[datum]]-SUM(MOD(DATE(YEAR(TabUren2[[#This Row],[datum]]-MOD(TabUren2[[#This Row],[datum]]-2,7)+3),1,2),{1E+99;7})*{1;-1})+5) /7))","v":""},{"$f":"IF(TabUren2[[#This Row],[datum]]=\"\",\"\",TabUren2[[#This Row],[datum]])","v":""},null,null,{"$f":"IF(TabUren2[[#This Row],[datum]]=\"\",\"\",verzameldata!$C$3)","v":""},null,null,null,null,{"$f":"IF(TabUren2[[#This Row],[eindtijd]]=\"\",\"\",IF(TabUren2[[#This Row],[eindtijd]]<TabUren2[[#This Row],[begintijd]],(\"24:00\"-TabUren2[[#This Row],[begintijd]]+TabUren2[[#This Row],[eindtijd]])-TabUren2[[#This Row],[pauze]],(TabUren2[[#This Row],[eindtijd]]-TabUren2[[#This Row],[begintijd]])-TabUren2[[#This Row],[pauze]]))","v":""},{"$f":"IF(OR(TabUren2[hoofdcategorie]=\"\",TabUren2[hoofdcategorie]=0),\"anders dan hoofdcategorie\",TabUren2[hoofdcategorie])","v":"anders dan hoofdcategorie"}]
[{"$f":"IF(TabUren2[[#This Row],[datum]]=\"\",\"\",INT((TabUren2[[#This Row],[datum]]-SUM(MOD(DATE(YEAR(TabUren2[[#This Row],[datum]]-MOD(TabUren2[[#This Row],[datum]]-2,7)+3),1,2),{1E+99;7})*{1;-1})+5) /7))","v":""},{"$f":"IF(TabUren2[[#This Row],[datum]]=\"\",\"\",TabUren2[[#This Row],[datum]])","v":""},null,null,{"$f":"IF(TabUren2[[#This Row],[datum]]=\"\",\"\",verzameldata!$C$3)","v":""},null,null,null,null,{"$f":"IF(TabUren2[[#This Row],[eindtijd]]=\"\",\"\",IF(TabUren2[[#This Row],[eindtijd]]<TabUren2[[#This Row],[begintijd]],(\"24:00\"-TabUren2[[#This Row],[begintijd]]+TabUren2[[#This Row],[eindtijd]])-TabUren2[[#This Row],[pauze]],(TabUren2[[#This Row],[eindtijd]]-TabUren2[[#This Row],[begintijd]])-TabUren2[[#This Row],[pauze]]))","v":""},{"$f":"IF(OR(TabUren2[hoofdcategorie]=\"\",TabUren2[hoofdcategorie]=0),\"anders dan hoofdcategorie\",TabUren2[hoofdcategorie])","v":"anders dan hoofdcategorie"}]
[{"$f":"IF(TabUren2[[#This Row],[datum]]=\"\",\"\",INT((TabUren2[[#This Row],[datum]]-SUM(MOD(DATE(YEAR(TabUren2[[#This Row],[datum]]-MOD(TabUren2[[#This Row],[datum]]-2,7)+3),1,2),{1E+99;7})*{1;-1})+5) /7))","v":""},{"$f":"IF(TabUren2[[#This Row],[datum]]=\"\",\"\",TabUren2[[#This Row],[datum]])","v":""},null,null,{"$f":"IF(TabUren2[[#This Row],[datum]]=\"\",\"\",verzameldata!$C$3)","v":""},null,null,null,null,{"$f":"IF(TabUren2[[#This Row],[eindtijd]]=\"\",\"\",IF(TabUren2[[#This Row],[eindtijd]]<TabUren2[[#This Row],[begintijd]],(\"24:00\"-TabUren2[[#This Row],[begintijd]]+TabUren2[[#This Row],[eindtijd]])-TabUren2[[#This Row],[pauze]],(TabUren2[[#This Row],[eindtijd]]-TabUren2[[#This Row],[begintijd]])-TabUren2[[#This Row],[pauze]]))","v":""},{"$f":"IF(OR(TabUren2[hoofdcategorie]=\"\",TabUren2[hoofdcategorie]=0),\"anders dan hoofdcategorie\",TabUren2[hoofdcategorie])","v":"anders dan hoofdcategorie"}]
[{"$f":"IF(TabUren2[[#This Row],[datum]]=\"\",\"\",INT((TabUren2[[#This Row],[datum]]-SUM(MOD(DATE(YEAR(TabUren2[[#This Row],[datum]]-MOD(TabUren2[[#This Row],[datum]]-2,7)+3),1,2),{1E+99;7})*{1;-1})+5) /7))","v":""},{"$f":"IF(TabUren2[[#This Row],[datum]]=\"\",\"\",TabUren2[[#This Row],[datum]])","v":""},null,null,{"$f":"IF(TabUren2[[#This Row],[datum]]=\"\",\"\",verzameldata!$C$3)","v":""},null,null,null,null,{"$f":"IF(TabUren2[[#This Row],[eindtijd]]=\"\",\"\",IF(TabUren2[[#This Row],[eindtijd]]<TabUren2[[#This Row],[begintijd]],(\"24:00\"-TabUren2[[#This Row],[begintijd]]+TabUren2[[#This Row],[eindtijd]])-TabUren2[[#This Row],[pauze]],(TabUren2[[#This Row],[eindtijd]]-TabUren2[[#This Row],[begintijd]])-TabUren2[[#This Row],[pauze]]))","v":""},{"$f":"IF(OR(TabUren2[hoofdcategorie]=\"\",TabUren2[hoofdcategorie]=0),\"anders dan hoofdcategorie\",TabUren2[hoofdcategorie])","v":"anders dan hoofdcategorie"}]
[{"$f":"IF(TabUren2[[#This Row],[datum]]=\"\",\"\",INT((TabUren2[[#This Row],[datum]]-SUM(MOD(DATE(YEAR(TabUren2[[#This Row],[datum]]-MOD(TabUren2[[#This Row],[datum]]-2,7)+3),1,2),{1E+99;7})*{1;-1})+5) /7))","v":""},{"$f":"IF(TabUren2[[#This Row],[datum]]=\"\",\"\",TabUren2[[#This Row],[datum]])","v":""},null,null,{"$f":"IF(TabUren2[[#This Row],[datum]]=\"\",\"\",verzameldata!$C$3)","v":""},null,null,null,null,{"$f":"IF(TabUren2[[#This Row],[eindtijd]]=\"\",\"\",IF(TabUren2[[#This Row],[eindtijd]]<TabUren2[[#This Row],[begintijd]],(\"24:00\"-TabUren2[[#This Row],[begintijd]]+TabUren2[[#This Row],[eindtijd]])-TabUren2[[#This Row],[pauze]],(TabUren2[[#This Row],[eindtijd]]-TabUren2[[#This Row],[begintijd]])-TabUren2[[#This Row],[pauze]]))","v":""},{"$f":"IF(OR(TabUren2[hoofdcategorie]=\"\",TabUren2[hoofdcategorie]=0),\"anders dan hoofdcategorie\",TabUren2[hoofdcategorie])","v":"anders dan hoofdcategorie"}]
[{"$f":"IF(TabUren2[[#This Row],[datum]]=\"\",\"\",INT((TabUren2[[#This Row],[datum]]-SUM(MOD(DATE(YEAR(TabUren2[[#This Row],[datum]]-MOD(TabUren2[[#This Row],[datum]]-2,7)+3),1,2),{1E+99;7})*{1;-1})+5) /7))","v":""},{"$f":"IF(TabUren2[[#This Row],[datum]]=\"\",\"\",TabUren2[[#This Row],[datum]])","v":""},null,null,{"$f":"IF(TabUren2[[#This Row],[datum]]=\"\",\"\",verzameldata!$C$3)","v":""},null,null,null,null,{"$f":"IF(TabUren2[[#This Row],[eindtijd]]=\"\",\"\",IF(TabUren2[[#This Row],[eindtijd]]<TabUren2[[#This Row],[begintijd]],(\"24:00\"-TabUren2[[#This Row],[begintijd]]+TabUren2[[#This Row],[eindtijd]])-TabUren2[[#This Row],[pauze]],(TabUren2[[#This Row],[eindtijd]]-TabUren2[[#This Row],[begintijd]])-TabUren2[[#This Row],[pauze]]))","v":""},{"$f":"IF(OR(TabUren2[hoofdcategorie]=\"\",TabUren2[hoofdcategorie]=0),\"anders dan hoofdcategorie\",TabUren2[hoofdcategorie])","v":"anders dan hoofdcategorie"}]
[{"$f":"IF(TabUren2[[#This Row],[datum]]=\"\",\"\",INT((TabUren2[[#This Row],[datum]]-SUM(MOD(DATE(YEAR(TabUren2[[#This Row],[datum]]-MOD(TabUren2[[#This Row],[datum]]-2,7)+3),1,2),{1E+99;7})*{1;-1})+5) /7))","v":""},{"$f":"IF(TabUren2[[#This Row],[datum]]=\"\",\"\",TabUren2[[#This Row],[datum]])","v":""},null,null,{"$f":"IF(TabUren2[[#This Row],[datum]]=\"\",\"\",verzameldata!$C$3)","v":""},null,null,null,null,{"$f":"IF(TabUren2[[#This Row],[eindtijd]]=\"\",\"\",IF(TabUren2[[#This Row],[eindtijd]]<TabUren2[[#This Row],[begintijd]],(\"24:00\"-TabUren2[[#This Row],[begintijd]]+TabUren2[[#This Row],[eindtijd]])-TabUren2[[#This Row],[pauze]],(TabUren2[[#This Row],[eindtijd]]-TabUren2[[#This Row],[begintijd]])-TabUren2[[#This Row],[pauze]]))","v":""},{"$f":"IF(OR(TabUren2[hoofdcategorie]=\"\",TabUren2[hoofdcategorie]=0),\"anders dan hoofdcategorie\",TabUren2[hoofdcategorie])","v":"anders dan hoofdcategorie"}]
[{"$f":"IF(TabUren2[[#This Row],[datum]]=\"\",\"\",INT((TabUren2[[#This Row],[datum]]-SUM(MOD(DATE(YEAR(TabUren2[[#This Row],[datum]]-MOD(TabUren2[[#This Row],[datum]]-2,7)+3),1,2),{1E+99;7})*{1;-1})+5) /7))","v":""},{"$f":"IF(TabUren2[[#This Row],[datum]]=\"\",\"\",TabUren2[[#This Row],[datum]])","v":""},null,null,{"$f":"IF(TabUren2[[#This Row],[datum]]=\"\",\"\",verzameldata!$C$3)","v":""},null,null,null,null,{"$f":"IF(TabUren2[[#This Row],[eindtijd]]=\"\",\"\",IF(TabUren2[[#This Row],[eindtijd]]<TabUren2[[#This Row],[begintijd]],(\"24:00\"-TabUren2[[#This Row],[begintijd]]+TabUren2[[#This Row],[eindtijd]])-TabUren2[[#This Row],[pauze]],(TabUren2[[#This Row],[eindtijd]]-TabUren2[[#This Row],[begintijd]])-TabUren2[[#This Row],[pauze]]))","v":""},{"$f":"IF(OR(TabUren2[hoofdcategorie]=\"\",TabUren2[hoofdcategorie]=0),\"anders dan hoofdcategorie\",TabUren2[hoofdcategorie])","v":"anders dan hoofdcategorie"}]
[{"$f":"IF(TabUren2[[#This Row],[datum]]=\"\",\"\",INT((TabUren2[[#This Row],[datum]]-SUM(MOD(DATE(YEAR(TabUren2[[#This Row],[datum]]-MOD(TabUren2[[#This Row],[datum]]-2,7)+3),1,2),{1E+99;7})*{1;-1})+5) /7))","v":""},{"$f":"IF(TabUren2[[#This Row],[datum]]=\"\",\"\",TabUren2[[#This Row],[datum]])","v":""},null,null,{"$f":"IF(TabUren2[[#This Row],[datum]]=\"\",\"\",verzameldata!$C$3)","v":""},null,null,null,null,{"$f":"IF(TabUren2[[#This Row],[eindtijd]]=\"\",\"\",IF(TabUren2[[#This Row],[eindtijd]]<TabUren2[[#This Row],[begintijd]],(\"24:00\"-TabUren2[[#This Row],[begintijd]]+TabUren2[[#This Row],[eindtijd]])-TabUren2[[#This Row],[pauze]],(TabUren2[[#This Row],[eindtijd]]-TabUren2[[#This Row],[begintijd]])-TabUren2[[#This Row],[pauze]]))","v":""},{"$f":"IF(OR(TabUren2[hoofdcategorie]=\"\",TabUren2[hoofdcategorie]=0),\"anders dan hoofdcategorie\",TabUren2[hoofdcategorie])","v":"anders dan hoofdcategorie"}]
[{"$f":"IF(TabUren2[[#This Row],[datum]]=\"\",\"\",INT((TabUren2[[#This Row],[datum]]-SUM(MOD(DATE(YEAR(TabUren2[[#This Row],[datum]]-MOD(TabUren2[[#This Row],[datum]]-2,7)+3),1,2),{1E+99;7})*{1;-1})+5) /7))","v":""},{"$f":"IF(TabUren2[[#This Row],[datum]]=\"\",\"\",TabUren2[[#This Row],[datum]])","v":""},null,null,{"$f":"IF(TabUren2[[#This Row],[datum]]=\"\",\"\",verzameldata!$C$3)","v":""},null,null,null,null,{"$f":"IF(TabUren2[[#This Row],[eindtijd]]=\"\",\"\",IF(TabUren2[[#This Row],[eindtijd]]<TabUren2[[#This Row],[begintijd]],(\"24:00\"-TabUren2[[#This Row],[begintijd]]+TabUren2[[#This Row],[eindtijd]])-TabUren2[[#This Row],[pauze]],(TabUren2[[#This Row],[eindtijd]]-TabUren2[[#This Row],[begintijd]])-TabUren2[[#This Row],[pauze]]))","v":""},{"$f":"IF(OR(TabUren2[hoofdcategorie]=\"\",TabUren2[hoofdcategorie]=0),\"anders dan hoofdcategorie\",TabUren2[hoofdcategorie])","v":"anders dan hoofdcategorie"}]
[{"$f":"IF(TabUren2[[#This Row],[datum]]=\"\",\"\",INT((TabUren2[[#This Row],[datum]]-SUM(MOD(DATE(YEAR(TabUren2[[#This Row],[datum]]-MOD(TabUren2[[#This Row],[datum]]-2,7)+3),1,2),{1E+99;7})*{1;-1})+5) /7))","v":""},{"$f":"IF(TabUren2[[#This Row],[datum]]=\"\",\"\",TabUren2[[#This Row],[datum]])","v":""},null,null,{"$f":"IF(TabUren2[[#This Row],[datum]]=\"\",\"\",verzameldata!$C$3)","v":""},null,null,null,null,{"$f":"IF(TabUren2[[#This Row],[eindtijd]]=\"\",\"\",IF(TabUren2[[#This Row],[eindtijd]]<TabUren2[[#This Row],[begintijd]],(\"24:00\"-TabUren2[[#This Row],[begintijd]]+TabUren2[[#This Row],[eindtijd]])-TabUren2[[#This Row],[pauze]],(TabUren2[[#This Row],[eindtijd]]-TabUren2[[#This Row],[begintijd]])-TabUren2[[#This Row],[pauze]]))","v":""},{"$f":"IF(OR(TabUren2[hoofdcategorie]=\"\",TabUren2[hoofdcategorie]=0),\"anders dan hoofdcategorie\",TabUren2[hoofdcategorie])","v":"anders dan hoofdcategorie"}]
[{"$f":"IF(TabUren2[[#This Row],[datum]]=\"\",\"\",INT((TabUren2[[#This Row],[datum]]-SUM(MOD(DATE(YEAR(TabUren2[[#This Row],[datum]]-MOD(TabUren2[[#This Row],[datum]]-2,7)+3),1,2),{1E+99;7})*{1;-1})+5) /7))","v":""},{"$f":"IF(TabUren2[[#This Row],[datum]]=\"\",\"\",TabUren2[[#This Row],[datum]])","v":""},null,null,{"$f":"IF(TabUren2[[#This Row],[datum]]=\"\",\"\",verzameldata!$C$3)","v":""},null,null,null,null,{"$f":"IF(TabUren2[[#This Row],[eindtijd]]=\"\",\"\",IF(TabUren2[[#This Row],[eindtijd]]<TabUren2[[#This Row],[begintijd]],(\"24:00\"-TabUren2[[#This Row],[begintijd]]+TabUren2[[#This Row],[eindtijd]])-TabUren2[[#This Row],[pauze]],(TabUren2[[#This Row],[eindtijd]]-TabUren2[[#This Row],[begintijd]])-TabUren2[[#This Row],[pauze]]))","v":""},{"$f":"IF(OR(TabUren2[hoofdcategorie]=\"\",TabUren2[hoofdcategorie]=0),\"anders dan hoofdcategorie\",TabUren2[hoofdcategorie])","v":"anders dan hoofdcategorie"}]
[{"$f":"IF(TabUren2[[#This Row],[datum]]=\"\",\"\",INT((TabUren2[[#This Row],[datum]]-SUM(MOD(DATE(YEAR(TabUren2[[#This Row],[datum]]-MOD(TabUren2[[#This Row],[datum]]-2,7)+3),1,2),{1E+99;7})*{1;-1})+5) /7))","v":""},{"$f":"IF(TabUren2[[#This Row],[datum]]=\"\",\"\",TabUren2[[#This Row],[datum]])","v":""},null,null,{"$f":"IF(TabUren2[[#This Row],[datum]]=\"\",\"\",verzameldata!$C$3)","v":""},null,null,null,null,{"$f":"IF(TabUren2[[#This Row],[eindtijd]]=\"\",\"\",IF(TabUren2[[#This Row],[eindtijd]]<TabUren2[[#This Row],[begintijd]],(\"24:00\"-TabUren2[[#This Row],[begintijd]]+TabUren2[[#This Row],[eindtijd]])-TabUren2[[#This Row],[pauze]],(TabUren2[[#This Row],[eindtijd]]-TabUren2[[#This Row],[begintijd]])-TabUren2[[#This Row],[pauze]]))","v":""},{"$f":"IF(OR(TabUren2[hoofdcategorie]=\"\",TabUren2[hoofdcategorie]=0),\"anders dan hoofdcategorie\",TabUren2[hoofdcategorie])","v":"anders dan hoofdcategorie"}]
[{"$f":"IF(TabUren2[[#This Row],[datum]]=\"\",\"\",INT((TabUren2[[#This Row],[datum]]-SUM(MOD(DATE(YEAR(TabUren2[[#This Row],[datum]]-MOD(TabUren2[[#This Row],[datum]]-2,7)+3),1,2),{1E+99;7})*{1;-1})+5) /7))","v":""},{"$f":"IF(TabUren2[[#This Row],[datum]]=\"\",\"\",TabUren2[[#This Row],[datum]])","v":""},null,null,{"$f":"IF(TabUren2[[#This Row],[datum]]=\"\",\"\",verzameldata!$C$3)","v":""},null,null,null,null,{"$f":"IF(TabUren2[[#This Row],[eindtijd]]=\"\",\"\",IF(TabUren2[[#This Row],[eindtijd]]<TabUren2[[#This Row],[begintijd]],(\"24:00\"-TabUren2[[#This Row],[begintijd]]+TabUren2[[#This Row],[eindtijd]])-TabUren2[[#This Row],[pauze]],(TabUren2[[#This Row],[eindtijd]]-TabUren2[[#This Row],[begintijd]])-TabUren2[[#This Row],[pauze]]))","v":""},{"$f":"IF(OR(TabUren2[hoofdcategorie]=\"\",TabUren2[hoofdcategorie]=0),\"anders dan hoofdcategorie\",TabUren2[hoofdcategorie])","v":"anders dan hoofdcategorie"}]
[{"$f":"IF(TabUren2[[#This Row],[datum]]=\"\",\"\",INT((TabUren2[[#This Row],[datum]]-SUM(MOD(DATE(YEAR(TabUren2[[#This Row],[datum]]-MOD(TabUren2[[#This Row],[datum]]-2,7)+3),1,2),{1E+99;7})*{1;-1})+5) /7))","v":""},{"$f":"IF(TabUren2[[#This Row],[datum]]=\"\",\"\",TabUren2[[#This Row],[datum]])","v":""},null,null,{"$f":"IF(TabUren2[[#This Row],[datum]]=\"\",\"\",verzameldata!$C$3)","v":""},null,null,null,null,{"$f":"IF(TabUren2[[#This Row],[eindtijd]]=\"\",\"\",IF(TabUren2[[#This Row],[eindtijd]]<TabUren2[[#This Row],[begintijd]],(\"24:00\"-TabUren2[[#This Row],[begintijd]]+TabUren2[[#This Row],[eindtijd]])-TabUren2[[#This Row],[pauze]],(TabUren2[[#This Row],[eindtijd]]-TabUren2[[#This Row],[begintijd]])-TabUren2[[#This Row],[pauze]]))","v":""},{"$f":"IF(OR(TabUren2[hoofdcategorie]=\"\",TabUren2[hoofdcategorie]=0),\"anders dan hoofdcategorie\",TabUren2[hoofdcategorie])","v":"anders dan hoofdcategorie"}]
[{"$f":"IF(TabUren2[[#This Row],[datum]]=\"\",\"\",INT((TabUren2[[#This Row],[datum]]-SUM(MOD(DATE(YEAR(TabUren2[[#This Row],[datum]]-MOD(TabUren2[[#This Row],[datum]]-2,7)+3),1,2),{1E+99;7})*{1;-1})+5) /7))","v":""},{"$f":"IF(TabUren2[[#This Row],[datum]]=\"\",\"\",TabUren2[[#This Row],[datum]])","v":""},null,null,{"$f":"IF(TabUren2[[#This Row],[datum]]=\"\",\"\",verzameldata!$C$3)","v":""},null,null,null,null,{"$f":"IF(TabUren2[[#This Row],[eindtijd]]=\"\",\"\",IF(TabUren2[[#This Row],[eindtijd]]<TabUren2[[#This Row],[begintijd]],(\"24:00\"-TabUren2[[#This Row],[begintijd]]+TabUren2[[#This Row],[eindtijd]])-TabUren2[[#This Row],[pauze]],(TabUren2[[#This Row],[eindtijd]]-TabUren2[[#This Row],[begintijd]])-TabUren2[[#This Row],[pauze]]))","v":""},{"$f":"IF(OR(TabUren2[hoofdcategorie]=\"\",TabUren2[hoofdcategorie]=0),\"anders dan hoofdcategorie\",TabUren2[hoofdcategorie])","v":"anders dan hoofdcategorie"}]
[{"$f":"IF(TabUren2[[#This Row],[datum]]=\"\",\"\",INT((TabUren2[[#This Row],[datum]]-SUM(MOD(DATE(YEAR(TabUren2[[#This Row],[datum]]-MOD(TabUren2[[#This Row],[datum]]-2,7)+3),1,2),{1E+99;7})*{1;-1})+5) /7))","v":""},{"$f":"IF(TabUren2[[#This Row],[datum]]=\"\",\"\",TabUren2[[#This Row],[datum]])","v":""},null,null,{"$f":"IF(TabUren2[[#This Row],[datum]]=\"\",\"\",verzameldata!$C$3)","v":""},null,null,null,null,{"$f":"IF(TabUren2[[#This Row],[eindtijd]]=\"\",\"\",IF(TabUren2[[#This Row],[eindtijd]]<TabUren2[[#This Row],[begintijd]],(\"24:00\"-TabUren2[[#This Row],[begintijd]]+TabUren2[[#This Row],[eindtijd]])-TabUren2[[#This Row],[pauze]],(TabUren2[[#This Row],[eindtijd]]-TabUren2[[#This Row],[begintijd]])-TabUren2[[#This Row],[pauze]]))","v":""},{"$f":"IF(OR(TabUren2[hoofdcategorie]=\"\",TabUren2[hoofdcategorie]=0),\"anders dan hoofdcategorie\",TabUren2[hoofdcategorie])","v":"anders dan hoofdcategorie"}]
[{"$f":"IF(TabUren2[[#This Row],[datum]]=\"\",\"\",INT((TabUren2[[#This Row],[datum]]-SUM(MOD(DATE(YEAR(TabUren2[[#This Row],[datum]]-MOD(TabUren2[[#This Row],[datum]]-2,7)+3),1,2),{1E+99;7})*{1;-1})+5) /7))","v":""},{"$f":"IF(TabUren2[[#This Row],[datum]]=\"\",\"\",TabUren2[[#This Row],[datum]])","v":""},null,null,{"$f":"IF(TabUren2[[#This Row],[datum]]=\"\",\"\",verzameldata!$C$3)","v":""},null,null,null,null,{"$f":"IF(TabUren2[[#This Row],[eindtijd]]=\"\",\"\",IF(TabUren2[[#This Row],[eindtijd]]<TabUren2[[#This Row],[begintijd]],(\"24:00\"-TabUren2[[#This Row],[begintijd]]+TabUren2[[#This Row],[eindtijd]])-TabUren2[[#This Row],[pauze]],(TabUren2[[#This Row],[eindtijd]]-TabUren2[[#This Row],[begintijd]])-TabUren2[[#This Row],[pauze]]))","v":""},{"$f":"IF(OR(TabUren2[hoofdcategorie]=\"\",TabUren2[hoofdcategorie]=0),\"anders dan hoofdcategorie\",TabUren2[hoofdcategorie])","v":"anders dan hoofdcategorie"}]
[{"$f":"IF(TabUren2[[#This Row],[datum]]=\"\",\"\",INT((TabUren2[[#This Row],[datum]]-SUM(MOD(DATE(YEAR(TabUren2[[#This Row],[datum]]-MOD(TabUren2[[#This Row],[datum]]-2,7)+3),1,2),{1E+99;7})*{1;-1})+5) /7))","v":""},{"$f":"IF(TabUren2[[#This Row],[datum]]=\"\",\"\",TabUren2[[#This Row],[datum]])","v":""},null,null,{"$f":"IF(TabUren2[[#This Row],[datum]]=\"\",\"\",verzameldata!$C$3)","v":""},null,null,null,null,{"$f":"IF(TabUren2[[#This Row],[eindtijd]]=\"\",\"\",IF(TabUren2[[#This Row],[eindtijd]]<TabUren2[[#This Row],[begintijd]],(\"24:00\"-TabUren2[[#This Row],[begintijd]]+TabUren2[[#This Row],[eindtijd]])-TabUren2[[#This Row],[pauze]],(TabUren2[[#This Row],[eindtijd]]-TabUren2[[#This Row],[begintijd]])-TabUren2[[#This Row],[pauze]]))","v":""},{"$f":"IF(OR(TabUren2[hoofdcategorie]=\"\",TabUren2[hoofdcategorie]=0),\"anders dan hoofdcategorie\",TabUren2[hoofdcategorie])","v":"anders dan hoofdcategorie"}]
[{"$f":"IF(TabUren2[[#This Row],[datum]]=\"\",\"\",INT((TabUren2[[#This Row],[datum]]-SUM(MOD(DATE(YEAR(TabUren2[[#This Row],[datum]]-MOD(TabUren2[[#This Row],[datum]]-2,7)+3),1,2),{1E+99;7})*{1;-1})+5) /7))","v":""},{"$f":"IF(TabUren2[[#This Row],[datum]]=\"\",\"\",TabUren2[[#This Row],[datum]])","v":""},null,null,{"$f":"IF(TabUren2[[#This Row],[datum]]=\"\",\"\",verzameldata!$C$3)","v":""},null,null,null,null,{"$f":"IF(TabUren2[[#This Row],[eindtijd]]=\"\",\"\",IF(TabUren2[[#This Row],[eindtijd]]<TabUren2[[#This Row],[begintijd]],(\"24:00\"-TabUren2[[#This Row],[begintijd]]+TabUren2[[#This Row],[eindtijd]])-TabUren2[[#This Row],[pauze]],(TabUren2[[#This Row],[eindtijd]]-TabUren2[[#This Row],[begintijd]])-TabUren2[[#This Row],[pauze]]))","v":""},{"$f":"IF(OR(TabUren2[hoofdcategorie]=\"\",TabUren2[hoofdcategorie]=0),\"anders dan hoofdcategorie\",TabUren2[hoofdcategorie])","v":"anders dan hoofdcategorie"}]
[{"$f":"IF(TabUren2[[#This Row],[datum]]=\"\",\"\",INT((TabUren2[[#This Row],[datum]]-SUM(MOD(DATE(YEAR(TabUren2[[#This Row],[datum]]-MOD(TabUren2[[#This Row],[datum]]-2,7)+3),1,2),{1E+99;7})*{1;-1})+5) /7))","v":""},{"$f":"IF(TabUren2[[#This Row],[datum]]=\"\",\"\",TabUren2[[#This Row],[datum]])","v":""},null,null,{"$f":"IF(TabUren2[[#This Row],[datum]]=\"\",\"\",verzameldata!$C$3)","v":""},null,null,null,null,{"$f":"IF(TabUren2[[#This Row],[eindtijd]]=\"\",\"\",IF(TabUren2[[#This Row],[eindtijd]]<TabUren2[[#This Row],[begintijd]],(\"24:00\"-TabUren2[[#This Row],[begintijd]]+TabUren2[[#This Row],[eindtijd]])-TabUren2[[#This Row],[pauze]],(TabUren2[[#This Row],[eindtijd]]-TabUren2[[#This Row],[begintijd]])-TabUren2[[#This Row],[pauze]]))","v":""},{"$f":"IF(OR(TabUren2[hoofdcategorie]=\"\",TabUren2[hoofdcategorie]=0),\"anders dan hoofdcategorie\",TabUren2[hoofdcategorie])","v":"anders dan hoofdcategorie"}]
[{"$f":"IF(TabUren2[[#This Row],[datum]]=\"\",\"\",INT((TabUren2[[#This Row],[datum]]-SUM(MOD(DATE(YEAR(TabUren2[[#This Row],[datum]]-MOD(TabUren2[[#This Row],[datum]]-2,7)+3),1,2),{1E+99;7})*{1;-1})+5) /7))","v":""},{"$f":"IF(TabUren2[[#This Row],[datum]]=\"\",\"\",TabUren2[[#This Row],[datum]])","v":""},null,null,{"$f":"IF(TabUren2[[#This Row],[datum]]=\"\",\"\",verzameldata!$C$3)","v":""},null,null,null,null,{"$f":"IF(TabUren2[[#This Row],[eindtijd]]=\"\",\"\",IF(TabUren2[[#This Row],[eindtijd]]<TabUren2[[#This Row],[begintijd]],(\"24:00\"-TabUren2[[#This Row],[begintijd]]+TabUren2[[#This Row],[eindtijd]])-TabUren2[[#This Row],[pauze]],(TabUren2[[#This Row],[eindtijd]]-TabUren2[[#This Row],[begintijd]])-TabUren2[[#This Row],[pauze]]))","v":""},{"$f":"IF(OR(TabUren2[hoofdcategorie]=\"\",TabUren2[hoofdcategorie]=0),\"anders dan hoofdcategorie\",TabUren2[hoofdcategorie])","v":"anders dan hoofdcategorie"}]
[{"$f":"IF(TabUren2[[#This Row],[datum]]=\"\",\"\",INT((TabUren2[[#This Row],[datum]]-SUM(MOD(DATE(YEAR(TabUren2[[#This Row],[datum]]-MOD(TabUren2[[#This Row],[datum]]-2,7)+3),1,2),{1E+99;7})*{1;-1})+5) /7))","v":""},{"$f":"IF(TabUren2[[#This Row],[datum]]=\"\",\"\",TabUren2[[#This Row],[datum]])","v":""},null,null,{"$f":"IF(TabUren2[[#This Row],[datum]]=\"\",\"\",verzameldata!$C$3)","v":""},null,null,null,null,{"$f":"IF(TabUren2[[#This Row],[eindtijd]]=\"\",\"\",IF(TabUren2[[#This Row],[eindtijd]]<TabUren2[[#This Row],[begintijd]],(\"24:00\"-TabUren2[[#This Row],[begintijd]]+TabUren2[[#This Row],[eindtijd]])-TabUren2[[#This Row],[pauze]],(TabUren2[[#This Row],[eindtijd]]-TabUren2[[#This Row],[begintijd]])-TabUren2[[#This Row],[pauze]]))","v":""},{"$f":"IF(OR(TabUren2[hoofdcategorie]=\"\",TabUren2[hoofdcategorie]=0),\"anders dan hoofdcategorie\",TabUren2[hoofdcategorie])","v":"anders dan hoofdcategorie"}]
[{"$f":"IF(TabUren2[[#This Row],[datum]]=\"\",\"\",INT((TabUren2[[#This Row],[datum]]-SUM(MOD(DATE(YEAR(TabUren2[[#This Row],[datum]]-MOD(TabUren2[[#This Row],[datum]]-2,7)+3),1,2),{1E+99;7})*{1;-1})+5) /7))","v":""},{"$f":"IF(TabUren2[[#This Row],[datum]]=\"\",\"\",TabUren2[[#This Row],[datum]])","v":""},null,null,{"$f":"IF(TabUren2[[#This Row],[datum]]=\"\",\"\",verzameldata!$C$3)","v":""},null,null,null,null,{"$f":"IF(TabUren2[[#This Row],[eindtijd]]=\"\",\"\",IF(TabUren2[[#This Row],[eindtijd]]<TabUren2[[#This Row],[begintijd]],(\"24:00\"-TabUren2[[#This Row],[begintijd]]+TabUren2[[#This Row],[eindtijd]])-TabUren2[[#This Row],[pauze]],(TabUren2[[#This Row],[eindtijd]]-TabUren2[[#This Row],[begintijd]])-TabUren2[[#This Row],[pauze]]))","v":""},{"$f":"IF(OR(TabUren2[hoofdcategorie]=\"\",TabUren2[hoofdcategorie]=0),\"anders dan hoofdcategorie\",TabUren2[hoofdcategorie])","v":"anders dan hoofdcategorie"}]
[{"$f":"IF(TabUren2[[#This Row],[datum]]=\"\",\"\",INT((TabUren2[[#This Row],[datum]]-SUM(MOD(DATE(YEAR(TabUren2[[#This Row],[datum]]-MOD(TabUren2[[#This Row],[datum]]-2,7)+3),1,2),{1E+99;7})*{1;-1})+5) /7))","v":""},{"$f":"IF(TabUren2[[#This Row],[datum]]=\"\",\"\",TabUren2[[#This Row],[datum]])","v":""},null,null,{"$f":"IF(TabUren2[[#This Row],[datum]]=\"\",\"\",verzameldata!$C$3)","v":""},null,null,null,null,{"$f":"IF(TabUren2[[#This Row],[eindtijd]]=\"\",\"\",IF(TabUren2[[#This Row],[eindtijd]]<TabUren2[[#This Row],[begintijd]],(\"24:00\"-TabUren2[[#This Row],[begintijd]]+TabUren2[[#This Row],[eindtijd]])-TabUren2[[#This Row],[pauze]],(TabUren2[[#This Row],[eindtijd]]-TabUren2[[#This Row],[begintijd]])-TabUren2[[#This Row],[pauze]]))","v":""},{"$f":"IF(OR(TabUren2[hoofdcategorie]=\"\",TabUren2[hoofdcategorie]=0),\"anders dan hoofdcategorie\",TabUren2[hoofdcategorie])","v":"anders dan hoofdcategorie"}]
[{"$f":"IF(TabUren2[[#This Row],[datum]]=\"\",\"\",INT((TabUren2[[#This Row],[datum]]-SUM(MOD(DATE(YEAR(TabUren2[[#This Row],[datum]]-MOD(TabUren2[[#This Row],[datum]]-2,7)+3),1,2),{1E+99;7})*{1;-1})+5) /7))","v":""},{"$f":"IF(TabUren2[[#This Row],[datum]]=\"\",\"\",TabUren2[[#This Row],[datum]])","v":""},null,null,{"$f":"IF(TabUren2[[#This Row],[datum]]=\"\",\"\",verzameldata!$C$3)","v":""},null,null,null,null,{"$f":"IF(TabUren2[[#This Row],[eindtijd]]=\"\",\"\",IF(TabUren2[[#This Row],[eindtijd]]<TabUren2[[#This Row],[begintijd]],(\"24:00\"-TabUren2[[#This Row],[begintijd]]+TabUren2[[#This Row],[eindtijd]])-TabUren2[[#This Row],[pauze]],(TabUren2[[#This Row],[eindtijd]]-TabUren2[[#This Row],[begintijd]])-TabUren2[[#This Row],[pauze]]))","v":""},{"$f":"IF(OR(TabUren2[hoofdcategorie]=\"\",TabUren2[hoofdcategorie]=0),\"anders dan hoofdcategorie\",TabUren2[hoofdcategorie])","v":"anders dan hoofdcategorie"}]
[{"$f":"IF(TabUren2[[#This Row],[datum]]=\"\",\"\",INT((TabUren2[[#This Row],[datum]]-SUM(MOD(DATE(YEAR(TabUren2[[#This Row],[datum]]-MOD(TabUren2[[#This Row],[datum]]-2,7)+3),1,2),{1E+99;7})*{1;-1})+5) /7))","v":""},{"$f":"IF(TabUren2[[#This Row],[datum]]=\"\",\"\",TabUren2[[#This Row],[datum]])","v":""},null,null,{"$f":"IF(TabUren2[[#This Row],[datum]]=\"\",\"\",verzameldata!$C$3)","v":""},null,null,null,null,{"$f":"IF(TabUren2[[#This Row],[eindtijd]]=\"\",\"\",IF(TabUren2[[#This Row],[eindtijd]]<TabUren2[[#This Row],[begintijd]],(\"24:00\"-TabUren2[[#This Row],[begintijd]]+TabUren2[[#This Row],[eindtijd]])-TabUren2[[#This Row],[pauze]],(TabUren2[[#This Row],[eindtijd]]-TabUren2[[#This Row],[begintijd]])-TabUren2[[#This Row],[pauze]]))","v":""},{"$f":"IF(OR(TabUren2[hoofdcategorie]=\"\",TabUren2[hoofdcategorie]=0),\"anders dan hoofdcategorie\",TabUren2[hoofdcategorie])","v":"anders dan hoofdcategorie"}]
[{"$f":"IF(TabUren2[[#This Row],[datum]]=\"\",\"\",INT((TabUren2[[#This Row],[datum]]-SUM(MOD(DATE(YEAR(TabUren2[[#This Row],[datum]]-MOD(TabUren2[[#This Row],[datum]]-2,7)+3),1,2),{1E+99;7})*{1;-1})+5) /7))","v":""},{"$f":"IF(TabUren2[[#This Row],[datum]]=\"\",\"\",TabUren2[[#This Row],[datum]])","v":""},null,null,{"$f":"IF(TabUren2[[#This Row],[datum]]=\"\",\"\",verzameldata!$C$3)","v":""},null,null,null,null,{"$f":"IF(TabUren2[[#This Row],[eindtijd]]=\"\",\"\",IF(TabUren2[[#This Row],[eindtijd]]<TabUren2[[#This Row],[begintijd]],(\"24:00\"-TabUren2[[#This Row],[begintijd]]+TabUren2[[#This Row],[eindtijd]])-TabUren2[[#This Row],[pauze]],(TabUren2[[#This Row],[eindtijd]]-TabUren2[[#This Row],[begintijd]])-TabUren2[[#This Row],[pauze]]))","v":""},{"$f":"IF(OR(TabUren2[hoofdcategorie]=\"\",TabUren2[hoofdcategorie]=0),\"anders dan hoofdcategorie\",TabUren2[hoofdcategorie])","v":"anders dan hoofdcategorie"}]
[{"$f":"IF(TabUren2[[#This Row],[datum]]=\"\",\"\",INT((TabUren2[[#This Row],[datum]]-SUM(MOD(DATE(YEAR(TabUren2[[#This Row],[datum]]-MOD(TabUren2[[#This Row],[datum]]-2,7)+3),1,2),{1E+99;7})*{1;-1})+5) /7))","v":""},{"$f":"IF(TabUren2[[#This Row],[datum]]=\"\",\"\",TabUren2[[#This Row],[datum]])","v":""},null,null,{"$f":"IF(TabUren2[[#This Row],[datum]]=\"\",\"\",verzameldata!$C$3)","v":""},null,null,null,null,{"$f":"IF(TabUren2[[#This Row],[eindtijd]]=\"\",\"\",IF(TabUren2[[#This Row],[eindtijd]]<TabUren2[[#This Row],[begintijd]],(\"24:00\"-TabUren2[[#This Row],[begintijd]]+TabUren2[[#This Row],[eindtijd]])-TabUren2[[#This Row],[pauze]],(TabUren2[[#This Row],[eindtijd]]-TabUren2[[#This Row],[begintijd]])-TabUren2[[#This Row],[pauze]]))","v":""},{"$f":"IF(OR(TabUren2[hoofdcategorie]=\"\",TabUren2[hoofdcategorie]=0),\"anders dan hoofdcategorie\",TabUren2[hoofdcategorie])","v":"anders dan hoofdcategorie"}]
[{"$f":"IF(TabUren2[[#This Row],[datum]]=\"\",\"\",INT((TabUren2[[#This Row],[datum]]-SUM(MOD(DATE(YEAR(TabUren2[[#This Row],[datum]]-MOD(TabUren2[[#This Row],[datum]]-2,7)+3),1,2),{1E+99;7})*{1;-1})+5) /7))","v":""},{"$f":"IF(TabUren2[[#This Row],[datum]]=\"\",\"\",TabUren2[[#This Row],[datum]])","v":""},null,null,{"$f":"IF(TabUren2[[#This Row],[datum]]=\"\",\"\",verzameldata!$C$3)","v":""},null,null,null,null,{"$f":"IF(TabUren2[[#This Row],[eindtijd]]=\"\",\"\",IF(TabUren2[[#This Row],[eindtijd]]<TabUren2[[#This Row],[begintijd]],(\"24:00\"-TabUren2[[#This Row],[begintijd]]+TabUren2[[#This Row],[eindtijd]])-TabUren2[[#This Row],[pauze]],(TabUren2[[#This Row],[eindtijd]]-TabUren2[[#This Row],[begintijd]])-TabUren2[[#This Row],[pauze]]))","v":""},{"$f":"IF(OR(TabUren2[hoofdcategorie]=\"\",TabUren2[hoofdcategorie]=0),\"anders dan hoofdcategorie\",TabUren2[hoofdcategorie])","v":"anders dan hoofdcategorie"}]
[{"$f":"IF(TabUren2[[#This Row],[datum]]=\"\",\"\",INT((TabUren2[[#This Row],[datum]]-SUM(MOD(DATE(YEAR(TabUren2[[#This Row],[datum]]-MOD(TabUren2[[#This Row],[datum]]-2,7)+3),1,2),{1E+99;7})*{1;-1})+5) /7))","v":""},{"$f":"IF(TabUren2[[#This Row],[datum]]=\"\",\"\",TabUren2[[#This Row],[datum]])","v":""},null,null,{"$f":"IF(TabUren2[[#This Row],[datum]]=\"\",\"\",verzameldata!$C$3)","v":""},null,null,null,null,{"$f":"IF(TabUren2[[#This Row],[eindtijd]]=\"\",\"\",IF(TabUren2[[#This Row],[eindtijd]]<TabUren2[[#This Row],[begintijd]],(\"24:00\"-TabUren2[[#This Row],[begintijd]]+TabUren2[[#This Row],[eindtijd]])-TabUren2[[#This Row],[pauze]],(TabUren2[[#This Row],[eindtijd]]-TabUren2[[#This Row],[begintijd]])-TabUren2[[#This Row],[pauze]]))","v":""},{"$f":"IF(OR(TabUren2[hoofdcategorie]=\"\",TabUren2[hoofdcategorie]=0),\"anders dan hoofdcategorie\",TabUren2[hoofdcategorie])","v":"anders dan hoofdcategorie"}]
[{"$f":"IF(TabUren2[[#This Row],[datum]]=\"\",\"\",INT((TabUren2[[#This Row],[datum]]-SUM(MOD(DATE(YEAR(TabUren2[[#This Row],[datum]]-MOD(TabUren2[[#This Row],[datum]]-2,7)+3),1,2),{1E+99;7})*{1;-1})+5) /7))","v":""},{"$f":"IF(TabUren2[[#This Row],[datum]]=\"\",\"\",TabUren2[[#This Row],[datum]])","v":""},null,null,{"$f":"IF(TabUren2[[#This Row],[datum]]=\"\",\"\",verzameldata!$C$3)","v":""},null,null,null,null,{"$f":"IF(TabUren2[[#This Row],[eindtijd]]=\"\",\"\",IF(TabUren2[[#This Row],[eindtijd]]<TabUren2[[#This Row],[begintijd]],(\"24:00\"-TabUren2[[#This Row],[begintijd]]+TabUren2[[#This Row],[eindtijd]])-TabUren2[[#This Row],[pauze]],(TabUren2[[#This Row],[eindtijd]]-TabUren2[[#This Row],[begintijd]])-TabUren2[[#This Row],[pauze]]))","v":""},{"$f":"IF(OR(TabUren2[hoofdcategorie]=\"\",TabUren2[hoofdcategorie]=0),\"anders dan hoofdcategorie\",TabUren2[hoofdcategorie])","v":"anders dan hoofdcategorie"}]
[{"$f":"IF(TabUren2[[#This Row],[datum]]=\"\",\"\",INT((TabUren2[[#This Row],[datum]]-SUM(MOD(DATE(YEAR(TabUren2[[#This Row],[datum]]-MOD(TabUren2[[#This Row],[datum]]-2,7)+3),1,2),{1E+99;7})*{1;-1})+5) /7))","v":""},{"$f":"IF(TabUren2[[#This Row],[datum]]=\"\",\"\",TabUren2[[#This Row],[datum]])","v":""},null,null,{"$f":"IF(TabUren2[[#This Row],[datum]]=\"\",\"\",verzameldata!$C$3)","v":""},null,null,null,null,{"$f":"IF(TabUren2[[#This Row],[eindtijd]]=\"\",\"\",IF(TabUren2[[#This Row],[eindtijd]]<TabUren2[[#This Row],[begintijd]],(\"24:00\"-TabUren2[[#This Row],[begintijd]]+TabUren2[[#This Row],[eindtijd]])-TabUren2[[#This Row],[pauze]],(TabUren2[[#This Row],[eindtijd]]-TabUren2[[#This Row],[begintijd]])-TabUren2[[#This Row],[pauze]]))","v":""},{"$f":"IF(OR(TabUren2[hoofdcategorie]=\"\",TabUren2[hoofdcategorie]=0),\"anders dan hoofdcategorie\",TabUren2[hoofdcategorie])","v":"anders dan hoofdcategorie"}]
[{"$f":"IF(TabUren2[[#This Row],[datum]]=\"\",\"\",INT((TabUren2[[#This Row],[datum]]-SUM(MOD(DATE(YEAR(TabUren2[[#This Row],[datum]]-MOD(TabUren2[[#This Row],[datum]]-2,7)+3),1,2),{1E+99;7})*{1;-1})+5) /7))","v":""},{"$f":"IF(TabUren2[[#This Row],[datum]]=\"\",\"\",TabUren2[[#This Row],[datum]])","v":""},null,null,{"$f":"IF(TabUren2[[#This Row],[datum]]=\"\",\"\",verzameldata!$C$3)","v":""},null,null,null,null,{"$f":"IF(TabUren2[[#This Row],[eindtijd]]=\"\",\"\",IF(TabUren2[[#This Row],[eindtijd]]<TabUren2[[#This Row],[begintijd]],(\"24:00\"-TabUren2[[#This Row],[begintijd]]+TabUren2[[#This Row],[eindtijd]])-TabUren2[[#This Row],[pauze]],(TabUren2[[#This Row],[eindtijd]]-TabUren2[[#This Row],[begintijd]])-TabUren2[[#This Row],[pauze]]))","v":""},{"$f":"IF(OR(TabUren2[hoofdcategorie]=\"\",TabUren2[hoofdcategorie]=0),\"anders dan hoofdcategorie\",TabUren2[hoofdcategorie])","v":"anders dan hoofdcategorie"}]
[{"$f":"IF(TabUren2[[#This Row],[datum]]=\"\",\"\",INT((TabUren2[[#This Row],[datum]]-SUM(MOD(DATE(YEAR(TabUren2[[#This Row],[datum]]-MOD(TabUren2[[#This Row],[datum]]-2,7)+3),1,2),{1E+99;7})*{1;-1})+5) /7))","v":""},{"$f":"IF(TabUren2[[#This Row],[datum]]=\"\",\"\",TabUren2[[#This Row],[datum]])","v":""},null,null,{"$f":"IF(TabUren2[[#This Row],[datum]]=\"\",\"\",verzameldata!$C$3)","v":""},null,null,null,null,{"$f":"IF(TabUren2[[#This Row],[eindtijd]]=\"\",\"\",IF(TabUren2[[#This Row],[eindtijd]]<TabUren2[[#This Row],[begintijd]],(\"24:00\"-TabUren2[[#This Row],[begintijd]]+TabUren2[[#This Row],[eindtijd]])-TabUren2[[#This Row],[pauze]],(TabUren2[[#This Row],[eindtijd]]-TabUren2[[#This Row],[begintijd]])-TabUren2[[#This Row],[pauze]]))","v":""},{"$f":"IF(OR(TabUren2[hoofdcategorie]=\"\",TabUren2[hoofdcategorie]=0),\"anders dan hoofdcategorie\",TabUren2[hoofdcategorie])","v":"anders dan hoofdcategorie"}]
[{"$f":"IF(TabUren2[[#This Row],[datum]]=\"\",\"\",INT((TabUren2[[#This Row],[datum]]-SUM(MOD(DATE(YEAR(TabUren2[[#This Row],[datum]]-MOD(TabUren2[[#This Row],[datum]]-2,7)+3),1,2),{1E+99;7})*{1;-1})+5) /7))","v":""},{"$f":"IF(TabUren2[[#This Row],[datum]]=\"\",\"\",TabUren2[[#This Row],[datum]])","v":""},null,null,{"$f":"IF(TabUren2[[#This Row],[datum]]=\"\",\"\",verzameldata!$C$3)","v":""},null,null,null,null,{"$f":"IF(TabUren2[[#This Row],[eindtijd]]=\"\",\"\",IF(TabUren2[[#This Row],[eindtijd]]<TabUren2[[#This Row],[begintijd]],(\"24:00\"-TabUren2[[#This Row],[begintijd]]+TabUren2[[#This Row],[eindtijd]])-TabUren2[[#This Row],[pauze]],(TabUren2[[#This Row],[eindtijd]]-TabUren2[[#This Row],[begintijd]])-TabUren2[[#This Row],[pauze]]))","v":""},{"$f":"IF(OR(TabUren2[hoofdcategorie]=\"\",TabUren2[hoofdcategorie]=0),\"anders dan hoofdcategorie\",TabUren2[hoofdcategorie])","v":"anders dan hoofdcategorie"}]
[{"$f":"IF(TabUren2[[#This Row],[datum]]=\"\",\"\",INT((TabUren2[[#This Row],[datum]]-SUM(MOD(DATE(YEAR(TabUren2[[#This Row],[datum]]-MOD(TabUren2[[#This Row],[datum]]-2,7)+3),1,2),{1E+99;7})*{1;-1})+5) /7))","v":""},{"$f":"IF(TabUren2[[#This Row],[datum]]=\"\",\"\",TabUren2[[#This Row],[datum]])","v":""},null,null,{"$f":"IF(TabUren2[[#This Row],[datum]]=\"\",\"\",verzameldata!$C$3)","v":""},null,null,null,null,{"$f":"IF(TabUren2[[#This Row],[eindtijd]]=\"\",\"\",IF(TabUren2[[#This Row],[eindtijd]]<TabUren2[[#This Row],[begintijd]],(\"24:00\"-TabUren2[[#This Row],[begintijd]]+TabUren2[[#This Row],[eindtijd]])-TabUren2[[#This Row],[pauze]],(TabUren2[[#This Row],[eindtijd]]-TabUren2[[#This Row],[begintijd]])-TabUren2[[#This Row],[pauze]]))","v":""},{"$f":"IF(OR(TabUren2[hoofdcategorie]=\"\",TabUren2[hoofdcategorie]=0),\"anders dan hoofdcategorie\",TabUren2[hoofdcategorie])","v":"anders dan hoofdcategorie"}]
[{"$f":"IF(TabUren2[[#This Row],[datum]]=\"\",\"\",INT((TabUren2[[#This Row],[datum]]-SUM(MOD(DATE(YEAR(TabUren2[[#This Row],[datum]]-MOD(TabUren2[[#This Row],[datum]]-2,7)+3),1,2),{1E+99;7})*{1;-1})+5) /7))","v":""},{"$f":"IF(TabUren2[[#This Row],[datum]]=\"\",\"\",TabUren2[[#This Row],[datum]])","v":""},null,null,{"$f":"IF(TabUren2[[#This Row],[datum]]=\"\",\"\",verzameldata!$C$3)","v":""},null,null,null,null,{"$f":"IF(TabUren2[[#This Row],[eindtijd]]=\"\",\"\",IF(TabUren2[[#This Row],[eindtijd]]<TabUren2[[#This Row],[begintijd]],(\"24:00\"-TabUren2[[#This Row],[begintijd]]+TabUren2[[#This Row],[eindtijd]])-TabUren2[[#This Row],[pauze]],(TabUren2[[#This Row],[eindtijd]]-TabUren2[[#This Row],[begintijd]])-TabUren2[[#This Row],[pauze]]))","v":""},{"$f":"IF(OR(TabUren2[hoofdcategorie]=\"\",TabUren2[hoofdcategorie]=0),\"anders dan hoofdcategorie\",TabUren2[hoofdcategorie])","v":"anders dan hoofdcategorie"}]
[{"$f":"IF(TabUren2[[#This Row],[datum]]=\"\",\"\",INT((TabUren2[[#This Row],[datum]]-SUM(MOD(DATE(YEAR(TabUren2[[#This Row],[datum]]-MOD(TabUren2[[#This Row],[datum]]-2,7)+3),1,2),{1E+99;7})*{1;-1})+5) /7))","v":""},{"$f":"IF(TabUren2[[#This Row],[datum]]=\"\",\"\",TabUren2[[#This Row],[datum]])","v":""},null,null,{"$f":"IF(TabUren2[[#This Row],[datum]]=\"\",\"\",verzameldata!$C$3)","v":""},null,null,null,null,{"$f":"IF(TabUren2[[#This Row],[eindtijd]]=\"\",\"\",IF(TabUren2[[#This Row],[eindtijd]]<TabUren2[[#This Row],[begintijd]],(\"24:00\"-TabUren2[[#This Row],[begintijd]]+TabUren2[[#This Row],[eindtijd]])-TabUren2[[#This Row],[pauze]],(TabUren2[[#This Row],[eindtijd]]-TabUren2[[#This Row],[begintijd]])-TabUren2[[#This Row],[pauze]]))","v":""},{"$f":"IF(OR(TabUren2[hoofdcategorie]=\"\",TabUren2[hoofdcategorie]=0),\"anders dan hoofdcategorie\",TabUren2[hoofdcategorie])","v":"anders dan hoofdcategorie"}]
[{"$f":"IF(TabUren2[[#This Row],[datum]]=\"\",\"\",INT((TabUren2[[#This Row],[datum]]-SUM(MOD(DATE(YEAR(TabUren2[[#This Row],[datum]]-MOD(TabUren2[[#This Row],[datum]]-2,7)+3),1,2),{1E+99;7})*{1;-1})+5) /7))","v":""},{"$f":"IF(TabUren2[[#This Row],[datum]]=\"\",\"\",TabUren2[[#This Row],[datum]])","v":""},null,null,{"$f":"IF(TabUren2[[#This Row],[datum]]=\"\",\"\",verzameldata!$C$3)","v":""},null,null,null,null,{"$f":"IF(TabUren2[[#This Row],[eindtijd]]=\"\",\"\",IF(TabUren2[[#This Row],[eindtijd]]<TabUren2[[#This Row],[begintijd]],(\"24:00\"-TabUren2[[#This Row],[begintijd]]+TabUren2[[#This Row],[eindtijd]])-TabUren2[[#This Row],[pauze]],(TabUren2[[#This Row],[eindtijd]]-TabUren2[[#This Row],[begintijd]])-TabUren2[[#This Row],[pauze]]))","v":""},{"$f":"IF(OR(TabUren2[hoofdcategorie]=\"\",TabUren2[hoofdcategorie]=0),\"anders dan hoofdcategorie\",TabUren2[hoofdcategorie])","v":"anders dan hoofdcategorie"}]
[{"$f":"IF(TabUren2[[#This Row],[datum]]=\"\",\"\",INT((TabUren2[[#This Row],[datum]]-SUM(MOD(DATE(YEAR(TabUren2[[#This Row],[datum]]-MOD(TabUren2[[#This Row],[datum]]-2,7)+3),1,2),{1E+99;7})*{1;-1})+5) /7))","v":""},{"$f":"IF(TabUren2[[#This Row],[datum]]=\"\",\"\",TabUren2[[#This Row],[datum]])","v":""},null,null,{"$f":"IF(TabUren2[[#This Row],[datum]]=\"\",\"\",verzameldata!$C$3)","v":""},null,null,null,null,{"$f":"IF(TabUren2[[#This Row],[eindtijd]]=\"\",\"\",IF(TabUren2[[#This Row],[eindtijd]]<TabUren2[[#This Row],[begintijd]],(\"24:00\"-TabUren2[[#This Row],[begintijd]]+TabUren2[[#This Row],[eindtijd]])-TabUren2[[#This Row],[pauze]],(TabUren2[[#This Row],[eindtijd]]-TabUren2[[#This Row],[begintijd]])-TabUren2[[#This Row],[pauze]]))","v":""},{"$f":"IF(OR(TabUren2[hoofdcategorie]=\"\",TabUren2[hoofdcategorie]=0),\"anders dan hoofdcategorie\",TabUren2[hoofdcategorie])","v":"anders dan hoofdcategorie"}]
[{"$f":"IF(TabUren2[[#This Row],[datum]]=\"\",\"\",INT((TabUren2[[#This Row],[datum]]-SUM(MOD(DATE(YEAR(TabUren2[[#This Row],[datum]]-MOD(TabUren2[[#This Row],[datum]]-2,7)+3),1,2),{1E+99;7})*{1;-1})+5) /7))","v":""},{"$f":"IF(TabUren2[[#This Row],[datum]]=\"\",\"\",TabUren2[[#This Row],[datum]])","v":""},null,null,{"$f":"IF(TabUren2[[#This Row],[datum]]=\"\",\"\",verzameldata!$C$3)","v":""},null,null,null,null,{"$f":"IF(TabUren2[[#This Row],[eindtijd]]=\"\",\"\",IF(TabUren2[[#This Row],[eindtijd]]<TabUren2[[#This Row],[begintijd]],(\"24:00\"-TabUren2[[#This Row],[begintijd]]+TabUren2[[#This Row],[eindtijd]])-TabUren2[[#This Row],[pauze]],(TabUren2[[#This Row],[eindtijd]]-TabUren2[[#This Row],[begintijd]])-TabUren2[[#This Row],[pauze]]))","v":""},{"$f":"IF(OR(TabUren2[hoofdcategorie]=\"\",TabUren2[hoofdcategorie]=0),\"anders dan hoofdcategorie\",TabUren2[hoofdcategorie])","v":"anders dan hoofdcategorie"}]
[{"$f":"IF(TabUren2[[#This Row],[datum]]=\"\",\"\",INT((TabUren2[[#This Row],[datum]]-SUM(MOD(DATE(YEAR(TabUren2[[#This Row],[datum]]-MOD(TabUren2[[#This Row],[datum]]-2,7)+3),1,2),{1E+99;7})*{1;-1})+5) /7))","v":""},{"$f":"IF(TabUren2[[#This Row],[datum]]=\"\",\"\",TabUren2[[#This Row],[datum]])","v":""},null,null,{"$f":"IF(TabUren2[[#This Row],[datum]]=\"\",\"\",verzameldata!$C$3)","v":""},null,null,null,null,{"$f":"IF(TabUren2[[#This Row],[eindtijd]]=\"\",\"\",IF(TabUren2[[#This Row],[eindtijd]]<TabUren2[[#This Row],[begintijd]],(\"24:00\"-TabUren2[[#This Row],[begintijd]]+TabUren2[[#This Row],[eindtijd]])-TabUren2[[#This Row],[pauze]],(TabUren2[[#This Row],[eindtijd]]-TabUren2[[#This Row],[begintijd]])-TabUren2[[#This Row],[pauze]]))","v":""},{"$f":"IF(OR(TabUren2[hoofdcategorie]=\"\",TabUren2[hoofdcategorie]=0),\"anders dan hoofdcategorie\",TabUren2[hoofdcategorie])","v":"anders dan hoofdcategorie"}]
[{"$f":"IF(TabUren2[[#This Row],[datum]]=\"\",\"\",INT((TabUren2[[#This Row],[datum]]-SUM(MOD(DATE(YEAR(TabUren2[[#This Row],[datum]]-MOD(TabUren2[[#This Row],[datum]]-2,7)+3),1,2),{1E+99;7})*{1;-1})+5) /7))","v":""},{"$f":"IF(TabUren2[[#This Row],[datum]]=\"\",\"\",TabUren2[[#This Row],[datum]])","v":""},null,null,{"$f":"IF(TabUren2[[#This Row],[datum]]=\"\",\"\",verzameldata!$C$3)","v":""},null,null,null,null,{"$f":"IF(TabUren2[[#This Row],[eindtijd]]=\"\",\"\",IF(TabUren2[[#This Row],[eindtijd]]<TabUren2[[#This Row],[begintijd]],(\"24:00\"-TabUren2[[#This Row],[begintijd]]+TabUren2[[#This Row],[eindtijd]])-TabUren2[[#This Row],[pauze]],(TabUren2[[#This Row],[eindtijd]]-TabUren2[[#This Row],[begintijd]])-TabUren2[[#This Row],[pauze]]))","v":""},{"$f":"IF(OR(TabUren2[hoofdcategorie]=\"\",TabUren2[hoofdcategorie]=0),\"anders dan hoofdcategorie\",TabUren2[hoofdcategorie])","v":"anders dan hoofdcategorie"}]
[{"$f":"IF(TabUren2[[#This Row],[datum]]=\"\",\"\",INT((TabUren2[[#This Row],[datum]]-SUM(MOD(DATE(YEAR(TabUren2[[#This Row],[datum]]-MOD(TabUren2[[#This Row],[datum]]-2,7)+3),1,2),{1E+99;7})*{1;-1})+5) /7))","v":""},{"$f":"IF(TabUren2[[#This Row],[datum]]=\"\",\"\",TabUren2[[#This Row],[datum]])","v":""},null,null,{"$f":"IF(TabUren2[[#This Row],[datum]]=\"\",\"\",verzameldata!$C$3)","v":""},null,null,null,null,{"$f":"IF(TabUren2[[#This Row],[eindtijd]]=\"\",\"\",IF(TabUren2[[#This Row],[eindtijd]]<TabUren2[[#This Row],[begintijd]],(\"24:00\"-TabUren2[[#This Row],[begintijd]]+TabUren2[[#This Row],[eindtijd]])-TabUren2[[#This Row],[pauze]],(TabUren2[[#This Row],[eindtijd]]-TabUren2[[#This Row],[begintijd]])-TabUren2[[#This Row],[pauze]]))","v":""},{"$f":"IF(OR(TabUren2[hoofdcategorie]=\"\",TabUren2[hoofdcategorie]=0),\"anders dan hoofdcategorie\",TabUren2[hoofdcategorie])","v":"anders dan hoofdcategorie"}]
[{"$f":"IF(TabUren2[[#This Row],[datum]]=\"\",\"\",INT((TabUren2[[#This Row],[datum]]-SUM(MOD(DATE(YEAR(TabUren2[[#This Row],[datum]]-MOD(TabUren2[[#This Row],[datum]]-2,7)+3),1,2),{1E+99;7})*{1;-1})+5) /7))","v":""},{"$f":"IF(TabUren2[[#This Row],[datum]]=\"\",\"\",TabUren2[[#This Row],[datum]])","v":""},null,null,{"$f":"IF(TabUren2[[#This Row],[datum]]=\"\",\"\",verzameldata!$C$3)","v":""},null,null,null,null,{"$f":"IF(TabUren2[[#This Row],[eindtijd]]=\"\",\"\",IF(TabUren2[[#This Row],[eindtijd]]<TabUren2[[#This Row],[begintijd]],(\"24:00\"-TabUren2[[#This Row],[begintijd]]+TabUren2[[#This Row],[eindtijd]])-TabUren2[[#This Row],[pauze]],(TabUren2[[#This Row],[eindtijd]]-TabUren2[[#This Row],[begintijd]])-TabUren2[[#This Row],[pauze]]))","v":""},{"$f":"IF(OR(TabUren2[hoofdcategorie]=\"\",TabUren2[hoofdcategorie]=0),\"anders dan hoofdcategorie\",TabUren2[hoofdcategorie])","v":"anders dan hoofdcategorie"}]
[{"$f":"IF(TabUren2[[#This Row],[datum]]=\"\",\"\",INT((TabUren2[[#This Row],[datum]]-SUM(MOD(DATE(YEAR(TabUren2[[#This Row],[datum]]-MOD(TabUren2[[#This Row],[datum]]-2,7)+3),1,2),{1E+99;7})*{1;-1})+5) /7))","v":""},{"$f":"IF(TabUren2[[#This Row],[datum]]=\"\",\"\",TabUren2[[#This Row],[datum]])","v":""},null,null,{"$f":"IF(TabUren2[[#This Row],[datum]]=\"\",\"\",verzameldata!$C$3)","v":""},null,null,null,null,{"$f":"IF(TabUren2[[#This Row],[eindtijd]]=\"\",\"\",IF(TabUren2[[#This Row],[eindtijd]]<TabUren2[[#This Row],[begintijd]],(\"24:00\"-TabUren2[[#This Row],[begintijd]]+TabUren2[[#This Row],[eindtijd]])-TabUren2[[#This Row],[pauze]],(TabUren2[[#This Row],[eindtijd]]-TabUren2[[#This Row],[begintijd]])-TabUren2[[#This Row],[pauze]]))","v":""},{"$f":"IF(OR(TabUren2[hoofdcategorie]=\"\",TabUren2[hoofdcategorie]=0),\"anders dan hoofdcategorie\",TabUren2[hoofdcategorie])","v":"anders dan hoofdcategorie"}]
[{"$f":"IF(TabUren2[[#This Row],[datum]]=\"\",\"\",INT((TabUren2[[#This Row],[datum]]-SUM(MOD(DATE(YEAR(TabUren2[[#This Row],[datum]]-MOD(TabUren2[[#This Row],[datum]]-2,7)+3),1,2),{1E+99;7})*{1;-1})+5) /7))","v":""},{"$f":"IF(TabUren2[[#This Row],[datum]]=\"\",\"\",TabUren2[[#This Row],[datum]])","v":""},null,null,{"$f":"IF(TabUren2[[#This Row],[datum]]=\"\",\"\",verzameldata!$C$3)","v":""},null,null,null,null,{"$f":"IF(TabUren2[[#This Row],[eindtijd]]=\"\",\"\",IF(TabUren2[[#This Row],[eindtijd]]<TabUren2[[#This Row],[begintijd]],(\"24:00\"-TabUren2[[#This Row],[begintijd]]+TabUren2[[#This Row],[eindtijd]])-TabUren2[[#This Row],[pauze]],(TabUren2[[#This Row],[eindtijd]]-TabUren2[[#This Row],[begintijd]])-TabUren2[[#This Row],[pauze]]))","v":""},{"$f":"IF(OR(TabUren2[hoofdcategorie]=\"\",TabUren2[hoofdcategorie]=0),\"anders dan hoofdcategorie\",TabUren2[hoofdcategorie])","v":"anders dan hoofdcategorie"}]
[{"$f":"IF(TabUren2[[#This Row],[datum]]=\"\",\"\",INT((TabUren2[[#This Row],[datum]]-SUM(MOD(DATE(YEAR(TabUren2[[#This Row],[datum]]-MOD(TabUren2[[#This Row],[datum]]-2,7)+3),1,2),{1E+99;7})*{1;-1})+5) /7))","v":""},{"$f":"IF(TabUren2[[#This Row],[datum]]=\"\",\"\",TabUren2[[#This Row],[datum]])","v":""},null,null,{"$f":"IF(TabUren2[[#This Row],[datum]]=\"\",\"\",verzameldata!$C$3)","v":""},null,null,null,null,{"$f":"IF(TabUren2[[#This Row],[eindtijd]]=\"\",\"\",IF(TabUren2[[#This Row],[eindtijd]]<TabUren2[[#This Row],[begintijd]],(\"24:00\"-TabUren2[[#This Row],[begintijd]]+TabUren2[[#This Row],[eindtijd]])-TabUren2[[#This Row],[pauze]],(TabUren2[[#This Row],[eindtijd]]-TabUren2[[#This Row],[begintijd]])-TabUren2[[#This Row],[pauze]]))","v":""},{"$f":"IF(OR(TabUren2[hoofdcategorie]=\"\",TabUren2[hoofdcategorie]=0),\"anders dan hoofdcategorie\",TabUren2[hoofdcategorie])","v":"anders dan hoofdcategorie"}]
[{"$f":"IF(TabUren2[[#This Row],[datum]]=\"\",\"\",INT((TabUren2[[#This Row],[datum]]-SUM(MOD(DATE(YEAR(TabUren2[[#This Row],[datum]]-MOD(TabUren2[[#This Row],[datum]]-2,7)+3),1,2),{1E+99;7})*{1;-1})+5) /7))","v":""},{"$f":"IF(TabUren2[[#This Row],[datum]]=\"\",\"\",TabUren2[[#This Row],[datum]])","v":""},null,null,{"$f":"IF(TabUren2[[#This Row],[datum]]=\"\",\"\",verzameldata!$C$3)","v":""},null,null,null,null,{"$f":"IF(TabUren2[[#This Row],[eindtijd]]=\"\",\"\",IF(TabUren2[[#This Row],[eindtijd]]<TabUren2[[#This Row],[begintijd]],(\"24:00\"-TabUren2[[#This Row],[begintijd]]+TabUren2[[#This Row],[eindtijd]])-TabUren2[[#This Row],[pauze]],(TabUren2[[#This Row],[eindtijd]]-TabUren2[[#This Row],[begintijd]])-TabUren2[[#This Row],[pauze]]))","v":""},{"$f":"IF(OR(TabUren2[hoofdcategorie]=\"\",TabUren2[hoofdcategorie]=0),\"anders dan hoofdcategorie\",TabUren2[hoofdcategorie])","v":"anders dan hoofdcategorie"}]
[{"$f":"IF(TabUren2[[#This Row],[datum]]=\"\",\"\",INT((TabUren2[[#This Row],[datum]]-SUM(MOD(DATE(YEAR(TabUren2[[#This Row],[datum]]-MOD(TabUren2[[#This Row],[datum]]-2,7)+3),1,2),{1E+99;7})*{1;-1})+5) /7))","v":""},{"$f":"IF(TabUren2[[#This Row],[datum]]=\"\",\"\",TabUren2[[#This Row],[datum]])","v":""},null,null,{"$f":"IF(TabUren2[[#This Row],[datum]]=\"\",\"\",verzameldata!$C$3)","v":""},null,null,null,null,{"$f":"IF(TabUren2[[#This Row],[eindtijd]]=\"\",\"\",IF(TabUren2[[#This Row],[eindtijd]]<TabUren2[[#This Row],[begintijd]],(\"24:00\"-TabUren2[[#This Row],[begintijd]]+TabUren2[[#This Row],[eindtijd]])-TabUren2[[#This Row],[pauze]],(TabUren2[[#This Row],[eindtijd]]-TabUren2[[#This Row],[begintijd]])-TabUren2[[#This Row],[pauze]]))","v":""},{"$f":"IF(OR(TabUren2[hoofdcategorie]=\"\",TabUren2[hoofdcategorie]=0),\"anders dan hoofdcategorie\",TabUren2[hoofdcategorie])","v":"anders dan hoofdcategorie"}]
[{"$f":"IF(TabUren2[[#This Row],[datum]]=\"\",\"\",INT((TabUren2[[#This Row],[datum]]-SUM(MOD(DATE(YEAR(TabUren2[[#This Row],[datum]]-MOD(TabUren2[[#This Row],[datum]]-2,7)+3),1,2),{1E+99;7})*{1;-1})+5) /7))","v":""},{"$f":"IF(TabUren2[[#This Row],[datum]]=\"\",\"\",TabUren2[[#This Row],[datum]])","v":""},null,null,{"$f":"IF(TabUren2[[#This Row],[datum]]=\"\",\"\",verzameldata!$C$3)","v":""},null,null,null,null,{"$f":"IF(TabUren2[[#This Row],[eindtijd]]=\"\",\"\",IF(TabUren2[[#This Row],[eindtijd]]<TabUren2[[#This Row],[begintijd]],(\"24:00\"-TabUren2[[#This Row],[begintijd]]+TabUren2[[#This Row],[eindtijd]])-TabUren2[[#This Row],[pauze]],(TabUren2[[#This Row],[eindtijd]]-TabUren2[[#This Row],[begintijd]])-TabUren2[[#This Row],[pauze]]))","v":""},{"$f":"IF(OR(TabUren2[hoofdcategorie]=\"\",TabUren2[hoofdcategorie]=0),\"anders dan hoofdcategorie\",TabUren2[hoofdcategorie])","v":"anders dan hoofdcategorie"}]
[{"$f":"IF(TabUren2[[#This Row],[datum]]=\"\",\"\",INT((TabUren2[[#This Row],[datum]]-SUM(MOD(DATE(YEAR(TabUren2[[#This Row],[datum]]-MOD(TabUren2[[#This Row],[datum]]-2,7)+3),1,2),{1E+99;7})*{1;-1})+5) /7))","v":""},{"$f":"IF(TabUren2[[#This Row],[datum]]=\"\",\"\",TabUren2[[#This Row],[datum]])","v":""},null,null,{"$f":"IF(TabUren2[[#This Row],[datum]]=\"\",\"\",verzameldata!$C$3)","v":""},null,null,null,null,{"$f":"IF(TabUren2[[#This Row],[eindtijd]]=\"\",\"\",IF(TabUren2[[#This Row],[eindtijd]]<TabUren2[[#This Row],[begintijd]],(\"24:00\"-TabUren2[[#This Row],[begintijd]]+TabUren2[[#This Row],[eindtijd]])-TabUren2[[#This Row],[pauze]],(TabUren2[[#This Row],[eindtijd]]-TabUren2[[#This Row],[begintijd]])-TabUren2[[#This Row],[pauze]]))","v":""},{"$f":"IF(OR(TabUren2[hoofdcategorie]=\"\",TabUren2[hoofdcategorie]=0),\"anders dan hoofdcategorie\",TabUren2[hoofdcategorie])","v":"anders dan hoofdcategorie"}]
[{"$f":"IF(TabUren2[[#This Row],[datum]]=\"\",\"\",INT((TabUren2[[#This Row],[datum]]-SUM(MOD(DATE(YEAR(TabUren2[[#This Row],[datum]]-MOD(TabUren2[[#This Row],[datum]]-2,7)+3),1,2),{1E+99;7})*{1;-1})+5) /7))","v":""},{"$f":"IF(TabUren2[[#This Row],[datum]]=\"\",\"\",TabUren2[[#This Row],[datum]])","v":""},null,null,{"$f":"IF(TabUren2[[#This Row],[datum]]=\"\",\"\",verzameldata!$C$3)","v":""},null,null,null,null,{"$f":"IF(TabUren2[[#This Row],[eindtijd]]=\"\",\"\",IF(TabUren2[[#This Row],[eindtijd]]<TabUren2[[#This Row],[begintijd]],(\"24:00\"-TabUren2[[#This Row],[begintijd]]+TabUren2[[#This Row],[eindtijd]])-TabUren2[[#This Row],[pauze]],(TabUren2[[#This Row],[eindtijd]]-TabUren2[[#This Row],[begintijd]])-TabUren2[[#This Row],[pauze]]))","v":""},{"$f":"IF(OR(TabUren2[hoofdcategorie]=\"\",TabUren2[hoofdcategorie]=0),\"anders dan hoofdcategorie\",TabUren2[hoofdcategorie])","v":"anders dan hoofdcategorie"}]
[{"$f":"IF(TabUren2[[#This Row],[datum]]=\"\",\"\",INT((TabUren2[[#This Row],[datum]]-SUM(MOD(DATE(YEAR(TabUren2[[#This Row],[datum]]-MOD(TabUren2[[#This Row],[datum]]-2,7)+3),1,2),{1E+99;7})*{1;-1})+5) /7))","v":""},{"$f":"IF(TabUren2[[#This Row],[datum]]=\"\",\"\",TabUren2[[#This Row],[datum]])","v":""},null,null,{"$f":"IF(TabUren2[[#This Row],[datum]]=\"\",\"\",verzameldata!$C$3)","v":""},null,null,null,null,{"$f":"IF(TabUren2[[#This Row],[eindtijd]]=\"\",\"\",IF(TabUren2[[#This Row],[eindtijd]]<TabUren2[[#This Row],[begintijd]],(\"24:00\"-TabUren2[[#This Row],[begintijd]]+TabUren2[[#This Row],[eindtijd]])-TabUren2[[#This Row],[pauze]],(TabUren2[[#This Row],[eindtijd]]-TabUren2[[#This Row],[begintijd]])-TabUren2[[#This Row],[pauze]]))","v":""},{"$f":"IF(OR(TabUren2[hoofdcategorie]=\"\",TabUren2[hoofdcategorie]=0),\"anders dan hoofdcategorie\",TabUren2[hoofdcategorie])","v":"anders dan hoofdcategorie"}]
[{"$f":"IF(TabUren2[[#This Row],[datum]]=\"\",\"\",INT((TabUren2[[#This Row],[datum]]-SUM(MOD(DATE(YEAR(TabUren2[[#This Row],[datum]]-MOD(TabUren2[[#This Row],[datum]]-2,7)+3),1,2),{1E+99;7})*{1;-1})+5) /7))","v":""},{"$f":"IF(TabUren2[[#This Row],[datum]]=\"\",\"\",TabUren2[[#This Row],[datum]])","v":""},null,null,{"$f":"IF(TabUren2[[#This Row],[datum]]=\"\",\"\",verzameldata!$C$3)","v":""},null,null,null,null,{"$f":"IF(TabUren2[[#This Row],[eindtijd]]=\"\",\"\",IF(TabUren2[[#This Row],[eindtijd]]<TabUren2[[#This Row],[begintijd]],(\"24:00\"-TabUren2[[#This Row],[begintijd]]+TabUren2[[#This Row],[eindtijd]])-TabUren2[[#This Row],[pauze]],(TabUren2[[#This Row],[eindtijd]]-TabUren2[[#This Row],[begintijd]])-TabUren2[[#This Row],[pauze]]))","v":""},{"$f":"IF(OR(TabUren2[hoofdcategorie]=\"\",TabUren2[hoofdcategorie]=0),\"anders dan hoofdcategorie\",TabUren2[hoofdcategorie])","v":"anders dan hoofdcategorie"}]
[{"$f":"IF(TabUren2[[#This Row],[datum]]=\"\",\"\",INT((TabUren2[[#This Row],[datum]]-SUM(MOD(DATE(YEAR(TabUren2[[#This Row],[datum]]-MOD(TabUren2[[#This Row],[datum]]-2,7)+3),1,2),{1E+99;7})*{1;-1})+5) /7))","v":""},{"$f":"IF(TabUren2[[#This Row],[datum]]=\"\",\"\",TabUren2[[#This Row],[datum]])","v":""},null,null,{"$f":"IF(TabUren2[[#This Row],[datum]]=\"\",\"\",verzameldata!$C$3)","v":""},null,null,null,null,{"$f":"IF(TabUren2[[#This Row],[eindtijd]]=\"\",\"\",IF(TabUren2[[#This Row],[eindtijd]]<TabUren2[[#This Row],[begintijd]],(\"24:00\"-TabUren2[[#This Row],[begintijd]]+TabUren2[[#This Row],[eindtijd]])-TabUren2[[#This Row],[pauze]],(TabUren2[[#This Row],[eindtijd]]-TabUren2[[#This Row],[begintijd]])-TabUren2[[#This Row],[pauze]]))","v":""},{"$f":"IF(OR(TabUren2[hoofdcategorie]=\"\",TabUren2[hoofdcategorie]=0),\"anders dan hoofdcategorie\",TabUren2[hoofdcategorie])","v":"anders dan hoofdcategorie"}]
[{"$f":"IF(TabUren2[[#This Row],[datum]]=\"\",\"\",INT((TabUren2[[#This Row],[datum]]-SUM(MOD(DATE(YEAR(TabUren2[[#This Row],[datum]]-MOD(TabUren2[[#This Row],[datum]]-2,7)+3),1,2),{1E+99;7})*{1;-1})+5) /7))","v":""},{"$f":"IF(TabUren2[[#This Row],[datum]]=\"\",\"\",TabUren2[[#This Row],[datum]])","v":""},null,null,{"$f":"IF(TabUren2[[#This Row],[datum]]=\"\",\"\",verzameldata!$C$3)","v":""},null,null,null,null,{"$f":"IF(TabUren2[[#This Row],[eindtijd]]=\"\",\"\",IF(TabUren2[[#This Row],[eindtijd]]<TabUren2[[#This Row],[begintijd]],(\"24:00\"-TabUren2[[#This Row],[begintijd]]+TabUren2[[#This Row],[eindtijd]])-TabUren2[[#This Row],[pauze]],(TabUren2[[#This Row],[eindtijd]]-TabUren2[[#This Row],[begintijd]])-TabUren2[[#This Row],[pauze]]))","v":""},{"$f":"IF(OR(TabUren2[hoofdcategorie]=\"\",TabUren2[hoofdcategorie]=0),\"anders dan hoofdcategorie\",TabUren2[hoofdcategorie])","v":"anders dan hoofdcategorie"}]
[{"$f":"IF(TabUren2[[#This Row],[datum]]=\"\",\"\",INT((TabUren2[[#This Row],[datum]]-SUM(MOD(DATE(YEAR(TabUren2[[#This Row],[datum]]-MOD(TabUren2[[#This Row],[datum]]-2,7)+3),1,2),{1E+99;7})*{1;-1})+5) /7))","v":""},{"$f":"IF(TabUren2[[#This Row],[datum]]=\"\",\"\",TabUren2[[#This Row],[datum]])","v":""},null,null,{"$f":"IF(TabUren2[[#This Row],[datum]]=\"\",\"\",verzameldata!$C$3)","v":""},null,null,null,null,{"$f":"IF(TabUren2[[#This Row],[eindtijd]]=\"\",\"\",IF(TabUren2[[#This Row],[eindtijd]]<TabUren2[[#This Row],[begintijd]],(\"24:00\"-TabUren2[[#This Row],[begintijd]]+TabUren2[[#This Row],[eindtijd]])-TabUren2[[#This Row],[pauze]],(TabUren2[[#This Row],[eindtijd]]-TabUren2[[#This Row],[begintijd]])-TabUren2[[#This Row],[pauze]]))","v":""},{"$f":"IF(OR(TabUren2[hoofdcategorie]=\"\",TabUren2[hoofdcategorie]=0),\"anders dan hoofdcategorie\",TabUren2[hoofdcategorie])","v":"anders dan hoofdcategorie"}]
[{"$f":"IF(TabUren2[[#This Row],[datum]]=\"\",\"\",INT((TabUren2[[#This Row],[datum]]-SUM(MOD(DATE(YEAR(TabUren2[[#This Row],[datum]]-MOD(TabUren2[[#This Row],[datum]]-2,7)+3),1,2),{1E+99;7})*{1;-1})+5) /7))","v":""},{"$f":"IF(TabUren2[[#This Row],[datum]]=\"\",\"\",TabUren2[[#This Row],[datum]])","v":""},null,null,{"$f":"IF(TabUren2[[#This Row],[datum]]=\"\",\"\",verzameldata!$C$3)","v":""},null,null,null,null,{"$f":"IF(TabUren2[[#This Row],[eindtijd]]=\"\",\"\",IF(TabUren2[[#This Row],[eindtijd]]<TabUren2[[#This Row],[begintijd]],(\"24:00\"-TabUren2[[#This Row],[begintijd]]+TabUren2[[#This Row],[eindtijd]])-TabUren2[[#This Row],[pauze]],(TabUren2[[#This Row],[eindtijd]]-TabUren2[[#This Row],[begintijd]])-TabUren2[[#This Row],[pauze]]))","v":""},{"$f":"IF(OR(TabUren2[hoofdcategorie]=\"\",TabUren2[hoofdcategorie]=0),\"anders dan hoofdcategorie\",TabUren2[hoofdcategorie])","v":"anders dan hoofdcategorie"}]
[{"$f":"IF(TabUren2[[#This Row],[datum]]=\"\",\"\",INT((TabUren2[[#This Row],[datum]]-SUM(MOD(DATE(YEAR(TabUren2[[#This Row],[datum]]-MOD(TabUren2[[#This Row],[datum]]-2,7)+3),1,2),{1E+99;7})*{1;-1})+5) /7))","v":""},{"$f":"IF(TabUren2[[#This Row],[datum]]=\"\",\"\",TabUren2[[#This Row],[datum]])","v":""},null,null,{"$f":"IF(TabUren2[[#This Row],[datum]]=\"\",\"\",verzameldata!$C$3)","v":""},null,null,null,null,{"$f":"IF(TabUren2[[#This Row],[eindtijd]]=\"\",\"\",IF(TabUren2[[#This Row],[eindtijd]]<TabUren2[[#This Row],[begintijd]],(\"24:00\"-TabUren2[[#This Row],[begintijd]]+TabUren2[[#This Row],[eindtijd]])-TabUren2[[#This Row],[pauze]],(TabUren2[[#This Row],[eindtijd]]-TabUren2[[#This Row],[begintijd]])-TabUren2[[#This Row],[pauze]]))","v":""},{"$f":"IF(OR(TabUren2[hoofdcategorie]=\"\",TabUren2[hoofdcategorie]=0),\"anders dan hoofdcategorie\",TabUren2[hoofdcategorie])","v":"anders dan hoofdcategorie"}]
[{"$f":"IF(TabUren2[[#This Row],[datum]]=\"\",\"\",INT((TabUren2[[#This Row],[datum]]-SUM(MOD(DATE(YEAR(TabUren2[[#This Row],[datum]]-MOD(TabUren2[[#This Row],[datum]]-2,7)+3),1,2),{1E+99;7})*{1;-1})+5) /7))","v":""},{"$f":"IF(TabUren2[[#This Row],[datum]]=\"\",\"\",TabUren2[[#This Row],[datum]])","v":""},null,null,{"$f":"IF(TabUren2[[#This Row],[datum]]=\"\",\"\",verzameldata!$C$3)","v":""},null,null,null,null,{"$f":"IF(TabUren2[[#This Row],[eindtijd]]=\"\",\"\",IF(TabUren2[[#This Row],[eindtijd]]<TabUren2[[#This Row],[begintijd]],(\"24:00\"-TabUren2[[#This Row],[begintijd]]+TabUren2[[#This Row],[eindtijd]])-TabUren2[[#This Row],[pauze]],(TabUren2[[#This Row],[eindtijd]]-TabUren2[[#This Row],[begintijd]])-TabUren2[[#This Row],[pauze]]))","v":""},{"$f":"IF(OR(TabUren2[hoofdcategorie]=\"\",TabUren2[hoofdcategorie]=0),\"anders dan hoofdcategorie\",TabUren2[hoofdcategorie])","v":"anders dan hoofdcategorie"}]
[{"$f":"IF(TabUren2[[#This Row],[datum]]=\"\",\"\",INT((TabUren2[[#This Row],[datum]]-SUM(MOD(DATE(YEAR(TabUren2[[#This Row],[datum]]-MOD(TabUren2[[#This Row],[datum]]-2,7)+3),1,2),{1E+99;7})*{1;-1})+5) /7))","v":""},{"$f":"IF(TabUren2[[#This Row],[datum]]=\"\",\"\",TabUren2[[#This Row],[datum]])","v":""},null,null,{"$f":"IF(TabUren2[[#This Row],[datum]]=\"\",\"\",verzameldata!$C$3)","v":""},null,null,null,null,{"$f":"IF(TabUren2[[#This Row],[eindtijd]]=\"\",\"\",IF(TabUren2[[#This Row],[eindtijd]]<TabUren2[[#This Row],[begintijd]],(\"24:00\"-TabUren2[[#This Row],[begintijd]]+TabUren2[[#This Row],[eindtijd]])-TabUren2[[#This Row],[pauze]],(TabUren2[[#This Row],[eindtijd]]-TabUren2[[#This Row],[begintijd]])-TabUren2[[#This Row],[pauze]]))","v":""},{"$f":"IF(OR(TabUren2[hoofdcategorie]=\"\",TabUren2[hoofdcategorie]=0),\"anders dan hoofdcategorie\",TabUren2[hoofdcategorie])","v":"anders dan hoofdcategorie"}]
[{"$f":"IF(TabUren2[[#This Row],[datum]]=\"\",\"\",INT((TabUren2[[#This Row],[datum]]-SUM(MOD(DATE(YEAR(TabUren2[[#This Row],[datum]]-MOD(TabUren2[[#This Row],[datum]]-2,7)+3),1,2),{1E+99;7})*{1;-1})+5) /7))","v":""},{"$f":"IF(TabUren2[[#This Row],[datum]]=\"\",\"\",TabUren2[[#This Row],[datum]])","v":""},null,null,{"$f":"IF(TabUren2[[#This Row],[datum]]=\"\",\"\",verzameldata!$C$3)","v":""},null,null,null,null,{"$f":"IF(TabUren2[[#This Row],[eindtijd]]=\"\",\"\",IF(TabUren2[[#This Row],[eindtijd]]<TabUren2[[#This Row],[begintijd]],(\"24:00\"-TabUren2[[#This Row],[begintijd]]+TabUren2[[#This Row],[eindtijd]])-TabUren2[[#This Row],[pauze]],(TabUren2[[#This Row],[eindtijd]]-TabUren2[[#This Row],[begintijd]])-TabUren2[[#This Row],[pauze]]))","v":""},{"$f":"IF(OR(TabUren2[hoofdcategorie]=\"\",TabUren2[hoofdcategorie]=0),\"anders dan hoofdcategorie\",TabUren2[hoofdcategorie])","v":"anders dan hoofdcategorie"}]
[{"$f":"IF(TabUren2[[#This Row],[datum]]=\"\",\"\",INT((TabUren2[[#This Row],[datum]]-SUM(MOD(DATE(YEAR(TabUren2[[#This Row],[datum]]-MOD(TabUren2[[#This Row],[datum]]-2,7)+3),1,2),{1E+99;7})*{1;-1})+5) /7))","v":""},{"$f":"IF(TabUren2[[#This Row],[datum]]=\"\",\"\",TabUren2[[#This Row],[datum]])","v":""},null,null,{"$f":"IF(TabUren2[[#This Row],[datum]]=\"\",\"\",verzameldata!$C$3)","v":""},null,null,null,null,{"$f":"IF(TabUren2[[#This Row],[eindtijd]]=\"\",\"\",IF(TabUren2[[#This Row],[eindtijd]]<TabUren2[[#This Row],[begintijd]],(\"24:00\"-TabUren2[[#This Row],[begintijd]]+TabUren2[[#This Row],[eindtijd]])-TabUren2[[#This Row],[pauze]],(TabUren2[[#This Row],[eindtijd]]-TabUren2[[#This Row],[begintijd]])-TabUren2[[#This Row],[pauze]]))","v":""},{"$f":"IF(OR(TabUren2[hoofdcategorie]=\"\",TabUren2[hoofdcategorie]=0),\"anders dan hoofdcategorie\",TabUren2[hoofdcategorie])","v":"anders dan hoofdcategorie"}]
[{"$f":"IF(TabUren2[[#This Row],[datum]]=\"\",\"\",INT((TabUren2[[#This Row],[datum]]-SUM(MOD(DATE(YEAR(TabUren2[[#This Row],[datum]]-MOD(TabUren2[[#This Row],[datum]]-2,7)+3),1,2),{1E+99;7})*{1;-1})+5) /7))","v":""},{"$f":"IF(TabUren2[[#This Row],[datum]]=\"\",\"\",TabUren2[[#This Row],[datum]])","v":""},null,null,{"$f":"IF(TabUren2[[#This Row],[datum]]=\"\",\"\",verzameldata!$C$3)","v":""},null,null,null,null,{"$f":"IF(TabUren2[[#This Row],[eindtijd]]=\"\",\"\",IF(TabUren2[[#This Row],[eindtijd]]<TabUren2[[#This Row],[begintijd]],(\"24:00\"-TabUren2[[#This Row],[begintijd]]+TabUren2[[#This Row],[eindtijd]])-TabUren2[[#This Row],[pauze]],(TabUren2[[#This Row],[eindtijd]]-TabUren2[[#This Row],[begintijd]])-TabUren2[[#This Row],[pauze]]))","v":""},{"$f":"IF(OR(TabUren2[hoofdcategorie]=\"\",TabUren2[hoofdcategorie]=0),\"anders dan hoofdcategorie\",TabUren2[hoofdcategorie])","v":"anders dan hoofdcategorie"}]
[{"$f":"IF(TabUren2[[#This Row],[datum]]=\"\",\"\",INT((TabUren2[[#This Row],[datum]]-SUM(MOD(DATE(YEAR(TabUren2[[#This Row],[datum]]-MOD(TabUren2[[#This Row],[datum]]-2,7)+3),1,2),{1E+99;7})*{1;-1})+5) /7))","v":""},{"$f":"IF(TabUren2[[#This Row],[datum]]=\"\",\"\",TabUren2[[#This Row],[datum]])","v":""},null,null,{"$f":"IF(TabUren2[[#This Row],[datum]]=\"\",\"\",verzameldata!$C$3)","v":""},null,null,null,null,{"$f":"IF(TabUren2[[#This Row],[eindtijd]]=\"\",\"\",IF(TabUren2[[#This Row],[eindtijd]]<TabUren2[[#This Row],[begintijd]],(\"24:00\"-TabUren2[[#This Row],[begintijd]]+TabUren2[[#This Row],[eindtijd]])-TabUren2[[#This Row],[pauze]],(TabUren2[[#This Row],[eindtijd]]-TabUren2[[#This Row],[begintijd]])-TabUren2[[#This Row],[pauze]]))","v":""},{"$f":"IF(OR(TabUren2[hoofdcategorie]=\"\",TabUren2[hoofdcategorie]=0),\"anders dan hoofdcategorie\",TabUren2[hoofdcategorie])","v":"anders dan hoofdcategorie"}]
[{"$f":"IF(TabUren2[[#This Row],[datum]]=\"\",\"\",INT((TabUren2[[#This Row],[datum]]-SUM(MOD(DATE(YEAR(TabUren2[[#This Row],[datum]]-MOD(TabUren2[[#This Row],[datum]]-2,7)+3),1,2),{1E+99;7})*{1;-1})+5) /7))","v":""},{"$f":"IF(TabUren2[[#This Row],[datum]]=\"\",\"\",TabUren2[[#This Row],[datum]])","v":""},null,null,{"$f":"IF(TabUren2[[#This Row],[datum]]=\"\",\"\",verzameldata!$C$3)","v":""},null,null,null,null,{"$f":"IF(TabUren2[[#This Row],[eindtijd]]=\"\",\"\",IF(TabUren2[[#This Row],[eindtijd]]<TabUren2[[#This Row],[begintijd]],(\"24:00\"-TabUren2[[#This Row],[begintijd]]+TabUren2[[#This Row],[eindtijd]])-TabUren2[[#This Row],[pauze]],(TabUren2[[#This Row],[eindtijd]]-TabUren2[[#This Row],[begintijd]])-TabUren2[[#This Row],[pauze]]))","v":""},{"$f":"IF(OR(TabUren2[hoofdcategorie]=\"\",TabUren2[hoofdcategorie]=0),\"anders dan hoofdcategorie\",TabUren2[hoofdcategorie])","v":"anders dan hoofdcategorie"}]
[{"$f":"IF(TabUren2[[#This Row],[datum]]=\"\",\"\",INT((TabUren2[[#This Row],[datum]]-SUM(MOD(DATE(YEAR(TabUren2[[#This Row],[datum]]-MOD(TabUren2[[#This Row],[datum]]-2,7)+3),1,2),{1E+99;7})*{1;-1})+5) /7))","v":""},{"$f":"IF(TabUren2[[#This Row],[datum]]=\"\",\"\",TabUren2[[#This Row],[datum]])","v":""},null,null,{"$f":"IF(TabUren2[[#This Row],[datum]]=\"\",\"\",verzameldata!$C$3)","v":""},null,null,null,null,{"$f":"IF(TabUren2[[#This Row],[eindtijd]]=\"\",\"\",IF(TabUren2[[#This Row],[eindtijd]]<TabUren2[[#This Row],[begintijd]],(\"24:00\"-TabUren2[[#This Row],[begintijd]]+TabUren2[[#This Row],[eindtijd]])-TabUren2[[#This Row],[pauze]],(TabUren2[[#This Row],[eindtijd]]-TabUren2[[#This Row],[begintijd]])-TabUren2[[#This Row],[pauze]]))","v":""},{"$f":"IF(OR(TabUren2[hoofdcategorie]=\"\",TabUren2[hoofdcategorie]=0),\"anders dan hoofdcategorie\",TabUren2[hoofdcategorie])","v":"anders dan hoofdcategorie"}]
[{"$f":"IF(TabUren2[[#This Row],[datum]]=\"\",\"\",INT((TabUren2[[#This Row],[datum]]-SUM(MOD(DATE(YEAR(TabUren2[[#This Row],[datum]]-MOD(TabUren2[[#This Row],[datum]]-2,7)+3),1,2),{1E+99;7})*{1;-1})+5) /7))","v":""},{"$f":"IF(TabUren2[[#This Row],[datum]]=\"\",\"\",TabUren2[[#This Row],[datum]])","v":""},null,null,{"$f":"IF(TabUren2[[#This Row],[datum]]=\"\",\"\",verzameldata!$C$3)","v":""},null,null,null,null,{"$f":"IF(TabUren2[[#This Row],[eindtijd]]=\"\",\"\",IF(TabUren2[[#This Row],[eindtijd]]<TabUren2[[#This Row],[begintijd]],(\"24:00\"-TabUren2[[#This Row],[begintijd]]+TabUren2[[#This Row],[eindtijd]])-TabUren2[[#This Row],[pauze]],(TabUren2[[#This Row],[eindtijd]]-TabUren2[[#This Row],[begintijd]])-TabUren2[[#This Row],[pauze]]))","v":""},{"$f":"IF(OR(TabUren2[hoofdcategorie]=\"\",TabUren2[hoofdcategorie]=0),\"anders dan hoofdcategorie\",TabUren2[hoofdcategorie])","v":"anders dan hoofdcategorie"}]
[{"$f":"IF(TabUren2[[#This Row],[datum]]=\"\",\"\",INT((TabUren2[[#This Row],[datum]]-SUM(MOD(DATE(YEAR(TabUren2[[#This Row],[datum]]-MOD(TabUren2[[#This Row],[datum]]-2,7)+3),1,2),{1E+99;7})*{1;-1})+5) /7))","v":""},{"$f":"IF(TabUren2[[#This Row],[datum]]=\"\",\"\",TabUren2[[#This Row],[datum]])","v":""},null,null,{"$f":"IF(TabUren2[[#This Row],[datum]]=\"\",\"\",verzameldata!$C$3)","v":""},null,null,null,null,{"$f":"IF(TabUren2[[#This Row],[eindtijd]]=\"\",\"\",IF(TabUren2[[#This Row],[eindtijd]]<TabUren2[[#This Row],[begintijd]],(\"24:00\"-TabUren2[[#This Row],[begintijd]]+TabUren2[[#This Row],[eindtijd]])-TabUren2[[#This Row],[pauze]],(TabUren2[[#This Row],[eindtijd]]-TabUren2[[#This Row],[begintijd]])-TabUren2[[#This Row],[pauze]]))","v":""},{"$f":"IF(OR(TabUren2[hoofdcategorie]=\"\",TabUren2[hoofdcategorie]=0),\"anders dan hoofdcategorie\",TabUren2[hoofdcategorie])","v":"anders dan hoofdcategorie"}]
[{"$f":"IF(TabUren2[[#This Row],[datum]]=\"\",\"\",INT((TabUren2[[#This Row],[datum]]-SUM(MOD(DATE(YEAR(TabUren2[[#This Row],[datum]]-MOD(TabUren2[[#This Row],[datum]]-2,7)+3),1,2),{1E+99;7})*{1;-1})+5) /7))","v":""},{"$f":"IF(TabUren2[[#This Row],[datum]]=\"\",\"\",TabUren2[[#This Row],[datum]])","v":""},null,null,{"$f":"IF(TabUren2[[#This Row],[datum]]=\"\",\"\",verzameldata!$C$3)","v":""},null,null,null,null,{"$f":"IF(TabUren2[[#This Row],[eindtijd]]=\"\",\"\",IF(TabUren2[[#This Row],[eindtijd]]<TabUren2[[#This Row],[begintijd]],(\"24:00\"-TabUren2[[#This Row],[begintijd]]+TabUren2[[#This Row],[eindtijd]])-TabUren2[[#This Row],[pauze]],(TabUren2[[#This Row],[eindtijd]]-TabUren2[[#This Row],[begintijd]])-TabUren2[[#This Row],[pauze]]))","v":""},{"$f":"IF(OR(TabUren2[hoofdcategorie]=\"\",TabUren2[hoofdcategorie]=0),\"anders dan hoofdcategorie\",TabUren2[hoofdcategorie])","v":"anders dan hoofdcategorie"}]
[{"$f":"IF(TabUren2[[#This Row],[datum]]=\"\",\"\",INT((TabUren2[[#This Row],[datum]]-SUM(MOD(DATE(YEAR(TabUren2[[#This Row],[datum]]-MOD(TabUren2[[#This Row],[datum]]-2,7)+3),1,2),{1E+99;7})*{1;-1})+5) /7))","v":""},{"$f":"IF(TabUren2[[#This Row],[datum]]=\"\",\"\",TabUren2[[#This Row],[datum]])","v":""},null,null,{"$f":"IF(TabUren2[[#This Row],[datum]]=\"\",\"\",verzameldata!$C$3)","v":""},null,null,null,null,{"$f":"IF(TabUren2[[#This Row],[eindtijd]]=\"\",\"\",IF(TabUren2[[#This Row],[eindtijd]]<TabUren2[[#This Row],[begintijd]],(\"24:00\"-TabUren2[[#This Row],[begintijd]]+TabUren2[[#This Row],[eindtijd]])-TabUren2[[#This Row],[pauze]],(TabUren2[[#This Row],[eindtijd]]-TabUren2[[#This Row],[begintijd]])-TabUren2[[#This Row],[pauze]]))","v":""},{"$f":"IF(OR(TabUren2[hoofdcategorie]=\"\",TabUren2[hoofdcategorie]=0),\"anders dan hoofdcategorie\",TabUren2[hoofdcategorie])","v":"anders dan hoofdcategorie"}]
[{"$f":"IF(TabUren2[[#This Row],[datum]]=\"\",\"\",INT((TabUren2[[#This Row],[datum]]-SUM(MOD(DATE(YEAR(TabUren2[[#This Row],[datum]]-MOD(TabUren2[[#This Row],[datum]]-2,7)+3),1,2),{1E+99;7})*{1;-1})+5) /7))","v":""},{"$f":"IF(TabUren2[[#This Row],[datum]]=\"\",\"\",TabUren2[[#This Row],[datum]])","v":""},null,null,{"$f":"IF(TabUren2[[#This Row],[datum]]=\"\",\"\",verzameldata!$C$3)","v":""},null,null,null,null,{"$f":"IF(TabUren2[[#This Row],[eindtijd]]=\"\",\"\",IF(TabUren2[[#This Row],[eindtijd]]<TabUren2[[#This Row],[begintijd]],(\"24:00\"-TabUren2[[#This Row],[begintijd]]+TabUren2[[#This Row],[eindtijd]])-TabUren2[[#This Row],[pauze]],(TabUren2[[#This Row],[eindtijd]]-TabUren2[[#This Row],[begintijd]])-TabUren2[[#This Row],[pauze]]))","v":""},{"$f":"IF(OR(TabUren2[hoofdcategorie]=\"\",TabUren2[hoofdcategorie]=0),\"anders dan hoofdcategorie\",TabUren2[hoofdcategorie])","v":"anders dan hoofdcategorie"}]
[{"$f":"IF(TabUren2[[#This Row],[datum]]=\"\",\"\",INT((TabUren2[[#This Row],[datum]]-SUM(MOD(DATE(YEAR(TabUren2[[#This Row],[datum]]-MOD(TabUren2[[#This Row],[datum]]-2,7)+3),1,2),{1E+99;7})*{1;-1})+5) /7))","v":""},{"$f":"IF(TabUren2[[#This Row],[datum]]=\"\",\"\",TabUren2[[#This Row],[datum]])","v":""},null,null,{"$f":"IF(TabUren2[[#This Row],[datum]]=\"\",\"\",verzameldata!$C$3)","v":""},null,null,null,null,{"$f":"IF(TabUren2[[#This Row],[eindtijd]]=\"\",\"\",IF(TabUren2[[#This Row],[eindtijd]]<TabUren2[[#This Row],[begintijd]],(\"24:00\"-TabUren2[[#This Row],[begintijd]]+TabUren2[[#This Row],[eindtijd]])-TabUren2[[#This Row],[pauze]],(TabUren2[[#This Row],[eindtijd]]-TabUren2[[#This Row],[begintijd]])-TabUren2[[#This Row],[pauze]]))","v":""},{"$f":"IF(OR(TabUren2[hoofdcategorie]=\"\",TabUren2[hoofdcategorie]=0),\"anders dan hoofdcategorie\",TabUren2[hoofdcategorie])","v":"anders dan hoofdcategorie"}]
[{"$f":"IF(TabUren2[[#This Row],[datum]]=\"\",\"\",INT((TabUren2[[#This Row],[datum]]-SUM(MOD(DATE(YEAR(TabUren2[[#This Row],[datum]]-MOD(TabUren2[[#This Row],[datum]]-2,7)+3),1,2),{1E+99;7})*{1;-1})+5) /7))","v":""},{"$f":"IF(TabUren2[[#This Row],[datum]]=\"\",\"\",TabUren2[[#This Row],[datum]])","v":""},null,null,{"$f":"IF(TabUren2[[#This Row],[datum]]=\"\",\"\",verzameldata!$C$3)","v":""},null,null,null,null,{"$f":"IF(TabUren2[[#This Row],[eindtijd]]=\"\",\"\",IF(TabUren2[[#This Row],[eindtijd]]<TabUren2[[#This Row],[begintijd]],(\"24:00\"-TabUren2[[#This Row],[begintijd]]+TabUren2[[#This Row],[eindtijd]])-TabUren2[[#This Row],[pauze]],(TabUren2[[#This Row],[eindtijd]]-TabUren2[[#This Row],[begintijd]])-TabUren2[[#This Row],[pauze]]))","v":""},{"$f":"IF(OR(TabUren2[hoofdcategorie]=\"\",TabUren2[hoofdcategorie]=0),\"anders dan hoofdcategorie\",TabUren2[hoofdcategorie])","v":"anders dan hoofdcategorie"}]
[{"$f":"IF(TabUren2[[#This Row],[datum]]=\"\",\"\",INT((TabUren2[[#This Row],[datum]]-SUM(MOD(DATE(YEAR(TabUren2[[#This Row],[datum]]-MOD(TabUren2[[#This Row],[datum]]-2,7)+3),1,2),{1E+99;7})*{1;-1})+5) /7))","v":""},{"$f":"IF(TabUren2[[#This Row],[datum]]=\"\",\"\",TabUren2[[#This Row],[datum]])","v":""},null,null,{"$f":"IF(TabUren2[[#This Row],[datum]]=\"\",\"\",verzameldata!$C$3)","v":""},null,null,null,null,{"$f":"IF(TabUren2[[#This Row],[eindtijd]]=\"\",\"\",IF(TabUren2[[#This Row],[eindtijd]]<TabUren2[[#This Row],[begintijd]],(\"24:00\"-TabUren2[[#This Row],[begintijd]]+TabUren2[[#This Row],[eindtijd]])-TabUren2[[#This Row],[pauze]],(TabUren2[[#This Row],[eindtijd]]-TabUren2[[#This Row],[begintijd]])-TabUren2[[#This Row],[pauze]]))","v":""},{"$f":"IF(OR(TabUren2[hoofdcategorie]=\"\",TabUren2[hoofdcategorie]=0),\"anders dan hoofdcategorie\",TabUren2[hoofdcategorie])","v":"anders dan hoofdcategorie"}]
[{"$f":"IF(TabUren2[[#This Row],[datum]]=\"\",\"\",INT((TabUren2[[#This Row],[datum]]-SUM(MOD(DATE(YEAR(TabUren2[[#This Row],[datum]]-MOD(TabUren2[[#This Row],[datum]]-2,7)+3),1,2),{1E+99;7})*{1;-1})+5) /7))","v":""},{"$f":"IF(TabUren2[[#This Row],[datum]]=\"\",\"\",TabUren2[[#This Row],[datum]])","v":""},null,null,{"$f":"IF(TabUren2[[#This Row],[datum]]=\"\",\"\",verzameldata!$C$3)","v":""},null,null,null,null,{"$f":"IF(TabUren2[[#This Row],[eindtijd]]=\"\",\"\",IF(TabUren2[[#This Row],[eindtijd]]<TabUren2[[#This Row],[begintijd]],(\"24:00\"-TabUren2[[#This Row],[begintijd]]+TabUren2[[#This Row],[eindtijd]])-TabUren2[[#This Row],[pauze]],(TabUren2[[#This Row],[eindtijd]]-TabUren2[[#This Row],[begintijd]])-TabUren2[[#This Row],[pauze]]))","v":""},{"$f":"IF(OR(TabUren2[hoofdcategorie]=\"\",TabUren2[hoofdcategorie]=0),\"anders dan hoofdcategorie\",TabUren2[hoofdcategorie])","v":"anders dan hoofdcategorie"}]
[{"$f":"IF(TabUren2[[#This Row],[datum]]=\"\",\"\",INT((TabUren2[[#This Row],[datum]]-SUM(MOD(DATE(YEAR(TabUren2[[#This Row],[datum]]-MOD(TabUren2[[#This Row],[datum]]-2,7)+3),1,2),{1E+99;7})*{1;-1})+5) /7))","v":""},{"$f":"IF(TabUren2[[#This Row],[datum]]=\"\",\"\",TabUren2[[#This Row],[datum]])","v":""},null,null,{"$f":"IF(TabUren2[[#This Row],[datum]]=\"\",\"\",verzameldata!$C$3)","v":""},null,null,null,null,{"$f":"IF(TabUren2[[#This Row],[eindtijd]]=\"\",\"\",IF(TabUren2[[#This Row],[eindtijd]]<TabUren2[[#This Row],[begintijd]],(\"24:00\"-TabUren2[[#This Row],[begintijd]]+TabUren2[[#This Row],[eindtijd]])-TabUren2[[#This Row],[pauze]],(TabUren2[[#This Row],[eindtijd]]-TabUren2[[#This Row],[begintijd]])-TabUren2[[#This Row],[pauze]]))","v":""},{"$f":"IF(OR(TabUren2[hoofdcategorie]=\"\",TabUren2[hoofdcategorie]=0),\"anders dan hoofdcategorie\",TabUren2[hoofdcategorie])","v":"anders dan hoofdcategorie"}]
[{"$f":"IF(TabUren2[[#This Row],[datum]]=\"\",\"\",INT((TabUren2[[#This Row],[datum]]-SUM(MOD(DATE(YEAR(TabUren2[[#This Row],[datum]]-MOD(TabUren2[[#This Row],[datum]]-2,7)+3),1,2),{1E+99;7})*{1;-1})+5) /7))","v":""},{"$f":"IF(TabUren2[[#This Row],[datum]]=\"\",\"\",TabUren2[[#This Row],[datum]])","v":""},null,null,{"$f":"IF(TabUren2[[#This Row],[datum]]=\"\",\"\",verzameldata!$C$3)","v":""},null,null,null,null,{"$f":"IF(TabUren2[[#This Row],[eindtijd]]=\"\",\"\",IF(TabUren2[[#This Row],[eindtijd]]<TabUren2[[#This Row],[begintijd]],(\"24:00\"-TabUren2[[#This Row],[begintijd]]+TabUren2[[#This Row],[eindtijd]])-TabUren2[[#This Row],[pauze]],(TabUren2[[#This Row],[eindtijd]]-TabUren2[[#This Row],[begintijd]])-TabUren2[[#This Row],[pauze]]))","v":""},{"$f":"IF(OR(TabUren2[hoofdcategorie]=\"\",TabUren2[hoofdcategorie]=0),\"anders dan hoofdcategorie\",TabUren2[hoofdcategorie])","v":"anders dan hoofdcategorie"}]
[{"$f":"IF(TabUren2[[#This Row],[datum]]=\"\",\"\",INT((TabUren2[[#This Row],[datum]]-SUM(MOD(DATE(YEAR(TabUren2[[#This Row],[datum]]-MOD(TabUren2[[#This Row],[datum]]-2,7)+3),1,2),{1E+99;7})*{1;-1})+5) /7))","v":""},{"$f":"IF(TabUren2[[#This Row],[datum]]=\"\",\"\",TabUren2[[#This Row],[datum]])","v":""},null,null,{"$f":"IF(TabUren2[[#This Row],[datum]]=\"\",\"\",verzameldata!$C$3)","v":""},null,null,null,null,{"$f":"IF(TabUren2[[#This Row],[eindtijd]]=\"\",\"\",IF(TabUren2[[#This Row],[eindtijd]]<TabUren2[[#This Row],[begintijd]],(\"24:00\"-TabUren2[[#This Row],[begintijd]]+TabUren2[[#This Row],[eindtijd]])-TabUren2[[#This Row],[pauze]],(TabUren2[[#This Row],[eindtijd]]-TabUren2[[#This Row],[begintijd]])-TabUren2[[#This Row],[pauze]]))","v":""},{"$f":"IF(OR(TabUren2[hoofdcategorie]=\"\",TabUren2[hoofdcategorie]=0),\"anders dan hoofdcategorie\",TabUren2[hoofdcategorie])","v":"anders dan hoofdcategorie"}]
[{"$f":"IF(TabUren2[[#This Row],[datum]]=\"\",\"\",INT((TabUren2[[#This Row],[datum]]-SUM(MOD(DATE(YEAR(TabUren2[[#This Row],[datum]]-MOD(TabUren2[[#This Row],[datum]]-2,7)+3),1,2),{1E+99;7})*{1;-1})+5) /7))","v":""},{"$f":"IF(TabUren2[[#This Row],[datum]]=\"\",\"\",TabUren2[[#This Row],[datum]])","v":""},null,null,{"$f":"IF(TabUren2[[#This Row],[datum]]=\"\",\"\",verzameldata!$C$3)","v":""},null,null,null,null,{"$f":"IF(TabUren2[[#This Row],[eindtijd]]=\"\",\"\",IF(TabUren2[[#This Row],[eindtijd]]<TabUren2[[#This Row],[begintijd]],(\"24:00\"-TabUren2[[#This Row],[begintijd]]+TabUren2[[#This Row],[eindtijd]])-TabUren2[[#This Row],[pauze]],(TabUren2[[#This Row],[eindtijd]]-TabUren2[[#This Row],[begintijd]])-TabUren2[[#This Row],[pauze]]))","v":""},{"$f":"IF(OR(TabUren2[hoofdcategorie]=\"\",TabUren2[hoofdcategorie]=0),\"anders dan hoofdcategorie\",TabUren2[hoofdcategorie])","v":"anders dan hoofdcategorie"}]
[{"$f":"IF(TabUren2[[#This Row],[datum]]=\"\",\"\",INT((TabUren2[[#This Row],[datum]]-SUM(MOD(DATE(YEAR(TabUren2[[#This Row],[datum]]-MOD(TabUren2[[#This Row],[datum]]-2,7)+3),1,2),{1E+99;7})*{1;-1})+5) /7))","v":""},{"$f":"IF(TabUren2[[#This Row],[datum]]=\"\",\"\",TabUren2[[#This Row],[datum]])","v":""},null,null,{"$f":"IF(TabUren2[[#This Row],[datum]]=\"\",\"\",verzameldata!$C$3)","v":""},null,null,null,null,{"$f":"IF(TabUren2[[#This Row],[eindtijd]]=\"\",\"\",IF(TabUren2[[#This Row],[eindtijd]]<TabUren2[[#This Row],[begintijd]],(\"24:00\"-TabUren2[[#This Row],[begintijd]]+TabUren2[[#This Row],[eindtijd]])-TabUren2[[#This Row],[pauze]],(TabUren2[[#This Row],[eindtijd]]-TabUren2[[#This Row],[begintijd]])-TabUren2[[#This Row],[pauze]]))","v":""},{"$f":"IF(OR(TabUren2[hoofdcategorie]=\"\",TabUren2[hoofdcategorie]=0),\"anders dan hoofdcategorie\",TabUren2[hoofdcategorie])","v":"anders dan hoofdcategorie"}]
[{"$f":"IF(TabUren2[[#This Row],[datum]]=\"\",\"\",INT((TabUren2[[#This Row],[datum]]-SUM(MOD(DATE(YEAR(TabUren2[[#This Row],[datum]]-MOD(TabUren2[[#This Row],[datum]]-2,7)+3),1,2),{1E+99;7})*{1;-1})+5) /7))","v":""},{"$f":"IF(TabUren2[[#This Row],[datum]]=\"\",\"\",TabUren2[[#This Row],[datum]])","v":""},null,null,{"$f":"IF(TabUren2[[#This Row],[datum]]=\"\",\"\",verzameldata!$C$3)","v":""},null,null,null,null,{"$f":"IF(TabUren2[[#This Row],[eindtijd]]=\"\",\"\",IF(TabUren2[[#This Row],[eindtijd]]<TabUren2[[#This Row],[begintijd]],(\"24:00\"-TabUren2[[#This Row],[begintijd]]+TabUren2[[#This Row],[eindtijd]])-TabUren2[[#This Row],[pauze]],(TabUren2[[#This Row],[eindtijd]]-TabUren2[[#This Row],[begintijd]])-TabUren2[[#This Row],[pauze]]))","v":""},{"$f":"IF(OR(TabUren2[hoofdcategorie]=\"\",TabUren2[hoofdcategorie]=0),\"anders dan hoofdcategorie\",TabUren2[hoofdcategorie])","v":"anders dan hoofdcategorie"}]
[{"$f":"IF(TabUren2[[#This Row],[datum]]=\"\",\"\",INT((TabUren2[[#This Row],[datum]]-SUM(MOD(DATE(YEAR(TabUren2[[#This Row],[datum]]-MOD(TabUren2[[#This Row],[datum]]-2,7)+3),1,2),{1E+99;7})*{1;-1})+5) /7))","v":""},{"$f":"IF(TabUren2[[#This Row],[datum]]=\"\",\"\",TabUren2[[#This Row],[datum]])","v":""},null,null,{"$f":"IF(TabUren2[[#This Row],[datum]]=\"\",\"\",verzameldata!$C$3)","v":""},null,null,null,null,{"$f":"IF(TabUren2[[#This Row],[eindtijd]]=\"\",\"\",IF(TabUren2[[#This Row],[eindtijd]]<TabUren2[[#This Row],[begintijd]],(\"24:00\"-TabUren2[[#This Row],[begintijd]]+TabUren2[[#This Row],[eindtijd]])-TabUren2[[#This Row],[pauze]],(TabUren2[[#This Row],[eindtijd]]-TabUren2[[#This Row],[begintijd]])-TabUren2[[#This Row],[pauze]]))","v":""},{"$f":"IF(OR(TabUren2[hoofdcategorie]=\"\",TabUren2[hoofdcategorie]=0),\"anders dan hoofdcategorie\",TabUren2[hoofdcategorie])","v":"anders dan hoofdcategorie"}]
[{"$f":"IF(TabUren2[[#This Row],[datum]]=\"\",\"\",INT((TabUren2[[#This Row],[datum]]-SUM(MOD(DATE(YEAR(TabUren2[[#This Row],[datum]]-MOD(TabUren2[[#This Row],[datum]]-2,7)+3),1,2),{1E+99;7})*{1;-1})+5) /7))","v":""},{"$f":"IF(TabUren2[[#This Row],[datum]]=\"\",\"\",TabUren2[[#This Row],[datum]])","v":""},null,null,{"$f":"IF(TabUren2[[#This Row],[datum]]=\"\",\"\",verzameldata!$C$3)","v":""},null,null,null,null,{"$f":"IF(TabUren2[[#This Row],[eindtijd]]=\"\",\"\",IF(TabUren2[[#This Row],[eindtijd]]<TabUren2[[#This Row],[begintijd]],(\"24:00\"-TabUren2[[#This Row],[begintijd]]+TabUren2[[#This Row],[eindtijd]])-TabUren2[[#This Row],[pauze]],(TabUren2[[#This Row],[eindtijd]]-TabUren2[[#This Row],[begintijd]])-TabUren2[[#This Row],[pauze]]))","v":""},{"$f":"IF(OR(TabUren2[hoofdcategorie]=\"\",TabUren2[hoofdcategorie]=0),\"anders dan hoofdcategorie\",TabUren2[hoofdcategorie])","v":"anders dan hoofdcategorie"}]
[{"$f":"IF(TabUren2[[#This Row],[datum]]=\"\",\"\",INT((TabUren2[[#This Row],[datum]]-SUM(MOD(DATE(YEAR(TabUren2[[#This Row],[datum]]-MOD(TabUren2[[#This Row],[datum]]-2,7)+3),1,2),{1E+99;7})*{1;-1})+5) /7))","v":""},{"$f":"IF(TabUren2[[#This Row],[datum]]=\"\",\"\",TabUren2[[#This Row],[datum]])","v":""},null,null,{"$f":"IF(TabUren2[[#This Row],[datum]]=\"\",\"\",verzameldata!$C$3)","v":""},null,null,null,null,{"$f":"IF(TabUren2[[#This Row],[eindtijd]]=\"\",\"\",IF(TabUren2[[#This Row],[eindtijd]]<TabUren2[[#This Row],[begintijd]],(\"24:00\"-TabUren2[[#This Row],[begintijd]]+TabUren2[[#This Row],[eindtijd]])-TabUren2[[#This Row],[pauze]],(TabUren2[[#This Row],[eindtijd]]-TabUren2[[#This Row],[begintijd]])-TabUren2[[#This Row],[pauze]]))","v":""},{"$f":"IF(OR(TabUren2[hoofdcategorie]=\"\",TabUren2[hoofdcategorie]=0),\"anders dan hoofdcategorie\",TabUren2[hoofdcategorie])","v":"anders dan hoofdcategorie"}]
[{"$f":"IF(TabUren2[[#This Row],[datum]]=\"\",\"\",INT((TabUren2[[#This Row],[datum]]-SUM(MOD(DATE(YEAR(TabUren2[[#This Row],[datum]]-MOD(TabUren2[[#This Row],[datum]]-2,7)+3),1,2),{1E+99;7})*{1;-1})+5) /7))","v":""},{"$f":"IF(TabUren2[[#This Row],[datum]]=\"\",\"\",TabUren2[[#This Row],[datum]])","v":""},null,null,{"$f":"IF(TabUren2[[#This Row],[datum]]=\"\",\"\",verzameldata!$C$3)","v":""},null,null,null,null,{"$f":"IF(TabUren2[[#This Row],[eindtijd]]=\"\",\"\",IF(TabUren2[[#This Row],[eindtijd]]<TabUren2[[#This Row],[begintijd]],(\"24:00\"-TabUren2[[#This Row],[begintijd]]+TabUren2[[#This Row],[eindtijd]])-TabUren2[[#This Row],[pauze]],(TabUren2[[#This Row],[eindtijd]]-TabUren2[[#This Row],[begintijd]])-TabUren2[[#This Row],[pauze]]))","v":""},{"$f":"IF(OR(TabUren2[hoofdcategorie]=\"\",TabUren2[hoofdcategorie]=0),\"anders dan hoofdcategorie\",TabUren2[hoofdcategorie])","v":"anders dan hoofdcategorie"}]
[{"$f":"IF(TabUren2[[#This Row],[datum]]=\"\",\"\",INT((TabUren2[[#This Row],[datum]]-SUM(MOD(DATE(YEAR(TabUren2[[#This Row],[datum]]-MOD(TabUren2[[#This Row],[datum]]-2,7)+3),1,2),{1E+99;7})*{1;-1})+5) /7))","v":""},{"$f":"IF(TabUren2[[#This Row],[datum]]=\"\",\"\",TabUren2[[#This Row],[datum]])","v":""},null,null,{"$f":"IF(TabUren2[[#This Row],[datum]]=\"\",\"\",verzameldata!$C$3)","v":""},null,null,null,null,{"$f":"IF(TabUren2[[#This Row],[eindtijd]]=\"\",\"\",IF(TabUren2[[#This Row],[eindtijd]]<TabUren2[[#This Row],[begintijd]],(\"24:00\"-TabUren2[[#This Row],[begintijd]]+TabUren2[[#This Row],[eindtijd]])-TabUren2[[#This Row],[pauze]],(TabUren2[[#This Row],[eindtijd]]-TabUren2[[#This Row],[begintijd]])-TabUren2[[#This Row],[pauze]]))","v":""},{"$f":"IF(OR(TabUren2[hoofdcategorie]=\"\",TabUren2[hoofdcategorie]=0),\"anders dan hoofdcategorie\",TabUren2[hoofdcategorie])","v":"anders dan hoofdcategorie"}]
[{"$f":"IF(TabUren2[[#This Row],[datum]]=\"\",\"\",INT((TabUren2[[#This Row],[datum]]-SUM(MOD(DATE(YEAR(TabUren2[[#This Row],[datum]]-MOD(TabUren2[[#This Row],[datum]]-2,7)+3),1,2),{1E+99;7})*{1;-1})+5) /7))","v":""},{"$f":"IF(TabUren2[[#This Row],[datum]]=\"\",\"\",TabUren2[[#This Row],[datum]])","v":""},null,null,{"$f":"IF(TabUren2[[#This Row],[datum]]=\"\",\"\",verzameldata!$C$3)","v":""},null,null,null,null,{"$f":"IF(TabUren2[[#This Row],[eindtijd]]=\"\",\"\",IF(TabUren2[[#This Row],[eindtijd]]<TabUren2[[#This Row],[begintijd]],(\"24:00\"-TabUren2[[#This Row],[begintijd]]+TabUren2[[#This Row],[eindtijd]])-TabUren2[[#This Row],[pauze]],(TabUren2[[#This Row],[eindtijd]]-TabUren2[[#This Row],[begintijd]])-TabUren2[[#This Row],[pauze]]))","v":""},{"$f":"IF(OR(TabUren2[hoofdcategorie]=\"\",TabUren2[hoofdcategorie]=0),\"anders dan hoofdcategorie\",TabUren2[hoofdcategorie])","v":"anders dan hoofdcategorie"}]
[{"$f":"IF(TabUren2[[#This Row],[datum]]=\"\",\"\",INT((TabUren2[[#This Row],[datum]]-SUM(MOD(DATE(YEAR(TabUren2[[#This Row],[datum]]-MOD(TabUren2[[#This Row],[datum]]-2,7)+3),1,2),{1E+99;7})*{1;-1})+5) /7))","v":""},{"$f":"IF(TabUren2[[#This Row],[datum]]=\"\",\"\",TabUren2[[#This Row],[datum]])","v":""},null,null,{"$f":"IF(TabUren2[[#This Row],[datum]]=\"\",\"\",verzameldata!$C$3)","v":""},null,null,null,null,{"$f":"IF(TabUren2[[#This Row],[eindtijd]]=\"\",\"\",IF(TabUren2[[#This Row],[eindtijd]]<TabUren2[[#This Row],[begintijd]],(\"24:00\"-TabUren2[[#This Row],[begintijd]]+TabUren2[[#This Row],[eindtijd]])-TabUren2[[#This Row],[pauze]],(TabUren2[[#This Row],[eindtijd]]-TabUren2[[#This Row],[begintijd]])-TabUren2[[#This Row],[pauze]]))","v":""},{"$f":"IF(OR(TabUren2[hoofdcategorie]=\"\",TabUren2[hoofdcategorie]=0),\"anders dan hoofdcategorie\",TabUren2[hoofdcategorie])","v":"anders dan hoofdcategorie"}]
[{"$f":"IF(TabUren2[[#This Row],[datum]]=\"\",\"\",INT((TabUren2[[#This Row],[datum]]-SUM(MOD(DATE(YEAR(TabUren2[[#This Row],[datum]]-MOD(TabUren2[[#This Row],[datum]]-2,7)+3),1,2),{1E+99;7})*{1;-1})+5) /7))","v":""},{"$f":"IF(TabUren2[[#This Row],[datum]]=\"\",\"\",TabUren2[[#This Row],[datum]])","v":""},null,null,{"$f":"IF(TabUren2[[#This Row],[datum]]=\"\",\"\",verzameldata!$C$3)","v":""},null,null,null,null,{"$f":"IF(TabUren2[[#This Row],[eindtijd]]=\"\",\"\",IF(TabUren2[[#This Row],[eindtijd]]<TabUren2[[#This Row],[begintijd]],(\"24:00\"-TabUren2[[#This Row],[begintijd]]+TabUren2[[#This Row],[eindtijd]])-TabUren2[[#This Row],[pauze]],(TabUren2[[#This Row],[eindtijd]]-TabUren2[[#This Row],[begintijd]])-TabUren2[[#This Row],[pauze]]))","v":""},{"$f":"IF(OR(TabUren2[hoofdcategorie]=\"\",TabUren2[hoofdcategorie]=0),\"anders dan hoofdcategorie\",TabUren2[hoofdcategorie])","v":"anders dan hoofdcategorie"}]
[{"$f":"IF(TabUren2[[#This Row],[datum]]=\"\",\"\",INT((TabUren2[[#This Row],[datum]]-SUM(MOD(DATE(YEAR(TabUren2[[#This Row],[datum]]-MOD(TabUren2[[#This Row],[datum]]-2,7)+3),1,2),{1E+99;7})*{1;-1})+5) /7))","v":""},{"$f":"IF(TabUren2[[#This Row],[datum]]=\"\",\"\",TabUren2[[#This Row],[datum]])","v":""},null,null,{"$f":"IF(TabUren2[[#This Row],[datum]]=\"\",\"\",verzameldata!$C$3)","v":""},null,null,null,null,{"$f":"IF(TabUren2[[#This Row],[eindtijd]]=\"\",\"\",IF(TabUren2[[#This Row],[eindtijd]]<TabUren2[[#This Row],[begintijd]],(\"24:00\"-TabUren2[[#This Row],[begintijd]]+TabUren2[[#This Row],[eindtijd]])-TabUren2[[#This Row],[pauze]],(TabUren2[[#This Row],[eindtijd]]-TabUren2[[#This Row],[begintijd]])-TabUren2[[#This Row],[pauze]]))","v":""},{"$f":"IF(OR(TabUren2[hoofdcategorie]=\"\",TabUren2[hoofdcategorie]=0),\"anders dan hoofdcategorie\",TabUren2[hoofdcategorie])","v":"anders dan hoofdcategorie"}]
[{"$f":"IF(TabUren2[[#This Row],[datum]]=\"\",\"\",INT((TabUren2[[#This Row],[datum]]-SUM(MOD(DATE(YEAR(TabUren2[[#This Row],[datum]]-MOD(TabUren2[[#This Row],[datum]]-2,7)+3),1,2),{1E+99;7})*{1;-1})+5) /7))","v":""},{"$f":"IF(TabUren2[[#This Row],[datum]]=\"\",\"\",TabUren2[[#This Row],[datum]])","v":""},null,null,{"$f":"IF(TabUren2[[#This Row],[datum]]=\"\",\"\",verzameldata!$C$3)","v":""},null,null,null,null,{"$f":"IF(TabUren2[[#This Row],[eindtijd]]=\"\",\"\",IF(TabUren2[[#This Row],[eindtijd]]<TabUren2[[#This Row],[begintijd]],(\"24:00\"-TabUren2[[#This Row],[begintijd]]+TabUren2[[#This Row],[eindtijd]])-TabUren2[[#This Row],[pauze]],(TabUren2[[#This Row],[eindtijd]]-TabUren2[[#This Row],[begintijd]])-TabUren2[[#This Row],[pauze]]))","v":""},{"$f":"IF(OR(TabUren2[hoofdcategorie]=\"\",TabUren2[hoofdcategorie]=0),\"anders dan hoofdcategorie\",TabUren2[hoofdcategorie])","v":"anders dan hoofdcategorie"}]
[{"$f":"IF(TabUren2[[#This Row],[datum]]=\"\",\"\",INT((TabUren2[[#This Row],[datum]]-SUM(MOD(DATE(YEAR(TabUren2[[#This Row],[datum]]-MOD(TabUren2[[#This Row],[datum]]-2,7)+3),1,2),{1E+99;7})*{1;-1})+5) /7))","v":""},{"$f":"IF(TabUren2[[#This Row],[datum]]=\"\",\"\",TabUren2[[#This Row],[datum]])","v":""},null,null,{"$f":"IF(TabUren2[[#This Row],[datum]]=\"\",\"\",verzameldata!$C$3)","v":""},null,null,null,null,{"$f":"IF(TabUren2[[#This Row],[eindtijd]]=\"\",\"\",IF(TabUren2[[#This Row],[eindtijd]]<TabUren2[[#This Row],[begintijd]],(\"24:00\"-TabUren2[[#This Row],[begintijd]]+TabUren2[[#This Row],[eindtijd]])-TabUren2[[#This Row],[pauze]],(TabUren2[[#This Row],[eindtijd]]-TabUren2[[#This Row],[begintijd]])-TabUren2[[#This Row],[pauze]]))","v":""},{"$f":"IF(OR(TabUren2[hoofdcategorie]=\"\",TabUren2[hoofdcategorie]=0),\"anders dan hoofdcategorie\",TabUren2[hoofdcategorie])","v":"anders dan hoofdcategorie"}]
[{"$f":"IF(TabUren2[[#This Row],[datum]]=\"\",\"\",INT((TabUren2[[#This Row],[datum]]-SUM(MOD(DATE(YEAR(TabUren2[[#This Row],[datum]]-MOD(TabUren2[[#This Row],[datum]]-2,7)+3),1,2),{1E+99;7})*{1;-1})+5) /7))","v":""},{"$f":"IF(TabUren2[[#This Row],[datum]]=\"\",\"\",TabUren2[[#This Row],[datum]])","v":""},null,null,{"$f":"IF(TabUren2[[#This Row],[datum]]=\"\",\"\",verzameldata!$C$3)","v":""},null,null,null,null,{"$f":"IF(TabUren2[[#This Row],[eindtijd]]=\"\",\"\",IF(TabUren2[[#This Row],[eindtijd]]<TabUren2[[#This Row],[begintijd]],(\"24:00\"-TabUren2[[#This Row],[begintijd]]+TabUren2[[#This Row],[eindtijd]])-TabUren2[[#This Row],[pauze]],(TabUren2[[#This Row],[eindtijd]]-TabUren2[[#This Row],[begintijd]])-TabUren2[[#This Row],[pauze]]))","v":""},{"$f":"IF(OR(TabUren2[hoofdcategorie]=\"\",TabUren2[hoofdcategorie]=0),\"anders dan hoofdcategorie\",TabUren2[hoofdcategorie])","v":"anders dan hoofdcategorie"}]
[{"$f":"IF(TabUren2[[#This Row],[datum]]=\"\",\"\",INT((TabUren2[[#This Row],[datum]]-SUM(MOD(DATE(YEAR(TabUren2[[#This Row],[datum]]-MOD(TabUren2[[#This Row],[datum]]-2,7)+3),1,2),{1E+99;7})*{1;-1})+5) /7))","v":""},{"$f":"IF(TabUren2[[#This Row],[datum]]=\"\",\"\",TabUren2[[#This Row],[datum]])","v":""},null,null,{"$f":"IF(TabUren2[[#This Row],[datum]]=\"\",\"\",verzameldata!$C$3)","v":""},null,null,null,null,{"$f":"IF(TabUren2[[#This Row],[eindtijd]]=\"\",\"\",IF(TabUren2[[#This Row],[eindtijd]]<TabUren2[[#This Row],[begintijd]],(\"24:00\"-TabUren2[[#This Row],[begintijd]]+TabUren2[[#This Row],[eindtijd]])-TabUren2[[#This Row],[pauze]],(TabUren2[[#This Row],[eindtijd]]-TabUren2[[#This Row],[begintijd]])-TabUren2[[#This Row],[pauze]]))","v":""},{"$f":"IF(OR(TabUren2[hoofdcategorie]=\"\",TabUren2[hoofdcategorie]=0),\"anders dan hoofdcategorie\",TabUren2[hoofdcategorie])","v":"anders dan hoofdcategorie"}]
[{"$f":"IF(TabUren2[[#This Row],[datum]]=\"\",\"\",INT((TabUren2[[#This Row],[datum]]-SUM(MOD(DATE(YEAR(TabUren2[[#This Row],[datum]]-MOD(TabUren2[[#This Row],[datum]]-2,7)+3),1,2),{1E+99;7})*{1;-1})+5) /7))","v":""},{"$f":"IF(TabUren2[[#This Row],[datum]]=\"\",\"\",TabUren2[[#This Row],[datum]])","v":""},null,null,{"$f":"IF(TabUren2[[#This Row],[datum]]=\"\",\"\",verzameldata!$C$3)","v":""},null,null,null,null,{"$f":"IF(TabUren2[[#This Row],[eindtijd]]=\"\",\"\",IF(TabUren2[[#This Row],[eindtijd]]<TabUren2[[#This Row],[begintijd]],(\"24:00\"-TabUren2[[#This Row],[begintijd]]+TabUren2[[#This Row],[eindtijd]])-TabUren2[[#This Row],[pauze]],(TabUren2[[#This Row],[eindtijd]]-TabUren2[[#This Row],[begintijd]])-TabUren2[[#This Row],[pauze]]))","v":""},{"$f":"IF(OR(TabUren2[hoofdcategorie]=\"\",TabUren2[hoofdcategorie]=0),\"anders dan hoofdcategorie\",TabUren2[hoofdcategorie])","v":"anders dan hoofdcategorie"}]
[{"$f":"IF(TabUren2[[#This Row],[datum]]=\"\",\"\",INT((TabUren2[[#This Row],[datum]]-SUM(MOD(DATE(YEAR(TabUren2[[#This Row],[datum]]-MOD(TabUren2[[#This Row],[datum]]-2,7)+3),1,2),{1E+99;7})*{1;-1})+5) /7))","v":""},{"$f":"IF(TabUren2[[#This Row],[datum]]=\"\",\"\",TabUren2[[#This Row],[datum]])","v":""},null,null,{"$f":"IF(TabUren2[[#This Row],[datum]]=\"\",\"\",verzameldata!$C$3)","v":""},null,null,null,null,{"$f":"IF(TabUren2[[#This Row],[eindtijd]]=\"\",\"\",IF(TabUren2[[#This Row],[eindtijd]]<TabUren2[[#This Row],[begintijd]],(\"24:00\"-TabUren2[[#This Row],[begintijd]]+TabUren2[[#This Row],[eindtijd]])-TabUren2[[#This Row],[pauze]],(TabUren2[[#This Row],[eindtijd]]-TabUren2[[#This Row],[begintijd]])-TabUren2[[#This Row],[pauze]]))","v":""},{"$f":"IF(OR(TabUren2[hoofdcategorie]=\"\",TabUren2[hoofdcategorie]=0),\"anders dan hoofdcategorie\",TabUren2[hoofdcategorie])","v":"anders dan hoofdcategorie"}]
[{"$f":"IF(TabUren2[[#This Row],[datum]]=\"\",\"\",INT((TabUren2[[#This Row],[datum]]-SUM(MOD(DATE(YEAR(TabUren2[[#This Row],[datum]]-MOD(TabUren2[[#This Row],[datum]]-2,7)+3),1,2),{1E+99;7})*{1;-1})+5) /7))","v":""},{"$f":"IF(TabUren2[[#This Row],[datum]]=\"\",\"\",TabUren2[[#This Row],[datum]])","v":""},null,null,{"$f":"IF(TabUren2[[#This Row],[datum]]=\"\",\"\",verzameldata!$C$3)","v":""},null,null,null,null,{"$f":"IF(TabUren2[[#This Row],[eindtijd]]=\"\",\"\",IF(TabUren2[[#This Row],[eindtijd]]<TabUren2[[#This Row],[begintijd]],(\"24:00\"-TabUren2[[#This Row],[begintijd]]+TabUren2[[#This Row],[eindtijd]])-TabUren2[[#This Row],[pauze]],(TabUren2[[#This Row],[eindtijd]]-TabUren2[[#This Row],[begintijd]])-TabUren2[[#This Row],[pauze]]))","v":""},{"$f":"IF(OR(TabUren2[hoofdcategorie]=\"\",TabUren2[hoofdcategorie]=0),\"anders dan hoofdcategorie\",TabUren2[hoofdcategorie])","v":"anders dan hoofdcategorie"}]
[{"$f":"IF(TabUren2[[#This Row],[datum]]=\"\",\"\",INT((TabUren2[[#This Row],[datum]]-SUM(MOD(DATE(YEAR(TabUren2[[#This Row],[datum]]-MOD(TabUren2[[#This Row],[datum]]-2,7)+3),1,2),{1E+99;7})*{1;-1})+5) /7))","v":""},{"$f":"IF(TabUren2[[#This Row],[datum]]=\"\",\"\",TabUren2[[#This Row],[datum]])","v":""},null,null,{"$f":"IF(TabUren2[[#This Row],[datum]]=\"\",\"\",verzameldata!$C$3)","v":""},null,null,null,null,{"$f":"IF(TabUren2[[#This Row],[eindtijd]]=\"\",\"\",IF(TabUren2[[#This Row],[eindtijd]]<TabUren2[[#This Row],[begintijd]],(\"24:00\"-TabUren2[[#This Row],[begintijd]]+TabUren2[[#This Row],[eindtijd]])-TabUren2[[#This Row],[pauze]],(TabUren2[[#This Row],[eindtijd]]-TabUren2[[#This Row],[begintijd]])-TabUren2[[#This Row],[pauze]]))","v":""},{"$f":"IF(OR(TabUren2[hoofdcategorie]=\"\",TabUren2[hoofdcategorie]=0),\"anders dan hoofdcategorie\",TabUren2[hoofdcategorie])","v":"anders dan hoofdcategorie"}]
[{"$f":"IF(TabUren2[[#This Row],[datum]]=\"\",\"\",INT((TabUren2[[#This Row],[datum]]-SUM(MOD(DATE(YEAR(TabUren2[[#This Row],[datum]]-MOD(TabUren2[[#This Row],[datum]]-2,7)+3),1,2),{1E+99;7})*{1;-1})+5) /7))","v":""},{"$f":"IF(TabUren2[[#This Row],[datum]]=\"\",\"\",TabUren2[[#This Row],[datum]])","v":""},null,null,{"$f":"IF(TabUren2[[#This Row],[datum]]=\"\",\"\",verzameldata!$C$3)","v":""},null,null,null,null,{"$f":"IF(TabUren2[[#This Row],[eindtijd]]=\"\",\"\",IF(TabUren2[[#This Row],[eindtijd]]<TabUren2[[#This Row],[begintijd]],(\"24:00\"-TabUren2[[#This Row],[begintijd]]+TabUren2[[#This Row],[eindtijd]])-TabUren2[[#This Row],[pauze]],(TabUren2[[#This Row],[eindtijd]]-TabUren2[[#This Row],[begintijd]])-TabUren2[[#This Row],[pauze]]))","v":""},{"$f":"IF(OR(TabUren2[hoofdcategorie]=\"\",TabUren2[hoofdcategorie]=0),\"anders dan hoofdcategorie\",TabUren2[hoofdcategorie])","v":"anders dan hoofdcategorie"}]
[{"$f":"IF(TabUren2[[#This Row],[datum]]=\"\",\"\",INT((TabUren2[[#This Row],[datum]]-SUM(MOD(DATE(YEAR(TabUren2[[#This Row],[datum]]-MOD(TabUren2[[#This Row],[datum]]-2,7)+3),1,2),{1E+99;7})*{1;-1})+5) /7))","v":""},{"$f":"IF(TabUren2[[#This Row],[datum]]=\"\",\"\",TabUren2[[#This Row],[datum]])","v":""},null,null,{"$f":"IF(TabUren2[[#This Row],[datum]]=\"\",\"\",verzameldata!$C$3)","v":""},null,null,null,null,{"$f":"IF(TabUren2[[#This Row],[eindtijd]]=\"\",\"\",IF(TabUren2[[#This Row],[eindtijd]]<TabUren2[[#This Row],[begintijd]],(\"24:00\"-TabUren2[[#This Row],[begintijd]]+TabUren2[[#This Row],[eindtijd]])-TabUren2[[#This Row],[pauze]],(TabUren2[[#This Row],[eindtijd]]-TabUren2[[#This Row],[begintijd]])-TabUren2[[#This Row],[pauze]]))","v":""},{"$f":"IF(OR(TabUren2[hoofdcategorie]=\"\",TabUren2[hoofdcategorie]=0),\"anders dan hoofdcategorie\",TabUren2[hoofdcategorie])","v":"anders dan hoofdcategorie"}]
[{"$f":"IF(TabUren2[[#This Row],[datum]]=\"\",\"\",INT((TabUren2[[#This Row],[datum]]-SUM(MOD(DATE(YEAR(TabUren2[[#This Row],[datum]]-MOD(TabUren2[[#This Row],[datum]]-2,7)+3),1,2),{1E+99;7})*{1;-1})+5) /7))","v":""},{"$f":"IF(TabUren2[[#This Row],[datum]]=\"\",\"\",TabUren2[[#This Row],[datum]])","v":""},null,null,{"$f":"IF(TabUren2[[#This Row],[datum]]=\"\",\"\",verzameldata!$C$3)","v":""},null,null,null,null,{"$f":"IF(TabUren2[[#This Row],[eindtijd]]=\"\",\"\",IF(TabUren2[[#This Row],[eindtijd]]<TabUren2[[#This Row],[begintijd]],(\"24:00\"-TabUren2[[#This Row],[begintijd]]+TabUren2[[#This Row],[eindtijd]])-TabUren2[[#This Row],[pauze]],(TabUren2[[#This Row],[eindtijd]]-TabUren2[[#This Row],[begintijd]])-TabUren2[[#This Row],[pauze]]))","v":""},{"$f":"IF(OR(TabUren2[hoofdcategorie]=\"\",TabUren2[hoofdcategorie]=0),\"anders dan hoofdcategorie\",TabUren2[hoofdcategorie])","v":"anders dan hoofdcategorie"}]
[{"$f":"IF(TabUren2[[#This Row],[datum]]=\"\",\"\",INT((TabUren2[[#This Row],[datum]]-SUM(MOD(DATE(YEAR(TabUren2[[#This Row],[datum]]-MOD(TabUren2[[#This Row],[datum]]-2,7)+3),1,2),{1E+99;7})*{1;-1})+5) /7))","v":""},{"$f":"IF(TabUren2[[#This Row],[datum]]=\"\",\"\",TabUren2[[#This Row],[datum]])","v":""},null,null,{"$f":"IF(TabUren2[[#This Row],[datum]]=\"\",\"\",verzameldata!$C$3)","v":""},null,null,null,null,{"$f":"IF(TabUren2[[#This Row],[eindtijd]]=\"\",\"\",IF(TabUren2[[#This Row],[eindtijd]]<TabUren2[[#This Row],[begintijd]],(\"24:00\"-TabUren2[[#This Row],[begintijd]]+TabUren2[[#This Row],[eindtijd]])-TabUren2[[#This Row],[pauze]],(TabUren2[[#This Row],[eindtijd]]-TabUren2[[#This Row],[begintijd]])-TabUren2[[#This Row],[pauze]]))","v":""},{"$f":"IF(OR(TabUren2[hoofdcategorie]=\"\",TabUren2[hoofdcategorie]=0),\"anders dan hoofdcategorie\",TabUren2[hoofdcategorie])","v":"anders dan hoofdcategorie"}]
[{"$f":"IF(TabUren2[[#This Row],[datum]]=\"\",\"\",INT((TabUren2[[#This Row],[datum]]-SUM(MOD(DATE(YEAR(TabUren2[[#This Row],[datum]]-MOD(TabUren2[[#This Row],[datum]]-2,7)+3),1,2),{1E+99;7})*{1;-1})+5) /7))","v":""},{"$f":"IF(TabUren2[[#This Row],[datum]]=\"\",\"\",TabUren2[[#This Row],[datum]])","v":""},null,null,{"$f":"IF(TabUren2[[#This Row],[datum]]=\"\",\"\",verzameldata!$C$3)","v":""},null,null,null,null,{"$f":"IF(TabUren2[[#This Row],[eindtijd]]=\"\",\"\",IF(TabUren2[[#This Row],[eindtijd]]<TabUren2[[#This Row],[begintijd]],(\"24:00\"-TabUren2[[#This Row],[begintijd]]+TabUren2[[#This Row],[eindtijd]])-TabUren2[[#This Row],[pauze]],(TabUren2[[#This Row],[eindtijd]]-TabUren2[[#This Row],[begintijd]])-TabUren2[[#This Row],[pauze]]))","v":""},{"$f":"IF(OR(TabUren2[hoofdcategorie]=\"\",TabUren2[hoofdcategorie]=0),\"anders dan hoofdcategorie\",TabUren2[hoofdcategorie])","v":"anders dan hoofdcategorie"}]
[{"$f":"IF(TabUren2[[#This Row],[datum]]=\"\",\"\",INT((TabUren2[[#This Row],[datum]]-SUM(MOD(DATE(YEAR(TabUren2[[#This Row],[datum]]-MOD(TabUren2[[#This Row],[datum]]-2,7)+3),1,2),{1E+99;7})*{1;-1})+5) /7))","v":""},{"$f":"IF(TabUren2[[#This Row],[datum]]=\"\",\"\",TabUren2[[#This Row],[datum]])","v":""},null,null,{"$f":"IF(TabUren2[[#This Row],[datum]]=\"\",\"\",verzameldata!$C$3)","v":""},null,null,null,null,{"$f":"IF(TabUren2[[#This Row],[eindtijd]]=\"\",\"\",IF(TabUren2[[#This Row],[eindtijd]]<TabUren2[[#This Row],[begintijd]],(\"24:00\"-TabUren2[[#This Row],[begintijd]]+TabUren2[[#This Row],[eindtijd]])-TabUren2[[#This Row],[pauze]],(TabUren2[[#This Row],[eindtijd]]-TabUren2[[#This Row],[begintijd]])-TabUren2[[#This Row],[pauze]]))","v":""},{"$f":"IF(OR(TabUren2[hoofdcategorie]=\"\",TabUren2[hoofdcategorie]=0),\"anders dan hoofdcategorie\",TabUren2[hoofdcategorie])","v":"anders dan hoofdcategorie"}]
[{"$f":"IF(TabUren2[[#This Row],[datum]]=\"\",\"\",INT((TabUren2[[#This Row],[datum]]-SUM(MOD(DATE(YEAR(TabUren2[[#This Row],[datum]]-MOD(TabUren2[[#This Row],[datum]]-2,7)+3),1,2),{1E+99;7})*{1;-1})+5) /7))","v":""},{"$f":"IF(TabUren2[[#This Row],[datum]]=\"\",\"\",TabUren2[[#This Row],[datum]])","v":""},null,null,{"$f":"IF(TabUren2[[#This Row],[datum]]=\"\",\"\",verzameldata!$C$3)","v":""},null,null,null,null,{"$f":"IF(TabUren2[[#This Row],[eindtijd]]=\"\",\"\",IF(TabUren2[[#This Row],[eindtijd]]<TabUren2[[#This Row],[begintijd]],(\"24:00\"-TabUren2[[#This Row],[begintijd]]+TabUren2[[#This Row],[eindtijd]])-TabUren2[[#This Row],[pauze]],(TabUren2[[#This Row],[eindtijd]]-TabUren2[[#This Row],[begintijd]])-TabUren2[[#This Row],[pauze]]))","v":""},{"$f":"IF(OR(TabUren2[hoofdcategorie]=\"\",TabUren2[hoofdcategorie]=0),\"anders dan hoofdcategorie\",TabUren2[hoofdcategorie])","v":"anders dan hoofdcategorie"}]
[{"$f":"IF(TabUren2[[#This Row],[datum]]=\"\",\"\",INT((TabUren2[[#This Row],[datum]]-SUM(MOD(DATE(YEAR(TabUren2[[#This Row],[datum]]-MOD(TabUren2[[#This Row],[datum]]-2,7)+3),1,2),{1E+99;7})*{1;-1})+5) /7))","v":""},{"$f":"IF(TabUren2[[#This Row],[datum]]=\"\",\"\",TabUren2[[#This Row],[datum]])","v":""},null,null,{"$f":"IF(TabUren2[[#This Row],[datum]]=\"\",\"\",verzameldata!$C$3)","v":""},null,null,null,null,{"$f":"IF(TabUren2[[#This Row],[eindtijd]]=\"\",\"\",IF(TabUren2[[#This Row],[eindtijd]]<TabUren2[[#This Row],[begintijd]],(\"24:00\"-TabUren2[[#This Row],[begintijd]]+TabUren2[[#This Row],[eindtijd]])-TabUren2[[#This Row],[pauze]],(TabUren2[[#This Row],[eindtijd]]-TabUren2[[#This Row],[begintijd]])-TabUren2[[#This Row],[pauze]]))","v":""},{"$f":"IF(OR(TabUren2[hoofdcategorie]=\"\",TabUren2[hoofdcategorie]=0),\"anders dan hoofdcategorie\",TabUren2[hoofdcategorie])","v":"anders dan hoofdcategorie"}]
[{"$f":"IF(TabUren2[[#This Row],[datum]]=\"\",\"\",INT((TabUren2[[#This Row],[datum]]-SUM(MOD(DATE(YEAR(TabUren2[[#This Row],[datum]]-MOD(TabUren2[[#This Row],[datum]]-2,7)+3),1,2),{1E+99;7})*{1;-1})+5) /7))","v":""},{"$f":"IF(TabUren2[[#This Row],[datum]]=\"\",\"\",TabUren2[[#This Row],[datum]])","v":""},null,null,{"$f":"IF(TabUren2[[#This Row],[datum]]=\"\",\"\",verzameldata!$C$3)","v":""},null,null,null,null,{"$f":"IF(TabUren2[[#This Row],[eindtijd]]=\"\",\"\",IF(TabUren2[[#This Row],[eindtijd]]<TabUren2[[#This Row],[begintijd]],(\"24:00\"-TabUren2[[#This Row],[begintijd]]+TabUren2[[#This Row],[eindtijd]])-TabUren2[[#This Row],[pauze]],(TabUren2[[#This Row],[eindtijd]]-TabUren2[[#This Row],[begintijd]])-TabUren2[[#This Row],[pauze]]))","v":""},{"$f":"IF(OR(TabUren2[hoofdcategorie]=\"\",TabUren2[hoofdcategorie]=0),\"anders dan hoofdcategorie\",TabUren2[hoofdcategorie])","v":"anders dan hoofdcategorie"}]
[{"$f":"IF(TabUren2[[#This Row],[datum]]=\"\",\"\",INT((TabUren2[[#This Row],[datum]]-SUM(MOD(DATE(YEAR(TabUren2[[#This Row],[datum]]-MOD(TabUren2[[#This Row],[datum]]-2,7)+3),1,2),{1E+99;7})*{1;-1})+5) /7))","v":""},{"$f":"IF(TabUren2[[#This Row],[datum]]=\"\",\"\",TabUren2[[#This Row],[datum]])","v":""},null,null,{"$f":"IF(TabUren2[[#This Row],[datum]]=\"\",\"\",verzameldata!$C$3)","v":""},null,null,null,null,{"$f":"IF(TabUren2[[#This Row],[eindtijd]]=\"\",\"\",IF(TabUren2[[#This Row],[eindtijd]]<TabUren2[[#This Row],[begintijd]],(\"24:00\"-TabUren2[[#This Row],[begintijd]]+TabUren2[[#This Row],[eindtijd]])-TabUren2[[#This Row],[pauze]],(TabUren2[[#This Row],[eindtijd]]-TabUren2[[#This Row],[begintijd]])-TabUren2[[#This Row],[pauze]]))","v":""},{"$f":"IF(OR(TabUren2[hoofdcategorie]=\"\",TabUren2[hoofdcategorie]=0),\"anders dan hoofdcategorie\",TabUren2[hoofdcategorie])","v":"anders dan hoofdcategorie"}]
[{"$f":"IF(TabUren2[[#This Row],[datum]]=\"\",\"\",INT((TabUren2[[#This Row],[datum]]-SUM(MOD(DATE(YEAR(TabUren2[[#This Row],[datum]]-MOD(TabUren2[[#This Row],[datum]]-2,7)+3),1,2),{1E+99;7})*{1;-1})+5) /7))","v":""},{"$f":"IF(TabUren2[[#This Row],[datum]]=\"\",\"\",TabUren2[[#This Row],[datum]])","v":""},null,null,{"$f":"IF(TabUren2[[#This Row],[datum]]=\"\",\"\",verzameldata!$C$3)","v":""},null,null,null,null,{"$f":"IF(TabUren2[[#This Row],[eindtijd]]=\"\",\"\",IF(TabUren2[[#This Row],[eindtijd]]<TabUren2[[#This Row],[begintijd]],(\"24:00\"-TabUren2[[#This Row],[begintijd]]+TabUren2[[#This Row],[eindtijd]])-TabUren2[[#This Row],[pauze]],(TabUren2[[#This Row],[eindtijd]]-TabUren2[[#This Row],[begintijd]])-TabUren2[[#This Row],[pauze]]))","v":""},{"$f":"IF(OR(TabUren2[hoofdcategorie]=\"\",TabUren2[hoofdcategorie]=0),\"anders dan hoofdcategorie\",TabUren2[hoofdcategorie])","v":"anders dan hoofdcategorie"}]
[{"$f":"IF(TabUren2[[#This Row],[datum]]=\"\",\"\",INT((TabUren2[[#This Row],[datum]]-SUM(MOD(DATE(YEAR(TabUren2[[#This Row],[datum]]-MOD(TabUren2[[#This Row],[datum]]-2,7)+3),1,2),{1E+99;7})*{1;-1})+5) /7))","v":""},{"$f":"IF(TabUren2[[#This Row],[datum]]=\"\",\"\",TabUren2[[#This Row],[datum]])","v":""},null,null,{"$f":"IF(TabUren2[[#This Row],[datum]]=\"\",\"\",verzameldata!$C$3)","v":""},null,null,null,null,{"$f":"IF(TabUren2[[#This Row],[eindtijd]]=\"\",\"\",IF(TabUren2[[#This Row],[eindtijd]]<TabUren2[[#This Row],[begintijd]],(\"24:00\"-TabUren2[[#This Row],[begintijd]]+TabUren2[[#This Row],[eindtijd]])-TabUren2[[#This Row],[pauze]],(TabUren2[[#This Row],[eindtijd]]-TabUren2[[#This Row],[begintijd]])-TabUren2[[#This Row],[pauze]]))","v":""},{"$f":"IF(OR(TabUren2[hoofdcategorie]=\"\",TabUren2[hoofdcategorie]=0),\"anders dan hoofdcategorie\",TabUren2[hoofdcategorie])","v":"anders dan hoofdcategorie"}]
[{"$f":"IF(TabUren2[[#This Row],[datum]]=\"\",\"\",INT((TabUren2[[#This Row],[datum]]-SUM(MOD(DATE(YEAR(TabUren2[[#This Row],[datum]]-MOD(TabUren2[[#This Row],[datum]]-2,7)+3),1,2),{1E+99;7})*{1;-1})+5) /7))","v":""},{"$f":"IF(TabUren2[[#This Row],[datum]]=\"\",\"\",TabUren2[[#This Row],[datum]])","v":""},null,null,{"$f":"IF(TabUren2[[#This Row],[datum]]=\"\",\"\",verzameldata!$C$3)","v":""},null,null,null,null,{"$f":"IF(TabUren2[[#This Row],[eindtijd]]=\"\",\"\",IF(TabUren2[[#This Row],[eindtijd]]<TabUren2[[#This Row],[begintijd]],(\"24:00\"-TabUren2[[#This Row],[begintijd]]+TabUren2[[#This Row],[eindtijd]])-TabUren2[[#This Row],[pauze]],(TabUren2[[#This Row],[eindtijd]]-TabUren2[[#This Row],[begintijd]])-TabUren2[[#This Row],[pauze]]))","v":""},{"$f":"IF(OR(TabUren2[hoofdcategorie]=\"\",TabUren2[hoofdcategorie]=0),\"anders dan hoofdcategorie\",TabUren2[hoofdcategorie])","v":"anders dan hoofdcategorie"}]
[{"$f":"IF(TabUren2[[#This Row],[datum]]=\"\",\"\",INT((TabUren2[[#This Row],[datum]]-SUM(MOD(DATE(YEAR(TabUren2[[#This Row],[datum]]-MOD(TabUren2[[#This Row],[datum]]-2,7)+3),1,2),{1E+99;7})*{1;-1})+5) /7))","v":""},{"$f":"IF(TabUren2[[#This Row],[datum]]=\"\",\"\",TabUren2[[#This Row],[datum]])","v":""},null,null,{"$f":"IF(TabUren2[[#This Row],[datum]]=\"\",\"\",verzameldata!$C$3)","v":""},null,null,null,null,{"$f":"IF(TabUren2[[#This Row],[eindtijd]]=\"\",\"\",IF(TabUren2[[#This Row],[eindtijd]]<TabUren2[[#This Row],[begintijd]],(\"24:00\"-TabUren2[[#This Row],[begintijd]]+TabUren2[[#This Row],[eindtijd]])-TabUren2[[#This Row],[pauze]],(TabUren2[[#This Row],[eindtijd]]-TabUren2[[#This Row],[begintijd]])-TabUren2[[#This Row],[pauze]]))","v":""},{"$f":"IF(OR(TabUren2[hoofdcategorie]=\"\",TabUren2[hoofdcategorie]=0),\"anders dan hoofdcategorie\",TabUren2[hoofdcategorie])","v":"anders dan hoofdcategorie"}]
[{"$f":"IF(TabUren2[[#This Row],[datum]]=\"\",\"\",INT((TabUren2[[#This Row],[datum]]-SUM(MOD(DATE(YEAR(TabUren2[[#This Row],[datum]]-MOD(TabUren2[[#This Row],[datum]]-2,7)+3),1,2),{1E+99;7})*{1;-1})+5) /7))","v":""},{"$f":"IF(TabUren2[[#This Row],[datum]]=\"\",\"\",TabUren2[[#This Row],[datum]])","v":""},null,null,{"$f":"IF(TabUren2[[#This Row],[datum]]=\"\",\"\",verzameldata!$C$3)","v":""},null,null,null,null,{"$f":"IF(TabUren2[[#This Row],[eindtijd]]=\"\",\"\",IF(TabUren2[[#This Row],[eindtijd]]<TabUren2[[#This Row],[begintijd]],(\"24:00\"-TabUren2[[#This Row],[begintijd]]+TabUren2[[#This Row],[eindtijd]])-TabUren2[[#This Row],[pauze]],(TabUren2[[#This Row],[eindtijd]]-TabUren2[[#This Row],[begintijd]])-TabUren2[[#This Row],[pauze]]))","v":""},{"$f":"IF(OR(TabUren2[hoofdcategorie]=\"\",TabUren2[hoofdcategorie]=0),\"anders dan hoofdcategorie\",TabUren2[hoofdcategorie])","v":"anders dan hoofdcategorie"}]
[{"$f":"IF(TabUren2[[#This Row],[datum]]=\"\",\"\",INT((TabUren2[[#This Row],[datum]]-SUM(MOD(DATE(YEAR(TabUren2[[#This Row],[datum]]-MOD(TabUren2[[#This Row],[datum]]-2,7)+3),1,2),{1E+99;7})*{1;-1})+5) /7))","v":""},{"$f":"IF(TabUren2[[#This Row],[datum]]=\"\",\"\",TabUren2[[#This Row],[datum]])","v":""},null,null,{"$f":"IF(TabUren2[[#This Row],[datum]]=\"\",\"\",verzameldata!$C$3)","v":""},null,null,null,null,{"$f":"IF(TabUren2[[#This Row],[eindtijd]]=\"\",\"\",IF(TabUren2[[#This Row],[eindtijd]]<TabUren2[[#This Row],[begintijd]],(\"24:00\"-TabUren2[[#This Row],[begintijd]]+TabUren2[[#This Row],[eindtijd]])-TabUren2[[#This Row],[pauze]],(TabUren2[[#This Row],[eindtijd]]-TabUren2[[#This Row],[begintijd]])-TabUren2[[#This Row],[pauze]]))","v":""},{"$f":"IF(OR(TabUren2[hoofdcategorie]=\"\",TabUren2[hoofdcategorie]=0),\"anders dan hoofdcategorie\",TabUren2[hoofdcategorie])","v":"anders dan hoofdcategorie"}]
[{"$f":"IF(TabUren2[[#This Row],[datum]]=\"\",\"\",INT((TabUren2[[#This Row],[datum]]-SUM(MOD(DATE(YEAR(TabUren2[[#This Row],[datum]]-MOD(TabUren2[[#This Row],[datum]]-2,7)+3),1,2),{1E+99;7})*{1;-1})+5) /7))","v":""},{"$f":"IF(TabUren2[[#This Row],[datum]]=\"\",\"\",TabUren2[[#This Row],[datum]])","v":""},null,null,{"$f":"IF(TabUren2[[#This Row],[datum]]=\"\",\"\",verzameldata!$C$3)","v":""},null,null,null,null,{"$f":"IF(TabUren2[[#This Row],[eindtijd]]=\"\",\"\",IF(TabUren2[[#This Row],[eindtijd]]<TabUren2[[#This Row],[begintijd]],(\"24:00\"-TabUren2[[#This Row],[begintijd]]+TabUren2[[#This Row],[eindtijd]])-TabUren2[[#This Row],[pauze]],(TabUren2[[#This Row],[eindtijd]]-TabUren2[[#This Row],[begintijd]])-TabUren2[[#This Row],[pauze]]))","v":""},{"$f":"IF(OR(TabUren2[hoofdcategorie]=\"\",TabUren2[hoofdcategorie]=0),\"anders dan hoofdcategorie\",TabUren2[hoofdcategorie])","v":"anders dan hoofdcategorie"}]
[{"$f":"IF(TabUren2[[#This Row],[datum]]=\"\",\"\",INT((TabUren2[[#This Row],[datum]]-SUM(MOD(DATE(YEAR(TabUren2[[#This Row],[datum]]-MOD(TabUren2[[#This Row],[datum]]-2,7)+3),1,2),{1E+99;7})*{1;-1})+5) /7))","v":""},{"$f":"IF(TabUren2[[#This Row],[datum]]=\"\",\"\",TabUren2[[#This Row],[datum]])","v":""},null,null,{"$f":"IF(TabUren2[[#This Row],[datum]]=\"\",\"\",verzameldata!$C$3)","v":""},null,null,null,null,{"$f":"IF(TabUren2[[#This Row],[eindtijd]]=\"\",\"\",IF(TabUren2[[#This Row],[eindtijd]]<TabUren2[[#This Row],[begintijd]],(\"24:00\"-TabUren2[[#This Row],[begintijd]]+TabUren2[[#This Row],[eindtijd]])-TabUren2[[#This Row],[pauze]],(TabUren2[[#This Row],[eindtijd]]-TabUren2[[#This Row],[begintijd]])-TabUren2[[#This Row],[pauze]]))","v":""},{"$f":"IF(OR(TabUren2[hoofdcategorie]=\"\",TabUren2[hoofdcategorie]=0),\"anders dan hoofdcategorie\",TabUren2[hoofdcategorie])","v":"anders dan hoofdcategorie"}]
[{"$f":"IF(TabUren2[[#This Row],[datum]]=\"\",\"\",INT((TabUren2[[#This Row],[datum]]-SUM(MOD(DATE(YEAR(TabUren2[[#This Row],[datum]]-MOD(TabUren2[[#This Row],[datum]]-2,7)+3),1,2),{1E+99;7})*{1;-1})+5) /7))","v":""},{"$f":"IF(TabUren2[[#This Row],[datum]]=\"\",\"\",TabUren2[[#This Row],[datum]])","v":""},null,null,{"$f":"IF(TabUren2[[#This Row],[datum]]=\"\",\"\",verzameldata!$C$3)","v":""},null,null,null,null,{"$f":"IF(TabUren2[[#This Row],[eindtijd]]=\"\",\"\",IF(TabUren2[[#This Row],[eindtijd]]<TabUren2[[#This Row],[begintijd]],(\"24:00\"-TabUren2[[#This Row],[begintijd]]+TabUren2[[#This Row],[eindtijd]])-TabUren2[[#This Row],[pauze]],(TabUren2[[#This Row],[eindtijd]]-TabUren2[[#This Row],[begintijd]])-TabUren2[[#This Row],[pauze]]))","v":""},{"$f":"IF(OR(TabUren2[hoofdcategorie]=\"\",TabUren2[hoofdcategorie]=0),\"anders dan hoofdcategorie\",TabUren2[hoofdcategorie])","v":"anders dan hoofdcategorie"}]
[{"$f":"IF(TabUren2[[#This Row],[datum]]=\"\",\"\",INT((TabUren2[[#This Row],[datum]]-SUM(MOD(DATE(YEAR(TabUren2[[#This Row],[datum]]-MOD(TabUren2[[#This Row],[datum]]-2,7)+3),1,2),{1E+99;7})*{1;-1})+5) /7))","v":""},{"$f":"IF(TabUren2[[#This Row],[datum]]=\"\",\"\",TabUren2[[#This Row],[datum]])","v":""},null,null,{"$f":"IF(TabUren2[[#This Row],[datum]]=\"\",\"\",verzameldata!$C$3)","v":""},null,null,null,null,{"$f":"IF(TabUren2[[#This Row],[eindtijd]]=\"\",\"\",IF(TabUren2[[#This Row],[eindtijd]]<TabUren2[[#This Row],[begintijd]],(\"24:00\"-TabUren2[[#This Row],[begintijd]]+TabUren2[[#This Row],[eindtijd]])-TabUren2[[#This Row],[pauze]],(TabUren2[[#This Row],[eindtijd]]-TabUren2[[#This Row],[begintijd]])-TabUren2[[#This Row],[pauze]]))","v":""},{"$f":"IF(OR(TabUren2[hoofdcategorie]=\"\",TabUren2[hoofdcategorie]=0),\"anders dan hoofdcategorie\",TabUren2[hoofdcategorie])","v":"anders dan hoofdcategorie"}]
[{"$f":"IF(TabUren2[[#This Row],[datum]]=\"\",\"\",INT((TabUren2[[#This Row],[datum]]-SUM(MOD(DATE(YEAR(TabUren2[[#This Row],[datum]]-MOD(TabUren2[[#This Row],[datum]]-2,7)+3),1,2),{1E+99;7})*{1;-1})+5) /7))","v":""},{"$f":"IF(TabUren2[[#This Row],[datum]]=\"\",\"\",TabUren2[[#This Row],[datum]])","v":""},null,null,{"$f":"IF(TabUren2[[#This Row],[datum]]=\"\",\"\",verzameldata!$C$3)","v":""},null,null,null,null,{"$f":"IF(TabUren2[[#This Row],[eindtijd]]=\"\",\"\",IF(TabUren2[[#This Row],[eindtijd]]<TabUren2[[#This Row],[begintijd]],(\"24:00\"-TabUren2[[#This Row],[begintijd]]+TabUren2[[#This Row],[eindtijd]])-TabUren2[[#This Row],[pauze]],(TabUren2[[#This Row],[eindtijd]]-TabUren2[[#This Row],[begintijd]])-TabUren2[[#This Row],[pauze]]))","v":""},{"$f":"IF(OR(TabUren2[hoofdcategorie]=\"\",TabUren2[hoofdcategorie]=0),\"anders dan hoofdcategorie\",TabUren2[hoofdcategorie])","v":"anders dan hoofdcategorie"}]
[{"$f":"IF(TabUren2[[#This Row],[datum]]=\"\",\"\",INT((TabUren2[[#This Row],[datum]]-SUM(MOD(DATE(YEAR(TabUren2[[#This Row],[datum]]-MOD(TabUren2[[#This Row],[datum]]-2,7)+3),1,2),{1E+99;7})*{1;-1})+5) /7))","v":""},{"$f":"IF(TabUren2[[#This Row],[datum]]=\"\",\"\",TabUren2[[#This Row],[datum]])","v":""},null,null,{"$f":"IF(TabUren2[[#This Row],[datum]]=\"\",\"\",verzameldata!$C$3)","v":""},null,null,null,null,{"$f":"IF(TabUren2[[#This Row],[eindtijd]]=\"\",\"\",IF(TabUren2[[#This Row],[eindtijd]]<TabUren2[[#This Row],[begintijd]],(\"24:00\"-TabUren2[[#This Row],[begintijd]]+TabUren2[[#This Row],[eindtijd]])-TabUren2[[#This Row],[pauze]],(TabUren2[[#This Row],[eindtijd]]-TabUren2[[#This Row],[begintijd]])-TabUren2[[#This Row],[pauze]]))","v":""},{"$f":"IF(OR(TabUren2[hoofdcategorie]=\"\",TabUren2[hoofdcategorie]=0),\"anders dan hoofdcategorie\",TabUren2[hoofdcategorie])","v":"anders dan hoofdcategorie"}]
[{"$f":"IF(TabUren2[[#This Row],[datum]]=\"\",\"\",INT((TabUren2[[#This Row],[datum]]-SUM(MOD(DATE(YEAR(TabUren2[[#This Row],[datum]]-MOD(TabUren2[[#This Row],[datum]]-2,7)+3),1,2),{1E+99;7})*{1;-1})+5) /7))","v":""},{"$f":"IF(TabUren2[[#This Row],[datum]]=\"\",\"\",TabUren2[[#This Row],[datum]])","v":""},null,null,{"$f":"IF(TabUren2[[#This Row],[datum]]=\"\",\"\",verzameldata!$C$3)","v":""},null,null,null,null,{"$f":"IF(TabUren2[[#This Row],[eindtijd]]=\"\",\"\",IF(TabUren2[[#This Row],[eindtijd]]<TabUren2[[#This Row],[begintijd]],(\"24:00\"-TabUren2[[#This Row],[begintijd]]+TabUren2[[#This Row],[eindtijd]])-TabUren2[[#This Row],[pauze]],(TabUren2[[#This Row],[eindtijd]]-TabUren2[[#This Row],[begintijd]])-TabUren2[[#This Row],[pauze]]))","v":""},{"$f":"IF(OR(TabUren2[hoofdcategorie]=\"\",TabUren2[hoofdcategorie]=0),\"anders dan hoofdcategorie\",TabUren2[hoofdcategorie])","v":"anders dan hoofdcategorie"}]
[{"$f":"IF(TabUren2[[#This Row],[datum]]=\"\",\"\",INT((TabUren2[[#This Row],[datum]]-SUM(MOD(DATE(YEAR(TabUren2[[#This Row],[datum]]-MOD(TabUren2[[#This Row],[datum]]-2,7)+3),1,2),{1E+99;7})*{1;-1})+5) /7))","v":""},{"$f":"IF(TabUren2[[#This Row],[datum]]=\"\",\"\",TabUren2[[#This Row],[datum]])","v":""},null,null,{"$f":"IF(TabUren2[[#This Row],[datum]]=\"\",\"\",verzameldata!$C$3)","v":""},null,null,null,null,{"$f":"IF(TabUren2[[#This Row],[eindtijd]]=\"\",\"\",IF(TabUren2[[#This Row],[eindtijd]]<TabUren2[[#This Row],[begintijd]],(\"24:00\"-TabUren2[[#This Row],[begintijd]]+TabUren2[[#This Row],[eindtijd]])-TabUren2[[#This Row],[pauze]],(TabUren2[[#This Row],[eindtijd]]-TabUren2[[#This Row],[begintijd]])-TabUren2[[#This Row],[pauze]]))","v":""},{"$f":"IF(OR(TabUren2[hoofdcategorie]=\"\",TabUren2[hoofdcategorie]=0),\"anders dan hoofdcategorie\",TabUren2[hoofdcategorie])","v":"anders dan hoofdcategorie"}]
[{"$f":"IF(TabUren2[[#This Row],[datum]]=\"\",\"\",INT((TabUren2[[#This Row],[datum]]-SUM(MOD(DATE(YEAR(TabUren2[[#This Row],[datum]]-MOD(TabUren2[[#This Row],[datum]]-2,7)+3),1,2),{1E+99;7})*{1;-1})+5) /7))","v":""},{"$f":"IF(TabUren2[[#This Row],[datum]]=\"\",\"\",TabUren2[[#This Row],[datum]])","v":""},null,null,{"$f":"IF(TabUren2[[#This Row],[datum]]=\"\",\"\",verzameldata!$C$3)","v":""},null,null,null,null,{"$f":"IF(TabUren2[[#This Row],[eindtijd]]=\"\",\"\",IF(TabUren2[[#This Row],[eindtijd]]<TabUren2[[#This Row],[begintijd]],(\"24:00\"-TabUren2[[#This Row],[begintijd]]+TabUren2[[#This Row],[eindtijd]])-TabUren2[[#This Row],[pauze]],(TabUren2[[#This Row],[eindtijd]]-TabUren2[[#This Row],[begintijd]])-TabUren2[[#This Row],[pauze]]))","v":""},{"$f":"IF(OR(TabUren2[hoofdcategorie]=\"\",TabUren2[hoofdcategorie]=0),\"anders dan hoofdcategorie\",TabUren2[hoofdcategorie])","v":"anders dan hoofdcategorie"}]
[{"$f":"IF(TabUren2[[#This Row],[datum]]=\"\",\"\",INT((TabUren2[[#This Row],[datum]]-SUM(MOD(DATE(YEAR(TabUren2[[#This Row],[datum]]-MOD(TabUren2[[#This Row],[datum]]-2,7)+3),1,2),{1E+99;7})*{1;-1})+5) /7))","v":""},{"$f":"IF(TabUren2[[#This Row],[datum]]=\"\",\"\",TabUren2[[#This Row],[datum]])","v":""},null,null,{"$f":"IF(TabUren2[[#This Row],[datum]]=\"\",\"\",verzameldata!$C$3)","v":""},null,null,null,null,{"$f":"IF(TabUren2[[#This Row],[eindtijd]]=\"\",\"\",IF(TabUren2[[#This Row],[eindtijd]]<TabUren2[[#This Row],[begintijd]],(\"24:00\"-TabUren2[[#This Row],[begintijd]]+TabUren2[[#This Row],[eindtijd]])-TabUren2[[#This Row],[pauze]],(TabUren2[[#This Row],[eindtijd]]-TabUren2[[#This Row],[begintijd]])-TabUren2[[#This Row],[pauze]]))","v":""},{"$f":"IF(OR(TabUren2[hoofdcategorie]=\"\",TabUren2[hoofdcategorie]=0),\"anders dan hoofdcategorie\",TabUren2[hoofdcategorie])","v":"anders dan hoofdcategorie"}]
[{"$f":"IF(TabUren2[[#This Row],[datum]]=\"\",\"\",INT((TabUren2[[#This Row],[datum]]-SUM(MOD(DATE(YEAR(TabUren2[[#This Row],[datum]]-MOD(TabUren2[[#This Row],[datum]]-2,7)+3),1,2),{1E+99;7})*{1;-1})+5) /7))","v":""},{"$f":"IF(TabUren2[[#This Row],[datum]]=\"\",\"\",TabUren2[[#This Row],[datum]])","v":""},null,null,{"$f":"IF(TabUren2[[#This Row],[datum]]=\"\",\"\",verzameldata!$C$3)","v":""},null,null,null,null,{"$f":"IF(TabUren2[[#This Row],[eindtijd]]=\"\",\"\",IF(TabUren2[[#This Row],[eindtijd]]<TabUren2[[#This Row],[begintijd]],(\"24:00\"-TabUren2[[#This Row],[begintijd]]+TabUren2[[#This Row],[eindtijd]])-TabUren2[[#This Row],[pauze]],(TabUren2[[#This Row],[eindtijd]]-TabUren2[[#This Row],[begintijd]])-TabUren2[[#This Row],[pauze]]))","v":""},{"$f":"IF(OR(TabUren2[hoofdcategorie]=\"\",TabUren2[hoofdcategorie]=0),\"anders dan hoofdcategorie\",TabUren2[hoofdcategorie])","v":"anders dan hoofdcategorie"}]
[{"$f":"IF(TabUren2[[#This Row],[datum]]=\"\",\"\",INT((TabUren2[[#This Row],[datum]]-SUM(MOD(DATE(YEAR(TabUren2[[#This Row],[datum]]-MOD(TabUren2[[#This Row],[datum]]-2,7)+3),1,2),{1E+99;7})*{1;-1})+5) /7))","v":""},{"$f":"IF(TabUren2[[#This Row],[datum]]=\"\",\"\",TabUren2[[#This Row],[datum]])","v":""},null,null,{"$f":"IF(TabUren2[[#This Row],[datum]]=\"\",\"\",verzameldata!$C$3)","v":""},null,null,null,null,{"$f":"IF(TabUren2[[#This Row],[eindtijd]]=\"\",\"\",IF(TabUren2[[#This Row],[eindtijd]]<TabUren2[[#This Row],[begintijd]],(\"24:00\"-TabUren2[[#This Row],[begintijd]]+TabUren2[[#This Row],[eindtijd]])-TabUren2[[#This Row],[pauze]],(TabUren2[[#This Row],[eindtijd]]-TabUren2[[#This Row],[begintijd]])-TabUren2[[#This Row],[pauze]]))","v":""},{"$f":"IF(OR(TabUren2[hoofdcategorie]=\"\",TabUren2[hoofdcategorie]=0),\"anders dan hoofdcategorie\",TabUren2[hoofdcategorie])","v":"anders dan hoofdcategorie"}]
[{"$f":"IF(TabUren2[[#This Row],[datum]]=\"\",\"\",INT((TabUren2[[#This Row],[datum]]-SUM(MOD(DATE(YEAR(TabUren2[[#This Row],[datum]]-MOD(TabUren2[[#This Row],[datum]]-2,7)+3),1,2),{1E+99;7})*{1;-1})+5) /7))","v":""},{"$f":"IF(TabUren2[[#This Row],[datum]]=\"\",\"\",TabUren2[[#This Row],[datum]])","v":""},null,null,{"$f":"IF(TabUren2[[#This Row],[datum]]=\"\",\"\",verzameldata!$C$3)","v":""},null,null,null,null,{"$f":"IF(TabUren2[[#This Row],[eindtijd]]=\"\",\"\",IF(TabUren2[[#This Row],[eindtijd]]<TabUren2[[#This Row],[begintijd]],(\"24:00\"-TabUren2[[#This Row],[begintijd]]+TabUren2[[#This Row],[eindtijd]])-TabUren2[[#This Row],[pauze]],(TabUren2[[#This Row],[eindtijd]]-TabUren2[[#This Row],[begintijd]])-TabUren2[[#This Row],[pauze]]))","v":""},{"$f":"IF(OR(TabUren2[hoofdcategorie]=\"\",TabUren2[hoofdcategorie]=0),\"anders dan hoofdcategorie\",TabUren2[hoofdcategorie])","v":"anders dan hoofdcategorie"}]
[{"$f":"IF(TabUren2[[#This Row],[datum]]=\"\",\"\",INT((TabUren2[[#This Row],[datum]]-SUM(MOD(DATE(YEAR(TabUren2[[#This Row],[datum]]-MOD(TabUren2[[#This Row],[datum]]-2,7)+3),1,2),{1E+99;7})*{1;-1})+5) /7))","v":""},{"$f":"IF(TabUren2[[#This Row],[datum]]=\"\",\"\",TabUren2[[#This Row],[datum]])","v":""},null,null,{"$f":"IF(TabUren2[[#This Row],[datum]]=\"\",\"\",verzameldata!$C$3)","v":""},null,null,null,null,{"$f":"IF(TabUren2[[#This Row],[eindtijd]]=\"\",\"\",IF(TabUren2[[#This Row],[eindtijd]]<TabUren2[[#This Row],[begintijd]],(\"24:00\"-TabUren2[[#This Row],[begintijd]]+TabUren2[[#This Row],[eindtijd]])-TabUren2[[#This Row],[pauze]],(TabUren2[[#This Row],[eindtijd]]-TabUren2[[#This Row],[begintijd]])-TabUren2[[#This Row],[pauze]]))","v":""},{"$f":"IF(OR(TabUren2[hoofdcategorie]=\"\",TabUren2[hoofdcategorie]=0),\"anders dan hoofdcategorie\",TabUren2[hoofdcategorie])","v":"anders dan hoofdcategorie"}]
[{"$f":"IF(TabUren2[[#This Row],[datum]]=\"\",\"\",INT((TabUren2[[#This Row],[datum]]-SUM(MOD(DATE(YEAR(TabUren2[[#This Row],[datum]]-MOD(TabUren2[[#This Row],[datum]]-2,7)+3),1,2),{1E+99;7})*{1;-1})+5) /7))","v":""},{"$f":"IF(TabUren2[[#This Row],[datum]]=\"\",\"\",TabUren2[[#This Row],[datum]])","v":""},null,null,{"$f":"IF(TabUren2[[#This Row],[datum]]=\"\",\"\",verzameldata!$C$3)","v":""},null,null,null,null,{"$f":"IF(TabUren2[[#This Row],[eindtijd]]=\"\",\"\",IF(TabUren2[[#This Row],[eindtijd]]<TabUren2[[#This Row],[begintijd]],(\"24:00\"-TabUren2[[#This Row],[begintijd]]+TabUren2[[#This Row],[eindtijd]])-TabUren2[[#This Row],[pauze]],(TabUren2[[#This Row],[eindtijd]]-TabUren2[[#This Row],[begintijd]])-TabUren2[[#This Row],[pauze]]))","v":""},{"$f":"IF(OR(TabUren2[hoofdcategorie]=\"\",TabUren2[hoofdcategorie]=0),\"anders dan hoofdcategorie\",TabUren2[hoofdcategorie])","v":"anders dan hoofdcategorie"}]
[{"$f":"IF(TabUren2[[#This Row],[datum]]=\"\",\"\",INT((TabUren2[[#This Row],[datum]]-SUM(MOD(DATE(YEAR(TabUren2[[#This Row],[datum]]-MOD(TabUren2[[#This Row],[datum]]-2,7)+3),1,2),{1E+99;7})*{1;-1})+5) /7))","v":""},{"$f":"IF(TabUren2[[#This Row],[datum]]=\"\",\"\",TabUren2[[#This Row],[datum]])","v":""},null,null,{"$f":"IF(TabUren2[[#This Row],[datum]]=\"\",\"\",verzameldata!$C$3)","v":""},null,null,null,null,{"$f":"IF(TabUren2[[#This Row],[eindtijd]]=\"\",\"\",IF(TabUren2[[#This Row],[eindtijd]]<TabUren2[[#This Row],[begintijd]],(\"24:00\"-TabUren2[[#This Row],[begintijd]]+TabUren2[[#This Row],[eindtijd]])-TabUren2[[#This Row],[pauze]],(TabUren2[[#This Row],[eindtijd]]-TabUren2[[#This Row],[begintijd]])-TabUren2[[#This Row],[pauze]]))","v":""},{"$f":"IF(OR(TabUren2[hoofdcategorie]=\"\",TabUren2[hoofdcategorie]=0),\"anders dan hoofdcategorie\",TabUren2[hoofdcategorie])","v":"anders dan hoofdcategorie"}]
[{"$f":"IF(TabUren2[[#This Row],[datum]]=\"\",\"\",INT((TabUren2[[#This Row],[datum]]-SUM(MOD(DATE(YEAR(TabUren2[[#This Row],[datum]]-MOD(TabUren2[[#This Row],[datum]]-2,7)+3),1,2),{1E+99;7})*{1;-1})+5) /7))","v":""},{"$f":"IF(TabUren2[[#This Row],[datum]]=\"\",\"\",TabUren2[[#This Row],[datum]])","v":""},null,null,{"$f":"IF(TabUren2[[#This Row],[datum]]=\"\",\"\",verzameldata!$C$3)","v":""},null,null,null,null,{"$f":"IF(TabUren2[[#This Row],[eindtijd]]=\"\",\"\",IF(TabUren2[[#This Row],[eindtijd]]<TabUren2[[#This Row],[begintijd]],(\"24:00\"-TabUren2[[#This Row],[begintijd]]+TabUren2[[#This Row],[eindtijd]])-TabUren2[[#This Row],[pauze]],(TabUren2[[#This Row],[eindtijd]]-TabUren2[[#This Row],[begintijd]])-TabUren2[[#This Row],[pauze]]))","v":""},{"$f":"IF(OR(TabUren2[hoofdcategorie]=\"\",TabUren2[hoofdcategorie]=0),\"anders dan hoofdcategorie\",TabUren2[hoofdcategorie])","v":"anders dan hoofdcategorie"}]
[{"$f":"IF(TabUren2[[#This Row],[datum]]=\"\",\"\",INT((TabUren2[[#This Row],[datum]]-SUM(MOD(DATE(YEAR(TabUren2[[#This Row],[datum]]-MOD(TabUren2[[#This Row],[datum]]-2,7)+3),1,2),{1E+99;7})*{1;-1})+5) /7))","v":""},{"$f":"IF(TabUren2[[#This Row],[datum]]=\"\",\"\",TabUren2[[#This Row],[datum]])","v":""},null,null,{"$f":"IF(TabUren2[[#This Row],[datum]]=\"\",\"\",verzameldata!$C$3)","v":""},null,null,null,null,{"$f":"IF(TabUren2[[#This Row],[eindtijd]]=\"\",\"\",IF(TabUren2[[#This Row],[eindtijd]]<TabUren2[[#This Row],[begintijd]],(\"24:00\"-TabUren2[[#This Row],[begintijd]]+TabUren2[[#This Row],[eindtijd]])-TabUren2[[#This Row],[pauze]],(TabUren2[[#This Row],[eindtijd]]-TabUren2[[#This Row],[begintijd]])-TabUren2[[#This Row],[pauze]]))","v":""},{"$f":"IF(OR(TabUren2[hoofdcategorie]=\"\",TabUren2[hoofdcategorie]=0),\"anders dan hoofdcategorie\",TabUren2[hoofdcategorie])","v":"anders dan hoofdcategorie"}]
[{"$f":"IF(TabUren2[[#This Row],[datum]]=\"\",\"\",INT((TabUren2[[#This Row],[datum]]-SUM(MOD(DATE(YEAR(TabUren2[[#This Row],[datum]]-MOD(TabUren2[[#This Row],[datum]]-2,7)+3),1,2),{1E+99;7})*{1;-1})+5) /7))","v":""},{"$f":"IF(TabUren2[[#This Row],[datum]]=\"\",\"\",TabUren2[[#This Row],[datum]])","v":""},null,null,{"$f":"IF(TabUren2[[#This Row],[datum]]=\"\",\"\",verzameldata!$C$3)","v":""},null,null,null,null,{"$f":"IF(TabUren2[[#This Row],[eindtijd]]=\"\",\"\",IF(TabUren2[[#This Row],[eindtijd]]<TabUren2[[#This Row],[begintijd]],(\"24:00\"-TabUren2[[#This Row],[begintijd]]+TabUren2[[#This Row],[eindtijd]])-TabUren2[[#This Row],[pauze]],(TabUren2[[#This Row],[eindtijd]]-TabUren2[[#This Row],[begintijd]])-TabUren2[[#This Row],[pauze]]))","v":""},{"$f":"IF(OR(TabUren2[hoofdcategorie]=\"\",TabUren2[hoofdcategorie]=0),\"anders dan hoofdcategorie\",TabUren2[hoofdcategorie])","v":"anders dan hoofdcategorie"}]
[{"$f":"IF(TabUren2[[#This Row],[datum]]=\"\",\"\",INT((TabUren2[[#This Row],[datum]]-SUM(MOD(DATE(YEAR(TabUren2[[#This Row],[datum]]-MOD(TabUren2[[#This Row],[datum]]-2,7)+3),1,2),{1E+99;7})*{1;-1})+5) /7))","v":""},{"$f":"IF(TabUren2[[#This Row],[datum]]=\"\",\"\",TabUren2[[#This Row],[datum]])","v":""},null,null,{"$f":"IF(TabUren2[[#This Row],[datum]]=\"\",\"\",verzameldata!$C$3)","v":""},null,null,null,null,{"$f":"IF(TabUren2[[#This Row],[eindtijd]]=\"\",\"\",IF(TabUren2[[#This Row],[eindtijd]]<TabUren2[[#This Row],[begintijd]],(\"24:00\"-TabUren2[[#This Row],[begintijd]]+TabUren2[[#This Row],[eindtijd]])-TabUren2[[#This Row],[pauze]],(TabUren2[[#This Row],[eindtijd]]-TabUren2[[#This Row],[begintijd]])-TabUren2[[#This Row],[pauze]]))","v":""},{"$f":"IF(OR(TabUren2[hoofdcategorie]=\"\",TabUren2[hoofdcategorie]=0),\"anders dan hoofdcategorie\",TabUren2[hoofdcategorie])","v":"anders dan hoofdcategorie"}]
[{"$f":"IF(TabUren2[[#This Row],[datum]]=\"\",\"\",INT((TabUren2[[#This Row],[datum]]-SUM(MOD(DATE(YEAR(TabUren2[[#This Row],[datum]]-MOD(TabUren2[[#This Row],[datum]]-2,7)+3),1,2),{1E+99;7})*{1;-1})+5) /7))","v":""},{"$f":"IF(TabUren2[[#This Row],[datum]]=\"\",\"\",TabUren2[[#This Row],[datum]])","v":""},null,null,{"$f":"IF(TabUren2[[#This Row],[datum]]=\"\",\"\",verzameldata!$C$3)","v":""},null,null,null,null,{"$f":"IF(TabUren2[[#This Row],[eindtijd]]=\"\",\"\",IF(TabUren2[[#This Row],[eindtijd]]<TabUren2[[#This Row],[begintijd]],(\"24:00\"-TabUren2[[#This Row],[begintijd]]+TabUren2[[#This Row],[eindtijd]])-TabUren2[[#This Row],[pauze]],(TabUren2[[#This Row],[eindtijd]]-TabUren2[[#This Row],[begintijd]])-TabUren2[[#This Row],[pauze]]))","v":""},{"$f":"IF(OR(TabUren2[hoofdcategorie]=\"\",TabUren2[hoofdcategorie]=0),\"anders dan hoofdcategorie\",TabUren2[hoofdcategorie])","v":"anders dan hoofdcategorie"}]
[{"$f":"IF(TabUren2[[#This Row],[datum]]=\"\",\"\",INT((TabUren2[[#This Row],[datum]]-SUM(MOD(DATE(YEAR(TabUren2[[#This Row],[datum]]-MOD(TabUren2[[#This Row],[datum]]-2,7)+3),1,2),{1E+99;7})*{1;-1})+5) /7))","v":""},{"$f":"IF(TabUren2[[#This Row],[datum]]=\"\",\"\",TabUren2[[#This Row],[datum]])","v":""},null,null,{"$f":"IF(TabUren2[[#This Row],[datum]]=\"\",\"\",verzameldata!$C$3)","v":""},null,null,null,null,{"$f":"IF(TabUren2[[#This Row],[eindtijd]]=\"\",\"\",IF(TabUren2[[#This Row],[eindtijd]]<TabUren2[[#This Row],[begintijd]],(\"24:00\"-TabUren2[[#This Row],[begintijd]]+TabUren2[[#This Row],[eindtijd]])-TabUren2[[#This Row],[pauze]],(TabUren2[[#This Row],[eindtijd]]-TabUren2[[#This Row],[begintijd]])-TabUren2[[#This Row],[pauze]]))","v":""},{"$f":"IF(OR(TabUren2[hoofdcategorie]=\"\",TabUren2[hoofdcategorie]=0),\"anders dan hoofdcategorie\",TabUren2[hoofdcategorie])","v":"anders dan hoofdcategorie"}]
[{"$f":"IF(TabUren2[[#This Row],[datum]]=\"\",\"\",INT((TabUren2[[#This Row],[datum]]-SUM(MOD(DATE(YEAR(TabUren2[[#This Row],[datum]]-MOD(TabUren2[[#This Row],[datum]]-2,7)+3),1,2),{1E+99;7})*{1;-1})+5) /7))","v":""},{"$f":"IF(TabUren2[[#This Row],[datum]]=\"\",\"\",TabUren2[[#This Row],[datum]])","v":""},null,null,{"$f":"IF(TabUren2[[#This Row],[datum]]=\"\",\"\",verzameldata!$C$3)","v":""},null,null,null,null,{"$f":"IF(TabUren2[[#This Row],[eindtijd]]=\"\",\"\",IF(TabUren2[[#This Row],[eindtijd]]<TabUren2[[#This Row],[begintijd]],(\"24:00\"-TabUren2[[#This Row],[begintijd]]+TabUren2[[#This Row],[eindtijd]])-TabUren2[[#This Row],[pauze]],(TabUren2[[#This Row],[eindtijd]]-TabUren2[[#This Row],[begintijd]])-TabUren2[[#This Row],[pauze]]))","v":""},{"$f":"IF(OR(TabUren2[hoofdcategorie]=\"\",TabUren2[hoofdcategorie]=0),\"anders dan hoofdcategorie\",TabUren2[hoofdcategorie])","v":"anders dan hoofdcategorie"}]
[{"$f":"IF(TabUren2[[#This Row],[datum]]=\"\",\"\",INT((TabUren2[[#This Row],[datum]]-SUM(MOD(DATE(YEAR(TabUren2[[#This Row],[datum]]-MOD(TabUren2[[#This Row],[datum]]-2,7)+3),1,2),{1E+99;7})*{1;-1})+5) /7))","v":""},{"$f":"IF(TabUren2[[#This Row],[datum]]=\"\",\"\",TabUren2[[#This Row],[datum]])","v":""},null,null,{"$f":"IF(TabUren2[[#This Row],[datum]]=\"\",\"\",verzameldata!$C$3)","v":""},null,null,null,null,{"$f":"IF(TabUren2[[#This Row],[eindtijd]]=\"\",\"\",IF(TabUren2[[#This Row],[eindtijd]]<TabUren2[[#This Row],[begintijd]],(\"24:00\"-TabUren2[[#This Row],[begintijd]]+TabUren2[[#This Row],[eindtijd]])-TabUren2[[#This Row],[pauze]],(TabUren2[[#This Row],[eindtijd]]-TabUren2[[#This Row],[begintijd]])-TabUren2[[#This Row],[pauze]]))","v":""},{"$f":"IF(OR(TabUren2[hoofdcategorie]=\"\",TabUren2[hoofdcategorie]=0),\"anders dan hoofdcategorie\",TabUren2[hoofdcategorie])","v":"anders dan hoofdcategorie"}]
[{"$f":"IF(TabUren2[[#This Row],[datum]]=\"\",\"\",INT((TabUren2[[#This Row],[datum]]-SUM(MOD(DATE(YEAR(TabUren2[[#This Row],[datum]]-MOD(TabUren2[[#This Row],[datum]]-2,7)+3),1,2),{1E+99;7})*{1;-1})+5) /7))","v":""},{"$f":"IF(TabUren2[[#This Row],[datum]]=\"\",\"\",TabUren2[[#This Row],[datum]])","v":""},null,null,{"$f":"IF(TabUren2[[#This Row],[datum]]=\"\",\"\",verzameldata!$C$3)","v":""},null,null,null,null,{"$f":"IF(TabUren2[[#This Row],[eindtijd]]=\"\",\"\",IF(TabUren2[[#This Row],[eindtijd]]<TabUren2[[#This Row],[begintijd]],(\"24:00\"-TabUren2[[#This Row],[begintijd]]+TabUren2[[#This Row],[eindtijd]])-TabUren2[[#This Row],[pauze]],(TabUren2[[#This Row],[eindtijd]]-TabUren2[[#This Row],[begintijd]])-TabUren2[[#This Row],[pauze]]))","v":""},{"$f":"IF(OR(TabUren2[hoofdcategorie]=\"\",TabUren2[hoofdcategorie]=0),\"anders dan hoofdcategorie\",TabUren2[hoofdcategorie])","v":"anders dan hoofdcategorie"}]
[{"$f":"IF(TabUren2[[#This Row],[datum]]=\"\",\"\",INT((TabUren2[[#This Row],[datum]]-SUM(MOD(DATE(YEAR(TabUren2[[#This Row],[datum]]-MOD(TabUren2[[#This Row],[datum]]-2,7)+3),1,2),{1E+99;7})*{1;-1})+5) /7))","v":""},{"$f":"IF(TabUren2[[#This Row],[datum]]=\"\",\"\",TabUren2[[#This Row],[datum]])","v":""},null,null,{"$f":"IF(TabUren2[[#This Row],[datum]]=\"\",\"\",verzameldata!$C$3)","v":""},null,null,null,null,{"$f":"IF(TabUren2[[#This Row],[eindtijd]]=\"\",\"\",IF(TabUren2[[#This Row],[eindtijd]]<TabUren2[[#This Row],[begintijd]],(\"24:00\"-TabUren2[[#This Row],[begintijd]]+TabUren2[[#This Row],[eindtijd]])-TabUren2[[#This Row],[pauze]],(TabUren2[[#This Row],[eindtijd]]-TabUren2[[#This Row],[begintijd]])-TabUren2[[#This Row],[pauze]]))","v":""},{"$f":"IF(OR(TabUren2[hoofdcategorie]=\"\",TabUren2[hoofdcategorie]=0),\"anders dan hoofdcategorie\",TabUren2[hoofdcategorie])","v":"anders dan hoofdcategorie"}]
[{"$f":"IF(TabUren2[[#This Row],[datum]]=\"\",\"\",INT((TabUren2[[#This Row],[datum]]-SUM(MOD(DATE(YEAR(TabUren2[[#This Row],[datum]]-MOD(TabUren2[[#This Row],[datum]]-2,7)+3),1,2),{1E+99;7})*{1;-1})+5) /7))","v":""},{"$f":"IF(TabUren2[[#This Row],[datum]]=\"\",\"\",TabUren2[[#This Row],[datum]])","v":""},null,null,{"$f":"IF(TabUren2[[#This Row],[datum]]=\"\",\"\",verzameldata!$C$3)","v":""},null,null,null,null,{"$f":"IF(TabUren2[[#This Row],[eindtijd]]=\"\",\"\",IF(TabUren2[[#This Row],[eindtijd]]<TabUren2[[#This Row],[begintijd]],(\"24:00\"-TabUren2[[#This Row],[begintijd]]+TabUren2[[#This Row],[eindtijd]])-TabUren2[[#This Row],[pauze]],(TabUren2[[#This Row],[eindtijd]]-TabUren2[[#This Row],[begintijd]])-TabUren2[[#This Row],[pauze]]))","v":""},{"$f":"IF(OR(TabUren2[hoofdcategorie]=\"\",TabUren2[hoofdcategorie]=0),\"anders dan hoofdcategorie\",TabUren2[hoofdcategorie])","v":"anders dan hoofdcategorie"}]

{"sheet":"LOG2","index":7,"n_rows":501,"n_cols":11,"rows_kept":501,"cut":false,"hidden":false,"merged":[]}
[]
[]
["wk","dag","datum","schoolvak","uitvoerder","omschrijving","begintijd","eindtijd","pauze","totaal\n(-pauze)"]
["WK","dag","datum","hoofdcategorie","subcategorie","omschrijving","begintijd","eindtijd","pauze","totaal"]
[{"$f":"IF(TabUren22[[#This Row],[datum]]=\"\",\"\",INT((TabUren22[[#This Row],[datum]]-SUM(MOD(DATE(YEAR(TabUren22[[#This Row],[datum]]-MOD(TabUren22[[#This Row],[datum]]-2,7)+3),1,2),{1E+99;7})*{1;-1})+5) /7))","v":8},{"$f":"IF(TabUren22[[#This Row],[datum]]=\"\",\"\",TabUren22[[#This Row],[datum]])","v":"2015-02-22"},"2015-02-22","Wiskunde",{"$f":"IF(TabUren22[[#This Row],[datum]]=\"\",\"\",verzameldata!$C$4)","v":""},null,"01:00:00","02:00:00",null,{"$f":"IF(TabUren22[[#This Row],[eindtijd]]=\"\",\"\",IF(TabUren22[[#This Row],[eindtijd]]<TabUren22[[#This Row],[begintijd]],(\"24:00\"-TabUren22[[#This Row],[begintijd]]+TabUren22[[#This Row],[eindtijd]])-TabUren22[[#This Row],[pauze]],(TabUren22[[#This Row],[eindtijd]]-TabUren22[[#This Row],[begintijd]])-TabUren22[[#This Row],[pauze]]))","v":4.1666666666666664E-2},{"$f":"IF(OR(TabUren22[hoofdcategorie]=\"\",TabUren22[hoofdcategorie]=0),\"anders dan hoofdcategorie\",TabUren22[hoofdcategorie])","v":"Wiskunde"}]
[{"$f":"IF(TabUren22[[#This Row],[datum]]=\"\",\"\",INT((TabUren22[[#This Row],[datum]]-SUM(MOD(DATE(YEAR(TabUren22[[#This Row],[datum]]-MOD(TabUren22[[#This Row],[datum]]-2,7)+3),1,2),{1E+99;7})*{1;-1})+5) /7))","v":""},{"$f":"IF(TabUren22[[#This Row],[datum]]=\"\",\"\",TabUren22[[#This Row],[datum]])","v":""},null,null,{"$f":"IF(TabUren22[[#This Row],[datum]]=\"\",\"\",verzameldata!$C$4)","v":""},null,null,null,null,{"$f":"IF(TabUren22[[#This Row],[eindtijd]]=\"\",\"\",IF(TabUren22[[#This Row],[eindtijd]]<TabUren22[[#This Row],[begintijd]],(\"24:00\"-TabUren22[[#This Row],[begintijd]]+TabUren22[[#This Row],[eindtijd]])-TabUren22[[#This Row],[pauze]],(TabUren22[[#This Row],[eindtijd]]-TabUren22[[#This Row],[begintijd]])-TabUren22[[#This Row],[pauze]]))","v":""},{"$f":"IF(OR(TabUren22[hoofdcategorie]=\"\",TabUren22[hoofdcategorie]=0),\"anders dan hoofdcategorie\",TabUren22[hoofdcategorie])","v":"anders dan hoofdcategorie"}]
[{"$f":"IF(TabUren22[[#This Row],[datum]]=\"\",\"\",INT((TabUren22[[#This Row],[datum]]-SUM(MOD(DATE(YEAR(TabUren22[[#This Row],[datum]]-MOD(TabUren22[[#This Row],[datum]]-2,7)+3),1,2),{1E+99;7})*{1;-1})+5) /7))","v":""},{"$f":"IF(TabUren22[[#This Row],[datum]]=\"\",\"\",TabUren22[[#This Row],[datum]])","v":""},null,null,{"$f":"IF(TabUren22[[#This Row],[datum]]=\"\",\"\",verzameldata!$C$4)","v":""},null,null,null,null,{"$f":"IF(TabUren22[[#This Row],[eindtijd]]=\"\",\"\",IF(TabUren22[[#This Row],[eindtijd]]<TabUren22[[#This Row],[begintijd]],(\"24:00\"-TabUren22[[#This Row],[begintijd]]+TabUren22[[#This Row],[eindtijd]])-TabUren22[[#This Row],[pauze]],(TabUren22[[#This Row],[eindtijd]]-TabUren22[[#This Row],[begintijd]])-TabUren22[[#This Row],[pauze]]))","v":""},{"$f":"IF(OR(TabUren22[hoofdcategorie]=\"\",TabUren22[hoofdcategorie]=0),\"anders dan hoofdcategorie\",TabUren22[hoofdcategorie])","v":"anders dan hoofdcategorie"}]
[{"$f":"IF(TabUren22[[#This Row],[datum]]=\"\",\"\",INT((TabUren22[[#This Row],[datum]]-SUM(MOD(DATE(YEAR(TabUren22[[#This Row],[datum]]-MOD(TabUren22[[#This Row],[datum]]-2,7)+3),1,2),{1E+99;7})*{1;-1})+5) /7))","v":""},{"$f":"IF(TabUren22[[#This Row],[datum]]=\"\",\"\",TabUren22[[#This Row],[datum]])","v":""},null,null,{"$f":"IF(TabUren22[[#This Row],[datum]]=\"\",\"\",verzameldata!$C$4)","v":""},null,null,null,null,{"$f":"IF(TabUren22[[#This Row],[eindtijd]]=\"\",\"\",IF(TabUren22[[#This Row],[eindtijd]]<TabUren22[[#This Row],[begintijd]],(\"24:00\"-TabUren22[[#This Row],[begintijd]]+TabUren22[[#This Row],[eindtijd]])-TabUren22[[#This Row],[pauze]],(TabUren22[[#This Row],[eindtijd]]-TabUren22[[#This Row],[begintijd]])-TabUren22[[#This Row],[pauze]]))","v":""},{"$f":"IF(OR(TabUren22[hoofdcategorie]=\"\",TabUren22[hoofdcategorie]=0),\"anders dan hoofdcategorie\",TabUren22[hoofdcategorie])","v":"anders dan hoofdcategorie"}]
[{"$f":"IF(TabUren22[[#This Row],[datum]]=\"\",\"\",INT((TabUren22[[#This Row],[datum]]-SUM(MOD(DATE(YEAR(TabUren22[[#This Row],[datum]]-MOD(TabUren22[[#This Row],[datum]]-2,7)+3),1,2),{1E+99;7})*{1;-1})+5) /7))","v":""},{"$f":"IF(TabUren22[[#This Row],[datum]]=\"\",\"\",TabUren22[[#This Row],[datum]])","v":""},null,null,{"$f":"IF(TabUren22[[#This Row],[datum]]=\"\",\"\",verzameldata!$C$4)","v":""},null,null,null,null,{"$f":"IF(TabUren22[[#This Row],[eindtijd]]=\"\",\"\",IF(TabUren22[[#This Row],[eindtijd]]<TabUren22[[#This Row],[begintijd]],(\"24:00\"-TabUren22[[#This Row],[begintijd]]+TabUren22[[#This Row],[eindtijd]])-TabUren22[[#This Row],[pauze]],(TabUren22[[#This Row],[eindtijd]]-TabUren22[[#This Row],[begintijd]])-TabUren22[[#This Row],[pauze]]))","v":""},{"$f":"IF(OR(TabUren22[hoofdcategorie]=\"\",TabUren22[hoofdcategorie]=0),\"anders dan hoofdcategorie\",TabUren22[hoofdcategorie])","v":"anders dan hoofdcategorie"}]
[{"$f":"IF(TabUren22[[#This Row],[datum]]=\"\",\"\",INT((TabUren22[[#This Row],[datum]]-SUM(MOD(DATE(YEAR(TabUren22[[#This Row],[datum]]-MOD(TabUren22[[#This Row],[datum]]-2,7)+3),1,2),{1E+99;7})*{1;-1})+5) /7))","v":""},{"$f":"IF(TabUren22[[#This Row],[datum]]=\"\",\"\",TabUren22[[#This Row],[datum]])","v":""},null,null,{"$f":"IF(TabUren22[[#This Row],[datum]]=\"\",\"\",verzameldata!$C$4)","v":""},null,null,null,null,{"$f":"IF(TabUren22[[#This Row],[eindtijd]]=\"\",\"\",IF(TabUren22[[#This Row],[eindtijd]]<TabUren22[[#This Row],[begintijd]],(\"24:00\"-TabUren22[[#This Row],[begintijd]]+TabUren22[[#This Row],[eindtijd]])-TabUren22[[#This Row],[pauze]],(TabUren22[[#This Row],[eindtijd]]-TabUren22[[#This Row],[begintijd]])-TabUren22[[#This Row],[pauze]]))","v":""},{"$f":"IF(OR(TabUren22[hoofdcategorie]=\"\",TabUren22[hoofdcategorie]=0),\"anders dan hoofdcategorie\",TabUren22[hoofdcategorie])","v":"anders dan hoofdcategorie"}]
[{"$f":"IF(TabUren22[[#This Row],[datum]]=\"\",\"\",INT((TabUren22[[#This Row],[datum]]-SUM(MOD(DATE(YEAR(TabUren22[[#This Row],[datum]]-MOD(TabUren22[[#This Row],[datum]]-2,7)+3),1,2),{1E+99;7})*{1;-1})+5) /7))","v":""},{"$f":"IF(TabUren22[[#This Row],[datum]]=\"\",\"\",TabUren22[[#This Row],[datum]])","v":""},null,null,{"$f":"IF(TabUren22[[#This Row],[datum]]=\"\",\"\",verzameldata!$C$4)","v":""},null,null,null,null,{"$f":"IF(TabUren22[[#This Row],[eindtijd]]=\"\",\"\",IF(TabUren22[[#This Row],[eindtijd]]<TabUren22[[#This Row],[begintijd]],(\"24:00\"-TabUren22[[#This Row],[begintijd]]+TabUren22[[#This Row],[eindtijd]])-TabUren22[[#This Row],[pauze]],(TabUren22[[#This Row],[eindtijd]]-TabUren22[[#This Row],[begintijd]])-TabUren22[[#This Row],[pauze]]))","v":""},{"$f":"IF(OR(TabUren22[hoofdcategorie]=\"\",TabUren22[hoofdcategorie]=0),\"anders dan hoofdcategorie\",TabUren22[hoofdcategorie])","v":"anders dan hoofdcategorie"}]
[{"$f":"IF(TabUren22[[#This Row],[datum]]=\"\",\"\",INT((TabUren22[[#This Row],[datum]]-SUM(MOD(DATE(YEAR(TabUren22[[#This Row],[datum]]-MOD(TabUren22[[#This Row],[datum]]-2,7)+3),1,2),{1E+99;7})*{1;-1})+5) /7))","v":""},{"$f":"IF(TabUren22[[#This Row],[datum]]=\"\",\"\",TabUren22[[#This Row],[datum]])","v":""},null,null,{"$f":"IF(TabUren22[[#This Row],[datum]]=\"\",\"\",verzameldata!$C$4)","v":""},null,null,null,null,{"$f":"IF(TabUren22[[#This Row],[eindtijd]]=\"\",\"\",IF(TabUren22[[#This Row],[eindtijd]]<TabUren22[[#This Row],[begintijd]],(\"24:00\"-TabUren22[[#This Row],[begintijd]]+TabUren22[[#This Row],[eindtijd]])-TabUren22[[#This Row],[pauze]],(TabUren22[[#This Row],[eindtijd]]-TabUren22[[#This Row],[begintijd]])-TabUren22[[#This Row],[pauze]]))","v":""},{"$f":"IF(OR(TabUren22[hoofdcategorie]=\"\",TabUren22[hoofdcategorie]=0),\"anders dan hoofdcategorie\",TabUren22[hoofdcategorie])","v":"anders dan hoofdcategorie"}]
[{"$f":"IF(TabUren22[[#This Row],[datum]]=\"\",\"\",INT((TabUren22[[#This Row],[datum]]-SUM(MOD(DATE(YEAR(TabUren22[[#This Row],[datum]]-MOD(TabUren22[[#This Row],[datum]]-2,7)+3),1,2),{1E+99;7})*{1;-1})+5) /7))","v":""},{"$f":"IF(TabUren22[[#This Row],[datum]]=\"\",\"\",TabUren22[[#This Row],[datum]])","v":""},null,null,{"$f":"IF(TabUren22[[#This Row],[datum]]=\"\",\"\",verzameldata!$C$4)","v":""},null,null,null,null,{"$f":"IF(TabUren22[[#This Row],[eindtijd]]=\"\",\"\",IF(TabUren22[[#This Row],[eindtijd]]<TabUren22[[#This Row],[begintijd]],(\"24:00\"-TabUren22[[#This Row],[begintijd]]+TabUren22[[#This Row],[eindtijd]])-TabUren22[[#This Row],[pauze]],(TabUren22[[#This Row],[eindtijd]]-TabUren22[[#This Row],[begintijd]])-TabUren22[[#This Row],[pauze]]))","v":""},{"$f":"IF(OR(TabUren22[hoofdcategorie]=\"\",TabUren22[hoofdcategorie]=0),\"anders dan hoofdcategorie\",TabUren22[hoofdcategorie])","v":"anders dan hoofdcategorie"}]
[{"$f":"IF(TabUren22[[#This Row],[datum]]=\"\",\"\",INT((TabUren22[[#This Row],[datum]]-SUM(MOD(DATE(YEAR(TabUren22[[#This Row],[datum]]-MOD(TabUren22[[#This Row],[datum]]-2,7)+3),1,2),{1E+99;7})*{1;-1})+5) /7))","v":""},{"$f":"IF(TabUren22[[#This Row],[datum]]=\"\",\"\",TabUren22[[#This Row],[datum]])","v":""},null,null,{"$f":"IF(TabUren22[[#This Row],[datum]]=\"\",\"\",verzameldata!$C$4)","v":""},null,null,null,null,{"$f":"IF(TabUren22[[#This Row],[eindtijd]]=\"\",\"\",IF(TabUren22[[#This Row],[eindtijd]]<TabUren22[[#This Row],[begintijd]],(\"24:00\"-TabUren22[[#This Row],[begintijd]]+TabUren22[[#This Row],[eindtijd]])-TabUren22[[#This Row],[pauze]],(TabUren22[[#This Row],[eindtijd]]-TabUren22[[#This Row],[begintijd]])-TabUren22[[#This Row],[pauze]]))","v":""},{"$f":"IF(OR(TabUren22[hoofdcategorie]=\"\",TabUren22[hoofdcategorie]=0),\"anders dan hoofdcategorie\",TabUren22[hoofdcategorie])","v":"anders dan hoofdcategorie"}]
[{"$f":"IF(TabUren22[[#This Row],[datum]]=\"\",\"\",INT((TabUren22[[#This Row],[datum]]-SUM(MOD(DATE(YEAR(TabUren22[[#This Row],[datum]]-MOD(TabUren22[[#This Row],[datum]]-2,7)+3),1,2),{1E+99;7})*{1;-1})+5) /7))","v":""},{"$f":"IF(TabUren22[[#This Row],[datum]]=\"\",\"\",TabUren22[[#This Row],[datum]])","v":""},null,null,{"$f":"IF(TabUren22[[#This Row],[datum]]=\"\",\"\",verzameldata!$C$4)","v":""},null,null,null,null,{"$f":"IF(TabUren22[[#This Row],[eindtijd]]=\"\",\"\",IF(TabUren22[[#This Row],[eindtijd]]<TabUren22[[#This Row],[begintijd]],(\"24:00\"-TabUren22[[#This Row],[begintijd]]+TabUren22[[#This Row],[eindtijd]])-TabUren22[[#This Row],[pauze]],(TabUren22[[#This Row],[eindtijd]]-TabUren22[[#This Row],[begintijd]])-TabUren22[[#This Row],[pauze]]))","v":""},{"$f":"IF(OR(TabUren22[hoofdcategorie]=\"\",TabUren22[hoofdcategorie]=0),\"anders dan hoofdcategorie\",TabUren22[hoofdcategorie])","v":"anders dan hoofdcategorie"}]
[{"$f":"IF(TabUren22[[#This Row],[datum]]=\"\",\"\",INT((TabUren22[[#This Row],[datum]]-SUM(MOD(DATE(YEAR(TabUren22[[#This Row],[datum]]-MOD(TabUren22[[#This Row],[datum]]-2,7)+3),1,2),{1E+99;7})*{1;-1})+5) /7))","v":""},{"$f":"IF(TabUren22[[#This Row],[datum]]=\"\",\"\",TabUren22[[#This Row],[datum]])","v":""},null,null,{"$f":"IF(TabUren22[[#This Row],[datum]]=\"\",\"\",verzameldata!$C$4)","v":""},null,null,null,null,{"$f":"IF(TabUren22[[#This Row],[eindtijd]]=\"\",\"\",IF(TabUren22[[#This Row],[eindtijd]]<TabUren22[[#This Row],[begintijd]],(\"24:00\"-TabUren22[[#This Row],[begintijd]]+TabUren22[[#This Row],[eindtijd]])-TabUren22[[#This Row],[pauze]],(TabUren22[[#This Row],[eindtijd]]-TabUren22[[#This Row],[begintijd]])-TabUren22[[#This Row],[pauze]]))","v":""},{"$f":"IF(OR(TabUren22[hoofdcategorie]=\"\",TabUren22[hoofdcategorie]=0),\"anders dan hoofdcategorie\",TabUren22[hoofdcategorie])","v":"anders dan hoofdcategorie"}]
[{"$f":"IF(TabUren22[[#This Row],[datum]]=\"\",\"\",INT((TabUren22[[#This Row],[datum]]-SUM(MOD(DATE(YEAR(TabUren22[[#This Row],[datum]]-MOD(TabUren22[[#This Row],[datum]]-2,7)+3),1,2),{1E+99;7})*{1;-1})+5) /7))","v":""},{"$f":"IF(TabUren22[[#This Row],[datum]]=\"\",\"\",TabUren22[[#This Row],[datum]])","v":""},null,null,{"$f":"IF(TabUren22[[#This Row],[datum]]=\"\",\"\",verzameldata!$C$4)","v":""},null,null,null,null,{"$f":"IF(TabUren22[[#This Row],[eindtijd]]=\"\",\"\",IF(TabUren22[[#This Row],[eindtijd]]<TabUren22[[#This Row],[begintijd]],(\"24:00\"-TabUren22[[#This Row],[begintijd]]+TabUren22[[#This Row],[eindtijd]])-TabUren22[[#This Row],[pauze]],(TabUren22[[#This Row],[eindtijd]]-TabUren22[[#This Row],[begintijd]])-TabUren22[[#This Row],[pauze]]))","v":""},{"$f":"IF(OR(TabUren22[hoofdcategorie]=\"\",TabUren22[hoofdcategorie]=0),\"anders dan hoofdcategorie\",TabUren22[hoofdcategorie])","v":"anders dan hoofdcategorie"}]
[{"$f":"IF(TabUren22[[#This Row],[datum]]=\"\",\"\",INT((TabUren22[[#This Row],[datum]]-SUM(MOD(DATE(YEAR(TabUren22[[#This Row],[datum]]-MOD(TabUren22[[#This Row],[datum]]-2,7)+3),1,2),{1E+99;7})*{1;-1})+5) /7))","v":""},{"$f":"IF(TabUren22[[#This Row],[datum]]=\"\",\"\",TabUren22[[#This Row],[datum]])","v":""},null,null,{"$f":"IF(TabUren22[[#This Row],[datum]]=\"\",\"\",verzameldata!$C$4)","v":""},null,null,null,null,{"$f":"IF(TabUren22[[#This Row],[eindtijd]]=\"\",\"\",IF(TabUren22[[#This Row],[eindtijd]]<TabUren22[[#This Row],[begintijd]],(\"24:00\"-TabUren22[[#This Row],[begintijd]]+TabUren22[[#This Row],[eindtijd]])-TabUren22[[#This Row],[pauze]],(TabUren22[[#This Row],[eindtijd]]-TabUren22[[#This Row],[begintijd]])-TabUren22[[#This Row],[pauze]]))","v":""},{"$f":"IF(OR(TabUren22[hoofdcategorie]=\"\",TabUren22[hoofdcategorie]=0),\"anders dan hoofdcategorie\",TabUren22[hoofdcategorie])","v":"anders dan hoofdcategorie"}]
[{"$f":"IF(TabUren22[[#This Row],[datum]]=\"\",\"\",INT((TabUren22[[#This Row],[datum]]-SUM(MOD(DATE(YEAR(TabUren22[[#This Row],[datum]]-MOD(TabUren22[[#This Row],[datum]]-2,7)+3),1,2),{1E+99;7})*{1;-1})+5) /7))","v":""},{"$f":"IF(TabUren22[[#This Row],[datum]]=\"\",\"\",TabUren22[[#This Row],[datum]])","v":""},null,null,{"$f":"IF(TabUren22[[#This Row],[datum]]=\"\",\"\",verzameldata!$C$4)","v":""},null,null,null,null,{"$f":"IF(TabUren22[[#This Row],[eindtijd]]=\"\",\"\",IF(TabUren22[[#This Row],[eindtijd]]<TabUren22[[#This Row],[begintijd]],(\"24:00\"-TabUren22[[#This Row],[begintijd]]+TabUren22[[#This Row],[eindtijd]])-TabUren22[[#This Row],[pauze]],(TabUren22[[#This Row],[eindtijd]]-TabUren22[[#This Row],[begintijd]])-TabUren22[[#This Row],[pauze]]))","v":""},{"$f":"IF(OR(TabUren22[hoofdcategorie]=\"\",TabUren22[hoofdcategorie]=0),\"anders dan hoofdcategorie\",TabUren22[hoofdcategorie])","v":"anders dan hoofdcategorie"}]
[{"$f":"IF(TabUren22[[#This Row],[datum]]=\"\",\"\",INT((TabUren22[[#This Row],[datum]]-SUM(MOD(DATE(YEAR(TabUren22[[#This Row],[datum]]-MOD(TabUren22[[#This Row],[datum]]-2,7)+3),1,2),{1E+99;7})*{1;-1})+5) /7))","v":""},{"$f":"IF(TabUren22[[#This Row],[datum]]=\"\",\"\",TabUren22[[#This Row],[datum]])","v":""},null,null,{"$f":"IF(TabUren22[[#This Row],[datum]]=\"\",\"\",verzameldata!$C$4)","v":""},null,null,null,null,{"$f":"IF(TabUren22[[#This Row],[eindtijd]]=\"\",\"\",IF(TabUren22[[#This Row],[eindtijd]]<TabUren22[[#This Row],[begintijd]],(\"24:00\"-TabUren22[[#This Row],[begintijd]]+TabUren22[[#This Row],[eindtijd]])-TabUren22[[#This Row],[pauze]],(TabUren22[[#This Row],[eindtijd]]-TabUren22[[#This Row],[begintijd]])-TabUren22[[#This Row],[pauze]]))","v":""},{"$f":"IF(OR(TabUren22[hoofdcategorie]=\"\",TabUren22[hoofdcategorie]=0),\"anders dan hoofdcategorie\",TabUren22[hoofdcategorie])","v":"anders dan hoofdcategorie"}]
[{"$f":"IF(TabUren22[[#This Row],[datum]]=\"\",\"\",INT((TabUren22[[#This Row],[datum]]-SUM(MOD(DATE(YEAR(TabUren22[[#This Row],[datum]]-MOD(TabUren22[[#This Row],[datum]]-2,7)+3),1,2),{1E+99;7})*{1;-1})+5) /7))","v":""},{"$f":"IF(TabUren22[[#This Row],[datum]]=\"\",\"\",TabUren22[[#This Row],[datum]])","v":""},null,null,{"$f":"IF(TabUren22[[#This Row],[datum]]=\"\",\"\",verzameldata!$C$4)","v":""},null,null,null,null,{"$f":"IF(TabUren22[[#This Row],[eindtijd]]=\"\",\"\",IF(TabUren22[[#This Row],[eindtijd]]<TabUren22[[#This Row],[begintijd]],(\"24:00\"-TabUren22[[#This Row],[begintijd]]+TabUren22[[#This Row],[eindtijd]])-TabUren22[[#This Row],[pauze]],(TabUren22[[#This Row],[eindtijd]]-TabUren22[[#This Row],[begintijd]])-TabUren22[[#This Row],[pauze]]))","v":""},{"$f":"IF(OR(TabUren22[hoofdcategorie]=\"\",TabUren22[hoofdcategorie]=0),\"anders dan hoofdcategorie\",TabUren22[hoofdcategorie])","v":"anders dan hoofdcategorie"}]
[{"$f":"IF(TabUren22[[#This Row],[datum]]=\"\",\"\",INT((TabUren22[[#This Row],[datum]]-SUM(MOD(DATE(YEAR(TabUren22[[#This Row],[datum]]-MOD(TabUren22[[#This Row],[datum]]-2,7)+3),1,2),{1E+99;7})*{1;-1})+5) /7))","v":""},{"$f":"IF(TabUren22[[#This Row],[datum]]=\"\",\"\",TabUren22[[#This Row],[datum]])","v":""},null,null,{"$f":"IF(TabUren22[[#This Row],[datum]]=\"\",\"\",verzameldata!$C$4)","v":""},null,null,null,null,{"$f":"IF(TabUren22[[#This Row],[eindtijd]]=\"\",\"\",IF(TabUren22[[#This Row],[eindtijd]]<TabUren22[[#This Row],[begintijd]],(\"24:00\"-TabUren22[[#This Row],[begintijd]]+TabUren22[[#This Row],[eindtijd]])-TabUren22[[#This Row],[pauze]],(TabUren22[[#This Row],[eindtijd]]-TabUren22[[#This Row],[begintijd]])-TabUren22[[#This Row],[pauze]]))","v":""},{"$f":"IF(OR(TabUren22[hoofdcategorie]=\"\",TabUren22[hoofdcategorie]=0),\"anders dan hoofdcategorie\",TabUren22[hoofdcategorie])","v":"anders dan hoofdcategorie"}]
[{"$f":"IF(TabUren22[[#This Row],[datum]]=\"\",\"\",INT((TabUren22[[#This Row],[datum]]-SUM(MOD(DATE(YEAR(TabUren22[[#This Row],[datum]]-MOD(TabUren22[[#This Row],[datum]]-2,7)+3),1,2),{1E+99;7})*{1;-1})+5) /7))","v":""},{"$f":"IF(TabUren22[[#This Row],[datum]]=\"\",\"\",TabUren22[[#This Row],[datum]])","v":""},null,null,{"$f":"IF(TabUren22[[#This Row],[datum]]=\"\",\"\",verzameldata!$C$4)","v":""},null,null,null,null,{"$f":"IF(TabUren22[[#This Row],[eindtijd]]=\"\",\"\",IF(TabUren22[[#This Row],[eindtijd]]<TabUren22[[#This Row],[begintijd]],(\"24:00\"-TabUren22[[#This Row],[begintijd]]+TabUren22[[#This Row],[eindtijd]])-TabUren22[[#This Row],[pauze]],(TabUren22[[#This Row],[eindtijd]]-TabUren22[[#This Row],[begintijd]])-TabUren22[[#This Row],[pauze]]))","v":""},{"$f":"IF(OR(TabUren22[hoofdcategorie]=\"\",TabUren22[hoofdcategorie]=0),\"anders dan hoofdcategorie\",TabUren22[hoofdcategorie])","v":"anders dan hoofdcategorie"}]
[{"$f":"IF(TabUren22[[#This Row],[datum]]=\"\",\"\",INT((TabUren22[[#This Row],[datum]]-SUM(MOD(DATE(YEAR(TabUren22[[#This Row],[datum]]-MOD(TabUren22[[#This Row],[datum]]-2,7)+3),1,2),{1E+99;7})*{1;-1})+5) /7))","v":""},{"$f":"IF(TabUren22[[#This Row],[datum]]=\"\",\"\",TabUren22[[#This Row],[datum]])","v":""},null,null,{"$f":"IF(TabUren22[[#This Row],[datum]]=\"\",\"\",verzameldata!$C$4)","v":""},null,null,null,null,{"$f":"IF(TabUren22[[#This Row],[eindtijd]]=\"\",\"\",IF(TabUren22[[#This Row],[eindtijd]]<TabUren22[[#This Row],[begintijd]],(\"24:00\"-TabUren22[[#This Row],[begintijd]]+TabUren22[[#This Row],[eindtijd]])-TabUren22[[#This Row],[pauze]],(TabUren22[[#This Row],[eindtijd]]-TabUren22[[#This Row],[begintijd]])-TabUren22[[#This Row],[pauze]]))","v":""},{"$f":"IF(OR(TabUren22[hoofdcategorie]=\"\",TabUren22[hoofdcategorie]=0),\"anders dan hoofdcategorie\",TabUren22[hoofdcategorie])","v":"anders dan hoofdcategorie"}]
[{"$f":"IF(TabUren22[[#This Row],[datum]]=\"\",\"\",INT((TabUren22[[#This Row],[datum]]-SUM(MOD(DATE(YEAR(TabUren22[[#This Row],[datum]]-MOD(TabUren22[[#This Row],[datum]]-2,7)+3),1,2),{1E+99;7})*{1;-1})+5) /7))","v":""},{"$f":"IF(TabUren22[[#This Row],[datum]]=\"\",\"\",TabUren22[[#This Row],[datum]])","v":""},null,null,{"$f":"IF(TabUren22[[#This Row],[datum]]=\"\",\"\",verzameldata!$C$4)","v":""},null,null,null,null,{"$f":"IF(TabUren22[[#This Row],[eindtijd]]=\"\",\"\",IF(TabUren22[[#This Row],[eindtijd]]<TabUren22[[#This Row],[begintijd]],(\"24:00\"-TabUren22[[#This Row],[begintijd]]+TabUren22[[#This Row],[eindtijd]])-TabUren22[[#This Row],[pauze]],(TabUren22[[#This Row],[eindtijd]]-TabUren22[[#This Row],[begintijd]])-TabUren22[[#This Row],[pauze]]))","v":""},{"$f":"IF(OR(TabUren22[hoofdcategorie]=\"\",TabUren22[hoofdcategorie]=0),\"anders dan hoofdcategorie\",TabUren22[hoofdcategorie])","v":"anders dan hoofdcategorie"}]
[{"$f":"IF(TabUren22[[#This Row],[datum]]=\"\",\"\",INT((TabUren22[[#This Row],[datum]]-SUM(MOD(DATE(YEAR(TabUren22[[#This Row],[datum]]-MOD(TabUren22[[#This Row],[datum]]-2,7)+3),1,2),{1E+99;7})*{1;-1})+5) /7))","v":""},{"$f":"IF(TabUren22[[#This Row],[datum]]=\"\",\"\",TabUren22[[#This Row],[datum]])","v":""},null,null,{"$f":"IF(TabUren22[[#This Row],[datum]]=\"\",\"\",verzameldata!$C$4)","v":""},null,null,null,null,{"$f":"IF(TabUren22[[#This Row],[eindtijd]]=\"\",\"\",IF(TabUren22[[#This Row],[eindtijd]]<TabUren22[[#This Row],[begintijd]],(\"24:00\"-TabUren22[[#This Row],[begintijd]]+TabUren22[[#This Row],[eindtijd]])-TabUren22[[#This Row],[pauze]],(TabUren22[[#This Row],[eindtijd]]-TabUren22[[#This Row],[begintijd]])-TabUren22[[#This Row],[pauze]]))","v":""},{"$f":"IF(OR(TabUren22[hoofdcategorie]=\"\",TabUren22[hoofdcategorie]=0),\"anders dan hoofdcategorie\",TabUren22[hoofdcategorie])","v":"anders dan hoofdcategorie"}]
[{"$f":"IF(TabUren22[[#This Row],[datum]]=\"\",\"\",INT((TabUren22[[#This Row],[datum]]-SUM(MOD(DATE(YEAR(TabUren22[[#This Row],[datum]]-MOD(TabUren22[[#This Row],[datum]]-2,7)+3),1,2),{1E+99;7})*{1;-1})+5) /7))","v":""},{"$f":"IF(TabUren22[[#This Row],[datum]]=\"\",\"\",TabUren22[[#This Row],[datum]])","v":""},null,null,{"$f":"IF(TabUren22[[#This Row],[datum]]=\"\",\"\",verzameldata!$C$4)","v":""},null,null,null,null,{"$f":"IF(TabUren22[[#This Row],[eindtijd]]=\"\",\"\",IF(TabUren22[[#This Row],[eindtijd]]<TabUren22[[#This Row],[begintijd]],(\"24:00\"-TabUren22[[#This Row],[begintijd]]+TabUren22[[#This Row],[eindtijd]])-TabUren22[[#This Row],[pauze]],(TabUren22[[#This Row],[eindtijd]]-TabUren22[[#This Row],[begintijd]])-TabUren22[[#This Row],[pauze]]))","v":""},{"$f":"IF(OR(TabUren22[hoofdcategorie]=\"\",TabUren22[hoofdcategorie]=0),\"anders dan hoofdcategorie\",TabUren22[hoofdcategorie])","v":"anders dan hoofdcategorie"}]
[{"$f":"IF(TabUren22[[#This Row],[datum]]=\"\",\"\",INT((TabUren22[[#This Row],[datum]]-SUM(MOD(DATE(YEAR(TabUren22[[#This Row],[datum]]-MOD(TabUren22[[#This Row],[datum]]-2,7)+3),1,2),{1E+99;7})*{1;-1})+5) /7))","v":""},{"$f":"IF(TabUren22[[#This Row],[datum]]=\"\",\"\",TabUren22[[#This Row],[datum]])","v":""},null,null,{"$f":"IF(TabUren22[[#This Row],[datum]]=\"\",\"\",verzameldata!$C$4)","v":""},null,null,null,null,{"$f":"IF(TabUren22[[#This Row],[eindtijd]]=\"\",\"\",IF(TabUren22[[#This Row],[eindtijd]]<TabUren22[[#This Row],[begintijd]],(\"24:00\"-TabUren22[[#This Row],[begintijd]]+TabUren22[[#This Row],[eindtijd]])-TabUren22[[#This Row],[pauze]],(TabUren22[[#This Row],[eindtijd]]-TabUren22[[#This Row],[begintijd]])-TabUren22[[#This Row],[pauze]]))","v":""},{"$f":"IF(OR(TabUren22[hoofdcategorie]=\"\",TabUren22[hoofdcategorie]=0),\"anders dan hoofdcategorie\",TabUren22[hoofdcategorie])","v":"anders dan hoofdcategorie"}]
[{"$f":"IF(TabUren22[[#This Row],[datum]]=\"\",\"\",INT((TabUren22[[#This Row],[datum]]-SUM(MOD(DATE(YEAR(TabUren22[[#This Row],[datum]]-MOD(TabUren22[[#This Row],[datum]]-2,7)+3),1,2),{1E+99;7})*{1;-1})+5) /7))","v":""},{"$f":"IF(TabUren22[[#This Row],[datum]]=\"\",\"\",TabUren22[[#This Row],[datum]])","v":""},null,null,{"$f":"IF(TabUren22[[#This Row],[datum]]=\"\",\"\",verzameldata!$C$4)","v":""},null,null,null,null,{"$f":"IF(TabUren22[[#This Row],[eindtijd]]=\"\",\"\",IF(TabUren22[[#This Row],[eindtijd]]<TabUren22[[#This Row],[begintijd]],(\"24:00\"-TabUren22[[#This Row],[begintijd]]+TabUren22[[#This Row],[eindtijd]])-TabUren22[[#This Row],[pauze]],(TabUren22[[#This Row],[eindtijd]]-TabUren22[[#This Row],[begintijd]])-TabUren22[[#This Row],[pauze]]))","v":""},{"$f":"IF(OR(TabUren22[hoofdcategorie]=\"\",TabUren22[hoofdcategorie]=0),\"anders dan hoofdcategorie\",TabUren22[hoofdcategorie])","v":"anders dan hoofdcategorie"}]
[{"$f":"IF(TabUren22[[#This Row],[datum]]=\"\",\"\",INT((TabUren22[[#This Row],[datum]]-SUM(MOD(DATE(YEAR(TabUren22[[#This Row],[datum]]-MOD(TabUren22[[#This Row],[datum]]-2,7)+3),1,2),{1E+99;7})*{1;-1})+5) /7))","v":""},{"$f":"IF(TabUren22[[#This Row],[datum]]=\"\",\"\",TabUren22[[#This Row],[datum]])","v":""},null,null,{"$f":"IF(TabUren22[[#This Row],[datum]]=\"\",\"\",verzameldata!$C$4)","v":""},null,null,null,null,{"$f":"IF(TabUren22[[#This Row],[eindtijd]]=\"\",\"\",IF(TabUren22[[#This Row],[eindtijd]]<TabUren22[[#This Row],[begintijd]],(\"24:00\"-TabUren22[[#This Row],[begintijd]]+TabUren22[[#This Row],[eindtijd]])-TabUren22[[#This Row],[pauze]],(TabUren22[[#This Row],[eindtijd]]-TabUren22[[#This Row],[begintijd]])-TabUren22[[#This Row],[pauze]]))","v":""},{"$f":"IF(OR(TabUren22[hoofdcategorie]=\"\",TabUren22[hoofdcategorie]=0),\"anders dan hoofdcategorie\",TabUren22[hoofdcategorie])","v":"anders dan hoofdcategorie"}]
[{"$f":"IF(TabUren22[[#This Row],[datum]]=\"\",\"\",INT((TabUren22[[#This Row],[datum]]-SUM(MOD(DATE(YEAR(TabUren22[[#This Row],[datum]]-MOD(TabUren22[[#This Row],[datum]]-2,7)+3),1,2),{1E+99;7})*{1;-1})+5) /7))","v":""},{"$f":"IF(TabUren22[[#This Row],[datum]]=\"\",\"\",TabUren22[[#This Row],[datum]])","v":""},null,null,{"$f":"IF(TabUren22[[#This Row],[datum]]=\"\",\"\",verzameldata!$C$4)","v":""},null,null,null,null,{"$f":"IF(TabUren22[[#This Row],[eindtijd]]=\"\",\"\",IF(TabUren22[[#This Row],[eindtijd]]<TabUren22[[#This Row],[begintijd]],(\"24:00\"-TabUren22[[#This Row],[begintijd]]+TabUren22[[#This Row],[eindtijd]])-TabUren22[[#This Row],[pauze]],(TabUren22[[#This Row],[eindtijd]]-TabUren22[[#This Row],[begintijd]])-TabUren22[[#This Row],[pauze]]))","v":""},{"$f":"IF(OR(TabUren22[hoofdcategorie]=\"\",TabUren22[hoofdcategorie]=0),\"anders dan hoofdcategorie\",TabUren22[hoofdcategorie])","v":"anders dan hoofdcategorie"}]
[{"$f":"IF(TabUren22[[#This Row],[datum]]=\"\",\"\",INT((TabUren22[[#This Row],[datum]]-SUM(MOD(DATE(YEAR(TabUren22[[#This Row],[datum]]-MOD(TabUren22[[#This Row],[datum]]-2,7)+3),1,2),{1E+99;7})*{1;-1})+5) /7))","v":""},{"$f":"IF(TabUren22[[#This Row],[datum]]=\"\",\"\",TabUren22[[#This Row],[datum]])","v":""},null,null,{"$f":"IF(TabUren22[[#This Row],[datum]]=\"\",\"\",verzameldata!$C$4)","v":""},null,null,null,null,{"$f":"IF(TabUren22[[#This Row],[eindtijd]]=\"\",\"\",IF(TabUren22[[#This Row],[eindtijd]]<TabUren22[[#This Row],[begintijd]],(\"24:00\"-TabUren22[[#This Row],[begintijd]]+TabUren22[[#This Row],[eindtijd]])-TabUren22[[#This Row],[pauze]],(TabUren22[[#This Row],[eindtijd]]-TabUren22[[#This Row],[begintijd]])-TabUren22[[#This Row],[pauze]]))","v":""},{"$f":"IF(OR(TabUren22[hoofdcategorie]=\"\",TabUren22[hoofdcategorie]=0),\"anders dan hoofdcategorie\",TabUren22[hoofdcategorie])","v":"anders dan hoofdcategorie"}]
[{"$f":"IF(TabUren22[[#This Row],[datum]]=\"\",\"\",INT((TabUren22[[#This Row],[datum]]-SUM(MOD(DATE(YEAR(TabUren22[[#This Row],[datum]]-MOD(TabUren22[[#This Row],[datum]]-2,7)+3),1,2),{1E+99;7})*{1;-1})+5) /7))","v":""},{"$f":"IF(TabUren22[[#This Row],[datum]]=\"\",\"\",TabUren22[[#This Row],[datum]])","v":""},null,null,{"$f":"IF(TabUren22[[#This Row],[datum]]=\"\",\"\",verzameldata!$C$4)","v":""},null,null,null,null,{"$f":"IF(TabUren22[[#This Row],[eindtijd]]=\"\",\"\",IF(TabUren22[[#This Row],[eindtijd]]<TabUren22[[#This Row],[begintijd]],(\"24:00\"-TabUren22[[#This Row],[begintijd]]+TabUren22[[#This Row],[eindtijd]])-TabUren22[[#This Row],[pauze]],(TabUren22[[#This Row],[eindtijd]]-TabUren22[[#This Row],[begintijd]])-TabUren22[[#This Row],[pauze]]))","v":""},{"$f":"IF(OR(TabUren22[hoofdcategorie]=\"\",TabUren22[hoofdcategorie]=0),\"anders dan hoofdcategorie\",TabUren22[hoofdcategorie])","v":"anders dan hoofdcategorie"}]
[{"$f":"IF(TabUren22[[#This Row],[datum]]=\"\",\"\",INT((TabUren22[[#This Row],[datum]]-SUM(MOD(DATE(YEAR(TabUren22[[#This Row],[datum]]-MOD(TabUren22[[#This Row],[datum]]-2,7)+3),1,2),{1E+99;7})*{1;-1})+5) /7))","v":""},{"$f":"IF(TabUren22[[#This Row],[datum]]=\"\",\"\",TabUren22[[#This Row],[datum]])","v":""},null,null,{"$f":"IF(TabUren22[[#This Row],[datum]]=\"\",\"\",verzameldata!$C$4)","v":""},null,null,null,null,{"$f":"IF(TabUren22[[#This Row],[eindtijd]]=\"\",\"\",IF(TabUren22[[#This Row],[eindtijd]]<TabUren22[[#This Row],[begintijd]],(\"24:00\"-TabUren22[[#This Row],[begintijd]]+TabUren22[[#This Row],[eindtijd]])-TabUren22[[#This Row],[pauze]],(TabUren22[[#This Row],[eindtijd]]-TabUren22[[#This Row],[begintijd]])-TabUren22[[#This Row],[pauze]]))","v":""},{"$f":"IF(OR(TabUren22[hoofdcategorie]=\"\",TabUren22[hoofdcategorie]=0),\"anders dan hoofdcategorie\",TabUren22[hoofdcategorie])","v":"anders dan hoofdcategorie"}]
[{"$f":"IF(TabUren22[[#This Row],[datum]]=\"\",\"\",INT((TabUren22[[#This Row],[datum]]-SUM(MOD(DATE(YEAR(TabUren22[[#This Row],[datum]]-MOD(TabUren22[[#This Row],[datum]]-2,7)+3),1,2),{1E+99;7})*{1;-1})+5) /7))","v":""},{"$f":"IF(TabUren22[[#This Row],[datum]]=\"\",\"\",TabUren22[[#This Row],[datum]])","v":""},null,null,{"$f":"IF(TabUren22[[#This Row],[datum]]=\"\",\"\",verzameldata!$C$4)","v":""},null,null,null,null,{"$f":"IF(TabUren22[[#This Row],[eindtijd]]=\"\",\"\",IF(TabUren22[[#This Row],[eindtijd]]<TabUren22[[#This Row],[begintijd]],(\"24:00\"-TabUren22[[#This Row],[begintijd]]+TabUren22[[#This Row],[eindtijd]])-TabUren22[[#This Row],[pauze]],(TabUren22[[#This Row],[eindtijd]]-TabUren22[[#This Row],[begintijd]])-TabUren22[[#This Row],[pauze]]))","v":""},{"$f":"IF(OR(TabUren22[hoofdcategorie]=\"\",TabUren22[hoofdcategorie]=0),\"anders dan hoofdcategorie\",TabUren22[hoofdcategorie])","v":"anders dan hoofdcategorie"}]
[{"$f":"IF(TabUren22[[#This Row],[datum]]=\"\",\"\",INT((TabUren22[[#This Row],[datum]]-SUM(MOD(DATE(YEAR(TabUren22[[#This Row],[datum]]-MOD(TabUren22[[#This Row],[datum]]-2,7)+3),1,2),{1E+99;7})*{1;-1})+5) /7))","v":""},{"$f":"IF(TabUren22[[#This Row],[datum]]=\"\",\"\",TabUren22[[#This Row],[datum]])","v":""},null,null,{"$f":"IF(TabUren22[[#This Row],[datum]]=\"\",\"\",verzameldata!$C$4)","v":""},null,null,null,null,{"$f":"IF(TabUren22[[#This Row],[eindtijd]]=\"\",\"\",IF(TabUren22[[#This Row],[eindtijd]]<TabUren22[[#This Row],[begintijd]],(\"24:00\"-TabUren22[[#This Row],[begintijd]]+TabUren22[[#This Row],[eindtijd]])-TabUren22[[#This Row],[pauze]],(TabUren22[[#This Row],[eindtijd]]-TabUren22[[#This Row],[begintijd]])-TabUren22[[#This Row],[pauze]]))","v":""},{"$f":"IF(OR(TabUren22[hoofdcategorie]=\"\",TabUren22[hoofdcategorie]=0),\"anders dan hoofdcategorie\",TabUren22[hoofdcategorie])","v":"anders dan hoofdcategorie"}]
[{"$f":"IF(TabUren22[[#This Row],[datum]]=\"\",\"\",INT((TabUren22[[#This Row],[datum]]-SUM(MOD(DATE(YEAR(TabUren22[[#This Row],[datum]]-MOD(TabUren22[[#This Row],[datum]]-2,7)+3),1,2),{1E+99;7})*{1;-1})+5) /7))","v":""},{"$f":"IF(TabUren22[[#This Row],[datum]]=\"\",\"\",TabUren22[[#This Row],[datum]])","v":""},null,null,{"$f":"IF(TabUren22[[#This Row],[datum]]=\"\",\"\",verzameldata!$C$4)","v":""},null,null,null,null,{"$f":"IF(TabUren22[[#This Row],[eindtijd]]=\"\",\"\",IF(TabUren22[[#This Row],[eindtijd]]<TabUren22[[#This Row],[begintijd]],(\"24:00\"-TabUren22[[#This Row],[begintijd]]+TabUren22[[#This Row],[eindtijd]])-TabUren22[[#This Row],[pauze]],(TabUren22[[#This Row],[eindtijd]]-TabUren22[[#This Row],[begintijd]])-TabUren22[[#This Row],[pauze]]))","v":""},{"$f":"IF(OR(TabUren22[hoofdcategorie]=\"\",TabUren22[hoofdcategorie]=0),\"anders dan hoofdcategorie\",TabUren22[hoofdcategorie])","v":"anders dan hoofdcategorie"}]
[{"$f":"IF(TabUren22[[#This Row],[datum]]=\"\",\"\",INT((TabUren22[[#This Row],[datum]]-SUM(MOD(DATE(YEAR(TabUren22[[#This Row],[datum]]-MOD(TabUren22[[#This Row],[datum]]-2,7)+3),1,2),{1E+99;7})*{1;-1})+5) /7))","v":""},{"$f":"IF(TabUren22[[#This Row],[datum]]=\"\",\"\",TabUren22[[#This Row],[datum]])","v":""},null,null,{"$f":"IF(TabUren22[[#This Row],[datum]]=\"\",\"\",verzameldata!$C$4)","v":""},null,null,null,null,{"$f":"IF(TabUren22[[#This Row],[eindtijd]]=\"\",\"\",IF(TabUren22[[#This Row],[eindtijd]]<TabUren22[[#This Row],[begintijd]],(\"24:00\"-TabUren22[[#This Row],[begintijd]]+TabUren22[[#This Row],[eindtijd]])-TabUren22[[#This Row],[pauze]],(TabUren22[[#This Row],[eindtijd]]-TabUren22[[#This Row],[begintijd]])-TabUren22[[#This Row],[pauze]]))","v":""},{"$f":"IF(OR(TabUren22[hoofdcategorie]=\"\",TabUren22[hoofdcategorie]=0),\"anders dan hoofdcategorie\",TabUren22[hoofdcategorie])","v":"anders dan hoofdcategorie"}]
[{"$f":"IF(TabUren22[[#This Row],[datum]]=\"\",\"\",INT((TabUren22[[#This Row],[datum]]-SUM(MOD(DATE(YEAR(TabUren22[[#This Row],[datum]]-MOD(TabUren22[[#This Row],[datum]]-2,7)+3),1,2),{1E+99;7})*{1;-1})+5) /7))","v":""},{"$f":"IF(TabUren22[[#This Row],[datum]]=\"\",\"\",TabUren22[[#This Row],[datum]])","v":""},null,null,{"$f":"IF(TabUren22[[#This Row],[datum]]=\"\",\"\",verzameldata!$C$4)","v":""},null,null,null,null,{"$f":"IF(TabUren22[[#This Row],[eindtijd]]=\"\",\"\",IF(TabUren22[[#This Row],[eindtijd]]<TabUren22[[#This Row],[begintijd]],(\"24:00\"-TabUren22[[#This Row],[begintijd]]+TabUren22[[#This Row],[eindtijd]])-TabUren22[[#This Row],[pauze]],(TabUren22[[#This Row],[eindtijd]]-TabUren22[[#This Row],[begintijd]])-TabUren22[[#This Row],[pauze]]))","v":""},{"$f":"IF(OR(TabUren22[hoofdcategorie]=\"\",TabUren22[hoofdcategorie]=0),\"anders dan hoofdcategorie\",TabUren22[hoofdcategorie])","v":"anders dan hoofdcategorie"}]
[{"$f":"IF(TabUren22[[#This Row],[datum]]=\"\",\"\",INT((TabUren22[[#This Row],[datum]]-SUM(MOD(DATE(YEAR(TabUren22[[#This Row],[datum]]-MOD(TabUren22[[#This Row],[datum]]-2,7)+3),1,2),{1E+99;7})*{1;-1})+5) /7))","v":""},{"$f":"IF(TabUren22[[#This Row],[datum]]=\"\",\"\",TabUren22[[#This Row],[datum]])","v":""},null,null,{"$f":"IF(TabUren22[[#This Row],[datum]]=\"\",\"\",verzameldata!$C$4)","v":""},null,null,null,null,{"$f":"IF(TabUren22[[#This Row],[eindtijd]]=\"\",\"\",IF(TabUren22[[#This Row],[eindtijd]]<TabUren22[[#This Row],[begintijd]],(\"24:00\"-TabUren22[[#This Row],[begintijd]]+TabUren22[[#This Row],[eindtijd]])-TabUren22[[#This Row],[pauze]],(TabUren22[[#This Row],[eindtijd]]-TabUren22[[#This Row],[begintijd]])-TabUren22[[#This Row],[pauze]]))","v":""},{"$f":"IF(OR(TabUren22[hoofdcategorie]=\"\",TabUren22[hoofdcategorie]=0),\"anders dan hoofdcategorie\",TabUren22[hoofdcategorie])","v":"anders dan hoofdcategorie"}]
[{"$f":"IF(TabUren22[[#This Row],[datum]]=\"\",\"\",INT((TabUren22[[#This Row],[datum]]-SUM(MOD(DATE(YEAR(TabUren22[[#This Row],[datum]]-MOD(TabUren22[[#This Row],[datum]]-2,7)+3),1,2),{1E+99;7})*{1;-1})+5) /7))","v":""},{"$f":"IF(TabUren22[[#This Row],[datum]]=\"\",\"\",TabUren22[[#This Row],[datum]])","v":""},null,null,{"$f":"IF(TabUren22[[#This Row],[datum]]=\"\",\"\",verzameldata!$C$4)","v":""},null,null,null,null,{"$f":"IF(TabUren22[[#This Row],[eindtijd]]=\"\",\"\",IF(TabUren22[[#This Row],[eindtijd]]<TabUren22[[#This Row],[begintijd]],(\"24:00\"-TabUren22[[#This Row],[begintijd]]+TabUren22[[#This Row],[eindtijd]])-TabUren22[[#This Row],[pauze]],(TabUren22[[#This Row],[eindtijd]]-TabUren22[[#This Row],[begintijd]])-TabUren22[[#This Row],[pauze]]))","v":""},{"$f":"IF(OR(TabUren22[hoofdcategorie]=\"\",TabUren22[hoofdcategorie]=0),\"anders dan hoofdcategorie\",TabUren22[hoofdcategorie])","v":"anders dan hoofdcategorie"}]
[{"$f":"IF(TabUren22[[#This Row],[datum]]=\"\",\"\",INT((TabUren22[[#This Row],[datum]]-SUM(MOD(DATE(YEAR(TabUren22[[#This Row],[datum]]-MOD(TabUren22[[#This Row],[datum]]-2,7)+3),1,2),{1E+99;7})*{1;-1})+5) /7))","v":""},{"$f":"IF(TabUren22[[#This Row],[datum]]=\"\",\"\",TabUren22[[#This Row],[datum]])","v":""},null,null,{"$f":"IF(TabUren22[[#This Row],[datum]]=\"\",\"\",verzameldata!$C$4)","v":""},null,null,null,null,{"$f":"IF(TabUren22[[#This Row],[eindtijd]]=\"\",\"\",IF(TabUren22[[#This Row],[eindtijd]]<TabUren22[[#This Row],[begintijd]],(\"24:00\"-TabUren22[[#This Row],[begintijd]]+TabUren22[[#This Row],[eindtijd]])-TabUren22[[#This Row],[pauze]],(TabUren22[[#This Row],[eindtijd]]-TabUren22[[#This Row],[begintijd]])-TabUren22[[#This Row],[pauze]]))","v":""},{"$f":"IF(OR(TabUren22[hoofdcategorie]=\"\",TabUren22[hoofdcategorie]=0),\"anders dan hoofdcategorie\",TabUren22[hoofdcategorie])","v":"anders dan hoofdcategorie"}]
[{"$f":"IF(TabUren22[[#This Row],[datum]]=\"\",\"\",INT((TabUren22[[#This Row],[datum]]-SUM(MOD(DATE(YEAR(TabUren22[[#This Row],[datum]]-MOD(TabUren22[[#This Row],[datum]]-2,7)+3),1,2),{1E+99;7})*{1;-1})+5) /7))","v":""},{"$f":"IF(TabUren22[[#This Row],[datum]]=\"\",\"\",TabUren22[[#This Row],[datum]])","v":""},null,null,{"$f":"IF(TabUren22[[#This Row],[datum]]=\"\",\"\",verzameldata!$C$4)","v":""},null,null,null,null,{"$f":"IF(TabUren22[[#This Row],[eindtijd]]=\"\",\"\",IF(TabUren22[[#This Row],[eindtijd]]<TabUren22[[#This Row],[begintijd]],(\"24:00\"-TabUren22[[#This Row],[begintijd]]+TabUren22[[#This Row],[eindtijd]])-TabUren22[[#This Row],[pauze]],(TabUren22[[#This Row],[eindtijd]]-TabUren22[[#This Row],[begintijd]])-TabUren22[[#This Row],[pauze]]))","v":""},{"$f":"IF(OR(TabUren22[hoofdcategorie]=\"\",TabUren22[hoofdcategorie]=0),\"anders dan hoofdcategorie\",TabUren22[hoofdcategorie])","v":"anders dan hoofdcategorie"}]
[{"$f":"IF(TabUren22[[#This Row],[datum]]=\"\",\"\",INT((TabUren22[[#This Row],[datum]]-SUM(MOD(DATE(YEAR(TabUren22[[#This Row],[datum]]-MOD(TabUren22[[#This Row],[datum]]-2,7)+3),1,2),{1E+99;7})*{1;-1})+5) /7))","v":""},{"$f":"IF(TabUren22[[#This Row],[datum]]=\"\",\"\",TabUren22[[#This Row],[datum]])","v":""},null,null,{"$f":"IF(TabUren22[[#This Row],[datum]]=\"\",\"\",verzameldata!$C$4)","v":""},null,null,null,null,{"$f":"IF(TabUren22[[#This Row],[eindtijd]]=\"\",\"\",IF(TabUren22[[#This Row],[eindtijd]]<TabUren22[[#This Row],[begintijd]],(\"24:00\"-TabUren22[[#This Row],[begintijd]]+TabUren22[[#This Row],[eindtijd]])-TabUren22[[#This Row],[pauze]],(TabUren22[[#This Row],[eindtijd]]-TabUren22[[#This Row],[begintijd]])-TabUren22[[#This Row],[pauze]]))","v":""},{"$f":"IF(OR(TabUren22[hoofdcategorie]=\"\",TabUren22[hoofdcategorie]=0),\"anders dan hoofdcategorie\",TabUren22[hoofdcategorie])","v":"anders dan hoofdcategorie"}]
[{"$f":"IF(TabUren22[[#This Row],[datum]]=\"\",\"\",INT((TabUren22[[#This Row],[datum]]-SUM(MOD(DATE(YEAR(TabUren22[[#This Row],[datum]]-MOD(TabUren22[[#This Row],[datum]]-2,7)+3),1,2),{1E+99;7})*{1;-1})+5) /7))","v":""},{"$f":"IF(TabUren22[[#This Row],[datum]]=\"\",\"\",TabUren22[[#This Row],[datum]])","v":""},null,null,{"$f":"IF(TabUren22[[#This Row],[datum]]=\"\",\"\",verzameldata!$C$4)","v":""},null,null,null,null,{"$f":"IF(TabUren22[[#This Row],[eindtijd]]=\"\",\"\",IF(TabUren22[[#This Row],[eindtijd]]<TabUren22[[#This Row],[begintijd]],(\"24:00\"-TabUren22[[#This Row],[begintijd]]+TabUren22[[#This Row],[eindtijd]])-TabUren22[[#This Row],[pauze]],(TabUren22[[#This Row],[eindtijd]]-TabUren22[[#This Row],[begintijd]])-TabUren22[[#This Row],[pauze]]))","v":""},{"$f":"IF(OR(TabUren22[hoofdcategorie]=\"\",TabUren22[hoofdcategorie]=0),\"anders dan hoofdcategorie\",TabUren22[hoofdcategorie])","v":"anders dan hoofdcategorie"}]
[{"$f":"IF(TabUren22[[#This Row],[datum]]=\"\",\"\",INT((TabUren22[[#This Row],[datum]]-SUM(MOD(DATE(YEAR(TabUren22[[#This Row],[datum]]-MOD(TabUren22[[#This Row],[datum]]-2,7)+3),1,2),{1E+99;7})*{1;-1})+5) /7))","v":""},{"$f":"IF(TabUren22[[#This Row],[datum]]=\"\",\"\",TabUren22[[#This Row],[datum]])","v":""},null,null,{"$f":"IF(TabUren22[[#This Row],[datum]]=\"\",\"\",verzameldata!$C$4)","v":""},null,null,null,null,{"$f":"IF(TabUren22[[#This Row],[eindtijd]]=\"\",\"\",IF(TabUren22[[#This Row],[eindtijd]]<TabUren22[[#This Row],[begintijd]],(\"24:00\"-TabUren22[[#This Row],[begintijd]]+TabUren22[[#This Row],[eindtijd]])-TabUren22[[#This Row],[pauze]],(TabUren22[[#This Row],[eindtijd]]-TabUren22[[#This Row],[begintijd]])-TabUren22[[#This Row],[pauze]]))","v":""},{"$f":"IF(OR(TabUren22[hoofdcategorie]=\"\",TabUren22[hoofdcategorie]=0),\"anders dan hoofdcategorie\",TabUren22[hoofdcategorie])","v":"anders dan hoofdcategorie"}]
[{"$f":"IF(TabUren22[[#This Row],[datum]]=\"\",\"\",INT((TabUren22[[#This Row],[datum]]-SUM(MOD(DATE(YEAR(TabUren22[[#This Row],[datum]]-MOD(TabUren22[[#This Row],[datum]]-2,7)+3),1,2),{1E+99;7})*{1;-1})+5) /7))","v":""},{"$f":"IF(TabUren22[[#This Row],[datum]]=\"\",\"\",TabUren22[[#This Row],[datum]])","v":""},null,null,{"$f":"IF(TabUren22[[#This Row],[datum]]=\"\",\"\",verzameldata!$C$4)","v":""},null,null,null,null,{"$f":"IF(TabUren22[[#This Row],[eindtijd]]=\"\",\"\",IF(TabUren22[[#This Row],[eindtijd]]<TabUren22[[#This Row],[begintijd]],(\"24:00\"-TabUren22[[#This Row],[begintijd]]+TabUren22[[#This Row],[eindtijd]])-TabUren22[[#This Row],[pauze]],(TabUren22[[#This Row],[eindtijd]]-TabUren22[[#This Row],[begintijd]])-TabUren22[[#This Row],[pauze]]))","v":""},{"$f":"IF(OR(TabUren22[hoofdcategorie]=\"\",TabUren22[hoofdcategorie]=0),\"anders dan hoofdcategorie\",TabUren22[hoofdcategorie])","v":"anders dan hoofdcategorie"}]
[{"$f":"IF(TabUren22[[#This Row],[datum]]=\"\",\"\",INT((TabUren22[[#This Row],[datum]]-SUM(MOD(DATE(YEAR(TabUren22[[#This Row],[datum]]-MOD(TabUren22[[#This Row],[datum]]-2,7)+3),1,2),{1E+99;7})*{1;-1})+5) /7))","v":""},{"$f":"IF(TabUren22[[#This Row],[datum]]=\"\",\"\",TabUren22[[#This Row],[datum]])","v":""},null,null,{"$f":"IF(TabUren22[[#This Row],[datum]]=\"\",\"\",verzameldata!$C$4)","v":""},null,null,null,null,{"$f":"IF(TabUren22[[#This Row],[eindtijd]]=\"\",\"\",IF(TabUren22[[#This Row],[eindtijd]]<TabUren22[[#This Row],[begintijd]],(\"24:00\"-TabUren22[[#This Row],[begintijd]]+TabUren22[[#This Row],[eindtijd]])-TabUren22[[#This Row],[pauze]],(TabUren22[[#This Row],[eindtijd]]-TabUren22[[#This Row],[begintijd]])-TabUren22[[#This Row],[pauze]]))","v":""},{"$f":"IF(OR(TabUren22[hoofdcategorie]=\"\",TabUren22[hoofdcategorie]=0),\"anders dan hoofdcategorie\",TabUren22[hoofdcategorie])","v":"anders dan hoofdcategorie"}]
[{"$f":"IF(TabUren22[[#This Row],[datum]]=\"\",\"\",INT((TabUren22[[#This Row],[datum]]-SUM(MOD(DATE(YEAR(TabUren22[[#This Row],[datum]]-MOD(TabUren22[[#This Row],[datum]]-2,7)+3),1,2),{1E+99;7})*{1;-1})+5) /7))","v":""},{"$f":"IF(TabUren22[[#This Row],[datum]]=\"\",\"\",TabUren22[[#This Row],[datum]])","v":""},null,null,{"$f":"IF(TabUren22[[#This Row],[datum]]=\"\",\"\",verzameldata!$C$4)","v":""},null,null,null,null,{"$f":"IF(TabUren22[[#This Row],[eindtijd]]=\"\",\"\",IF(TabUren22[[#This Row],[eindtijd]]<TabUren22[[#This Row],[begintijd]],(\"24:00\"-TabUren22[[#This Row],[begintijd]]+TabUren22[[#This Row],[eindtijd]])-TabUren22[[#This Row],[pauze]],(TabUren22[[#This Row],[eindtijd]]-TabUren22[[#This Row],[begintijd]])-TabUren22[[#This Row],[pauze]]))","v":""},{"$f":"IF(OR(TabUren22[hoofdcategorie]=\"\",TabUren22[hoofdcategorie]=0),\"anders dan hoofdcategorie\",TabUren22[hoofdcategorie])","v":"anders dan hoofdcategorie"}]
[{"$f":"IF(TabUren22[[#This Row],[datum]]=\"\",\"\",INT((TabUren22[[#This Row],[datum]]-SUM(MOD(DATE(YEAR(TabUren22[[#This Row],[datum]]-MOD(TabUren22[[#This Row],[datum]]-2,7)+3),1,2),{1E+99;7})*{1;-1})+5) /7))","v":""},{"$f":"IF(TabUren22[[#This Row],[datum]]=\"\",\"\",TabUren22[[#This Row],[datum]])","v":""},null,null,{"$f":"IF(TabUren22[[#This Row],[datum]]=\"\",\"\",verzameldata!$C$4)","v":""},null,null,null,null,{"$f":"IF(TabUren22[[#This Row],[eindtijd]]=\"\",\"\",IF(TabUren22[[#This Row],[eindtijd]]<TabUren22[[#This Row],[begintijd]],(\"24:00\"-TabUren22[[#This Row],[begintijd]]+TabUren22[[#This Row],[eindtijd]])-TabUren22[[#This Row],[pauze]],(TabUren22[[#This Row],[eindtijd]]-TabUren22[[#This Row],[begintijd]])-TabUren22[[#This Row],[pauze]]))","v":""},{"$f":"IF(OR(TabUren22[hoofdcategorie]=\"\",TabUren22[hoofdcategorie]=0),\"anders dan hoofdcategorie\",TabUren22[hoofdcategorie])","v":"anders dan hoofdcategorie"}]
[{"$f":"IF(TabUren22[[#This Row],[datum]]=\"\",\"\",INT((TabUren22[[#This Row],[datum]]-SUM(MOD(DATE(YEAR(TabUren22[[#This Row],[datum]]-MOD(TabUren22[[#This Row],[datum]]-2,7)+3),1,2),{1E+99;7})*{1;-1})+5) /7))","v":""},{"$f":"IF(TabUren22[[#This Row],[datum]]=\"\",\"\",TabUren22[[#This Row],[datum]])","v":""},null,null,{"$f":"IF(TabUren22[[#This Row],[datum]]=\"\",\"\",verzameldata!$C$4)","v":""},null,null,null,null,{"$f":"IF(TabUren22[[#This Row],[eindtijd]]=\"\",\"\",IF(TabUren22[[#This Row],[eindtijd]]<TabUren22[[#This Row],[begintijd]],(\"24:00\"-TabUren22[[#This Row],[begintijd]]+TabUren22[[#This Row],[eindtijd]])-TabUren22[[#This Row],[pauze]],(TabUren22[[#This Row],[eindtijd]]-TabUren22[[#This Row],[begintijd]])-TabUren22[[#This Row],[pauze]]))","v":""},{"$f":"IF(OR(TabUren22[hoofdcategorie]=\"\",TabUren22[hoofdcategorie]=0),\"anders dan hoofdcategorie\",TabUren22[hoofdcategorie])","v":"anders dan hoofdcategorie"}]
[{"$f":"IF(TabUren22[[#This Row],[datum]]=\"\",\"\",INT((TabUren22[[#This Row],[datum]]-SUM(MOD(DATE(YEAR(TabUren22[[#This Row],[datum]]-MOD(TabUren22[[#This Row],[datum]]-2,7)+3),1,2),{1E+99;7})*{1;-1})+5) /7))","v":""},{"$f":"IF(TabUren22[[#This Row],[datum]]=\"\",\"\",TabUren22[[#This Row],[datum]])","v":""},null,null,{"$f":"IF(TabUren22[[#This Row],[datum]]=\"\",\"\",verzameldata!$C$4)","v":""},null,null,null,null,{"$f":"IF(TabUren22[[#This Row],[eindtijd]]=\"\",\"\",IF(TabUren22[[#This Row],[eindtijd]]<TabUren22[[#This Row],[begintijd]],(\"24:00\"-TabUren22[[#This Row],[begintijd]]+TabUren22[[#This Row],[eindtijd]])-TabUren22[[#This Row],[pauze]],(TabUren22[[#This Row],[eindtijd]]-TabUren22[[#This Row],[begintijd]])-TabUren22[[#This Row],[pauze]]))","v":""},{"$f":"IF(OR(TabUren22[hoofdcategorie]=\"\",TabUren22[hoofdcategorie]=0),\"anders dan hoofdcategorie\",TabUren22[hoofdcategorie])","v":"anders dan hoofdcategorie"}]
[{"$f":"IF(TabUren22[[#This Row],[datum]]=\"\",\"\",INT((TabUren22[[#This Row],[datum]]-SUM(MOD(DATE(YEAR(TabUren22[[#This Row],[datum]]-MOD(TabUren22[[#This Row],[datum]]-2,7)+3),1,2),{1E+99;7})*{1;-1})+5) /7))","v":""},{"$f":"IF(TabUren22[[#This Row],[datum]]=\"\",\"\",TabUren22[[#This Row],[datum]])","v":""},null,null,{"$f":"IF(TabUren22[[#This Row],[datum]]=\"\",\"\",verzameldata!$C$4)","v":""},null,null,null,null,{"$f":"IF(TabUren22[[#This Row],[eindtijd]]=\"\",\"\",IF(TabUren22[[#This Row],[eindtijd]]<TabUren22[[#This Row],[begintijd]],(\"24:00\"-TabUren22[[#This Row],[begintijd]]+TabUren22[[#This Row],[eindtijd]])-TabUren22[[#This Row],[pauze]],(TabUren22[[#This Row],[eindtijd]]-TabUren22[[#This Row],[begintijd]])-TabUren22[[#This Row],[pauze]]))","v":""},{"$f":"IF(OR(TabUren22[hoofdcategorie]=\"\",TabUren22[hoofdcategorie]=0),\"anders dan hoofdcategorie\",TabUren22[hoofdcategorie])","v":"anders dan hoofdcategorie"}]
[{"$f":"IF(TabUren22[[#This Row],[datum]]=\"\",\"\",INT((TabUren22[[#This Row],[datum]]-SUM(MOD(DATE(YEAR(TabUren22[[#This Row],[datum]]-MOD(TabUren22[[#This Row],[datum]]-2,7)+3),1,2),{1E+99;7})*{1;-1})+5) /7))","v":""},{"$f":"IF(TabUren22[[#This Row],[datum]]=\"\",\"\",TabUren22[[#This Row],[datum]])","v":""},null,null,{"$f":"IF(TabUren22[[#This Row],[datum]]=\"\",\"\",verzameldata!$C$4)","v":""},null,null,null,null,{"$f":"IF(TabUren22[[#This Row],[eindtijd]]=\"\",\"\",IF(TabUren22[[#This Row],[eindtijd]]<TabUren22[[#This Row],[begintijd]],(\"24:00\"-TabUren22[[#This Row],[begintijd]]+TabUren22[[#This Row],[eindtijd]])-TabUren22[[#This Row],[pauze]],(TabUren22[[#This Row],[eindtijd]]-TabUren22[[#This Row],[begintijd]])-TabUren22[[#This Row],[pauze]]))","v":""},{"$f":"IF(OR(TabUren22[hoofdcategorie]=\"\",TabUren22[hoofdcategorie]=0),\"anders dan hoofdcategorie\",TabUren22[hoofdcategorie])","v":"anders dan hoofdcategorie"}]
[{"$f":"IF(TabUren22[[#This Row],[datum]]=\"\",\"\",INT((TabUren22[[#This Row],[datum]]-SUM(MOD(DATE(YEAR(TabUren22[[#This Row],[datum]]-MOD(TabUren22[[#This Row],[datum]]-2,7)+3),1,2),{1E+99;7})*{1;-1})+5) /7))","v":""},{"$f":"IF(TabUren22[[#This Row],[datum]]=\"\",\"\",TabUren22[[#This Row],[datum]])","v":""},null,null,{"$f":"IF(TabUren22[[#This Row],[datum]]=\"\",\"\",verzameldata!$C$4)","v":""},null,null,null,null,{"$f":"IF(TabUren22[[#This Row],[eindtijd]]=\"\",\"\",IF(TabUren22[[#This Row],[eindtijd]]<TabUren22[[#This Row],[begintijd]],(\"24:00\"-TabUren22[[#This Row],[begintijd]]+TabUren22[[#This Row],[eindtijd]])-TabUren22[[#This Row],[pauze]],(TabUren22[[#This Row],[eindtijd]]-TabUren22[[#This Row],[begintijd]])-TabUren22[[#This Row],[pauze]]))","v":""},{"$f":"IF(OR(TabUren22[hoofdcategorie]=\"\",TabUren22[hoofdcategorie]=0),\"anders dan hoofdcategorie\",TabUren22[hoofdcategorie])","v":"anders dan hoofdcategorie"}]
[{"$f":"IF(TabUren22[[#This Row],[datum]]=\"\",\"\",INT((TabUren22[[#This Row],[datum]]-SUM(MOD(DATE(YEAR(TabUren22[[#This Row],[datum]]-MOD(TabUren22[[#This Row],[datum]]-2,7)+3),1,2),{1E+99;7})*{1;-1})+5) /7))","v":""},{"$f":"IF(TabUren22[[#This Row],[datum]]=\"\",\"\",TabUren22[[#This Row],[datum]])","v":""},null,null,{"$f":"IF(TabUren22[[#This Row],[datum]]=\"\",\"\",verzameldata!$C$4)","v":""},null,null,null,null,{"$f":"IF(TabUren22[[#This Row],[eindtijd]]=\"\",\"\",IF(TabUren22[[#This Row],[eindtijd]]<TabUren22[[#This Row],[begintijd]],(\"24:00\"-TabUren22[[#This Row],[begintijd]]+TabUren22[[#This Row],[eindtijd]])-TabUren22[[#This Row],[pauze]],(TabUren22[[#This Row],[eindtijd]]-TabUren22[[#This Row],[begintijd]])-TabUren22[[#This Row],[pauze]]))","v":""},{"$f":"IF(OR(TabUren22[hoofdcategorie]=\"\",TabUren22[hoofdcategorie]=0),\"anders dan hoofdcategorie\",TabUren22[hoofdcategorie])","v":"anders dan hoofdcategorie"}]
[{"$f":"IF(TabUren22[[#This Row],[datum]]=\"\",\"\",INT((TabUren22[[#This Row],[datum]]-SUM(MOD(DATE(YEAR(TabUren22[[#This Row],[datum]]-MOD(TabUren22[[#This Row],[datum]]-2,7)+3),1,2),{1E+99;7})*{1;-1})+5) /7))","v":""},{"$f":"IF(TabUren22[[#This Row],[datum]]=\"\",\"\",TabUren22[[#This Row],[datum]])","v":""},null,null,{"$f":"IF(TabUren22[[#This Row],[datum]]=\"\",\"\",verzameldata!$C$4)","v":""},null,null,null,null,{"$f":"IF(TabUren22[[#This Row],[eindtijd]]=\"\",\"\",IF(TabUren22[[#This Row],[eindtijd]]<TabUren22[[#This Row],[begintijd]],(\"24:00\"-TabUren22[[#This Row],[begintijd]]+TabUren22[[#This Row],[eindtijd]])-TabUren22[[#This Row],[pauze]],(TabUren22[[#This Row],[eindtijd]]-TabUren22[[#This Row],[begintijd]])-TabUren22[[#This Row],[pauze]]))","v":""},{"$f":"IF(OR(TabUren22[hoofdcategorie]=\"\",TabUren22[hoofdcategorie]=0),\"anders dan hoofdcategorie\",TabUren22[hoofdcategorie])","v":"anders dan hoofdcategorie"}]
[{"$f":"IF(TabUren22[[#This Row],[datum]]=\"\",\"\",INT((TabUren22[[#This Row],[datum]]-SUM(MOD(DATE(YEAR(TabUren22[[#This Row],[datum]]-MOD(TabUren22[[#This Row],[datum]]-2,7)+3),1,2),{1E+99;7})*{1;-1})+5) /7))","v":""},{"$f":"IF(TabUren22[[#This Row],[datum]]=\"\",\"\",TabUren22[[#This Row],[datum]])","v":""},null,null,{"$f":"IF(TabUren22[[#This Row],[datum]]=\"\",\"\",verzameldata!$C$4)","v":""},null,null,null,null,{"$f":"IF(TabUren22[[#This Row],[eindtijd]]=\"\",\"\",IF(TabUren22[[#This Row],[eindtijd]]<TabUren22[[#This Row],[begintijd]],(\"24:00\"-TabUren22[[#This Row],[begintijd]]+TabUren22[[#This Row],[eindtijd]])-TabUren22[[#This Row],[pauze]],(TabUren22[[#This Row],[eindtijd]]-TabUren22[[#This Row],[begintijd]])-TabUren22[[#This Row],[pauze]]))","v":""},{"$f":"IF(OR(TabUren22[hoofdcategorie]=\"\",TabUren22[hoofdcategorie]=0),\"anders dan hoofdcategorie\",TabUren22[hoofdcategorie])","v":"anders dan hoofdcategorie"}]
[{"$f":"IF(TabUren22[[#This Row],[datum]]=\"\",\"\",INT((TabUren22[[#This Row],[datum]]-SUM(MOD(DATE(YEAR(TabUren22[[#This Row],[datum]]-MOD(TabUren22[[#This Row],[datum]]-2,7)+3),1,2),{1E+99;7})*{1;-1})+5) /7))","v":""},{"$f":"IF(TabUren22[[#This Row],[datum]]=\"\",\"\",TabUren22[[#This Row],[datum]])","v":""},null,null,{"$f":"IF(TabUren22[[#This Row],[datum]]=\"\",\"\",verzameldata!$C$4)","v":""},null,null,null,null,{"$f":"IF(TabUren22[[#This Row],[eindtijd]]=\"\",\"\",IF(TabUren22[[#This Row],[eindtijd]]<TabUren22[[#This Row],[begintijd]],(\"24:00\"-TabUren22[[#This Row],[begintijd]]+TabUren22[[#This Row],[eindtijd]])-TabUren22[[#This Row],[pauze]],(TabUren22[[#This Row],[eindtijd]]-TabUren22[[#This Row],[begintijd]])-TabUren22[[#This Row],[pauze]]))","v":""},{"$f":"IF(OR(TabUren22[hoofdcategorie]=\"\",TabUren22[hoofdcategorie]=0),\"anders dan hoofdcategorie\",TabUren22[hoofdcategorie])","v":"anders dan hoofdcategorie"}]
[{"$f":"IF(TabUren22[[#This Row],[datum]]=\"\",\"\",INT((TabUren22[[#This Row],[datum]]-SUM(MOD(DATE(YEAR(TabUren22[[#This Row],[datum]]-MOD(TabUren22[[#This Row],[datum]]-2,7)+3),1,2),{1E+99;7})*{1;-1})+5) /7))","v":""},{"$f":"IF(TabUren22[[#This Row],[datum]]=\"\",\"\",TabUren22[[#This Row],[datum]])","v":""},null,null,{"$f":"IF(TabUren22[[#This Row],[datum]]=\"\",\"\",verzameldata!$C$4)","v":""},null,null,null,null,{"$f":"IF(TabUren22[[#This Row],[eindtijd]]=\"\",\"\",IF(TabUren22[[#This Row],[eindtijd]]<TabUren22[[#This Row],[begintijd]],(\"24:00\"-TabUren22[[#This Row],[begintijd]]+TabUren22[[#This Row],[eindtijd]])-TabUren22[[#This Row],[pauze]],(TabUren22[[#This Row],[eindtijd]]-TabUren22[[#This Row],[begintijd]])-TabUren22[[#This Row],[pauze]]))","v":""},{"$f":"IF(OR(TabUren22[hoofdcategorie]=\"\",TabUren22[hoofdcategorie]=0),\"anders dan hoofdcategorie\",TabUren22[hoofdcategorie])","v":"anders dan hoofdcategorie"}]
[{"$f":"IF(TabUren22[[#This Row],[datum]]=\"\",\"\",INT((TabUren22[[#This Row],[datum]]-SUM(MOD(DATE(YEAR(TabUren22[[#This Row],[datum]]-MOD(TabUren22[[#This Row],[datum]]-2,7)+3),1,2),{1E+99;7})*{1;-1})+5) /7))","v":""},{"$f":"IF(TabUren22[[#This Row],[datum]]=\"\",\"\",TabUren22[[#This Row],[datum]])","v":""},null,null,{"$f":"IF(TabUren22[[#This Row],[datum]]=\"\",\"\",verzameldata!$C$4)","v":""},null,null,null,null,{"$f":"IF(TabUren22[[#This Row],[eindtijd]]=\"\",\"\",IF(TabUren22[[#This Row],[eindtijd]]<TabUren22[[#This Row],[begintijd]],(\"24:00\"-TabUren22[[#This Row],[begintijd]]+TabUren22[[#This Row],[eindtijd]])-TabUren22[[#This Row],[pauze]],(TabUren22[[#This Row],[eindtijd]]-TabUren22[[#This Row],[begintijd]])-TabUren22[[#This Row],[pauze]]))","v":""},{"$f":"IF(OR(TabUren22[hoofdcategorie]=\"\",TabUren22[hoofdcategorie]=0),\"anders dan hoofdcategorie\",TabUren22[hoofdcategorie])","v":"anders dan hoofdcategorie"}]
[{"$f":"IF(TabUren22[[#This Row],[datum]]=\"\",\"\",INT((TabUren22[[#This Row],[datum]]-SUM(MOD(DATE(YEAR(TabUren22[[#This Row],[datum]]-MOD(TabUren22[[#This Row],[datum]]-2,7)+3),1,2),{1E+99;7})*{1;-1})+5) /7))","v":""},{"$f":"IF(TabUren22[[#This Row],[datum]]=\"\",\"\",TabUren22[[#This Row],[datum]])","v":""},null,null,{"$f":"IF(TabUren22[[#This Row],[datum]]=\"\",\"\",verzameldata!$C$4)","v":""},null,null,null,null,{"$f":"IF(TabUren22[[#This Row],[eindtijd]]=\"\",\"\",IF(TabUren22[[#This Row],[eindtijd]]<TabUren22[[#This Row],[begintijd]],(\"24:00\"-TabUren22[[#This Row],[begintijd]]+TabUren22[[#This Row],[eindtijd]])-TabUren22[[#This Row],[pauze]],(TabUren22[[#This Row],[eindtijd]]-TabUren22[[#This Row],[begintijd]])-TabUren22[[#This Row],[pauze]]))","v":""},{"$f":"IF(OR(TabUren22[hoofdcategorie]=\"\",TabUren22[hoofdcategorie]=0),\"anders dan hoofdcategorie\",TabUren22[hoofdcategorie])","v":"anders dan hoofdcategorie"}]
[{"$f":"IF(TabUren22[[#This Row],[datum]]=\"\",\"\",INT((TabUren22[[#This Row],[datum]]-SUM(MOD(DATE(YEAR(TabUren22[[#This Row],[datum]]-MOD(TabUren22[[#This Row],[datum]]-2,7)+3),1,2),{1E+99;7})*{1;-1})+5) /7))","v":""},{"$f":"IF(TabUren22[[#This Row],[datum]]=\"\",\"\",TabUren22[[#This Row],[datum]])","v":""},null,null,{"$f":"IF(TabUren22[[#This Row],[datum]]=\"\",\"\",verzameldata!$C$4)","v":""},null,null,null,null,{"$f":"IF(TabUren22[[#This Row],[eindtijd]]=\"\",\"\",IF(TabUren22[[#This Row],[eindtijd]]<TabUren22[[#This Row],[begintijd]],(\"24:00\"-TabUren22[[#This Row],[begintijd]]+TabUren22[[#This Row],[eindtijd]])-TabUren22[[#This Row],[pauze]],(TabUren22[[#This Row],[eindtijd]]-TabUren22[[#This Row],[begintijd]])-TabUren22[[#This Row],[pauze]]))","v":""},{"$f":"IF(OR(TabUren22[hoofdcategorie]=\"\",TabUren22[hoofdcategorie]=0),\"anders dan hoofdcategorie\",TabUren22[hoofdcategorie])","v":"anders dan hoofdcategorie"}]
[{"$f":"IF(TabUren22[[#This Row],[datum]]=\"\",\"\",INT((TabUren22[[#This Row],[datum]]-SUM(MOD(DATE(YEAR(TabUren22[[#This Row],[datum]]-MOD(TabUren22[[#This Row],[datum]]-2,7)+3),1,2),{1E+99;7})*{1;-1})+5) /7))","v":""},{"$f":"IF(TabUren22[[#This Row],[datum]]=\"\",\"\",TabUren22[[#This Row],[datum]])","v":""},null,null,{"$f":"IF(TabUren22[[#This Row],[datum]]=\"\",\"\",verzameldata!$C$4)","v":""},null,null,null,null,{"$f":"IF(TabUren22[[#This Row],[eindtijd]]=\"\",\"\",IF(TabUren22[[#This Row],[eindtijd]]<TabUren22[[#This Row],[begintijd]],(\"24:00\"-TabUren22[[#This Row],[begintijd]]+TabUren22[[#This Row],[eindtijd]])-TabUren22[[#This Row],[pauze]],(TabUren22[[#This Row],[eindtijd]]-TabUren22[[#This Row],[begintijd]])-TabUren22[[#This Row],[pauze]]))","v":""},{"$f":"IF(OR(TabUren22[hoofdcategorie]=\"\",TabUren22[hoofdcategorie]=0),\"anders dan hoofdcategorie\",TabUren22[hoofdcategorie])","v":"anders dan hoofdcategorie"}]
[{"$f":"IF(TabUren22[[#This Row],[datum]]=\"\",\"\",INT((TabUren22[[#This Row],[datum]]-SUM(MOD(DATE(YEAR(TabUren22[[#This Row],[datum]]-MOD(TabUren22[[#This Row],[datum]]-2,7)+3),1,2),{1E+99;7})*{1;-1})+5) /7))","v":""},{"$f":"IF(TabUren22[[#This Row],[datum]]=\"\",\"\",TabUren22[[#This Row],[datum]])","v":""},null,null,{"$f":"IF(TabUren22[[#This Row],[datum]]=\"\",\"\",verzameldata!$C$4)","v":""},null,null,null,null,{"$f":"IF(TabUren22[[#This Row],[eindtijd]]=\"\",\"\",IF(TabUren22[[#This Row],[eindtijd]]<TabUren22[[#This Row],[begintijd]],(\"24:00\"-TabUren22[[#This Row],[begintijd]]+TabUren22[[#This Row],[eindtijd]])-TabUren22[[#This Row],[pauze]],(TabUren22[[#This Row],[eindtijd]]-TabUren22[[#This Row],[begintijd]])-TabUren22[[#This Row],[pauze]]))","v":""},{"$f":"IF(OR(TabUren22[hoofdcategorie]=\"\",TabUren22[hoofdcategorie]=0),\"anders dan hoofdcategorie\",TabUren22[hoofdcategorie])","v":"anders dan hoofdcategorie"}]
[{"$f":"IF(TabUren22[[#This Row],[datum]]=\"\",\"\",INT((TabUren22[[#This Row],[datum]]-SUM(MOD(DATE(YEAR(TabUren22[[#This Row],[datum]]-MOD(TabUren22[[#This Row],[datum]]-2,7)+3),1,2),{1E+99;7})*{1;-1})+5) /7))","v":""},{"$f":"IF(TabUren22[[#This Row],[datum]]=\"\",\"\",TabUren22[[#This Row],[datum]])","v":""},null,null,{"$f":"IF(TabUren22[[#This Row],[datum]]=\"\",\"\",verzameldata!$C$4)","v":""},null,null,null,null,{"$f":"IF(TabUren22[[#This Row],[eindtijd]]=\"\",\"\",IF(TabUren22[[#This Row],[eindtijd]]<TabUren22[[#This Row],[begintijd]],(\"24:00\"-TabUren22[[#This Row],[begintijd]]+TabUren22[[#This Row],[eindtijd]])-TabUren22[[#This Row],[pauze]],(TabUren22[[#This Row],[eindtijd]]-TabUren22[[#This Row],[begintijd]])-TabUren22[[#This Row],[pauze]]))","v":""},{"$f":"IF(OR(TabUren22[hoofdcategorie]=\"\",TabUren22[hoofdcategorie]=0),\"anders dan hoofdcategorie\",TabUren22[hoofdcategorie])","v":"anders dan hoofdcategorie"}]
[{"$f":"IF(TabUren22[[#This Row],[datum]]=\"\",\"\",INT((TabUren22[[#This Row],[datum]]-SUM(MOD(DATE(YEAR(TabUren22[[#This Row],[datum]]-MOD(TabUren22[[#This Row],[datum]]-2,7)+3),1,2),{1E+99;7})*{1;-1})+5) /7))","v":""},{"$f":"IF(TabUren22[[#This Row],[datum]]=\"\",\"\",TabUren22[[#This Row],[datum]])","v":""},null,null,{"$f":"IF(TabUren22[[#This Row],[datum]]=\"\",\"\",verzameldata!$C$4)","v":""},null,null,null,null,{"$f":"IF(TabUren22[[#This Row],[eindtijd]]=\"\",\"\",IF(TabUren22[[#This Row],[eindtijd]]<TabUren22[[#This Row],[begintijd]],(\"24:00\"-TabUren22[[#This Row],[begintijd]]+TabUren22[[#This Row],[eindtijd]])-TabUren22[[#This Row],[pauze]],(TabUren22[[#This Row],[eindtijd]]-TabUren22[[#This Row],[begintijd]])-TabUren22[[#This Row],[pauze]]))","v":""},{"$f":"IF(OR(TabUren22[hoofdcategorie]=\"\",TabUren22[hoofdcategorie]=0),\"anders dan hoofdcategorie\",TabUren22[hoofdcategorie])","v":"anders dan hoofdcategorie"}]
[{"$f":"IF(TabUren22[[#This Row],[datum]]=\"\",\"\",INT((TabUren22[[#This Row],[datum]]-SUM(MOD(DATE(YEAR(TabUren22[[#This Row],[datum]]-MOD(TabUren22[[#This Row],[datum]]-2,7)+3),1,2),{1E+99;7})*{1;-1})+5) /7))","v":""},{"$f":"IF(TabUren22[[#This Row],[datum]]=\"\",\"\",TabUren22[[#This Row],[datum]])","v":""},null,null,{"$f":"IF(TabUren22[[#This Row],[datum]]=\"\",\"\",verzameldata!$C$4)","v":""},null,null,null,null,{"$f":"IF(TabUren22[[#This Row],[eindtijd]]=\"\",\"\",IF(TabUren22[[#This Row],[eindtijd]]<TabUren22[[#This Row],[begintijd]],(\"24:00\"-TabUren22[[#This Row],[begintijd]]+TabUren22[[#This Row],[eindtijd]])-TabUren22[[#This Row],[pauze]],(TabUren22[[#This Row],[eindtijd]]-TabUren22[[#This Row],[begintijd]])-TabUren22[[#This Row],[pauze]]))","v":""},{"$f":"IF(OR(TabUren22[hoofdcategorie]=\"\",TabUren22[hoofdcategorie]=0),\"anders dan hoofdcategorie\",TabUren22[hoofdcategorie])","v":"anders dan hoofdcategorie"}]
[{"$f":"IF(TabUren22[[#This Row],[datum]]=\"\",\"\",INT((TabUren22[[#This Row],[datum]]-SUM(MOD(DATE(YEAR(TabUren22[[#This Row],[datum]]-MOD(TabUren22[[#This Row],[datum]]-2,7)+3),1,2),{1E+99;7})*{1;-1})+5) /7))","v":""},{"$f":"IF(TabUren22[[#This Row],[datum]]=\"\",\"\",TabUren22[[#This Row],[datum]])","v":""},null,null,{"$f":"IF(TabUren22[[#This Row],[datum]]=\"\",\"\",verzameldata!$C$4)","v":""},null,null,null,null,{"$f":"IF(TabUren22[[#This Row],[eindtijd]]=\"\",\"\",IF(TabUren22[[#This Row],[eindtijd]]<TabUren22[[#This Row],[begintijd]],(\"24:00\"-TabUren22[[#This Row],[begintijd]]+TabUren22[[#This Row],[eindtijd]])-TabUren22[[#This Row],[pauze]],(TabUren22[[#This Row],[eindtijd]]-TabUren22[[#This Row],[begintijd]])-TabUren22[[#This Row],[pauze]]))","v":""},{"$f":"IF(OR(TabUren22[hoofdcategorie]=\"\",TabUren22[hoofdcategorie]=0),\"anders dan hoofdcategorie\",TabUren22[hoofdcategorie])","v":"anders dan hoofdcategorie"}]
[{"$f":"IF(TabUren22[[#This Row],[datum]]=\"\",\"\",INT((TabUren22[[#This Row],[datum]]-SUM(MOD(DATE(YEAR(TabUren22[[#This Row],[datum]]-MOD(TabUren22[[#This Row],[datum]]-2,7)+3),1,2),{1E+99;7})*{1;-1})+5) /7))","v":""},{"$f":"IF(TabUren22[[#This Row],[datum]]=\"\",\"\",TabUren22[[#This Row],[datum]])","v":""},null,null,{"$f":"IF(TabUren22[[#This Row],[datum]]=\"\",\"\",verzameldata!$C$4)","v":""},null,null,null,null,{"$f":"IF(TabUren22[[#This Row],[eindtijd]]=\"\",\"\",IF(TabUren22[[#This Row],[eindtijd]]<TabUren22[[#This Row],[begintijd]],(\"24:00\"-TabUren22[[#This Row],[begintijd]]+TabUren22[[#This Row],[eindtijd]])-TabUren22[[#This Row],[pauze]],(TabUren22[[#This Row],[eindtijd]]-TabUren22[[#This Row],[begintijd]])-TabUren22[[#This Row],[pauze]]))","v":""},{"$f":"IF(OR(TabUren22[hoofdcategorie]=\"\",TabUren22[hoofdcategorie]=0),\"anders dan hoofdcategorie\",TabUren22[hoofdcategorie])","v":"anders dan hoofdcategorie"}]
[{"$f":"IF(TabUren22[[#This Row],[datum]]=\"\",\"\",INT((TabUren22[[#This Row],[datum]]-SUM(MOD(DATE(YEAR(TabUren22[[#This Row],[datum]]-MOD(TabUren22[[#This Row],[datum]]-2,7)+3),1,2),{1E+99;7})*{1;-1})+5) /7))","v":""},{"$f":"IF(TabUren22[[#This Row],[datum]]=\"\",\"\",TabUren22[[#This Row],[datum]])","v":""},null,null,{"$f":"IF(TabUren22[[#This Row],[datum]]=\"\",\"\",verzameldata!$C$4)","v":""},null,null,null,null,{"$f":"IF(TabUren22[[#This Row],[eindtijd]]=\"\",\"\",IF(TabUren22[[#This Row],[eindtijd]]<TabUren22[[#This Row],[begintijd]],(\"24:00\"-TabUren22[[#This Row],[begintijd]]+TabUren22[[#This Row],[eindtijd]])-TabUren22[[#This Row],[pauze]],(TabUren22[[#This Row],[eindtijd]]-TabUren22[[#This Row],[begintijd]])-TabUren22[[#This Row],[pauze]]))","v":""},{"$f":"IF(OR(TabUren22[hoofdcategorie]=\"\",TabUren22[hoofdcategorie]=0),\"anders dan hoofdcategorie\",TabUren22[hoofdcategorie])","v":"anders dan hoofdcategorie"}]
[{"$f":"IF(TabUren22[[#This Row],[datum]]=\"\",\"\",INT((TabUren22[[#This Row],[datum]]-SUM(MOD(DATE(YEAR(TabUren22[[#This Row],[datum]]-MOD(TabUren22[[#This Row],[datum]]-2,7)+3),1,2),{1E+99;7})*{1;-1})+5) /7))","v":""},{"$f":"IF(TabUren22[[#This Row],[datum]]=\"\",\"\",TabUren22[[#This Row],[datum]])","v":""},null,null,{"$f":"IF(TabUren22[[#This Row],[datum]]=\"\",\"\",verzameldata!$C$4)","v":""},null,null,null,null,{"$f":"IF(TabUren22[[#This Row],[eindtijd]]=\"\",\"\",IF(TabUren22[[#This Row],[eindtijd]]<TabUren22[[#This Row],[begintijd]],(\"24:00\"-TabUren22[[#This Row],[begintijd]]+TabUren22[[#This Row],[eindtijd]])-TabUren22[[#This Row],[pauze]],(TabUren22[[#This Row],[eindtijd]]-TabUren22[[#This Row],[begintijd]])-TabUren22[[#This Row],[pauze]]))","v":""},{"$f":"IF(OR(TabUren22[hoofdcategorie]=\"\",TabUren22[hoofdcategorie]=0),\"anders dan hoofdcategorie\",TabUren22[hoofdcategorie])","v":"anders dan hoofdcategorie"}]
[{"$f":"IF(TabUren22[[#This Row],[datum]]=\"\",\"\",INT((TabUren22[[#This Row],[datum]]-SUM(MOD(DATE(YEAR(TabUren22[[#This Row],[datum]]-MOD(TabUren22[[#This Row],[datum]]-2,7)+3),1,2),{1E+99;7})*{1;-1})+5) /7))","v":""},{"$f":"IF(TabUren22[[#This Row],[datum]]=\"\",\"\",TabUren22[[#This Row],[datum]])","v":""},null,null,{"$f":"IF(TabUren22[[#This Row],[datum]]=\"\",\"\",verzameldata!$C$4)","v":""},null,null,null,null,{"$f":"IF(TabUren22[[#This Row],[eindtijd]]=\"\",\"\",IF(TabUren22[[#This Row],[eindtijd]]<TabUren22[[#This Row],[begintijd]],(\"24:00\"-TabUren22[[#This Row],[begintijd]]+TabUren22[[#This Row],[eindtijd]])-TabUren22[[#This Row],[pauze]],(TabUren22[[#This Row],[eindtijd]]-TabUren22[[#This Row],[begintijd]])-TabUren22[[#This Row],[pauze]]))","v":""},{"$f":"IF(OR(TabUren22[hoofdcategorie]=\"\",TabUren22[hoofdcategorie]=0),\"anders dan hoofdcategorie\",TabUren22[hoofdcategorie])","v":"anders dan hoofdcategorie"}]
[{"$f":"IF(TabUren22[[#This Row],[datum]]=\"\",\"\",INT((TabUren22[[#This Row],[datum]]-SUM(MOD(DATE(YEAR(TabUren22[[#This Row],[datum]]-MOD(TabUren22[[#This Row],[datum]]-2,7)+3),1,2),{1E+99;7})*{1;-1})+5) /7))","v":""},{"$f":"IF(TabUren22[[#This Row],[datum]]=\"\",\"\",TabUren22[[#This Row],[datum]])","v":""},null,null,{"$f":"IF(TabUren22[[#This Row],[datum]]=\"\",\"\",verzameldata!$C$4)","v":""},null,null,null,null,{"$f":"IF(TabUren22[[#This Row],[eindtijd]]=\"\",\"\",IF(TabUren22[[#This Row],[eindtijd]]<TabUren22[[#This Row],[begintijd]],(\"24:00\"-TabUren22[[#This Row],[begintijd]]+TabUren22[[#This Row],[eindtijd]])-TabUren22[[#This Row],[pauze]],(TabUren22[[#This Row],[eindtijd]]-TabUren22[[#This Row],[begintijd]])-TabUren22[[#This Row],[pauze]]))","v":""},{"$f":"IF(OR(TabUren22[hoofdcategorie]=\"\",TabUren22[hoofdcategorie]=0),\"anders dan hoofdcategorie\",TabUren22[hoofdcategorie])","v":"anders dan hoofdcategorie"}]
[{"$f":"IF(TabUren22[[#This Row],[datum]]=\"\",\"\",INT((TabUren22[[#This Row],[datum]]-SUM(MOD(DATE(YEAR(TabUren22[[#This Row],[datum]]-MOD(TabUren22[[#This Row],[datum]]-2,7)+3),1,2),{1E+99;7})*{1;-1})+5) /7))","v":""},{"$f":"IF(TabUren22[[#This Row],[datum]]=\"\",\"\",TabUren22[[#This Row],[datum]])","v":""},null,null,{"$f":"IF(TabUren22[[#This Row],[datum]]=\"\",\"\",verzameldata!$C$4)","v":""},null,null,null,null,{"$f":"IF(TabUren22[[#This Row],[eindtijd]]=\"\",\"\",IF(TabUren22[[#This Row],[eindtijd]]<TabUren22[[#This Row],[begintijd]],(\"24:00\"-TabUren22[[#This Row],[begintijd]]+TabUren22[[#This Row],[eindtijd]])-TabUren22[[#This Row],[pauze]],(TabUren22[[#This Row],[eindtijd]]-TabUren22[[#This Row],[begintijd]])-TabUren22[[#This Row],[pauze]]))","v":""},{"$f":"IF(OR(TabUren22[hoofdcategorie]=\"\",TabUren22[hoofdcategorie]=0),\"anders dan hoofdcategorie\",TabUren22[hoofdcategorie])","v":"anders dan hoofdcategorie"}]
[{"$f":"IF(TabUren22[[#This Row],[datum]]=\"\",\"\",INT((TabUren22[[#This Row],[datum]]-SUM(MOD(DATE(YEAR(TabUren22[[#This Row],[datum]]-MOD(TabUren22[[#This Row],[datum]]-2,7)+3),1,2),{1E+99;7})*{1;-1})+5) /7))","v":""},{"$f":"IF(TabUren22[[#This Row],[datum]]=\"\",\"\",TabUren22[[#This Row],[datum]])","v":""},null,null,{"$f":"IF(TabUren22[[#This Row],[datum]]=\"\",\"\",verzameldata!$C$4)","v":""},null,null,null,null,{"$f":"IF(TabUren22[[#This Row],[eindtijd]]=\"\",\"\",IF(TabUren22[[#This Row],[eindtijd]]<TabUren22[[#This Row],[begintijd]],(\"24:00\"-TabUren22[[#This Row],[begintijd]]+TabUren22[[#This Row],[eindtijd]])-TabUren22[[#This Row],[pauze]],(TabUren22[[#This Row],[eindtijd]]-TabUren22[[#This Row],[begintijd]])-TabUren22[[#This Row],[pauze]]))","v":""},{"$f":"IF(OR(TabUren22[hoofdcategorie]=\"\",TabUren22[hoofdcategorie]=0),\"anders dan hoofdcategorie\",TabUren22[hoofdcategorie])","v":"anders dan hoofdcategorie"}]
[{"$f":"IF(TabUren22[[#This Row],[datum]]=\"\",\"\",INT((TabUren22[[#This Row],[datum]]-SUM(MOD(DATE(YEAR(TabUren22[[#This Row],[datum]]-MOD(TabUren22[[#This Row],[datum]]-2,7)+3),1,2),{1E+99;7})*{1;-1})+5) /7))","v":""},{"$f":"IF(TabUren22[[#This Row],[datum]]=\"\",\"\",TabUren22[[#This Row],[datum]])","v":""},null,null,{"$f":"IF(TabUren22[[#This Row],[datum]]=\"\",\"\",verzameldata!$C$4)","v":""},null,null,null,null,{"$f":"IF(TabUren22[[#This Row],[eindtijd]]=\"\",\"\",IF(TabUren22[[#This Row],[eindtijd]]<TabUren22[[#This Row],[begintijd]],(\"24:00\"-TabUren22[[#This Row],[begintijd]]+TabUren22[[#This Row],[eindtijd]])-TabUren22[[#This Row],[pauze]],(TabUren22[[#This Row],[eindtijd]]-TabUren22[[#This Row],[begintijd]])-TabUren22[[#This Row],[pauze]]))","v":""},{"$f":"IF(OR(TabUren22[hoofdcategorie]=\"\",TabUren22[hoofdcategorie]=0),\"anders dan hoofdcategorie\",TabUren22[hoofdcategorie])","v":"anders dan hoofdcategorie"}]
[{"$f":"IF(TabUren22[[#This Row],[datum]]=\"\",\"\",INT((TabUren22[[#This Row],[datum]]-SUM(MOD(DATE(YEAR(TabUren22[[#This Row],[datum]]-MOD(TabUren22[[#This Row],[datum]]-2,7)+3),1,2),{1E+99;7})*{1;-1})+5) /7))","v":""},{"$f":"IF(TabUren22[[#This Row],[datum]]=\"\",\"\",TabUren22[[#This Row],[datum]])","v":""},null,null,{"$f":"IF(TabUren22[[#This Row],[datum]]=\"\",\"\",verzameldata!$C$4)","v":""},null,null,null,null,{"$f":"IF(TabUren22[[#This Row],[eindtijd]]=\"\",\"\",IF(TabUren22[[#This Row],[eindtijd]]<TabUren22[[#This Row],[begintijd]],(\"24:00\"-TabUren22[[#This Row],[begintijd]]+TabUren22[[#This Row],[eindtijd]])-TabUren22[[#This Row],[pauze]],(TabUren22[[#This Row],[eindtijd]]-TabUren22[[#This Row],[begintijd]])-TabUren22[[#This Row],[pauze]]))","v":""},{"$f":"IF(OR(TabUren22[hoofdcategorie]=\"\",TabUren22[hoofdcategorie]=0),\"anders dan hoofdcategorie\",TabUren22[hoofdcategorie])","v":"anders dan hoofdcategorie"}]
[{"$f":"IF(TabUren22[[#This Row],[datum]]=\"\",\"\",INT((TabUren22[[#This Row],[datum]]-SUM(MOD(DATE(YEAR(TabUren22[[#This Row],[datum]]-MOD(TabUren22[[#This Row],[datum]]-2,7)+3),1,2),{1E+99;7})*{1;-1})+5) /7))","v":""},{"$f":"IF(TabUren22[[#This Row],[datum]]=\"\",\"\",TabUren22[[#This Row],[datum]])","v":""},null,null,{"$f":"IF(TabUren22[[#This Row],[datum]]=\"\",\"\",verzameldata!$C$4)","v":""},null,null,null,null,{"$f":"IF(TabUren22[[#This Row],[eindtijd]]=\"\",\"\",IF(TabUren22[[#This Row],[eindtijd]]<TabUren22[[#This Row],[begintijd]],(\"24:00\"-TabUren22[[#This Row],[begintijd]]+TabUren22[[#This Row],[eindtijd]])-TabUren22[[#This Row],[pauze]],(TabUren22[[#This Row],[eindtijd]]-TabUren22[[#This Row],[begintijd]])-TabUren22[[#This Row],[pauze]]))","v":""},{"$f":"IF(OR(TabUren22[hoofdcategorie]=\"\",TabUren22[hoofdcategorie]=0),\"anders dan hoofdcategorie\",TabUren22[hoofdcategorie])","v":"anders dan hoofdcategorie"}]
[{"$f":"IF(TabUren22[[#This Row],[datum]]=\"\",\"\",INT((TabUren22[[#This Row],[datum]]-SUM(MOD(DATE(YEAR(TabUren22[[#This Row],[datum]]-MOD(TabUren22[[#This Row],[datum]]-2,7)+3),1,2),{1E+99;7})*{1;-1})+5) /7))","v":""},{"$f":"IF(TabUren22[[#This Row],[datum]]=\"\",\"\",TabUren22[[#This Row],[datum]])","v":""},null,null,{"$f":"IF(TabUren22[[#This Row],[datum]]=\"\",\"\",verzameldata!$C$4)","v":""},null,null,null,null,{"$f":"IF(TabUren22[[#This Row],[eindtijd]]=\"\",\"\",IF(TabUren22[[#This Row],[eindtijd]]<TabUren22[[#This Row],[begintijd]],(\"24:00\"-TabUren22[[#This Row],[begintijd]]+TabUren22[[#This Row],[eindtijd]])-TabUren22[[#This Row],[pauze]],(TabUren22[[#This Row],[eindtijd]]-TabUren22[[#This Row],[begintijd]])-TabUren22[[#This Row],[pauze]]))","v":""},{"$f":"IF(OR(TabUren22[hoofdcategorie]=\"\",TabUren22[hoofdcategorie]=0),\"anders dan hoofdcategorie\",TabUren22[hoofdcategorie])","v":"anders dan hoofdcategorie"}]
[{"$f":"IF(TabUren22[[#This Row],[datum]]=\"\",\"\",INT((TabUren22[[#This Row],[datum]]-SUM(MOD(DATE(YEAR(TabUren22[[#This Row],[datum]]-MOD(TabUren22[[#This Row],[datum]]-2,7)+3),1,2),{1E+99;7})*{1;-1})+5) /7))","v":""},{"$f":"IF(TabUren22[[#This Row],[datum]]=\"\",\"\",TabUren22[[#This Row],[datum]])","v":""},null,null,{"$f":"IF(TabUren22[[#This Row],[datum]]=\"\",\"\",verzameldata!$C$4)","v":""},null,null,null,null,{"$f":"IF(TabUren22[[#This Row],[eindtijd]]=\"\",\"\",IF(TabUren22[[#This Row],[eindtijd]]<TabUren22[[#This Row],[begintijd]],(\"24:00\"-TabUren22[[#This Row],[begintijd]]+TabUren22[[#This Row],[eindtijd]])-TabUren22[[#This Row],[pauze]],(TabUren22[[#This Row],[eindtijd]]-TabUren22[[#This Row],[begintijd]])-TabUren22[[#This Row],[pauze]]))","v":""},{"$f":"IF(OR(TabUren22[hoofdcategorie]=\"\",TabUren22[hoofdcategorie]=0),\"anders dan hoofdcategorie\",TabUren22[hoofdcategorie])","v":"anders dan hoofdcategorie"}]
[{"$f":"IF(TabUren22[[#This Row],[datum]]=\"\",\"\",INT((TabUren22[[#This Row],[datum]]-SUM(MOD(DATE(YEAR(TabUren22[[#This Row],[datum]]-MOD(TabUren22[[#This Row],[datum]]-2,7)+3),1,2),{1E+99;7})*{1;-1})+5) /7))","v":""},{"$f":"IF(TabUren22[[#This Row],[datum]]=\"\",\"\",TabUren22[[#This Row],[datum]])","v":""},null,null,{"$f":"IF(TabUren22[[#This Row],[datum]]=\"\",\"\",verzameldata!$C$4)","v":""},null,null,null,null,{"$f":"IF(TabUren22[[#This Row],[eindtijd]]=\"\",\"\",IF(TabUren22[[#This Row],[eindtijd]]<TabUren22[[#This Row],[begintijd]],(\"24:00\"-TabUren22[[#This Row],[begintijd]]+TabUren22[[#This Row],[eindtijd]])-TabUren22[[#This Row],[pauze]],(TabUren22[[#This Row],[eindtijd]]-TabUren22[[#This Row],[begintijd]])-TabUren22[[#This Row],[pauze]]))","v":""},{"$f":"IF(OR(TabUren22[hoofdcategorie]=\"\",TabUren22[hoofdcategorie]=0),\"anders dan hoofdcategorie\",TabUren22[hoofdcategorie])","v":"anders dan hoofdcategorie"}]
[{"$f":"IF(TabUren22[[#This Row],[datum]]=\"\",\"\",INT((TabUren22[[#This Row],[datum]]-SUM(MOD(DATE(YEAR(TabUren22[[#This Row],[datum]]-MOD(TabUren22[[#This Row],[datum]]-2,7)+3),1,2),{1E+99;7})*{1;-1})+5) /7))","v":""},{"$f":"IF(TabUren22[[#This Row],[datum]]=\"\",\"\",TabUren22[[#This Row],[datum]])","v":""},null,null,{"$f":"IF(TabUren22[[#This Row],[datum]]=\"\",\"\",verzameldata!$C$4)","v":""},null,null,null,null,{"$f":"IF(TabUren22[[#This Row],[eindtijd]]=\"\",\"\",IF(TabUren22[[#This Row],[eindtijd]]<TabUren22[[#This Row],[begintijd]],(\"24:00\"-TabUren22[[#This Row],[begintijd]]+TabUren22[[#This Row],[eindtijd]])-TabUren22[[#This Row],[pauze]],(TabUren22[[#This Row],[eindtijd]]-TabUren22[[#This Row],[begintijd]])-TabUren22[[#This Row],[pauze]]))","v":""},{"$f":"IF(OR(TabUren22[hoofdcategorie]=\"\",TabUren22[hoofdcategorie]=0),\"anders dan hoofdcategorie\",TabUren22[hoofdcategorie])","v":"anders dan hoofdcategorie"}]
[{"$f":"IF(TabUren22[[#This Row],[datum]]=\"\",\"\",INT((TabUren22[[#This Row],[datum]]-SUM(MOD(DATE(YEAR(TabUren22[[#This Row],[datum]]-MOD(TabUren22[[#This Row],[datum]]-2,7)+3),1,2),{1E+99;7})*{1;-1})+5) /7))","v":""},{"$f":"IF(TabUren22[[#This Row],[datum]]=\"\",\"\",TabUren22[[#This Row],[datum]])","v":""},null,null,{"$f":"IF(TabUren22[[#This Row],[datum]]=\"\",\"\",verzameldata!$C$4)","v":""},null,null,null,null,{"$f":"IF(TabUren22[[#This Row],[eindtijd]]=\"\",\"\",IF(TabUren22[[#This Row],[eindtijd]]<TabUren22[[#This Row],[begintijd]],(\"24:00\"-TabUren22[[#This Row],[begintijd]]+TabUren22[[#This Row],[eindtijd]])-TabUren22[[#This Row],[pauze]],(TabUren22[[#This Row],[eindtijd]]-TabUren22[[#This Row],[begintijd]])-TabUren22[[#This Row],[pauze]]))","v":""},{"$f":"IF(OR(TabUren22[hoofdcategorie]=\"\",TabUren22[hoofdcategorie]=0),\"anders dan hoofdcategorie\",TabUren22[hoofdcategorie])","v":"anders dan hoofdcategorie"}]
[{"$f":"IF(TabUren22[[#This Row],[datum]]=\"\",\"\",INT((TabUren22[[#This Row],[datum]]-SUM(MOD(DATE(YEAR(TabUren22[[#This Row],[datum]]-MOD(TabUren22[[#This Row],[datum]]-2,7)+3),1,2),{1E+99;7})*{1;-1})+5) /7))","v":""},{"$f":"IF(TabUren22[[#This Row],[datum]]=\"\",\"\",TabUren22[[#This Row],[datum]])","v":""},null,null,{"$f":"IF(TabUren22[[#This Row],[datum]]=\"\",\"\",verzameldata!$C$4)","v":""},null,null,null,null,{"$f":"IF(TabUren22[[#This Row],[eindtijd]]=\"\",\"\",IF(TabUren22[[#This Row],[eindtijd]]<TabUren22[[#This Row],[begintijd]],(\"24:00\"-TabUren22[[#This Row],[begintijd]]+TabUren22[[#This Row],[eindtijd]])-TabUren22[[#This Row],[pauze]],(TabUren22[[#This Row],[eindtijd]]-TabUren22[[#This Row],[begintijd]])-TabUren22[[#This Row],[pauze]]))","v":""},{"$f":"IF(OR(TabUren22[hoofdcategorie]=\"\",TabUren22[hoofdcategorie]=0),\"anders dan hoofdcategorie\",TabUren22[hoofdcategorie])","v":"anders dan hoofdcategorie"}]
[{"$f":"IF(TabUren22[[#This Row],[datum]]=\"\",\"\",INT((TabUren22[[#This Row],[datum]]-SUM(MOD(DATE(YEAR(TabUren22[[#This Row],[datum]]-MOD(TabUren22[[#This Row],[datum]]-2,7)+3),1,2),{1E+99;7})*{1;-1})+5) /7))","v":""},{"$f":"IF(TabUren22[[#This Row],[datum]]=\"\",\"\",TabUren22[[#This Row],[datum]])","v":""},null,null,{"$f":"IF(TabUren22[[#This Row],[datum]]=\"\",\"\",verzameldata!$C$4)","v":""},null,null,null,null,{"$f":"IF(TabUren22[[#This Row],[eindtijd]]=\"\",\"\",IF(TabUren22[[#This Row],[eindtijd]]<TabUren22[[#This Row],[begintijd]],(\"24:00\"-TabUren22[[#This Row],[begintijd]]+TabUren22[[#This Row],[eindtijd]])-TabUren22[[#This Row],[pauze]],(TabUren22[[#This Row],[eindtijd]]-TabUren22[[#This Row],[begintijd]])-TabUren22[[#This Row],[pauze]]))","v":""},{"$f":"IF(OR(TabUren22[hoofdcategorie]=\"\",TabUren22[hoofdcategorie]=0),\"anders dan hoofdcategorie\",TabUren22[hoofdcategorie])","v":"anders dan hoofdcategorie"}]
[{"$f":"IF(TabUren22[[#This Row],[datum]]=\"\",\"\",INT((TabUren22[[#This Row],[datum]]-SUM(MOD(DATE(YEAR(TabUren22[[#This Row],[datum]]-MOD(TabUren22[[#This Row],[datum]]-2,7)+3),1,2),{1E+99;7})*{1;-1})+5) /7))","v":""},{"$f":"IF(TabUren22[[#This Row],[datum]]=\"\",\"\",TabUren22[[#This Row],[datum]])","v":""},null,null,{"$f":"IF(TabUren22[[#This Row],[datum]]=\"\",\"\",verzameldata!$C$4)","v":""},null,null,null,null,{"$f":"IF(TabUren22[[#This Row],[eindtijd]]=\"\",\"\",IF(TabUren22[[#This Row],[eindtijd]]<TabUren22[[#This Row],[begintijd]],(\"24:00\"-TabUren22[[#This Row],[begintijd]]+TabUren22[[#This Row],[eindtijd]])-TabUren22[[#This Row],[pauze]],(TabUren22[[#This Row],[eindtijd]]-TabUren22[[#This Row],[begintijd]])-TabUren22[[#This Row],[pauze]]))","v":""},{"$f":"IF(OR(TabUren22[hoofdcategorie]=\"\",TabUren22[hoofdcategorie]=0),\"anders dan hoofdcategorie\",TabUren22[hoofdcategorie])","v":"anders dan hoofdcategorie"}]
[{"$f":"IF(TabUren22[[#This Row],[datum]]=\"\",\"\",INT((TabUren22[[#This Row],[datum]]-SUM(MOD(DATE(YEAR(TabUren22[[#This Row],[datum]]-MOD(TabUren22[[#This Row],[datum]]-2,7)+3),1,2),{1E+99;7})*{1;-1})+5) /7))","v":""},{"$f":"IF(TabUren22[[#This Row],[datum]]=\"\",\"\",TabUren22[[#This Row],[datum]])","v":""},null,null,{"$f":"IF(TabUren22[[#This Row],[datum]]=\"\",\"\",verzameldata!$C$4)","v":""},null,null,null,null,{"$f":"IF(TabUren22[[#This Row],[eindtijd]]=\"\",\"\",IF(TabUren22[[#This Row],[eindtijd]]<TabUren22[[#This Row],[begintijd]],(\"24:00\"-TabUren22[[#This Row],[begintijd]]+TabUren22[[#This Row],[eindtijd]])-TabUren22[[#This Row],[pauze]],(TabUren22[[#This Row],[eindtijd]]-TabUren22[[#This Row],[begintijd]])-TabUren22[[#This Row],[pauze]]))","v":""},{"$f":"IF(OR(TabUren22[hoofdcategorie]=\"\",TabUren22[hoofdcategorie]=0),\"anders dan hoofdcategorie\",TabUren22[hoofdcategorie])","v":"anders dan hoofdcategorie"}]
[{"$f":"IF(TabUren22[[#This Row],[datum]]=\"\",\"\",INT((TabUren22[[#This Row],[datum]]-SUM(MOD(DATE(YEAR(TabUren22[[#This Row],[datum]]-MOD(TabUren22[[#This Row],[datum]]-2,7)+3),1,2),{1E+99;7})*{1;-1})+5) /7))","v":""},{"$f":"IF(TabUren22[[#This Row],[datum]]=\"\",\"\",TabUren22[[#This Row],[datum]])","v":""},null,null,{"$f":"IF(TabUren22[[#This Row],[datum]]=\"\",\"\",verzameldata!$C$4)","v":""},null,null,null,null,{"$f":"IF(TabUren22[[#This Row],[eindtijd]]=\"\",\"\",IF(TabUren22[[#This Row],[eindtijd]]<TabUren22[[#This Row],[begintijd]],(\"24:00\"-TabUren22[[#This Row],[begintijd]]+TabUren22[[#This Row],[eindtijd]])-TabUren22[[#This Row],[pauze]],(TabUren22[[#This Row],[eindtijd]]-TabUren22[[#This Row],[begintijd]])-TabUren22[[#This Row],[pauze]]))","v":""},{"$f":"IF(OR(TabUren22[hoofdcategorie]=\"\",TabUren22[hoofdcategorie]=0),\"anders dan hoofdcategorie\",TabUren22[hoofdcategorie])","v":"anders dan hoofdcategorie"}]
[{"$f":"IF(TabUren22[[#This Row],[datum]]=\"\",\"\",INT((TabUren22[[#This Row],[datum]]-SUM(MOD(DATE(YEAR(TabUren22[[#This Row],[datum]]-MOD(TabUren22[[#This Row],[datum]]-2,7)+3),1,2),{1E+99;7})*{1;-1})+5) /7))","v":""},{"$f":"IF(TabUren22[[#This Row],[datum]]=\"\",\"\",TabUren22[[#This Row],[datum]])","v":""},null,null,{"$f":"IF(TabUren22[[#This Row],[datum]]=\"\",\"\",verzameldata!$C$4)","v":""},null,null,null,null,{"$f":"IF(TabUren22[[#This Row],[eindtijd]]=\"\",\"\",IF(TabUren22[[#This Row],[eindtijd]]<TabUren22[[#This Row],[begintijd]],(\"24:00\"-TabUren22[[#This Row],[begintijd]]+TabUren22[[#This Row],[eindtijd]])-TabUren22[[#This Row],[pauze]],(TabUren22[[#This Row],[eindtijd]]-TabUren22[[#This Row],[begintijd]])-TabUren22[[#This Row],[pauze]]))","v":""},{"$f":"IF(OR(TabUren22[hoofdcategorie]=\"\",TabUren22[hoofdcategorie]=0),\"anders dan hoofdcategorie\",TabUren22[hoofdcategorie])","v":"anders dan hoofdcategorie"}]
[{"$f":"IF(TabUren22[[#This Row],[datum]]=\"\",\"\",INT((TabUren22[[#This Row],[datum]]-SUM(MOD(DATE(YEAR(TabUren22[[#This Row],[datum]]-MOD(TabUren22[[#This Row],[datum]]-2,7)+3),1,2),{1E+99;7})*{1;-1})+5) /7))","v":""},{"$f":"IF(TabUren22[[#This Row],[datum]]=\"\",\"\",TabUren22[[#This Row],[datum]])","v":""},null,null,{"$f":"IF(TabUren22[[#This Row],[datum]]=\"\",\"\",verzameldata!$C$4)","v":""},null,null,null,null,{"$f":"IF(TabUren22[[#This Row],[eindtijd]]=\"\",\"\",IF(TabUren22[[#This Row],[eindtijd]]<TabUren22[[#This Row],[begintijd]],(\"24:00\"-TabUren22[[#This Row],[begintijd]]+TabUren22[[#This Row],[eindtijd]])-TabUren22[[#This Row],[pauze]],(TabUren22[[#This Row],[eindtijd]]-TabUren22[[#This Row],[begintijd]])-TabUren22[[#This Row],[pauze]]))","v":""},{"$f":"IF(OR(TabUren22[hoofdcategorie]=\"\",TabUren22[hoofdcategorie]=0),\"anders dan hoofdcategorie\",TabUren22[hoofdcategorie])","v":"anders dan hoofdcategorie"}]
[{"$f":"IF(TabUren22[[#This Row],[datum]]=\"\",\"\",INT((TabUren22[[#This Row],[datum]]-SUM(MOD(DATE(YEAR(TabUren22[[#This Row],[datum]]-MOD(TabUren22[[#This Row],[datum]]-2,7)+3),1,2),{1E+99;7})*{1;-1})+5) /7))","v":""},{"$f":"IF(TabUren22[[#This Row],[datum]]=\"\",\"\",TabUren22[[#This Row],[datum]])","v":""},null,null,{"$f":"IF(TabUren22[[#This Row],[datum]]=\"\",\"\",verzameldata!$C$4)","v":""},null,null,null,null,{"$f":"IF(TabUren22[[#This Row],[eindtijd]]=\"\",\"\",IF(TabUren22[[#This Row],[eindtijd]]<TabUren22[[#This Row],[begintijd]],(\"24:00\"-TabUren22[[#This Row],[begintijd]]+TabUren22[[#This Row],[eindtijd]])-TabUren22[[#This Row],[pauze]],(TabUren22[[#This Row],[eindtijd]]-TabUren22[[#This Row],[begintijd]])-TabUren22[[#This Row],[pauze]]))","v":""},{"$f":"IF(OR(TabUren22[hoofdcategorie]=\"\",TabUren22[hoofdcategorie]=0),\"anders dan hoofdcategorie\",TabUren22[hoofdcategorie])","v":"anders dan hoofdcategorie"}]
[{"$f":"IF(TabUren22[[#This Row],[datum]]=\"\",\"\",INT((TabUren22[[#This Row],[datum]]-SUM(MOD(DATE(YEAR(TabUren22[[#This Row],[datum]]-MOD(TabUren22[[#This Row],[datum]]-2,7)+3),1,2),{1E+99;7})*{1;-1})+5) /7))","v":""},{"$f":"IF(TabUren22[[#This Row],[datum]]=\"\",\"\",TabUren22[[#This Row],[datum]])","v":""},null,null,{"$f":"IF(TabUren22[[#This Row],[datum]]=\"\",\"\",verzameldata!$C$4)","v":""},null,null,null,null,{"$f":"IF(TabUren22[[#This Row],[eindtijd]]=\"\",\"\",IF(TabUren22[[#This Row],[eindtijd]]<TabUren22[[#This Row],[begintijd]],(\"24:00\"-TabUren22[[#This Row],[begintijd]]+TabUren22[[#This Row],[eindtijd]])-TabUren22[[#This Row],[pauze]],(TabUren22[[#This Row],[eindtijd]]-TabUren22[[#This Row],[begintijd]])-TabUren22[[#This Row],[pauze]]))","v":""},{"$f":"IF(OR(TabUren22[hoofdcategorie]=\"\",TabUren22[hoofdcategorie]=0),\"anders dan hoofdcategorie\",TabUren22[hoofdcategorie])","v":"anders dan hoofdcategorie"}]
[{"$f":"IF(TabUren22[[#This Row],[datum]]=\"\",\"\",INT((TabUren22[[#This Row],[datum]]-SUM(MOD(DATE(YEAR(TabUren22[[#This Row],[datum]]-MOD(TabUren22[[#This Row],[datum]]-2,7)+3),1,2),{1E+99;7})*{1;-1})+5) /7))","v":""},{"$f":"IF(TabUren22[[#This Row],[datum]]=\"\",\"\",TabUren22[[#This Row],[datum]])","v":""},null,null,{"$f":"IF(TabUren22[[#This Row],[datum]]=\"\",\"\",verzameldata!$C$4)","v":""},null,null,null,null,{"$f":"IF(TabUren22[[#This Row],[eindtijd]]=\"\",\"\",IF(TabUren22[[#This Row],[eindtijd]]<TabUren22[[#This Row],[begintijd]],(\"24:00\"-TabUren22[[#This Row],[begintijd]]+TabUren22[[#This Row],[eindtijd]])-TabUren22[[#This Row],[pauze]],(TabUren22[[#This Row],[eindtijd]]-TabUren22[[#This Row],[begintijd]])-TabUren22[[#This Row],[pauze]]))","v":""},{"$f":"IF(OR(TabUren22[hoofdcategorie]=\"\",TabUren22[hoofdcategorie]=0),\"anders dan hoofdcategorie\",TabUren22[hoofdcategorie])","v":"anders dan hoofdcategorie"}]
[{"$f":"IF(TabUren22[[#This Row],[datum]]=\"\",\"\",INT((TabUren22[[#This Row],[datum]]-SUM(MOD(DATE(YEAR(TabUren22[[#This Row],[datum]]-MOD(TabUren22[[#This Row],[datum]]-2,7)+3),1,2),{1E+99;7})*{1;-1})+5) /7))","v":""},{"$f":"IF(TabUren22[[#This Row],[datum]]=\"\",\"\",TabUren22[[#This Row],[datum]])","v":""},null,null,{"$f":"IF(TabUren22[[#This Row],[datum]]=\"\",\"\",verzameldata!$C$4)","v":""},null,null,null,null,{"$f":"IF(TabUren22[[#This Row],[eindtijd]]=\"\",\"\",IF(TabUren22[[#This Row],[eindtijd]]<TabUren22[[#This Row],[begintijd]],(\"24:00\"-TabUren22[[#This Row],[begintijd]]+TabUren22[[#This Row],[eindtijd]])-TabUren22[[#This Row],[pauze]],(TabUren22[[#This Row],[eindtijd]]-TabUren22[[#This Row],[begintijd]])-TabUren22[[#This Row],[pauze]]))","v":""},{"$f":"IF(OR(TabUren22[hoofdcategorie]=\"\",TabUren22[hoofdcategorie]=0),\"anders dan hoofdcategorie\",TabUren22[hoofdcategorie])","v":"anders dan hoofdcategorie"}]
[{"$f":"IF(TabUren22[[#This Row],[datum]]=\"\",\"\",INT((TabUren22[[#This Row],[datum]]-SUM(MOD(DATE(YEAR(TabUren22[[#This Row],[datum]]-MOD(TabUren22[[#This Row],[datum]]-2,7)+3),1,2),{1E+99;7})*{1;-1})+5) /7))","v":""},{"$f":"IF(TabUren22[[#This Row],[datum]]=\"\",\"\",TabUren22[[#This Row],[datum]])","v":""},null,null,{"$f":"IF(TabUren22[[#This Row],[datum]]=\"\",\"\",verzameldata!$C$4)","v":""},null,null,null,null,{"$f":"IF(TabUren22[[#This Row],[eindtijd]]=\"\",\"\",IF(TabUren22[[#This Row],[eindtijd]]<TabUren22[[#This Row],[begintijd]],(\"24:00\"-TabUren22[[#This Row],[begintijd]]+TabUren22[[#This Row],[eindtijd]])-TabUren22[[#This Row],[pauze]],(TabUren22[[#This Row],[eindtijd]]-TabUren22[[#This Row],[begintijd]])-TabUren22[[#This Row],[pauze]]))","v":""},{"$f":"IF(OR(TabUren22[hoofdcategorie]=\"\",TabUren22[hoofdcategorie]=0),\"anders dan hoofdcategorie\",TabUren22[hoofdcategorie])","v":"anders dan hoofdcategorie"}]
[{"$f":"IF(TabUren22[[#This Row],[datum]]=\"\",\"\",INT((TabUren22[[#This Row],[datum]]-SUM(MOD(DATE(YEAR(TabUren22[[#This Row],[datum]]-MOD(TabUren22[[#This Row],[datum]]-2,7)+3),1,2),{1E+99;7})*{1;-1})+5) /7))","v":""},{"$f":"IF(TabUren22[[#This Row],[datum]]=\"\",\"\",TabUren22[[#This Row],[datum]])","v":""},null,null,{"$f":"IF(TabUren22[[#This Row],[datum]]=\"\",\"\",verzameldata!$C$4)","v":""},null,null,null,null,{"$f":"IF(TabUren22[[#This Row],[eindtijd]]=\"\",\"\",IF(TabUren22[[#This Row],[eindtijd]]<TabUren22[[#This Row],[begintijd]],(\"24:00\"-TabUren22[[#This Row],[begintijd]]+TabUren22[[#This Row],[eindtijd]])-TabUren22[[#This Row],[pauze]],(TabUren22[[#This Row],[eindtijd]]-TabUren22[[#This Row],[begintijd]])-TabUren22[[#This Row],[pauze]]))","v":""},{"$f":"IF(OR(TabUren22[hoofdcategorie]=\"\",TabUren22[hoofdcategorie]=0),\"anders dan hoofdcategorie\",TabUren22[hoofdcategorie])","v":"anders dan hoofdcategorie"}]
[{"$f":"IF(TabUren22[[#This Row],[datum]]=\"\",\"\",INT((TabUren22[[#This Row],[datum]]-SUM(MOD(DATE(YEAR(TabUren22[[#This Row],[datum]]-MOD(TabUren22[[#This Row],[datum]]-2,7)+3),1,2),{1E+99;7})*{1;-1})+5) /7))","v":""},{"$f":"IF(TabUren22[[#This Row],[datum]]=\"\",\"\",TabUren22[[#This Row],[datum]])","v":""},null,null,{"$f":"IF(TabUren22[[#This Row],[datum]]=\"\",\"\",verzameldata!$C$4)","v":""},null,null,null,null,{"$f":"IF(TabUren22[[#This Row],[eindtijd]]=\"\",\"\",IF(TabUren22[[#This Row],[eindtijd]]<TabUren22[[#This Row],[begintijd]],(\"24:00\"-TabUren22[[#This Row],[begintijd]]+TabUren22[[#This Row],[eindtijd]])-TabUren22[[#This Row],[pauze]],(TabUren22[[#This Row],[eindtijd]]-TabUren22[[#This Row],[begintijd]])-TabUren22[[#This Row],[pauze]]))","v":""},{"$f":"IF(OR(TabUren22[hoofdcategorie]=\"\",TabUren22[hoofdcategorie]=0),\"anders dan hoofdcategorie\",TabUren22[hoofdcategorie])","v":"anders dan hoofdcategorie"}]
[{"$f":"IF(TabUren22[[#This Row],[datum]]=\"\",\"\",INT((TabUren22[[#This Row],[datum]]-SUM(MOD(DATE(YEAR(TabUren22[[#This Row],[datum]]-MOD(TabUren22[[#This Row],[datum]]-2,7)+3),1,2),{1E+99;7})*{1;-1})+5) /7))","v":""},{"$f":"IF(TabUren22[[#This Row],[datum]]=\"\",\"\",TabUren22[[#This Row],[datum]])","v":""},null,null,{"$f":"IF(TabUren22[[#This Row],[datum]]=\"\",\"\",verzameldata!$C$4)","v":""},null,null,null,null,{"$f":"IF(TabUren22[[#This Row],[eindtijd]]=\"\",\"\",IF(TabUren22[[#This Row],[eindtijd]]<TabUren22[[#This Row],[begintijd]],(\"24:00\"-TabUren22[[#This Row],[begintijd]]+TabUren22[[#This Row],[eindtijd]])-TabUren22[[#This Row],[pauze]],(TabUren22[[#This Row],[eindtijd]]-TabUren22[[#This Row],[begintijd]])-TabUren22[[#This Row],[pauze]]))","v":""},{"$f":"IF(OR(TabUren22[hoofdcategorie]=\"\",TabUren22[hoofdcategorie]=0),\"anders dan hoofdcategorie\",TabUren22[hoofdcategorie])","v":"anders dan hoofdcategorie"}]
[{"$f":"IF(TabUren22[[#This Row],[datum]]=\"\",\"\",INT((TabUren22[[#This Row],[datum]]-SUM(MOD(DATE(YEAR(TabUren22[[#This Row],[datum]]-MOD(TabUren22[[#This Row],[datum]]-2,7)+3),1,2),{1E+99;7})*{1;-1})+5) /7))","v":""},{"$f":"IF(TabUren22[[#This Row],[datum]]=\"\",\"\",TabUren22[[#This Row],[datum]])","v":""},null,null,{"$f":"IF(TabUren22[[#This Row],[datum]]=\"\",\"\",verzameldata!$C$4)","v":""},null,null,null,null,{"$f":"IF(TabUren22[[#This Row],[eindtijd]]=\"\",\"\",IF(TabUren22[[#This Row],[eindtijd]]<TabUren22[[#This Row],[begintijd]],(\"24:00\"-TabUren22[[#This Row],[begintijd]]+TabUren22[[#This Row],[eindtijd]])-TabUren22[[#This Row],[pauze]],(TabUren22[[#This Row],[eindtijd]]-TabUren22[[#This Row],[begintijd]])-TabUren22[[#This Row],[pauze]]))","v":""},{"$f":"IF(OR(TabUren22[hoofdcategorie]=\"\",TabUren22[hoofdcategorie]=0),\"anders dan hoofdcategorie\",TabUren22[hoofdcategorie])","v":"anders dan hoofdcategorie"}]
[{"$f":"IF(TabUren22[[#This Row],[datum]]=\"\",\"\",INT((TabUren22[[#This Row],[datum]]-SUM(MOD(DATE(YEAR(TabUren22[[#This Row],[datum]]-MOD(TabUren22[[#This Row],[datum]]-2,7)+3),1,2),{1E+99;7})*{1;-1})+5) /7))","v":""},{"$f":"IF(TabUren22[[#This Row],[datum]]=\"\",\"\",TabUren22[[#This Row],[datum]])","v":""},null,null,{"$f":"IF(TabUren22[[#This Row],[datum]]=\"\",\"\",verzameldata!$C$4)","v":""},null,null,null,null,{"$f":"IF(TabUren22[[#This Row],[eindtijd]]=\"\",\"\",IF(TabUren22[[#This Row],[eindtijd]]<TabUren22[[#This Row],[begintijd]],(\"24:00\"-TabUren22[[#This Row],[begintijd]]+TabUren22[[#This Row],[eindtijd]])-TabUren22[[#This Row],[pauze]],(TabUren22[[#This Row],[eindtijd]]-TabUren22[[#This Row],[begintijd]])-TabUren22[[#This Row],[pauze]]))","v":""},{"$f":"IF(OR(TabUren22[hoofdcategorie]=\"\",TabUren22[hoofdcategorie]=0),\"anders dan hoofdcategorie\",TabUren22[hoofdcategorie])","v":"anders dan hoofdcategorie"}]
[{"$f":"IF(TabUren22[[#This Row],[datum]]=\"\",\"\",INT((TabUren22[[#This Row],[datum]]-SUM(MOD(DATE(YEAR(TabUren22[[#This Row],[datum]]-MOD(TabUren22[[#This Row],[datum]]-2,7)+3),1,2),{1E+99;7})*{1;-1})+5) /7))","v":""},{"$f":"IF(TabUren22[[#This Row],[datum]]=\"\",\"\",TabUren22[[#This Row],[datum]])","v":""},null,null,{"$f":"IF(TabUren22[[#This Row],[datum]]=\"\",\"\",verzameldata!$C$4)","v":""},null,null,null,null,{"$f":"IF(TabUren22[[#This Row],[eindtijd]]=\"\",\"\",IF(TabUren22[[#This Row],[eindtijd]]<TabUren22[[#This Row],[begintijd]],(\"24:00\"-TabUren22[[#This Row],[begintijd]]+TabUren22[[#This Row],[eindtijd]])-TabUren22[[#This Row],[pauze]],(TabUren22[[#This Row],[eindtijd]]-TabUren22[[#This Row],[begintijd]])-TabUren22[[#This Row],[pauze]]))","v":""},{"$f":"IF(OR(TabUren22[hoofdcategorie]=\"\",TabUren22[hoofdcategorie]=0),\"anders dan hoofdcategorie\",TabUren22[hoofdcategorie])","v":"anders dan hoofdcategorie"}]
[{"$f":"IF(TabUren22[[#This Row],[datum]]=\"\",\"\",INT((TabUren22[[#This Row],[datum]]-SUM(MOD(DATE(YEAR(TabUren22[[#This Row],[datum]]-MOD(TabUren22[[#This Row],[datum]]-2,7)+3),1,2),{1E+99;7})*{1;-1})+5) /7))","v":""},{"$f":"IF(TabUren22[[#This Row],[datum]]=\"\",\"\",TabUren22[[#This Row],[datum]])","v":""},null,null,{"$f":"IF(TabUren22[[#This Row],[datum]]=\"\",\"\",verzameldata!$C$4)","v":""},null,null,null,null,{"$f":"IF(TabUren22[[#This Row],[eindtijd]]=\"\",\"\",IF(TabUren22[[#This Row],[eindtijd]]<TabUren22[[#This Row],[begintijd]],(\"24:00\"-TabUren22[[#This Row],[begintijd]]+TabUren22[[#This Row],[eindtijd]])-TabUren22[[#This Row],[pauze]],(TabUren22[[#This Row],[eindtijd]]-TabUren22[[#This Row],[begintijd]])-TabUren22[[#This Row],[pauze]]))","v":""},{"$f":"IF(OR(TabUren22[hoofdcategorie]=\"\",TabUren22[hoofdcategorie]=0),\"anders dan hoofdcategorie\",TabUren22[hoofdcategorie])","v":"anders dan hoofdcategorie"}]
[{"$f":"IF(TabUren22[[#This Row],[datum]]=\"\",\"\",INT((TabUren22[[#This Row],[datum]]-SUM(MOD(DATE(YEAR(TabUren22[[#This Row],[datum]]-MOD(TabUren22[[#This Row],[datum]]-2,7)+3),1,2),{1E+99;7})*{1;-1})+5) /7))","v":""},{"$f":"IF(TabUren22[[#This Row],[datum]]=\"\",\"\",TabUren22[[#This Row],[datum]])","v":""},null,null,{"$f":"IF(TabUren22[[#This Row],[datum]]=\"\",\"\",verzameldata!$C$4)","v":""},null,null,null,null,{"$f":"IF(TabUren22[[#This Row],[eindtijd]]=\"\",\"\",IF(TabUren22[[#This Row],[eindtijd]]<TabUren22[[#This Row],[begintijd]],(\"24:00\"-TabUren22[[#This Row],[begintijd]]+TabUren22[[#This Row],[eindtijd]])-TabUren22[[#This Row],[pauze]],(TabUren22[[#This Row],[eindtijd]]-TabUren22[[#This Row],[begintijd]])-TabUren22[[#This Row],[pauze]]))","v":""},{"$f":"IF(OR(TabUren22[hoofdcategorie]=\"\",TabUren22[hoofdcategorie]=0),\"anders dan hoofdcategorie\",TabUren22[hoofdcategorie])","v":"anders dan hoofdcategorie"}]
[{"$f":"IF(TabUren22[[#This Row],[datum]]=\"\",\"\",INT((TabUren22[[#This Row],[datum]]-SUM(MOD(DATE(YEAR(TabUren22[[#This Row],[datum]]-MOD(TabUren22[[#This Row],[datum]]-2,7)+3),1,2),{1E+99;7})*{1;-1})+5) /7))","v":""},{"$f":"IF(TabUren22[[#This Row],[datum]]=\"\",\"\",TabUren22[[#This Row],[datum]])","v":""},null,null,{"$f":"IF(TabUren22[[#This Row],[datum]]=\"\",\"\",verzameldata!$C$4)","v":""},null,null,null,null,{"$f":"IF(TabUren22[[#This Row],[eindtijd]]=\"\",\"\",IF(TabUren22[[#This Row],[eindtijd]]<TabUren22[[#This Row],[begintijd]],(\"24:00\"-TabUren22[[#This Row],[begintijd]]+TabUren22[[#This Row],[eindtijd]])-TabUren22[[#This Row],[pauze]],(TabUren22[[#This Row],[eindtijd]]-TabUren22[[#This Row],[begintijd]])-TabUren22[[#This Row],[pauze]]))","v":""},{"$f":"IF(OR(TabUren22[hoofdcategorie]=\"\",TabUren22[hoofdcategorie]=0),\"anders dan hoofdcategorie\",TabUren22[hoofdcategorie])","v":"anders dan hoofdcategorie"}]
[{"$f":"IF(TabUren22[[#This Row],[datum]]=\"\",\"\",INT((TabUren22[[#This Row],[datum]]-SUM(MOD(DATE(YEAR(TabUren22[[#This Row],[datum]]-MOD(TabUren22[[#This Row],[datum]]-2,7)+3),1,2),{1E+99;7})*{1;-1})+5) /7))","v":""},{"$f":"IF(TabUren22[[#This Row],[datum]]=\"\",\"\",TabUren22[[#This Row],[datum]])","v":""},null,null,{"$f":"IF(TabUren22[[#This Row],[datum]]=\"\",\"\",verzameldata!$C$4)","v":""},null,null,null,null,{"$f":"IF(TabUren22[[#This Row],[eindtijd]]=\"\",\"\",IF(TabUren22[[#This Row],[eindtijd]]<TabUren22[[#This Row],[begintijd]],(\"24:00\"-TabUren22[[#This Row],[begintijd]]+TabUren22[[#This Row],[eindtijd]])-TabUren22[[#This Row],[pauze]],(TabUren22[[#This Row],[eindtijd]]-TabUren22[[#This Row],[begintijd]])-TabUren22[[#This Row],[pauze]]))","v":""},{"$f":"IF(OR(TabUren22[hoofdcategorie]=\"\",TabUren22[hoofdcategorie]=0),\"anders dan hoofdcategorie\",TabUren22[hoofdcategorie])","v":"anders dan hoofdcategorie"}]
[{"$f":"IF(TabUren22[[#This Row],[datum]]=\"\",\"\",INT((TabUren22[[#This Row],[datum]]-SUM(MOD(DATE(YEAR(TabUren22[[#This Row],[datum]]-MOD(TabUren22[[#This Row],[datum]]-2,7)+3),1,2),{1E+99;7})*{1;-1})+5) /7))","v":""},{"$f":"IF(TabUren22[[#This Row],[datum]]=\"\",\"\",TabUren22[[#This Row],[datum]])","v":""},null,null,{"$f":"IF(TabUren22[[#This Row],[datum]]=\"\",\"\",verzameldata!$C$4)","v":""},null,null,null,null,{"$f":"IF(TabUren22[[#This Row],[eindtijd]]=\"\",\"\",IF(TabUren22[[#This Row],[eindtijd]]<TabUren22[[#This Row],[begintijd]],(\"24:00\"-TabUren22[[#This Row],[begintijd]]+TabUren22[[#This Row],[eindtijd]])-TabUren22[[#This Row],[pauze]],(TabUren22[[#This Row],[eindtijd]]-TabUren22[[#This Row],[begintijd]])-TabUren22[[#This Row],[pauze]]))","v":""},{"$f":"IF(OR(TabUren22[hoofdcategorie]=\"\",TabUren22[hoofdcategorie]=0),\"anders dan hoofdcategorie\",TabUren22[hoofdcategorie])","v":"anders dan hoofdcategorie"}]
[{"$f":"IF(TabUren22[[#This Row],[datum]]=\"\",\"\",INT((TabUren22[[#This Row],[datum]]-SUM(MOD(DATE(YEAR(TabUren22[[#This Row],[datum]]-MOD(TabUren22[[#This Row],[datum]]-2,7)+3),1,2),{1E+99;7})*{1;-1})+5) /7))","v":""},{"$f":"IF(TabUren22[[#This Row],[datum]]=\"\",\"\",TabUren22[[#This Row],[datum]])","v":""},null,null,{"$f":"IF(TabUren22[[#This Row],[datum]]=\"\",\"\",verzameldata!$C$4)","v":""},null,null,null,null,{"$f":"IF(TabUren22[[#This Row],[eindtijd]]=\"\",\"\",IF(TabUren22[[#This Row],[eindtijd]]<TabUren22[[#This Row],[begintijd]],(\"24:00\"-TabUren22[[#This Row],[begintijd]]+TabUren22[[#This Row],[eindtijd]])-TabUren22[[#This Row],[pauze]],(TabUren22[[#This Row],[eindtijd]]-TabUren22[[#This Row],[begintijd]])-TabUren22[[#This Row],[pauze]]))","v":""},{"$f":"IF(OR(TabUren22[hoofdcategorie]=\"\",TabUren22[hoofdcategorie]=0),\"anders dan hoofdcategorie\",TabUren22[hoofdcategorie])","v":"anders dan hoofdcategorie"}]
[{"$f":"IF(TabUren22[[#This Row],[datum]]=\"\",\"\",INT((TabUren22[[#This Row],[datum]]-SUM(MOD(DATE(YEAR(TabUren22[[#This Row],[datum]]-MOD(TabUren22[[#This Row],[datum]]-2,7)+3),1,2),{1E+99;7})*{1;-1})+5) /7))","v":""},{"$f":"IF(TabUren22[[#This Row],[datum]]=\"\",\"\",TabUren22[[#This Row],[datum]])","v":""},null,null,{"$f":"IF(TabUren22[[#This Row],[datum]]=\"\",\"\",verzameldata!$C$4)","v":""},null,null,null,null,{"$f":"IF(TabUren22[[#This Row],[eindtijd]]=\"\",\"\",IF(TabUren22[[#This Row],[eindtijd]]<TabUren22[[#This Row],[begintijd]],(\"24:00\"-TabUren22[[#This Row],[begintijd]]+TabUren22[[#This Row],[eindtijd]])-TabUren22[[#This Row],[pauze]],(TabUren22[[#This Row],[eindtijd]]-TabUren22[[#This Row],[begintijd]])-TabUren22[[#This Row],[pauze]]))","v":""},{"$f":"IF(OR(TabUren22[hoofdcategorie]=\"\",TabUren22[hoofdcategorie]=0),\"anders dan hoofdcategorie\",TabUren22[hoofdcategorie])","v":"anders dan hoofdcategorie"}]
[{"$f":"IF(TabUren22[[#This Row],[datum]]=\"\",\"\",INT((TabUren22[[#This Row],[datum]]-SUM(MOD(DATE(YEAR(TabUren22[[#This Row],[datum]]-MOD(TabUren22[[#This Row],[datum]]-2,7)+3),1,2),{1E+99;7})*{1;-1})+5) /7))","v":""},{"$f":"IF(TabUren22[[#This Row],[datum]]=\"\",\"\",TabUren22[[#This Row],[datum]])","v":""},null,null,{"$f":"IF(TabUren22[[#This Row],[datum]]=\"\",\"\",verzameldata!$C$4)","v":""},null,null,null,null,{"$f":"IF(TabUren22[[#This Row],[eindtijd]]=\"\",\"\",IF(TabUren22[[#This Row],[eindtijd]]<TabUren22[[#This Row],[begintijd]],(\"24:00\"-TabUren22[[#This Row],[begintijd]]+TabUren22[[#This Row],[eindtijd]])-TabUren22[[#This Row],[pauze]],(TabUren22[[#This Row],[eindtijd]]-TabUren22[[#This Row],[begintijd]])-TabUren22[[#This Row],[pauze]]))","v":""},{"$f":"IF(OR(TabUren22[hoofdcategorie]=\"\",TabUren22[hoofdcategorie]=0),\"anders dan hoofdcategorie\",TabUren22[hoofdcategorie])","v":"anders dan hoofdcategorie"}]
[{"$f":"IF(TabUren22[[#This Row],[datum]]=\"\",\"\",INT((TabUren22[[#This Row],[datum]]-SUM(MOD(DATE(YEAR(TabUren22[[#This Row],[datum]]-MOD(TabUren22[[#This Row],[datum]]-2,7)+3),1,2),{1E+99;7})*{1;-1})+5) /7))","v":""},{"$f":"IF(TabUren22[[#This Row],[datum]]=\"\",\"\",TabUren22[[#This Row],[datum]])","v":""},null,null,{"$f":"IF(TabUren22[[#This Row],[datum]]=\"\",\"\",verzameldata!$C$4)","v":""},null,null,null,null,{"$f":"IF(TabUren22[[#This Row],[eindtijd]]=\"\",\"\",IF(TabUren22[[#This Row],[eindtijd]]<TabUren22[[#This Row],[begintijd]],(\"24:00\"-TabUren22[[#This Row],[begintijd]]+TabUren22[[#This Row],[eindtijd]])-TabUren22[[#This Row],[pauze]],(TabUren22[[#This Row],[eindtijd]]-TabUren22[[#This Row],[begintijd]])-TabUren22[[#This Row],[pauze]]))","v":""},{"$f":"IF(OR(TabUren22[hoofdcategorie]=\"\",TabUren22[hoofdcategorie]=0),\"anders dan hoofdcategorie\",TabUren22[hoofdcategorie])","v":"anders dan hoofdcategorie"}]
[{"$f":"IF(TabUren22[[#This Row],[datum]]=\"\",\"\",INT((TabUren22[[#This Row],[datum]]-SUM(MOD(DATE(YEAR(TabUren22[[#This Row],[datum]]-MOD(TabUren22[[#This Row],[datum]]-2,7)+3),1,2),{1E+99;7})*{1;-1})+5) /7))","v":""},{"$f":"IF(TabUren22[[#This Row],[datum]]=\"\",\"\",TabUren22[[#This Row],[datum]])","v":""},null,null,{"$f":"IF(TabUren22[[#This Row],[datum]]=\"\",\"\",verzameldata!$C$4)","v":""},null,null,null,null,{"$f":"IF(TabUren22[[#This Row],[eindtijd]]=\"\",\"\",IF(TabUren22[[#This Row],[eindtijd]]<TabUren22[[#This Row],[begintijd]],(\"24:00\"-TabUren22[[#This Row],[begintijd]]+TabUren22[[#This Row],[eindtijd]])-TabUren22[[#This Row],[pauze]],(TabUren22[[#This Row],[eindtijd]]-TabUren22[[#This Row],[begintijd]])-TabUren22[[#This Row],[pauze]]))","v":""},{"$f":"IF(OR(TabUren22[hoofdcategorie]=\"\",TabUren22[hoofdcategorie]=0),\"anders dan hoofdcategorie\",TabUren22[hoofdcategorie])","v":"anders dan hoofdcategorie"}]
[{"$f":"IF(TabUren22[[#This Row],[datum]]=\"\",\"\",INT((TabUren22[[#This Row],[datum]]-SUM(MOD(DATE(YEAR(TabUren22[[#This Row],[datum]]-MOD(TabUren22[[#This Row],[datum]]-2,7)+3),1,2),{1E+99;7})*{1;-1})+5) /7))","v":""},{"$f":"IF(TabUren22[[#This Row],[datum]]=\"\",\"\",TabUren22[[#This Row],[datum]])","v":""},null,null,{"$f":"IF(TabUren22[[#This Row],[datum]]=\"\",\"\",verzameldata!$C$4)","v":""},null,null,null,null,{"$f":"IF(TabUren22[[#This Row],[eindtijd]]=\"\",\"\",IF(TabUren22[[#This Row],[eindtijd]]<TabUren22[[#This Row],[begintijd]],(\"24:00\"-TabUren22[[#This Row],[begintijd]]+TabUren22[[#This Row],[eindtijd]])-TabUren22[[#This Row],[pauze]],(TabUren22[[#This Row],[eindtijd]]-TabUren22[[#This Row],[begintijd]])-TabUren22[[#This Row],[pauze]]))","v":""},{"$f":"IF(OR(TabUren22[hoofdcategorie]=\"\",TabUren22[hoofdcategorie]=0),\"anders dan hoofdcategorie\",TabUren22[hoofdcategorie])","v":"anders dan hoofdcategorie"}]
[{"$f":"IF(TabUren22[[#This Row],[datum]]=\"\",\"\",INT((TabUren22[[#This Row],[datum]]-SUM(MOD(DATE(YEAR(TabUren22[[#This Row],[datum]]-MOD(TabUren22[[#This Row],[datum]]-2,7)+3),1,2),{1E+99;7})*{1;-1})+5) /7))","v":""},{"$f":"IF(TabUren22[[#This Row],[datum]]=\"\",\"\",TabUren22[[#This Row],[datum]])","v":""},null,null,{"$f":"IF(TabUren22[[#This Row],[datum]]=\"\",\"\",verzameldata!$C$4)","v":""},null,null,null,null,{"$f":"IF(TabUren22[[#This Row],[eindtijd]]=\"\",\"\",IF(TabUren22[[#This Row],[eindtijd]]<TabUren22[[#This Row],[begintijd]],(\"24:00\"-TabUren22[[#This Row],[begintijd]]+TabUren22[[#This Row],[eindtijd]])-TabUren22[[#This Row],[pauze]],(TabUren22[[#This Row],[eindtijd]]-TabUren22[[#This Row],[begintijd]])-TabUren22[[#This Row],[pauze]]))","v":""},{"$f":"IF(OR(TabUren22[hoofdcategorie]=\"\",TabUren22[hoofdcategorie]=0),\"anders dan hoofdcategorie\",TabUren22[hoofdcategorie])","v":"anders dan hoofdcategorie"}]
[{"$f":"IF(TabUren22[[#This Row],[datum]]=\"\",\"\",INT((TabUren22[[#This Row],[datum]]-SUM(MOD(DATE(YEAR(TabUren22[[#This Row],[datum]]-MOD(TabUren22[[#This Row],[datum]]-2,7)+3),1,2),{1E+99;7})*{1;-1})+5) /7))","v":""},{"$f":"IF(TabUren22[[#This Row],[datum]]=\"\",\"\",TabUren22[[#This Row],[datum]])","v":""},null,null,{"$f":"IF(TabUren22[[#This Row],[datum]]=\"\",\"\",verzameldata!$C$4)","v":""},null,null,null,null,{"$f":"IF(TabUren22[[#This Row],[eindtijd]]=\"\",\"\",IF(TabUren22[[#This Row],[eindtijd]]<TabUren22[[#This Row],[begintijd]],(\"24:00\"-TabUren22[[#This Row],[begintijd]]+TabUren22[[#This Row],[eindtijd]])-TabUren22[[#This Row],[pauze]],(TabUren22[[#This Row],[eindtijd]]-TabUren22[[#This Row],[begintijd]])-TabUren22[[#This Row],[pauze]]))","v":""},{"$f":"IF(OR(TabUren22[hoofdcategorie]=\"\",TabUren22[hoofdcategorie]=0),\"anders dan hoofdcategorie\",TabUren22[hoofdcategorie])","v":"anders dan hoofdcategorie"}]
[{"$f":"IF(TabUren22[[#This Row],[datum]]=\"\",\"\",INT((TabUren22[[#This Row],[datum]]-SUM(MOD(DATE(YEAR(TabUren22[[#This Row],[datum]]-MOD(TabUren22[[#This Row],[datum]]-2,7)+3),1,2),{1E+99;7})*{1;-1})+5) /7))","v":""},{"$f":"IF(TabUren22[[#This Row],[datum]]=\"\",\"\",TabUren22[[#This Row],[datum]])","v":""},null,null,{"$f":"IF(TabUren22[[#This Row],[datum]]=\"\",\"\",verzameldata!$C$4)","v":""},null,null,null,null,{"$f":"IF(TabUren22[[#This Row],[eindtijd]]=\"\",\"\",IF(TabUren22[[#This Row],[eindtijd]]<TabUren22[[#This Row],[begintijd]],(\"24:00\"-TabUren22[[#This Row],[begintijd]]+TabUren22[[#This Row],[eindtijd]])-TabUren22[[#This Row],[pauze]],(TabUren22[[#This Row],[eindtijd]]-TabUren22[[#This Row],[begintijd]])-TabUren22[[#This Row],[pauze]]))","v":""},{"$f":"IF(OR(TabUren22[hoofdcategorie]=\"\",TabUren22[hoofdcategorie]=0),\"anders dan hoofdcategorie\",TabUren22[hoofdcategorie])","v":"anders dan hoofdcategorie"}]
[{"$f":"IF(TabUren22[[#This Row],[datum]]=\"\",\"\",INT((TabUren22[[#This Row],[datum]]-SUM(MOD(DATE(YEAR(TabUren22[[#This Row],[datum]]-MOD(TabUren22[[#This Row],[datum]]-2,7)+3),1,2),{1E+99;7})*{1;-1})+5) /7))","v":""},{"$f":"IF(TabUren22[[#This Row],[datum]]=\"\",\"\",TabUren22[[#This Row],[datum]])","v":""},null,null,{"$f":"IF(TabUren22[[#This Row],[datum]]=\"\",\"\",verzameldata!$C$4)","v":""},null,null,null,null,{"$f":"IF(TabUren22[[#This Row],[eindtijd]]=\"\",\"\",IF(TabUren22[[#This Row],[eindtijd]]<TabUren22[[#This Row],[begintijd]],(\"24:00\"-TabUren22[[#This Row],[begintijd]]+TabUren22[[#This Row],[eindtijd]])-TabUren22[[#This Row],[pauze]],(TabUren22[[#This Row],[eindtijd]]-TabUren22[[#This Row],[begintijd]])-TabUren22[[#This Row],[pauze]]))","v":""},{"$f":"IF(OR(TabUren22[hoofdcategorie]=\"\",TabUren22[hoofdcategorie]=0),\"anders dan hoofdcategorie\",TabUren22[hoofdcategorie])","v":"anders dan hoofdcategorie"}]
[{"$f":"IF(TabUren22[[#This Row],[datum]]=\"\",\"\",INT((TabUren22[[#This Row],[datum]]-SUM(MOD(DATE(YEAR(TabUren22[[#This Row],[datum]]-MOD(TabUren22[[#This Row],[datum]]-2,7)+3),1,2),{1E+99;7})*{1;-1})+5) /7))","v":""},{"$f":"IF(TabUren22[[#This Row],[datum]]=\"\",\"\",TabUren22[[#This Row],[datum]])","v":""},null,null,{"$f":"IF(TabUren22[[#This Row],[datum]]=\"\",\"\",verzameldata!$C$4)","v":""},null,null,null,null,{"$f":"IF(TabUren22[[#This Row],[eindtijd]]=\"\",\"\",IF(TabUren22[[#This Row],[eindtijd]]<TabUren22[[#This Row],[begintijd]],(\"24:00\"-TabUren22[[#This Row],[begintijd]]+TabUren22[[#This Row],[eindtijd]])-TabUren22[[#This Row],[pauze]],(TabUren22[[#This Row],[eindtijd]]-TabUren22[[#This Row],[begintijd]])-TabUren22[[#This Row],[pauze]]))","v":""},{"$f":"IF(OR(TabUren22[hoofdcategorie]=\"\",TabUren22[hoofdcategorie]=0),\"anders dan hoofdcategorie\",TabUren22[hoofdcategorie])","v":"anders dan hoofdcategorie"}]
[{"$f":"IF(TabUren22[[#This Row],[datum]]=\"\",\"\",INT((TabUren22[[#This Row],[datum]]-SUM(MOD(DATE(YEAR(TabUren22[[#This Row],[datum]]-MOD(TabUren22[[#This Row],[datum]]-2,7)+3),1,2),{1E+99;7})*{1;-1})+5) /7))","v":""},{"$f":"IF(TabUren22[[#This Row],[datum]]=\"\",\"\",TabUren22[[#This Row],[datum]])","v":""},null,null,{"$f":"IF(TabUren22[[#This Row],[datum]]=\"\",\"\",verzameldata!$C$4)","v":""},null,null,null,null,{"$f":"IF(TabUren22[[#This Row],[eindtijd]]=\"\",\"\",IF(TabUren22[[#This Row],[eindtijd]]<TabUren22[[#This Row],[begintijd]],(\"24:00\"-TabUren22[[#This Row],[begintijd]]+TabUren22[[#This Row],[eindtijd]])-TabUren22[[#This Row],[pauze]],(TabUren22[[#This Row],[eindtijd]]-TabUren22[[#This Row],[begintijd]])-TabUren22[[#This Row],[pauze]]))","v":""},{"$f":"IF(OR(TabUren22[hoofdcategorie]=\"\",TabUren22[hoofdcategorie]=0),\"anders dan hoofdcategorie\",TabUren22[hoofdcategorie])","v":"anders dan hoofdcategorie"}]
[{"$f":"IF(TabUren22[[#This Row],[datum]]=\"\",\"\",INT((TabUren22[[#This Row],[datum]]-SUM(MOD(DATE(YEAR(TabUren22[[#This Row],[datum]]-MOD(TabUren22[[#This Row],[datum]]-2,7)+3),1,2),{1E+99;7})*{1;-1})+5) /7))","v":""},{"$f":"IF(TabUren22[[#This Row],[datum]]=\"\",\"\",TabUren22[[#This Row],[datum]])","v":""},null,null,{"$f":"IF(TabUren22[[#This Row],[datum]]=\"\",\"\",verzameldata!$C$4)","v":""},null,null,null,null,{"$f":"IF(TabUren22[[#This Row],[eindtijd]]=\"\",\"\",IF(TabUren22[[#This Row],[eindtijd]]<TabUren22[[#This Row],[begintijd]],(\"24:00\"-TabUren22[[#This Row],[begintijd]]+TabUren22[[#This Row],[eindtijd]])-TabUren22[[#This Row],[pauze]],(TabUren22[[#This Row],[eindtijd]]-TabUren22[[#This Row],[begintijd]])-TabUren22[[#This Row],[pauze]]))","v":""},{"$f":"IF(OR(TabUren22[hoofdcategorie]=\"\",TabUren22[hoofdcategorie]=0),\"anders dan hoofdcategorie\",TabUren22[hoofdcategorie])","v":"anders dan hoofdcategorie"}]
[{"$f":"IF(TabUren22[[#This Row],[datum]]=\"\",\"\",INT((TabUren22[[#This Row],[datum]]-SUM(MOD(DATE(YEAR(TabUren22[[#This Row],[datum]]-MOD(TabUren22[[#This Row],[datum]]-2,7)+3),1,2),{1E+99;7})*{1;-1})+5) /7))","v":""},{"$f":"IF(TabUren22[[#This Row],[datum]]=\"\",\"\",TabUren22[[#This Row],[datum]])","v":""},null,null,{"$f":"IF(TabUren22[[#This Row],[datum]]=\"\",\"\",verzameldata!$C$4)","v":""},null,null,null,null,{"$f":"IF(TabUren22[[#This Row],[eindtijd]]=\"\",\"\",IF(TabUren22[[#This Row],[eindtijd]]<TabUren22[[#This Row],[begintijd]],(\"24:00\"-TabUren22[[#This Row],[begintijd]]+TabUren22[[#This Row],[eindtijd]])-TabUren22[[#This Row],[pauze]],(TabUren22[[#This Row],[eindtijd]]-TabUren22[[#This Row],[begintijd]])-TabUren22[[#This Row],[pauze]]))","v":""},{"$f":"IF(OR(TabUren22[hoofdcategorie]=\"\",TabUren22[hoofdcategorie]=0),\"anders dan hoofdcategorie\",TabUren22[hoofdcategorie])","v":"anders dan hoofdcategorie"}]
[{"$f":"IF(TabUren22[[#This Row],[datum]]=\"\",\"\",INT((TabUren22[[#This Row],[datum]]-SUM(MOD(DATE(YEAR(TabUren22[[#This Row],[datum]]-MOD(TabUren22[[#This Row],[datum]]-2,7)+3),1,2),{1E+99;7})*{1;-1})+5) /7))","v":""},{"$f":"IF(TabUren22[[#This Row],[datum]]=\"\",\"\",TabUren22[[#This Row],[datum]])","v":""},null,null,{"$f":"IF(TabUren22[[#This Row],[datum]]=\"\",\"\",verzameldata!$C$4)","v":""},null,null,null,null,{"$f":"IF(TabUren22[[#This Row],[eindtijd]]=\"\",\"\",IF(TabUren22[[#This Row],[eindtijd]]<TabUren22[[#This Row],[begintijd]],(\"24:00\"-TabUren22[[#This Row],[begintijd]]+TabUren22[[#This Row],[eindtijd]])-TabUren22[[#This Row],[pauze]],(TabUren22[[#This Row],[eindtijd]]-TabUren22[[#This Row],[begintijd]])-TabUren22[[#This Row],[pauze]]))","v":""},{"$f":"IF(OR(TabUren22[hoofdcategorie]=\"\",TabUren22[hoofdcategorie]=0),\"anders dan hoofdcategorie\",TabUren22[hoofdcategorie])","v":"anders dan hoofdcategorie"}]
[{"$f":"IF(TabUren22[[#This Row],[datum]]=\"\",\"\",INT((TabUren22[[#This Row],[datum]]-SUM(MOD(DATE(YEAR(TabUren22[[#This Row],[datum]]-MOD(TabUren22[[#This Row],[datum]]-2,7)+3),1,2),{1E+99;7})*{1;-1})+5) /7))","v":""},{"$f":"IF(TabUren22[[#This Row],[datum]]=\"\",\"\",TabUren22[[#This Row],[datum]])","v":""},null,null,{"$f":"IF(TabUren22[[#This Row],[datum]]=\"\",\"\",verzameldata!$C$4)","v":""},null,null,null,null,{"$f":"IF(TabUren22[[#This Row],[eindtijd]]=\"\",\"\",IF(TabUren22[[#This Row],[eindtijd]]<TabUren22[[#This Row],[begintijd]],(\"24:00\"-TabUren22[[#This Row],[begintijd]]+TabUren22[[#This Row],[eindtijd]])-TabUren22[[#This Row],[pauze]],(TabUren22[[#This Row],[eindtijd]]-TabUren22[[#This Row],[begintijd]])-TabUren22[[#This Row],[pauze]]))","v":""},{"$f":"IF(OR(TabUren22[hoofdcategorie]=\"\",TabUren22[hoofdcategorie]=0),\"anders dan hoofdcategorie\",TabUren22[hoofdcategorie])","v":"anders dan hoofdcategorie"}]
[{"$f":"IF(TabUren22[[#This Row],[datum]]=\"\",\"\",INT((TabUren22[[#This Row],[datum]]-SUM(MOD(DATE(YEAR(TabUren22[[#This Row],[datum]]-MOD(TabUren22[[#This Row],[datum]]-2,7)+3),1,2),{1E+99;7})*{1;-1})+5) /7))","v":""},{"$f":"IF(TabUren22[[#This Row],[datum]]=\"\",\"\",TabUren22[[#This Row],[datum]])","v":""},null,null,{"$f":"IF(TabUren22[[#This Row],[datum]]=\"\",\"\",verzameldata!$C$4)","v":""},null,null,null,null,{"$f":"IF(TabUren22[[#This Row],[eindtijd]]=\"\",\"\",IF(TabUren22[[#This Row],[eindtijd]]<TabUren22[[#This Row],[begintijd]],(\"24:00\"-TabUren22[[#This Row],[begintijd]]+TabUren22[[#This Row],[eindtijd]])-TabUren22[[#This Row],[pauze]],(TabUren22[[#This Row],[eindtijd]]-TabUren22[[#This Row],[begintijd]])-TabUren22[[#This Row],[pauze]]))","v":""},{"$f":"IF(OR(TabUren22[hoofdcategorie]=\"\",TabUren22[hoofdcategorie]=0),\"anders dan hoofdcategorie\",TabUren22[hoofdcategorie])","v":"anders dan hoofdcategorie"}]
[{"$f":"IF(TabUren22[[#This Row],[datum]]=\"\",\"\",INT((TabUren22[[#This Row],[datum]]-SUM(MOD(DATE(YEAR(TabUren22[[#This Row],[datum]]-MOD(TabUren22[[#This Row],[datum]]-2,7)+3),1,2),{1E+99;7})*{1;-1})+5) /7))","v":""},{"$f":"IF(TabUren22[[#This Row],[datum]]=\"\",\"\",TabUren22[[#This Row],[datum]])","v":""},null,null,{"$f":"IF(TabUren22[[#This Row],[datum]]=\"\",\"\",verzameldata!$C$4)","v":""},null,null,null,null,{"$f":"IF(TabUren22[[#This Row],[eindtijd]]=\"\",\"\",IF(TabUren22[[#This Row],[eindtijd]]<TabUren22[[#This Row],[begintijd]],(\"24:00\"-TabUren22[[#This Row],[begintijd]]+TabUren22[[#This Row],[eindtijd]])-TabUren22[[#This Row],[pauze]],(TabUren22[[#This Row],[eindtijd]]-TabUren22[[#This Row],[begintijd]])-TabUren22[[#This Row],[pauze]]))","v":""},{"$f":"IF(OR(TabUren22[hoofdcategorie]=\"\",TabUren22[hoofdcategorie]=0),\"anders dan hoofdcategorie\",TabUren22[hoofdcategorie])","v":"anders dan hoofdcategorie"}]
[{"$f":"IF(TabUren22[[#This Row],[datum]]=\"\",\"\",INT((TabUren22[[#This Row],[datum]]-SUM(MOD(DATE(YEAR(TabUren22[[#This Row],[datum]]-MOD(TabUren22[[#This Row],[datum]]-2,7)+3),1,2),{1E+99;7})*{1;-1})+5) /7))","v":""},{"$f":"IF(TabUren22[[#This Row],[datum]]=\"\",\"\",TabUren22[[#This Row],[datum]])","v":""},null,null,{"$f":"IF(TabUren22[[#This Row],[datum]]=\"\",\"\",verzameldata!$C$4)","v":""},null,null,null,null,{"$f":"IF(TabUren22[[#This Row],[eindtijd]]=\"\",\"\",IF(TabUren22[[#This Row],[eindtijd]]<TabUren22[[#This Row],[begintijd]],(\"24:00\"-TabUren22[[#This Row],[begintijd]]+TabUren22[[#This Row],[eindtijd]])-TabUren22[[#This Row],[pauze]],(TabUren22[[#This Row],[eindtijd]]-TabUren22[[#This Row],[begintijd]])-TabUren22[[#This Row],[pauze]]))","v":""},{"$f":"IF(OR(TabUren22[hoofdcategorie]=\"\",TabUren22[hoofdcategorie]=0),\"anders dan hoofdcategorie\",TabUren22[hoofdcategorie])","v":"anders dan hoofdcategorie"}]
[{"$f":"IF(TabUren22[[#This Row],[datum]]=\"\",\"\",INT((TabUren22[[#This Row],[datum]]-SUM(MOD(DATE(YEAR(TabUren22[[#This Row],[datum]]-MOD(TabUren22[[#This Row],[datum]]-2,7)+3),1,2),{1E+99;7})*{1;-1})+5) /7))","v":""},{"$f":"IF(TabUren22[[#This Row],[datum]]=\"\",\"\",TabUren22[[#This Row],[datum]])","v":""},null,null,{"$f":"IF(TabUren22[[#This Row],[datum]]=\"\",\"\",verzameldata!$C$4)","v":""},null,null,null,null,{"$f":"IF(TabUren22[[#This Row],[eindtijd]]=\"\",\"\",IF(TabUren22[[#This Row],[eindtijd]]<TabUren22[[#This Row],[begintijd]],(\"24:00\"-TabUren22[[#This Row],[begintijd]]+TabUren22[[#This Row],[eindtijd]])-TabUren22[[#This Row],[pauze]],(TabUren22[[#This Row],[eindtijd]]-TabUren22[[#This Row],[begintijd]])-TabUren22[[#This Row],[pauze]]))","v":""},{"$f":"IF(OR(TabUren22[hoofdcategorie]=\"\",TabUren22[hoofdcategorie]=0),\"anders dan hoofdcategorie\",TabUren22[hoofdcategorie])","v":"anders dan hoofdcategorie"}]
[{"$f":"IF(TabUren22[[#This Row],[datum]]=\"\",\"\",INT((TabUren22[[#This Row],[datum]]-SUM(MOD(DATE(YEAR(TabUren22[[#This Row],[datum]]-MOD(TabUren22[[#This Row],[datum]]-2,7)+3),1,2),{1E+99;7})*{1;-1})+5) /7))","v":""},{"$f":"IF(TabUren22[[#This Row],[datum]]=\"\",\"\",TabUren22[[#This Row],[datum]])","v":""},null,null,{"$f":"IF(TabUren22[[#This Row],[datum]]=\"\",\"\",verzameldata!$C$4)","v":""},null,null,null,null,{"$f":"IF(TabUren22[[#This Row],[eindtijd]]=\"\",\"\",IF(TabUren22[[#This Row],[eindtijd]]<TabUren22[[#This Row],[begintijd]],(\"24:00\"-TabUren22[[#This Row],[begintijd]]+TabUren22[[#This Row],[eindtijd]])-TabUren22[[#This Row],[pauze]],(TabUren22[[#This Row],[eindtijd]]-TabUren22[[#This Row],[begintijd]])-TabUren22[[#This Row],[pauze]]))","v":""},{"$f":"IF(OR(TabUren22[hoofdcategorie]=\"\",TabUren22[hoofdcategorie]=0),\"anders dan hoofdcategorie\",TabUren22[hoofdcategorie])","v":"anders dan hoofdcategorie"}]
[{"$f":"IF(TabUren22[[#This Row],[datum]]=\"\",\"\",INT((TabUren22[[#This Row],[datum]]-SUM(MOD(DATE(YEAR(TabUren22[[#This Row],[datum]]-MOD(TabUren22[[#This Row],[datum]]-2,7)+3),1,2),{1E+99;7})*{1;-1})+5) /7))","v":""},{"$f":"IF(TabUren22[[#This Row],[datum]]=\"\",\"\",TabUren22[[#This Row],[datum]])","v":""},null,null,{"$f":"IF(TabUren22[[#This Row],[datum]]=\"\",\"\",verzameldata!$C$4)","v":""},null,null,null,null,{"$f":"IF(TabUren22[[#This Row],[eindtijd]]=\"\",\"\",IF(TabUren22[[#This Row],[eindtijd]]<TabUren22[[#This Row],[begintijd]],(\"24:00\"-TabUren22[[#This Row],[begintijd]]+TabUren22[[#This Row],[eindtijd]])-TabUren22[[#This Row],[pauze]],(TabUren22[[#This Row],[eindtijd]]-TabUren22[[#This Row],[begintijd]])-TabUren22[[#This Row],[pauze]]))","v":""},{"$f":"IF(OR(TabUren22[hoofdcategorie]=\"\",TabUren22[hoofdcategorie]=0),\"anders dan hoofdcategorie\",TabUren22[hoofdcategorie])","v":"anders dan hoofdcategorie"}]
[{"$f":"IF(TabUren22[[#This Row],[datum]]=\"\",\"\",INT((TabUren22[[#This Row],[datum]]-SUM(MOD(DATE(YEAR(TabUren22[[#This Row],[datum]]-MOD(TabUren22[[#This Row],[datum]]-2,7)+3),1,2),{1E+99;7})*{1;-1})+5) /7))","v":""},{"$f":"IF(TabUren22[[#This Row],[datum]]=\"\",\"\",TabUren22[[#This Row],[datum]])","v":""},null,null,{"$f":"IF(TabUren22[[#This Row],[datum]]=\"\",\"\",verzameldata!$C$4)","v":""},null,null,null,null,{"$f":"IF(TabUren22[[#This Row],[eindtijd]]=\"\",\"\",IF(TabUren22[[#This Row],[eindtijd]]<TabUren22[[#This Row],[begintijd]],(\"24:00\"-TabUren22[[#This Row],[begintijd]]+TabUren22[[#This Row],[eindtijd]])-TabUren22[[#This Row],[pauze]],(TabUren22[[#This Row],[eindtijd]]-TabUren22[[#This Row],[begintijd]])-TabUren22[[#This Row],[pauze]]))","v":""},{"$f":"IF(OR(TabUren22[hoofdcategorie]=\"\",TabUren22[hoofdcategorie]=0),\"anders dan hoofdcategorie\",TabUren22[hoofdcategorie])","v":"anders dan hoofdcategorie"}]
[{"$f":"IF(TabUren22[[#This Row],[datum]]=\"\",\"\",INT((TabUren22[[#This Row],[datum]]-SUM(MOD(DATE(YEAR(TabUren22[[#This Row],[datum]]-MOD(TabUren22[[#This Row],[datum]]-2,7)+3),1,2),{1E+99;7})*{1;-1})+5) /7))","v":""},{"$f":"IF(TabUren22[[#This Row],[datum]]=\"\",\"\",TabUren22[[#This Row],[datum]])","v":""},null,null,{"$f":"IF(TabUren22[[#This Row],[datum]]=\"\",\"\",verzameldata!$C$4)","v":""},null,null,null,null,{"$f":"IF(TabUren22[[#This Row],[eindtijd]]=\"\",\"\",IF(TabUren22[[#This Row],[eindtijd]]<TabUren22[[#This Row],[begintijd]],(\"24:00\"-TabUren22[[#This Row],[begintijd]]+TabUren22[[#This Row],[eindtijd]])-TabUren22[[#This Row],[pauze]],(TabUren22[[#This Row],[eindtijd]]-TabUren22[[#This Row],[begintijd]])-TabUren22[[#This Row],[pauze]]))","v":""},{"$f":"IF(OR(TabUren22[hoofdcategorie]=\"\",TabUren22[hoofdcategorie]=0),\"anders dan hoofdcategorie\",TabUren22[hoofdcategorie])","v":"anders dan hoofdcategorie"}]
[{"$f":"IF(TabUren22[[#This Row],[datum]]=\"\",\"\",INT((TabUren22[[#This Row],[datum]]-SUM(MOD(DATE(YEAR(TabUren22[[#This Row],[datum]]-MOD(TabUren22[[#This Row],[datum]]-2,7)+3),1,2),{1E+99;7})*{1;-1})+5) /7))","v":""},{"$f":"IF(TabUren22[[#This Row],[datum]]=\"\",\"\",TabUren22[[#This Row],[datum]])","v":""},null,null,{"$f":"IF(TabUren22[[#This Row],[datum]]=\"\",\"\",verzameldata!$C$4)","v":""},null,null,null,null,{"$f":"IF(TabUren22[[#This Row],[eindtijd]]=\"\",\"\",IF(TabUren22[[#This Row],[eindtijd]]<TabUren22[[#This Row],[begintijd]],(\"24:00\"-TabUren22[[#This Row],[begintijd]]+TabUren22[[#This Row],[eindtijd]])-TabUren22[[#This Row],[pauze]],(TabUren22[[#This Row],[eindtijd]]-TabUren22[[#This Row],[begintijd]])-TabUren22[[#This Row],[pauze]]))","v":""},{"$f":"IF(OR(TabUren22[hoofdcategorie]=\"\",TabUren22[hoofdcategorie]=0),\"anders dan hoofdcategorie\",TabUren22[hoofdcategorie])","v":"anders dan hoofdcategorie"}]
[{"$f":"IF(TabUren22[[#This Row],[datum]]=\"\",\"\",INT((TabUren22[[#This Row],[datum]]-SUM(MOD(DATE(YEAR(TabUren22[[#This Row],[datum]]-MOD(TabUren22[[#This Row],[datum]]-2,7)+3),1,2),{1E+99;7})*{1;-1})+5) /7))","v":""},{"$f":"IF(TabUren22[[#This Row],[datum]]=\"\",\"\",TabUren22[[#This Row],[datum]])","v":""},null,null,{"$f":"IF(TabUren22[[#This Row],[datum]]=\"\",\"\",verzameldata!$C$4)","v":""},null,null,null,null,{"$f":"IF(TabUren22[[#This Row],[eindtijd]]=\"\",\"\",IF(TabUren22[[#This Row],[eindtijd]]<TabUren22[[#This Row],[begintijd]],(\"24:00\"-TabUren22[[#This Row],[begintijd]]+TabUren22[[#This Row],[eindtijd]])-TabUren22[[#This Row],[pauze]],(TabUren22[[#This Row],[eindtijd]]-TabUren22[[#This Row],[begintijd]])-TabUren22[[#This Row],[pauze]]))","v":""},{"$f":"IF(OR(TabUren22[hoofdcategorie]=\"\",TabUren22[hoofdcategorie]=0),\"anders dan hoofdcategorie\",TabUren22[hoofdcategorie])","v":"anders dan hoofdcategorie"}]
[{"$f":"IF(TabUren22[[#This Row],[datum]]=\"\",\"\",INT((TabUren22[[#This Row],[datum]]-SUM(MOD(DATE(YEAR(TabUren22[[#This Row],[datum]]-MOD(TabUren22[[#This Row],[datum]]-2,7)+3),1,2),{1E+99;7})*{1;-1})+5) /7))","v":""},{"$f":"IF(TabUren22[[#This Row],[datum]]=\"\",\"\",TabUren22[[#This Row],[datum]])","v":""},null,null,{"$f":"IF(TabUren22[[#This Row],[datum]]=\"\",\"\",verzameldata!$C$4)","v":""},null,null,null,null,{"$f":"IF(TabUren22[[#This Row],[eindtijd]]=\"\",\"\",IF(TabUren22[[#This Row],[eindtijd]]<TabUren22[[#This Row],[begintijd]],(\"24:00\"-TabUren22[[#This Row],[begintijd]]+TabUren22[[#This Row],[eindtijd]])-TabUren22[[#This Row],[pauze]],(TabUren22[[#This Row],[eindtijd]]-TabUren22[[#This Row],[begintijd]])-TabUren22[[#This Row],[pauze]]))","v":""},{"$f":"IF(OR(TabUren22[hoofdcategorie]=\"\",TabUren22[hoofdcategorie]=0),\"anders dan hoofdcategorie\",TabUren22[hoofdcategorie])","v":"anders dan hoofdcategorie"}]
[{"$f":"IF(TabUren22[[#This Row],[datum]]=\"\",\"\",INT((TabUren22[[#This Row],[datum]]-SUM(MOD(DATE(YEAR(TabUren22[[#This Row],[datum]]-MOD(TabUren22[[#This Row],[datum]]-2,7)+3),1,2),{1E+99;7})*{1;-1})+5) /7))","v":""},{"$f":"IF(TabUren22[[#This Row],[datum]]=\"\",\"\",TabUren22[[#This Row],[datum]])","v":""},null,null,{"$f":"IF(TabUren22[[#This Row],[datum]]=\"\",\"\",verzameldata!$C$4)","v":""},null,null,null,null,{"$f":"IF(TabUren22[[#This Row],[eindtijd]]=\"\",\"\",IF(TabUren22[[#This Row],[eindtijd]]<TabUren22[[#This Row],[begintijd]],(\"24:00\"-TabUren22[[#This Row],[begintijd]]+TabUren22[[#This Row],[eindtijd]])-TabUren22[[#This Row],[pauze]],(TabUren22[[#This Row],[eindtijd]]-TabUren22[[#This Row],[begintijd]])-TabUren22[[#This Row],[pauze]]))","v":""},{"$f":"IF(OR(TabUren22[hoofdcategorie]=\"\",TabUren22[hoofdcategorie]=0),\"anders dan hoofdcategorie\",TabUren22[hoofdcategorie])","v":"anders dan hoofdcategorie"}]
[{"$f":"IF(TabUren22[[#This Row],[datum]]=\"\",\"\",INT((TabUren22[[#This Row],[datum]]-SUM(MOD(DATE(YEAR(TabUren22[[#This Row],[datum]]-MOD(TabUren22[[#This Row],[datum]]-2,7)+3),1,2),{1E+99;7})*{1;-1})+5) /7))","v":""},{"$f":"IF(TabUren22[[#This Row],[datum]]=\"\",\"\",TabUren22[[#This Row],[datum]])","v":""},null,null,{"$f":"IF(TabUren22[[#This Row],[datum]]=\"\",\"\",verzameldata!$C$4)","v":""},null,null,null,null,{"$f":"IF(TabUren22[[#This Row],[eindtijd]]=\"\",\"\",IF(TabUren22[[#This Row],[eindtijd]]<TabUren22[[#This Row],[begintijd]],(\"24:00\"-TabUren22[[#This Row],[begintijd]]+TabUren22[[#This Row],[eindtijd]])-TabUren22[[#This Row],[pauze]],(TabUren22[[#This Row],[eindtijd]]-TabUren22[[#This Row],[begintijd]])-TabUren22[[#This Row],[pauze]]))","v":""},{"$f":"IF(OR(TabUren22[hoofdcategorie]=\"\",TabUren22[hoofdcategorie]=0),\"anders dan hoofdcategorie\",TabUren22[hoofdcategorie])","v":"anders dan hoofdcategorie"}]
[{"$f":"IF(TabUren22[[#This Row],[datum]]=\"\",\"\",INT((TabUren22[[#This Row],[datum]]-SUM(MOD(DATE(YEAR(TabUren22[[#This Row],[datum]]-MOD(TabUren22[[#This Row],[datum]]-2,7)+3),1,2),{1E+99;7})*{1;-1})+5) /7))","v":""},{"$f":"IF(TabUren22[[#This Row],[datum]]=\"\",\"\",TabUren22[[#This Row],[datum]])","v":""},null,null,{"$f":"IF(TabUren22[[#This Row],[datum]]=\"\",\"\",verzameldata!$C$4)","v":""},null,null,null,null,{"$f":"IF(TabUren22[[#This Row],[eindtijd]]=\"\",\"\",IF(TabUren22[[#This Row],[eindtijd]]<TabUren22[[#This Row],[begintijd]],(\"24:00\"-TabUren22[[#This Row],[begintijd]]+TabUren22[[#This Row],[eindtijd]])-TabUren22[[#This Row],[pauze]],(TabUren22[[#This Row],[eindtijd]]-TabUren22[[#This Row],[begintijd]])-TabUren22[[#This Row],[pauze]]))","v":""},{"$f":"IF(OR(TabUren22[hoofdcategorie]=\"\",TabUren22[hoofdcategorie]=0),\"anders dan hoofdcategorie\",TabUren22[hoofdcategorie])","v":"anders dan hoofdcategorie"}]
[{"$f":"IF(TabUren22[[#This Row],[datum]]=\"\",\"\",INT((TabUren22[[#This Row],[datum]]-SUM(MOD(DATE(YEAR(TabUren22[[#This Row],[datum]]-MOD(TabUren22[[#This Row],[datum]]-2,7)+3),1,2),{1E+99;7})*{1;-1})+5) /7))","v":""},{"$f":"IF(TabUren22[[#This Row],[datum]]=\"\",\"\",TabUren22[[#This Row],[datum]])","v":""},null,null,{"$f":"IF(TabUren22[[#This Row],[datum]]=\"\",\"\",verzameldata!$C$4)","v":""},null,null,null,null,{"$f":"IF(TabUren22[[#This Row],[eindtijd]]=\"\",\"\",IF(TabUren22[[#This Row],[eindtijd]]<TabUren22[[#This Row],[begintijd]],(\"24:00\"-TabUren22[[#This Row],[begintijd]]+TabUren22[[#This Row],[eindtijd]])-TabUren22[[#This Row],[pauze]],(TabUren22[[#This Row],[eindtijd]]-TabUren22[[#This Row],[begintijd]])-TabUren22[[#This Row],[pauze]]))","v":""},{"$f":"IF(OR(TabUren22[hoofdcategorie]=\"\",TabUren22[hoofdcategorie]=0),\"anders dan hoofdcategorie\",TabUren22[hoofdcategorie])","v":"anders dan hoofdcategorie"}]
[{"$f":"IF(TabUren22[[#This Row],[datum]]=\"\",\"\",INT((TabUren22[[#This Row],[datum]]-SUM(MOD(DATE(YEAR(TabUren22[[#This Row],[datum]]-MOD(TabUren22[[#This Row],[datum]]-2,7)+3),1,2),{1E+99;7})*{1;-1})+5) /7))","v":""},{"$f":"IF(TabUren22[[#This Row],[datum]]=\"\",\"\",TabUren22[[#This Row],[datum]])","v":""},null,null,{"$f":"IF(TabUren22[[#This Row],[datum]]=\"\",\"\",verzameldata!$C$4)","v":""},null,null,null,null,{"$f":"IF(TabUren22[[#This Row],[eindtijd]]=\"\",\"\",IF(TabUren22[[#This Row],[eindtijd]]<TabUren22[[#This Row],[begintijd]],(\"24:00\"-TabUren22[[#This Row],[begintijd]]+TabUren22[[#This Row],[eindtijd]])-TabUren22[[#This Row],[pauze]],(TabUren22[[#This Row],[eindtijd]]-TabUren22[[#This Row],[begintijd]])-TabUren22[[#This Row],[pauze]]))","v":""},{"$f":"IF(OR(TabUren22[hoofdcategorie]=\"\",TabUren22[hoofdcategorie]=0),\"anders dan hoofdcategorie\",TabUren22[hoofdcategorie])","v":"anders dan hoofdcategorie"}]
[{"$f":"IF(TabUren22[[#This Row],[datum]]=\"\",\"\",INT((TabUren22[[#This Row],[datum]]-SUM(MOD(DATE(YEAR(TabUren22[[#This Row],[datum]]-MOD(TabUren22[[#This Row],[datum]]-2,7)+3),1,2),{1E+99;7})*{1;-1})+5) /7))","v":""},{"$f":"IF(TabUren22[[#This Row],[datum]]=\"\",\"\",TabUren22[[#This Row],[datum]])","v":""},null,null,{"$f":"IF(TabUren22[[#This Row],[datum]]=\"\",\"\",verzameldata!$C$4)","v":""},null,null,null,null,{"$f":"IF(TabUren22[[#This Row],[eindtijd]]=\"\",\"\",IF(TabUren22[[#This Row],[eindtijd]]<TabUren22[[#This Row],[begintijd]],(\"24:00\"-TabUren22[[#This Row],[begintijd]]+TabUren22[[#This Row],[eindtijd]])-TabUren22[[#This Row],[pauze]],(TabUren22[[#This Row],[eindtijd]]-TabUren22[[#This Row],[begintijd]])-TabUren22[[#This Row],[pauze]]))","v":""},{"$f":"IF(OR(TabUren22[hoofdcategorie]=\"\",TabUren22[hoofdcategorie]=0),\"anders dan hoofdcategorie\",TabUren22[hoofdcategorie])","v":"anders dan hoofdcategorie"}]
[{"$f":"IF(TabUren22[[#This Row],[datum]]=\"\",\"\",INT((TabUren22[[#This Row],[datum]]-SUM(MOD(DATE(YEAR(TabUren22[[#This Row],[datum]]-MOD(TabUren22[[#This Row],[datum]]-2,7)+3),1,2),{1E+99;7})*{1;-1})+5) /7))","v":""},{"$f":"IF(TabUren22[[#This Row],[datum]]=\"\",\"\",TabUren22[[#This Row],[datum]])","v":""},null,null,{"$f":"IF(TabUren22[[#This Row],[datum]]=\"\",\"\",verzameldata!$C$4)","v":""},null,null,null,null,{"$f":"IF(TabUren22[[#This Row],[eindtijd]]=\"\",\"\",IF(TabUren22[[#This Row],[eindtijd]]<TabUren22[[#This Row],[begintijd]],(\"24:00\"-TabUren22[[#This Row],[begintijd]]+TabUren22[[#This Row],[eindtijd]])-TabUren22[[#This Row],[pauze]],(TabUren22[[#This Row],[eindtijd]]-TabUren22[[#This Row],[begintijd]])-TabUren22[[#This Row],[pauze]]))","v":""},{"$f":"IF(OR(TabUren22[hoofdcategorie]=\"\",TabUren22[hoofdcategorie]=0),\"anders dan hoofdcategorie\",TabUren22[hoofdcategorie])","v":"anders dan hoofdcategorie"}]
[{"$f":"IF(TabUren22[[#This Row],[datum]]=\"\",\"\",INT((TabUren22[[#This Row],[datum]]-SUM(MOD(DATE(YEAR(TabUren22[[#This Row],[datum]]-MOD(TabUren22[[#This Row],[datum]]-2,7)+3),1,2),{1E+99;7})*{1;-1})+5) /7))","v":""},{"$f":"IF(TabUren22[[#This Row],[datum]]=\"\",\"\",TabUren22[[#This Row],[datum]])","v":""},null,null,{"$f":"IF(TabUren22[[#This Row],[datum]]=\"\",\"\",verzameldata!$C$4)","v":""},null,null,null,null,{"$f":"IF(TabUren22[[#This Row],[eindtijd]]=\"\",\"\",IF(TabUren22[[#This Row],[eindtijd]]<TabUren22[[#This Row],[begintijd]],(\"24:00\"-TabUren22[[#This Row],[begintijd]]+TabUren22[[#This Row],[eindtijd]])-TabUren22[[#This Row],[pauze]],(TabUren22[[#This Row],[eindtijd]]-TabUren22[[#This Row],[begintijd]])-TabUren22[[#This Row],[pauze]]))","v":""},{"$f":"IF(OR(TabUren22[hoofdcategorie]=\"\",TabUren22[hoofdcategorie]=0),\"anders dan hoofdcategorie\",TabUren22[hoofdcategorie])","v":"anders dan hoofdcategorie"}]
[{"$f":"IF(TabUren22[[#This Row],[datum]]=\"\",\"\",INT((TabUren22[[#This Row],[datum]]-SUM(MOD(DATE(YEAR(TabUren22[[#This Row],[datum]]-MOD(TabUren22[[#This Row],[datum]]-2,7)+3),1,2),{1E+99;7})*{1;-1})+5) /7))","v":""},{"$f":"IF(TabUren22[[#This Row],[datum]]=\"\",\"\",TabUren22[[#This Row],[datum]])","v":""},null,null,{"$f":"IF(TabUren22[[#This Row],[datum]]=\"\",\"\",verzameldata!$C$4)","v":""},null,null,null,null,{"$f":"IF(TabUren22[[#This Row],[eindtijd]]=\"\",\"\",IF(TabUren22[[#This Row],[eindtijd]]<TabUren22[[#This Row],[begintijd]],(\"24:00\"-TabUren22[[#This Row],[begintijd]]+TabUren22[[#This Row],[eindtijd]])-TabUren22[[#This Row],[pauze]],(TabUren22[[#This Row],[eindtijd]]-TabUren22[[#This Row],[begintijd]])-TabUren22[[#This Row],[pauze]]))","v":""},{"$f":"IF(OR(TabUren22[hoofdcategorie]=\"\",TabUren22[hoofdcategorie]=0),\"anders dan hoofdcategorie\",TabUren22[hoofdcategorie])","v":"anders dan hoofdcategorie"}]
[{"$f":"IF(TabUren22[[#This Row],[datum]]=\"\",\"\",INT((TabUren22[[#This Row],[datum]]-SUM(MOD(DATE(YEAR(TabUren22[[#This Row],[datum]]-MOD(TabUren22[[#This Row],[datum]]-2,7)+3),1,2),{1E+99;7})*{1;-1})+5) /7))","v":""},{"$f":"IF(TabUren22[[#This Row],[datum]]=\"\",\"\",TabUren22[[#This Row],[datum]])","v":""},null,null,{"$f":"IF(TabUren22[[#This Row],[datum]]=\"\",\"\",verzameldata!$C$4)","v":""},null,null,null,null,{"$f":"IF(TabUren22[[#This Row],[eindtijd]]=\"\",\"\",IF(TabUren22[[#This Row],[eindtijd]]<TabUren22[[#This Row],[begintijd]],(\"24:00\"-TabUren22[[#This Row],[begintijd]]+TabUren22[[#This Row],[eindtijd]])-TabUren22[[#This Row],[pauze]],(TabUren22[[#This Row],[eindtijd]]-TabUren22[[#This Row],[begintijd]])-TabUren22[[#This Row],[pauze]]))","v":""},{"$f":"IF(OR(TabUren22[hoofdcategorie]=\"\",TabUren22[hoofdcategorie]=0),\"anders dan hoofdcategorie\",TabUren22[hoofdcategorie])","v":"anders dan hoofdcategorie"}]
[{"$f":"IF(TabUren22[[#This Row],[datum]]=\"\",\"\",INT((TabUren22[[#This Row],[datum]]-SUM(MOD(DATE(YEAR(TabUren22[[#This Row],[datum]]-MOD(TabUren22[[#This Row],[datum]]-2,7)+3),1,2),{1E+99;7})*{1;-1})+5) /7))","v":""},{"$f":"IF(TabUren22[[#This Row],[datum]]=\"\",\"\",TabUren22[[#This Row],[datum]])","v":""},null,null,{"$f":"IF(TabUren22[[#This Row],[datum]]=\"\",\"\",verzameldata!$C$4)","v":""},null,null,null,null,{"$f":"IF(TabUren22[[#This Row],[eindtijd]]=\"\",\"\",IF(TabUren22[[#This Row],[eindtijd]]<TabUren22[[#This Row],[begintijd]],(\"24:00\"-TabUren22[[#This Row],[begintijd]]+TabUren22[[#This Row],[eindtijd]])-TabUren22[[#This Row],[pauze]],(TabUren22[[#This Row],[eindtijd]]-TabUren22[[#This Row],[begintijd]])-TabUren22[[#This Row],[pauze]]))","v":""},{"$f":"IF(OR(TabUren22[hoofdcategorie]=\"\",TabUren22[hoofdcategorie]=0),\"anders dan hoofdcategorie\",TabUren22[hoofdcategorie])","v":"anders dan hoofdcategorie"}]
[{"$f":"IF(TabUren22[[#This Row],[datum]]=\"\",\"\",INT((TabUren22[[#This Row],[datum]]-SUM(MOD(DATE(YEAR(TabUren22[[#This Row],[datum]]-MOD(TabUren22[[#This Row],[datum]]-2,7)+3),1,2),{1E+99;7})*{1;-1})+5) /7))","v":""},{"$f":"IF(TabUren22[[#This Row],[datum]]=\"\",\"\",TabUren22[[#This Row],[datum]])","v":""},null,null,{"$f":"IF(TabUren22[[#This Row],[datum]]=\"\",\"\",verzameldata!$C$4)","v":""},null,null,null,null,{"$f":"IF(TabUren22[[#This Row],[eindtijd]]=\"\",\"\",IF(TabUren22[[#This Row],[eindtijd]]<TabUren22[[#This Row],[begintijd]],(\"24:00\"-TabUren22[[#This Row],[begintijd]]+TabUren22[[#This Row],[eindtijd]])-TabUren22[[#This Row],[pauze]],(TabUren22[[#This Row],[eindtijd]]-TabUren22[[#This Row],[begintijd]])-TabUren22[[#This Row],[pauze]]))","v":""},{"$f":"IF(OR(TabUren22[hoofdcategorie]=\"\",TabUren22[hoofdcategorie]=0),\"anders dan hoofdcategorie\",TabUren22[hoofdcategorie])","v":"anders dan hoofdcategorie"}]
[{"$f":"IF(TabUren22[[#This Row],[datum]]=\"\",\"\",INT((TabUren22[[#This Row],[datum]]-SUM(MOD(DATE(YEAR(TabUren22[[#This Row],[datum]]-MOD(TabUren22[[#This Row],[datum]]-2,7)+3),1,2),{1E+99;7})*{1;-1})+5) /7))","v":""},{"$f":"IF(TabUren22[[#This Row],[datum]]=\"\",\"\",TabUren22[[#This Row],[datum]])","v":""},null,null,{"$f":"IF(TabUren22[[#This Row],[datum]]=\"\",\"\",verzameldata!$C$4)","v":""},null,null,null,null,{"$f":"IF(TabUren22[[#This Row],[eindtijd]]=\"\",\"\",IF(TabUren22[[#This Row],[eindtijd]]<TabUren22[[#This Row],[begintijd]],(\"24:00\"-TabUren22[[#This Row],[begintijd]]+TabUren22[[#This Row],[eindtijd]])-TabUren22[[#This Row],[pauze]],(TabUren22[[#This Row],[eindtijd]]-TabUren22[[#This Row],[begintijd]])-TabUren22[[#This Row],[pauze]]))","v":""},{"$f":"IF(OR(TabUren22[hoofdcategorie]=\"\",TabUren22[hoofdcategorie]=0),\"anders dan hoofdcategorie\",TabUren22[hoofdcategorie])","v":"anders dan hoofdcategorie"}]
[{"$f":"IF(TabUren22[[#This Row],[datum]]=\"\",\"\",INT((TabUren22[[#This Row],[datum]]-SUM(MOD(DATE(YEAR(TabUren22[[#This Row],[datum]]-MOD(TabUren22[[#This Row],[datum]]-2,7)+3),1,2),{1E+99;7})*{1;-1})+5) /7))","v":""},{"$f":"IF(TabUren22[[#This Row],[datum]]=\"\",\"\",TabUren22[[#This Row],[datum]])","v":""},null,null,{"$f":"IF(TabUren22[[#This Row],[datum]]=\"\",\"\",verzameldata!$C$4)","v":""},null,null,null,null,{"$f":"IF(TabUren22[[#This Row],[eindtijd]]=\"\",\"\",IF(TabUren22[[#This Row],[eindtijd]]<TabUren22[[#This Row],[begintijd]],(\"24:00\"-TabUren22[[#This Row],[begintijd]]+TabUren22[[#This Row],[eindtijd]])-TabUren22[[#This Row],[pauze]],(TabUren22[[#This Row],[eindtijd]]-TabUren22[[#This Row],[begintijd]])-TabUren22[[#This Row],[pauze]]))","v":""},{"$f":"IF(OR(TabUren22[hoofdcategorie]=\"\",TabUren22[hoofdcategorie]=0),\"anders dan hoofdcategorie\",TabUren22[hoofdcategorie])","v":"anders dan hoofdcategorie"}]
[{"$f":"IF(TabUren22[[#This Row],[datum]]=\"\",\"\",INT((TabUren22[[#This Row],[datum]]-SUM(MOD(DATE(YEAR(TabUren22[[#This Row],[datum]]-MOD(TabUren22[[#This Row],[datum]]-2,7)+3),1,2),{1E+99;7})*{1;-1})+5) /7))","v":""},{"$f":"IF(TabUren22[[#This Row],[datum]]=\"\",\"\",TabUren22[[#This Row],[datum]])","v":""},null,null,{"$f":"IF(TabUren22[[#This Row],[datum]]=\"\",\"\",verzameldata!$C$4)","v":""},null,null,null,null,{"$f":"IF(TabUren22[[#This Row],[eindtijd]]=\"\",\"\",IF(TabUren22[[#This Row],[eindtijd]]<TabUren22[[#This Row],[begintijd]],(\"24:00\"-TabUren22[[#This Row],[begintijd]]+TabUren22[[#This Row],[eindtijd]])-TabUren22[[#This Row],[pauze]],(TabUren22[[#This Row],[eindtijd]]-TabUren22[[#This Row],[begintijd]])-TabUren22[[#This Row],[pauze]]))","v":""},{"$f":"IF(OR(TabUren22[hoofdcategorie]=\"\",TabUren22[hoofdcategorie]=0),\"anders dan hoofdcategorie\",TabUren22[hoofdcategorie])","v":"anders dan hoofdcategorie"}]
[{"$f":"IF(TabUren22[[#This Row],[datum]]=\"\",\"\",INT((TabUren22[[#This Row],[datum]]-SUM(MOD(DATE(YEAR(TabUren22[[#This Row],[datum]]-MOD(TabUren22[[#This Row],[datum]]-2,7)+3),1,2),{1E+99;7})*{1;-1})+5) /7))","v":""},{"$f":"IF(TabUren22[[#This Row],[datum]]=\"\",\"\",TabUren22[[#This Row],[datum]])","v":""},null,null,{"$f":"IF(TabUren22[[#This Row],[datum]]=\"\",\"\",verzameldata!$C$4)","v":""},null,null,null,null,{"$f":"IF(TabUren22[[#This Row],[eindtijd]]=\"\",\"\",IF(TabUren22[[#This Row],[eindtijd]]<TabUren22[[#This Row],[begintijd]],(\"24:00\"-TabUren22[[#This Row],[begintijd]]+TabUren22[[#This Row],[eindtijd]])-TabUren22[[#This Row],[pauze]],(TabUren22[[#This Row],[eindtijd]]-TabUren22[[#This Row],[begintijd]])-TabUren22[[#This Row],[pauze]]))","v":""},{"$f":"IF(OR(TabUren22[hoofdcategorie]=\"\",TabUren22[hoofdcategorie]=0),\"anders dan hoofdcategorie\",TabUren22[hoofdcategorie])","v":"anders dan hoofdcategorie"}]
[{"$f":"IF(TabUren22[[#This Row],[datum]]=\"\",\"\",INT((TabUren22[[#This Row],[datum]]-SUM(MOD(DATE(YEAR(TabUren22[[#This Row],[datum]]-MOD(TabUren22[[#This Row],[datum]]-2,7)+3),1,2),{1E+99;7})*{1;-1})+5) /7))","v":""},{"$f":"IF(TabUren22[[#This Row],[datum]]=\"\",\"\",TabUren22[[#This Row],[datum]])","v":""},null,null,{"$f":"IF(TabUren22[[#This Row],[datum]]=\"\",\"\",verzameldata!$C$4)","v":""},null,null,null,null,{"$f":"IF(TabUren22[[#This Row],[eindtijd]]=\"\",\"\",IF(TabUren22[[#This Row],[eindtijd]]<TabUren22[[#This Row],[begintijd]],(\"24:00\"-TabUren22[[#This Row],[begintijd]]+TabUren22[[#This Row],[eindtijd]])-TabUren22[[#This Row],[pauze]],(TabUren22[[#This Row],[eindtijd]]-TabUren22[[#This Row],[begintijd]])-TabUren22[[#This Row],[pauze]]))","v":""},{"$f":"IF(OR(TabUren22[hoofdcategorie]=\"\",TabUren22[hoofdcategorie]=0),\"anders dan hoofdcategorie\",TabUren22[hoofdcategorie])","v":"anders dan hoofdcategorie"}]
[{"$f":"IF(TabUren22[[#This Row],[datum]]=\"\",\"\",INT((TabUren22[[#This Row],[datum]]-SUM(MOD(DATE(YEAR(TabUren22[[#This Row],[datum]]-MOD(TabUren22[[#This Row],[datum]]-2,7)+3),1,2),{1E+99;7})*{1;-1})+5) /7))","v":""},{"$f":"IF(TabUren22[[#This Row],[datum]]=\"\",\"\",TabUren22[[#This Row],[datum]])","v":""},null,null,{"$f":"IF(TabUren22[[#This Row],[datum]]=\"\",\"\",verzameldata!$C$4)","v":""},null,null,null,null,{"$f":"IF(TabUren22[[#This Row],[eindtijd]]=\"\",\"\",IF(TabUren22[[#This Row],[eindtijd]]<TabUren22[[#This Row],[begintijd]],(\"24:00\"-TabUren22[[#This Row],[begintijd]]+TabUren22[[#This Row],[eindtijd]])-TabUren22[[#This Row],[pauze]],(TabUren22[[#This Row],[eindtijd]]-TabUren22[[#This Row],[begintijd]])-TabUren22[[#This Row],[pauze]]))","v":""},{"$f":"IF(OR(TabUren22[hoofdcategorie]=\"\",TabUren22[hoofdcategorie]=0),\"anders dan hoofdcategorie\",TabUren22[hoofdcategorie])","v":"anders dan hoofdcategorie"}]
[{"$f":"IF(TabUren22[[#This Row],[datum]]=\"\",\"\",INT((TabUren22[[#This Row],[datum]]-SUM(MOD(DATE(YEAR(TabUren22[[#This Row],[datum]]-MOD(TabUren22[[#This Row],[datum]]-2,7)+3),1,2),{1E+99;7})*{1;-1})+5) /7))","v":""},{"$f":"IF(TabUren22[[#This Row],[datum]]=\"\",\"\",TabUren22[[#This Row],[datum]])","v":""},null,null,{"$f":"IF(TabUren22[[#This Row],[datum]]=\"\",\"\",verzameldata!$C$4)","v":""},null,null,null,null,{"$f":"IF(TabUren22[[#This Row],[eindtijd]]=\"\",\"\",IF(TabUren22[[#This Row],[eindtijd]]<TabUren22[[#This Row],[begintijd]],(\"24:00\"-TabUren22[[#This Row],[begintijd]]+TabUren22[[#This Row],[eindtijd]])-TabUren22[[#This Row],[pauze]],(TabUren22[[#This Row],[eindtijd]]-TabUren22[[#This Row],[begintijd]])-TabUren22[[#This Row],[pauze]]))","v":""},{"$f":"IF(OR(TabUren22[hoofdcategorie]=\"\",TabUren22[hoofdcategorie]=0),\"anders dan hoofdcategorie\",TabUren22[hoofdcategorie])","v":"anders dan hoofdcategorie"}]
[{"$f":"IF(TabUren22[[#This Row],[datum]]=\"\",\"\",INT((TabUren22[[#This Row],[datum]]-SUM(MOD(DATE(YEAR(TabUren22[[#This Row],[datum]]-MOD(TabUren22[[#This Row],[datum]]-2,7)+3),1,2),{1E+99;7})*{1;-1})+5) /7))","v":""},{"$f":"IF(TabUren22[[#This Row],[datum]]=\"\",\"\",TabUren22[[#This Row],[datum]])","v":""},null,null,{"$f":"IF(TabUren22[[#This Row],[datum]]=\"\",\"\",verzameldata!$C$4)","v":""},null,null,null,null,{"$f":"IF(TabUren22[[#This Row],[eindtijd]]=\"\",\"\",IF(TabUren22[[#This Row],[eindtijd]]<TabUren22[[#This Row],[begintijd]],(\"24:00\"-TabUren22[[#This Row],[begintijd]]+TabUren22[[#This Row],[eindtijd]])-TabUren22[[#This Row],[pauze]],(TabUren22[[#This Row],[eindtijd]]-TabUren22[[#This Row],[begintijd]])-TabUren22[[#This Row],[pauze]]))","v":""},{"$f":"IF(OR(TabUren22[hoofdcategorie]=\"\",TabUren22[hoofdcategorie]=0),\"anders dan hoofdcategorie\",TabUren22[hoofdcategorie])","v":"anders dan hoofdcategorie"}]
[{"$f":"IF(TabUren22[[#This Row],[datum]]=\"\",\"\",INT((TabUren22[[#This Row],[datum]]-SUM(MOD(DATE(YEAR(TabUren22[[#This Row],[datum]]-MOD(TabUren22[[#This Row],[datum]]-2,7)+3),1,2),{1E+99;7})*{1;-1})+5) /7))","v":""},{"$f":"IF(TabUren22[[#This Row],[datum]]=\"\",\"\",TabUren22[[#This Row],[datum]])","v":""},null,null,{"$f":"IF(TabUren22[[#This Row],[datum]]=\"\",\"\",verzameldata!$C$4)","v":""},null,null,null,null,{"$f":"IF(TabUren22[[#This Row],[eindtijd]]=\"\",\"\",IF(TabUren22[[#This Row],[eindtijd]]<TabUren22[[#This Row],[begintijd]],(\"24:00\"-TabUren22[[#This Row],[begintijd]]+TabUren22[[#This Row],[eindtijd]])-TabUren22[[#This Row],[pauze]],(TabUren22[[#This Row],[eindtijd]]-TabUren22[[#This Row],[begintijd]])-TabUren22[[#This Row],[pauze]]))","v":""},{"$f":"IF(OR(TabUren22[hoofdcategorie]=\"\",TabUren22[hoofdcategorie]=0),\"anders dan hoofdcategorie\",TabUren22[hoofdcategorie])","v":"anders dan hoofdcategorie"}]
[{"$f":"IF(TabUren22[[#This Row],[datum]]=\"\",\"\",INT((TabUren22[[#This Row],[datum]]-SUM(MOD(DATE(YEAR(TabUren22[[#This Row],[datum]]-MOD(TabUren22[[#This Row],[datum]]-2,7)+3),1,2),{1E+99;7})*{1;-1})+5) /7))","v":""},{"$f":"IF(TabUren22[[#This Row],[datum]]=\"\",\"\",TabUren22[[#This Row],[datum]])","v":""},null,null,{"$f":"IF(TabUren22[[#This Row],[datum]]=\"\",\"\",verzameldata!$C$4)","v":""},null,null,null,null,{"$f":"IF(TabUren22[[#This Row],[eindtijd]]=\"\",\"\",IF(TabUren22[[#This Row],[eindtijd]]<TabUren22[[#This Row],[begintijd]],(\"24:00\"-TabUren22[[#This Row],[begintijd]]+TabUren22[[#This Row],[eindtijd]])-TabUren22[[#This Row],[pauze]],(TabUren22[[#This Row],[eindtijd]]-TabUren22[[#This Row],[begintijd]])-TabUren22[[#This Row],[pauze]]))","v":""},{"$f":"IF(OR(TabUren22[hoofdcategorie]=\"\",TabUren22[hoofdcategorie]=0),\"anders dan hoofdcategorie\",TabUren22[hoofdcategorie])","v":"anders dan hoofdcategorie"}]
[{"$f":"IF(TabUren22[[#This Row],[datum]]=\"\",\"\",INT((TabUren22[[#This Row],[datum]]-SUM(MOD(DATE(YEAR(TabUren22[[#This Row],[datum]]-MOD(TabUren22[[#This Row],[datum]]-2,7)+3),1,2),{1E+99;7})*{1;-1})+5) /7))","v":""},{"$f":"IF(TabUren22[[#This Row],[datum]]=\"\",\"\",TabUren22[[#This Row],[datum]])","v":""},null,null,{"$f":"IF(TabUren22[[#This Row],[datum]]=\"\",\"\",verzameldata!$C$4)","v":""},null,null,null,null,{"$f":"IF(TabUren22[[#This Row],[eindtijd]]=\"\",\"\",IF(TabUren22[[#This Row],[eindtijd]]<TabUren22[[#This Row],[begintijd]],(\"24:00\"-TabUren22[[#This Row],[begintijd]]+TabUren22[[#This Row],[eindtijd]])-TabUren22[[#This Row],[pauze]],(TabUren22[[#This Row],[eindtijd]]-TabUren22[[#This Row],[begintijd]])-TabUren22[[#This Row],[pauze]]))","v":""},{"$f":"IF(OR(TabUren22[hoofdcategorie]=\"\",TabUren22[hoofdcategorie]=0),\"anders dan hoofdcategorie\",TabUren22[hoofdcategorie])","v":"anders dan hoofdcategorie"}]
[{"$f":"IF(TabUren22[[#This Row],[datum]]=\"\",\"\",INT((TabUren22[[#This Row],[datum]]-SUM(MOD(DATE(YEAR(TabUren22[[#This Row],[datum]]-MOD(TabUren22[[#This Row],[datum]]-2,7)+3),1,2),{1E+99;7})*{1;-1})+5) /7))","v":""},{"$f":"IF(TabUren22[[#This Row],[datum]]=\"\",\"\",TabUren22[[#This Row],[datum]])","v":""},null,null,{"$f":"IF(TabUren22[[#This Row],[datum]]=\"\",\"\",verzameldata!$C$4)","v":""},null,null,null,null,{"$f":"IF(TabUren22[[#This Row],[eindtijd]]=\"\",\"\",IF(TabUren22[[#This Row],[eindtijd]]<TabUren22[[#This Row],[begintijd]],(\"24:00\"-TabUren22[[#This Row],[begintijd]]+TabUren22[[#This Row],[eindtijd]])-TabUren22[[#This Row],[pauze]],(TabUren22[[#This Row],[eindtijd]]-TabUren22[[#This Row],[begintijd]])-TabUren22[[#This Row],[pauze]]))","v":""},{"$f":"IF(OR(TabUren22[hoofdcategorie]=\"\",TabUren22[hoofdcategorie]=0),\"anders dan hoofdcategorie\",TabUren22[hoofdcategorie])","v":"anders dan hoofdcategorie"}]
[{"$f":"IF(TabUren22[[#This Row],[datum]]=\"\",\"\",INT((TabUren22[[#This Row],[datum]]-SUM(MOD(DATE(YEAR(TabUren22[[#This Row],[datum]]-MOD(TabUren22[[#This Row],[datum]]-2,7)+3),1,2),{1E+99;7})*{1;-1})+5) /7))","v":""},{"$f":"IF(TabUren22[[#This Row],[datum]]=\"\",\"\",TabUren22[[#This Row],[datum]])","v":""},null,null,{"$f":"IF(TabUren22[[#This Row],[datum]]=\"\",\"\",verzameldata!$C$4)","v":""},null,null,null,null,{"$f":"IF(TabUren22[[#This Row],[eindtijd]]=\"\",\"\",IF(TabUren22[[#This Row],[eindtijd]]<TabUren22[[#This Row],[begintijd]],(\"24:00\"-TabUren22[[#This Row],[begintijd]]+TabUren22[[#This Row],[eindtijd]])-TabUren22[[#This Row],[pauze]],(TabUren22[[#This Row],[eindtijd]]-TabUren22[[#This Row],[begintijd]])-TabUren22[[#This Row],[pauze]]))","v":""},{"$f":"IF(OR(TabUren22[hoofdcategorie]=\"\",TabUren22[hoofdcategorie]=0),\"anders dan hoofdcategorie\",TabUren22[hoofdcategorie])","v":"anders dan hoofdcategorie"}]
[{"$f":"IF(TabUren22[[#This Row],[datum]]=\"\",\"\",INT((TabUren22[[#This Row],[datum]]-SUM(MOD(DATE(YEAR(TabUren22[[#This Row],[datum]]-MOD(TabUren22[[#This Row],[datum]]-2,7)+3),1,2),{1E+99;7})*{1;-1})+5) /7))","v":""},{"$f":"IF(TabUren22[[#This Row],[datum]]=\"\",\"\",TabUren22[[#This Row],[datum]])","v":""},null,null,{"$f":"IF(TabUren22[[#This Row],[datum]]=\"\",\"\",verzameldata!$C$4)","v":""},null,null,null,null,{"$f":"IF(TabUren22[[#This Row],[eindtijd]]=\"\",\"\",IF(TabUren22[[#This Row],[eindtijd]]<TabUren22[[#This Row],[begintijd]],(\"24:00\"-TabUren22[[#This Row],[begintijd]]+TabUren22[[#This Row],[eindtijd]])-TabUren22[[#This Row],[pauze]],(TabUren22[[#This Row],[eindtijd]]-TabUren22[[#This Row],[begintijd]])-TabUren22[[#This Row],[pauze]]))","v":""},{"$f":"IF(OR(TabUren22[hoofdcategorie]=\"\",TabUren22[hoofdcategorie]=0),\"anders dan hoofdcategorie\",TabUren22[hoofdcategorie])","v":"anders dan hoofdcategorie"}]
[{"$f":"IF(TabUren22[[#This Row],[datum]]=\"\",\"\",INT((TabUren22[[#This Row],[datum]]-SUM(MOD(DATE(YEAR(TabUren22[[#This Row],[datum]]-MOD(TabUren22[[#This Row],[datum]]-2,7)+3),1,2),{1E+99;7})*{1;-1})+5) /7))","v":""},{"$f":"IF(TabUren22[[#This Row],[datum]]=\"\",\"\",TabUren22[[#This Row],[datum]])","v":""},null,null,{"$f":"IF(TabUren22[[#This Row],[datum]]=\"\",\"\",verzameldata!$C$4)","v":""},null,null,null,null,{"$f":"IF(TabUren22[[#This Row],[eindtijd]]=\"\",\"\",IF(TabUren22[[#This Row],[eindtijd]]<TabUren22[[#This Row],[begintijd]],(\"24:00\"-TabUren22[[#This Row],[begintijd]]+TabUren22[[#This Row],[eindtijd]])-TabUren22[[#This Row],[pauze]],(TabUren22[[#This Row],[eindtijd]]-TabUren22[[#This Row],[begintijd]])-TabUren22[[#This Row],[pauze]]))","v":""},{"$f":"IF(OR(TabUren22[hoofdcategorie]=\"\",TabUren22[hoofdcategorie]=0),\"anders dan hoofdcategorie\",TabUren22[hoofdcategorie])","v":"anders dan hoofdcategorie"}]
[{"$f":"IF(TabUren22[[#This Row],[datum]]=\"\",\"\",INT((TabUren22[[#This Row],[datum]]-SUM(MOD(DATE(YEAR(TabUren22[[#This Row],[datum]]-MOD(TabUren22[[#This Row],[datum]]-2,7)+3),1,2),{1E+99;7})*{1;-1})+5) /7))","v":""},{"$f":"IF(TabUren22[[#This Row],[datum]]=\"\",\"\",TabUren22[[#This Row],[datum]])","v":""},null,null,{"$f":"IF(TabUren22[[#This Row],[datum]]=\"\",\"\",verzameldata!$C$4)","v":""},null,null,null,null,{"$f":"IF(TabUren22[[#This Row],[eindtijd]]=\"\",\"\",IF(TabUren22[[#This Row],[eindtijd]]<TabUren22[[#This Row],[begintijd]],(\"24:00\"-TabUren22[[#This Row],[begintijd]]+TabUren22[[#This Row],[eindtijd]])-TabUren22[[#This Row],[pauze]],(TabUren22[[#This Row],[eindtijd]]-TabUren22[[#This Row],[begintijd]])-TabUren22[[#This Row],[pauze]]))","v":""},{"$f":"IF(OR(TabUren22[hoofdcategorie]=\"\",TabUren22[hoofdcategorie]=0),\"anders dan hoofdcategorie\",TabUren22[hoofdcategorie])","v":"anders dan hoofdcategorie"}]
[{"$f":"IF(TabUren22[[#This Row],[datum]]=\"\",\"\",INT((TabUren22[[#This Row],[datum]]-SUM(MOD(DATE(YEAR(TabUren22[[#This Row],[datum]]-MOD(TabUren22[[#This Row],[datum]]-2,7)+3),1,2),{1E+99;7})*{1;-1})+5) /7))","v":""},{"$f":"IF(TabUren22[[#This Row],[datum]]=\"\",\"\",TabUren22[[#This Row],[datum]])","v":""},null,null,{"$f":"IF(TabUren22[[#This Row],[datum]]=\"\",\"\",verzameldata!$C$4)","v":""},null,null,null,null,{"$f":"IF(TabUren22[[#This Row],[eindtijd]]=\"\",\"\",IF(TabUren22[[#This Row],[eindtijd]]<TabUren22[[#This Row],[begintijd]],(\"24:00\"-TabUren22[[#This Row],[begintijd]]+TabUren22[[#This Row],[eindtijd]])-TabUren22[[#This Row],[pauze]],(TabUren22[[#This Row],[eindtijd]]-TabUren22[[#This Row],[begintijd]])-TabUren22[[#This Row],[pauze]]))","v":""},{"$f":"IF(OR(TabUren22[hoofdcategorie]=\"\",TabUren22[hoofdcategorie]=0),\"anders dan hoofdcategorie\",TabUren22[hoofdcategorie])","v":"anders dan hoofdcategorie"}]
[{"$f":"IF(TabUren22[[#This Row],[datum]]=\"\",\"\",INT((TabUren22[[#This Row],[datum]]-SUM(MOD(DATE(YEAR(TabUren22[[#This Row],[datum]]-MOD(TabUren22[[#This Row],[datum]]-2,7)+3),1,2),{1E+99;7})*{1;-1})+5) /7))","v":""},{"$f":"IF(TabUren22[[#This Row],[datum]]=\"\",\"\",TabUren22[[#This Row],[datum]])","v":""},null,null,{"$f":"IF(TabUren22[[#This Row],[datum]]=\"\",\"\",verzameldata!$C$4)","v":""},null,null,null,null,{"$f":"IF(TabUren22[[#This Row],[eindtijd]]=\"\",\"\",IF(TabUren22[[#This Row],[eindtijd]]<TabUren22[[#This Row],[begintijd]],(\"24:00\"-TabUren22[[#This Row],[begintijd]]+TabUren22[[#This Row],[eindtijd]])-TabUren22[[#This Row],[pauze]],(TabUren22[[#This Row],[eindtijd]]-TabUren22[[#This Row],[begintijd]])-TabUren22[[#This Row],[pauze]]))","v":""},{"$f":"IF(OR(TabUren22[hoofdcategorie]=\"\",TabUren22[hoofdcategorie]=0),\"anders dan hoofdcategorie\",TabUren22[hoofdcategorie])","v":"anders dan hoofdcategorie"}]
[{"$f":"IF(TabUren22[[#This Row],[datum]]=\"\",\"\",INT((TabUren22[[#This Row],[datum]]-SUM(MOD(DATE(YEAR(TabUren22[[#This Row],[datum]]-MOD(TabUren22[[#This Row],[datum]]-2,7)+3),1,2),{1E+99;7})*{1;-1})+5) /7))","v":""},{"$f":"IF(TabUren22[[#This Row],[datum]]=\"\",\"\",TabUren22[[#This Row],[datum]])","v":""},null,null,{"$f":"IF(TabUren22[[#This Row],[datum]]=\"\",\"\",verzameldata!$C$4)","v":""},null,null,null,null,{"$f":"IF(TabUren22[[#This Row],[eindtijd]]=\"\",\"\",IF(TabUren22[[#This Row],[eindtijd]]<TabUren22[[#This Row],[begintijd]],(\"24:00\"-TabUren22[[#This Row],[begintijd]]+TabUren22[[#This Row],[eindtijd]])-TabUren22[[#This Row],[pauze]],(TabUren22[[#This Row],[eindtijd]]-TabUren22[[#This Row],[begintijd]])-TabUren22[[#This Row],[pauze]]))","v":""},{"$f":"IF(OR(TabUren22[hoofdcategorie]=\"\",TabUren22[hoofdcategorie]=0),\"anders dan hoofdcategorie\",TabUren22[hoofdcategorie])","v":"anders dan hoofdcategorie"}]
[{"$f":"IF(TabUren22[[#This Row],[datum]]=\"\",\"\",INT((TabUren22[[#This Row],[datum]]-SUM(MOD(DATE(YEAR(TabUren22[[#This Row],[datum]]-MOD(TabUren22[[#This Row],[datum]]-2,7)+3),1,2),{1E+99;7})*{1;-1})+5) /7))","v":""},{"$f":"IF(TabUren22[[#This Row],[datum]]=\"\",\"\",TabUren22[[#This Row],[datum]])","v":""},null,null,{"$f":"IF(TabUren22[[#This Row],[datum]]=\"\",\"\",verzameldata!$C$4)","v":""},null,null,null,null,{"$f":"IF(TabUren22[[#This Row],[eindtijd]]=\"\",\"\",IF(TabUren22[[#This Row],[eindtijd]]<TabUren22[[#This Row],[begintijd]],(\"24:00\"-TabUren22[[#This Row],[begintijd]]+TabUren22[[#This Row],[eindtijd]])-TabUren22[[#This Row],[pauze]],(TabUren22[[#This Row],[eindtijd]]-TabUren22[[#This Row],[begintijd]])-TabUren22[[#This Row],[pauze]]))","v":""},{"$f":"IF(OR(TabUren22[hoofdcategorie]=\"\",TabUren22[hoofdcategorie]=0),\"anders dan hoofdcategorie\",TabUren22[hoofdcategorie])","v":"anders dan hoofdcategorie"}]
[{"$f":"IF(TabUren22[[#This Row],[datum]]=\"\",\"\",INT((TabUren22[[#This Row],[datum]]-SUM(MOD(DATE(YEAR(TabUren22[[#This Row],[datum]]-MOD(TabUren22[[#This Row],[datum]]-2,7)+3),1,2),{1E+99;7})*{1;-1})+5) /7))","v":""},{"$f":"IF(TabUren22[[#This Row],[datum]]=\"\",\"\",TabUren22[[#This Row],[datum]])","v":""},null,null,{"$f":"IF(TabUren22[[#This Row],[datum]]=\"\",\"\",verzameldata!$C$4)","v":""},null,null,null,null,{"$f":"IF(TabUren22[[#This Row],[eindtijd]]=\"\",\"\",IF(TabUren22[[#This Row],[eindtijd]]<TabUren22[[#This Row],[begintijd]],(\"24:00\"-TabUren22[[#This Row],[begintijd]]+TabUren22[[#This Row],[eindtijd]])-TabUren22[[#This Row],[pauze]],(TabUren22[[#This Row],[eindtijd]]-TabUren22[[#This Row],[begintijd]])-TabUren22[[#This Row],[pauze]]))","v":""},{"$f":"IF(OR(TabUren22[hoofdcategorie]=\"\",TabUren22[hoofdcategorie]=0),\"anders dan hoofdcategorie\",TabUren22[hoofdcategorie])","v":"anders dan hoofdcategorie"}]
[{"$f":"IF(TabUren22[[#This Row],[datum]]=\"\",\"\",INT((TabUren22[[#This Row],[datum]]-SUM(MOD(DATE(YEAR(TabUren22[[#This Row],[datum]]-MOD(TabUren22[[#This Row],[datum]]-2,7)+3),1,2),{1E+99;7})*{1;-1})+5) /7))","v":""},{"$f":"IF(TabUren22[[#This Row],[datum]]=\"\",\"\",TabUren22[[#This Row],[datum]])","v":""},null,null,{"$f":"IF(TabUren22[[#This Row],[datum]]=\"\",\"\",verzameldata!$C$4)","v":""},null,null,null,null,{"$f":"IF(TabUren22[[#This Row],[eindtijd]]=\"\",\"\",IF(TabUren22[[#This Row],[eindtijd]]<TabUren22[[#This Row],[begintijd]],(\"24:00\"-TabUren22[[#This Row],[begintijd]]+TabUren22[[#This Row],[eindtijd]])-TabUren22[[#This Row],[pauze]],(TabUren22[[#This Row],[eindtijd]]-TabUren22[[#This Row],[begintijd]])-TabUren22[[#This Row],[pauze]]))","v":""},{"$f":"IF(OR(TabUren22[hoofdcategorie]=\"\",TabUren22[hoofdcategorie]=0),\"anders dan hoofdcategorie\",TabUren22[hoofdcategorie])","v":"anders dan hoofdcategorie"}]
[{"$f":"IF(TabUren22[[#This Row],[datum]]=\"\",\"\",INT((TabUren22[[#This Row],[datum]]-SUM(MOD(DATE(YEAR(TabUren22[[#This Row],[datum]]-MOD(TabUren22[[#This Row],[datum]]-2,7)+3),1,2),{1E+99;7})*{1;-1})+5) /7))","v":""},{"$f":"IF(TabUren22[[#This Row],[datum]]=\"\",\"\",TabUren22[[#This Row],[datum]])","v":""},null,null,{"$f":"IF(TabUren22[[#This Row],[datum]]=\"\",\"\",verzameldata!$C$4)","v":""},null,null,null,null,{"$f":"IF(TabUren22[[#This Row],[eindtijd]]=\"\",\"\",IF(TabUren22[[#This Row],[eindtijd]]<TabUren22[[#This Row],[begintijd]],(\"24:00\"-TabUren22[[#This Row],[begintijd]]+TabUren22[[#This Row],[eindtijd]])-TabUren22[[#This Row],[pauze]],(TabUren22[[#This Row],[eindtijd]]-TabUren22[[#This Row],[begintijd]])-TabUren22[[#This Row],[pauze]]))","v":""},{"$f":"IF(OR(TabUren22[hoofdcategorie]=\"\",TabUren22[hoofdcategorie]=0),\"anders dan hoofdcategorie\",TabUren22[hoofdcategorie])","v":"anders dan hoofdcategorie"}]
[{"$f":"IF(TabUren22[[#This Row],[datum]]=\"\",\"\",INT((TabUren22[[#This Row],[datum]]-SUM(MOD(DATE(YEAR(TabUren22[[#This Row],[datum]]-MOD(TabUren22[[#This Row],[datum]]-2,7)+3),1,2),{1E+99;7})*{1;-1})+5) /7))","v":""},{"$f":"IF(TabUren22[[#This Row],[datum]]=\"\",\"\",TabUren22[[#This Row],[datum]])","v":""},null,null,{"$f":"IF(TabUren22[[#This Row],[datum]]=\"\",\"\",verzameldata!$C$4)","v":""},null,null,null,null,{"$f":"IF(TabUren22[[#This Row],[eindtijd]]=\"\",\"\",IF(TabUren22[[#This Row],[eindtijd]]<TabUren22[[#This Row],[begintijd]],(\"24:00\"-TabUren22[[#This Row],[begintijd]]+TabUren22[[#This Row],[eindtijd]])-TabUren22[[#This Row],[pauze]],(TabUren22[[#This Row],[eindtijd]]-TabUren22[[#This Row],[begintijd]])-TabUren22[[#This Row],[pauze]]))","v":""},{"$f":"IF(OR(TabUren22[hoofdcategorie]=\"\",TabUren22[hoofdcategorie]=0),\"anders dan hoofdcategorie\",TabUren22[hoofdcategorie])","v":"anders dan hoofdcategorie"}]
[{"$f":"IF(TabUren22[[#This Row],[datum]]=\"\",\"\",INT((TabUren22[[#This Row],[datum]]-SUM(MOD(DATE(YEAR(TabUren22[[#This Row],[datum]]-MOD(TabUren22[[#This Row],[datum]]-2,7)+3),1,2),{1E+99;7})*{1;-1})+5) /7))","v":""},{"$f":"IF(TabUren22[[#This Row],[datum]]=\"\",\"\",TabUren22[[#This Row],[datum]])","v":""},null,null,{"$f":"IF(TabUren22[[#This Row],[datum]]=\"\",\"\",verzameldata!$C$4)","v":""},null,null,null,null,{"$f":"IF(TabUren22[[#This Row],[eindtijd]]=\"\",\"\",IF(TabUren22[[#This Row],[eindtijd]]<TabUren22[[#This Row],[begintijd]],(\"24:00\"-TabUren22[[#This Row],[begintijd]]+TabUren22[[#This Row],[eindtijd]])-TabUren22[[#This Row],[pauze]],(TabUren22[[#This Row],[eindtijd]]-TabUren22[[#This Row],[begintijd]])-TabUren22[[#This Row],[pauze]]))","v":""},{"$f":"IF(OR(TabUren22[hoofdcategorie]=\"\",TabUren22[hoofdcategorie]=0),\"anders dan hoofdcategorie\",TabUren22[hoofdcategorie])","v":"anders dan hoofdcategorie"}]
[{"$f":"IF(TabUren22[[#This Row],[datum]]=\"\",\"\",INT((TabUren22[[#This Row],[datum]]-SUM(MOD(DATE(YEAR(TabUren22[[#This Row],[datum]]-MOD(TabUren22[[#This Row],[datum]]-2,7)+3),1,2),{1E+99;7})*{1;-1})+5) /7))","v":""},{"$f":"IF(TabUren22[[#This Row],[datum]]=\"\",\"\",TabUren22[[#This Row],[datum]])","v":""},null,null,{"$f":"IF(TabUren22[[#This Row],[datum]]=\"\",\"\",verzameldata!$C$4)","v":""},null,null,null,null,{"$f":"IF(TabUren22[[#This Row],[eindtijd]]=\"\",\"\",IF(TabUren22[[#This Row],[eindtijd]]<TabUren22[[#This Row],[begintijd]],(\"24:00\"-TabUren22[[#This Row],[begintijd]]+TabUren22[[#This Row],[eindtijd]])-TabUren22[[#This Row],[pauze]],(TabUren22[[#This Row],[eindtijd]]-TabUren22[[#This Row],[begintijd]])-TabUren22[[#This Row],[pauze]]))","v":""},{"$f":"IF(OR(TabUren22[hoofdcategorie]=\"\",TabUren22[hoofdcategorie]=0),\"anders dan hoofdcategorie\",TabUren22[hoofdcategorie])","v":"anders dan hoofdcategorie"}]
[{"$f":"IF(TabUren22[[#This Row],[datum]]=\"\",\"\",INT((TabUren22[[#This Row],[datum]]-SUM(MOD(DATE(YEAR(TabUren22[[#This Row],[datum]]-MOD(TabUren22[[#This Row],[datum]]-2,7)+3),1,2),{1E+99;7})*{1;-1})+5) /7))","v":""},{"$f":"IF(TabUren22[[#This Row],[datum]]=\"\",\"\",TabUren22[[#This Row],[datum]])","v":""},null,null,{"$f":"IF(TabUren22[[#This Row],[datum]]=\"\",\"\",verzameldata!$C$4)","v":""},null,null,null,null,{"$f":"IF(TabUren22[[#This Row],[eindtijd]]=\"\",\"\",IF(TabUren22[[#This Row],[eindtijd]]<TabUren22[[#This Row],[begintijd]],(\"24:00\"-TabUren22[[#This Row],[begintijd]]+TabUren22[[#This Row],[eindtijd]])-TabUren22[[#This Row],[pauze]],(TabUren22[[#This Row],[eindtijd]]-TabUren22[[#This Row],[begintijd]])-TabUren22[[#This Row],[pauze]]))","v":""},{"$f":"IF(OR(TabUren22[hoofdcategorie]=\"\",TabUren22[hoofdcategorie]=0),\"anders dan hoofdcategorie\",TabUren22[hoofdcategorie])","v":"anders dan hoofdcategorie"}]
[{"$f":"IF(TabUren22[[#This Row],[datum]]=\"\",\"\",INT((TabUren22[[#This Row],[datum]]-SUM(MOD(DATE(YEAR(TabUren22[[#This Row],[datum]]-MOD(TabUren22[[#This Row],[datum]]-2,7)+3),1,2),{1E+99;7})*{1;-1})+5) /7))","v":""},{"$f":"IF(TabUren22[[#This Row],[datum]]=\"\",\"\",TabUren22[[#This Row],[datum]])","v":""},null,null,{"$f":"IF(TabUren22[[#This Row],[datum]]=\"\",\"\",verzameldata!$C$4)","v":""},null,null,null,null,{"$f":"IF(TabUren22[[#This Row],[eindtijd]]=\"\",\"\",IF(TabUren22[[#This Row],[eindtijd]]<TabUren22[[#This Row],[begintijd]],(\"24:00\"-TabUren22[[#This Row],[begintijd]]+TabUren22[[#This Row],[eindtijd]])-TabUren22[[#This Row],[pauze]],(TabUren22[[#This Row],[eindtijd]]-TabUren22[[#This Row],[begintijd]])-TabUren22[[#This Row],[pauze]]))","v":""},{"$f":"IF(OR(TabUren22[hoofdcategorie]=\"\",TabUren22[hoofdcategorie]=0),\"anders dan hoofdcategorie\",TabUren22[hoofdcategorie])","v":"anders dan hoofdcategorie"}]
[{"$f":"IF(TabUren22[[#This Row],[datum]]=\"\",\"\",INT((TabUren22[[#This Row],[datum]]-SUM(MOD(DATE(YEAR(TabUren22[[#This Row],[datum]]-MOD(TabUren22[[#This Row],[datum]]-2,7)+3),1,2),{1E+99;7})*{1;-1})+5) /7))","v":""},{"$f":"IF(TabUren22[[#This Row],[datum]]=\"\",\"\",TabUren22[[#This Row],[datum]])","v":""},null,null,{"$f":"IF(TabUren22[[#This Row],[datum]]=\"\",\"\",verzameldata!$C$4)","v":""},null,null,null,null,{"$f":"IF(TabUren22[[#This Row],[eindtijd]]=\"\",\"\",IF(TabUren22[[#This Row],[eindtijd]]<TabUren22[[#This Row],[begintijd]],(\"24:00\"-TabUren22[[#This Row],[begintijd]]+TabUren22[[#This Row],[eindtijd]])-TabUren22[[#This Row],[pauze]],(TabUren22[[#This Row],[eindtijd]]-TabUren22[[#This Row],[begintijd]])-TabUren22[[#This Row],[pauze]]))","v":""},{"$f":"IF(OR(TabUren22[hoofdcategorie]=\"\",TabUren22[hoofdcategorie]=0),\"anders dan hoofdcategorie\",TabUren22[hoofdcategorie])","v":"anders dan hoofdcategorie"}]
[{"$f":"IF(TabUren22[[#This Row],[datum]]=\"\",\"\",INT((TabUren22[[#This Row],[datum]]-SUM(MOD(DATE(YEAR(TabUren22[[#This Row],[datum]]-MOD(TabUren22[[#This Row],[datum]]-2,7)+3),1,2),{1E+99;7})*{1;-1})+5) /7))","v":""},{"$f":"IF(TabUren22[[#This Row],[datum]]=\"\",\"\",TabUren22[[#This Row],[datum]])","v":""},null,null,{"$f":"IF(TabUren22[[#This Row],[datum]]=\"\",\"\",verzameldata!$C$4)","v":""},null,null,null,null,{"$f":"IF(TabUren22[[#This Row],[eindtijd]]=\"\",\"\",IF(TabUren22[[#This Row],[eindtijd]]<TabUren22[[#This Row],[begintijd]],(\"24:00\"-TabUren22[[#This Row],[begintijd]]+TabUren22[[#This Row],[eindtijd]])-TabUren22[[#This Row],[pauze]],(TabUren22[[#This Row],[eindtijd]]-TabUren22[[#This Row],[begintijd]])-TabUren22[[#This Row],[pauze]]))","v":""},{"$f":"IF(OR(TabUren22[hoofdcategorie]=\"\",TabUren22[hoofdcategorie]=0),\"anders dan hoofdcategorie\",TabUren22[hoofdcategorie])","v":"anders dan hoofdcategorie"}]
[{"$f":"IF(TabUren22[[#This Row],[datum]]=\"\",\"\",INT((TabUren22[[#This Row],[datum]]-SUM(MOD(DATE(YEAR(TabUren22[[#This Row],[datum]]-MOD(TabUren22[[#This Row],[datum]]-2,7)+3),1,2),{1E+99;7})*{1;-1})+5) /7))","v":""},{"$f":"IF(TabUren22[[#This Row],[datum]]=\"\",\"\",TabUren22[[#This Row],[datum]])","v":""},null,null,{"$f":"IF(TabUren22[[#This Row],[datum]]=\"\",\"\",verzameldata!$C$4)","v":""},null,null,null,null,{"$f":"IF(TabUren22[[#This Row],[eindtijd]]=\"\",\"\",IF(TabUren22[[#This Row],[eindtijd]]<TabUren22[[#This Row],[begintijd]],(\"24:00\"-TabUren22[[#This Row],[begintijd]]+TabUren22[[#This Row],[eindtijd]])-TabUren22[[#This Row],[pauze]],(TabUren22[[#This Row],[eindtijd]]-TabUren22[[#This Row],[begintijd]])-TabUren22[[#This Row],[pauze]]))","v":""},{"$f":"IF(OR(TabUren22[hoofdcategorie]=\"\",TabUren22[hoofdcategorie]=0),\"anders dan hoofdcategorie\",TabUren22[hoofdcategorie])","v":"anders dan hoofdcategorie"}]
[{"$f":"IF(TabUren22[[#This Row],[datum]]=\"\",\"\",INT((TabUren22[[#This Row],[datum]]-SUM(MOD(DATE(YEAR(TabUren22[[#This Row],[datum]]-MOD(TabUren22[[#This Row],[datum]]-2,7)+3),1,2),{1E+99;7})*{1;-1})+5) /7))","v":""},{"$f":"IF(TabUren22[[#This Row],[datum]]=\"\",\"\",TabUren22[[#This Row],[datum]])","v":""},null,null,{"$f":"IF(TabUren22[[#This Row],[datum]]=\"\",\"\",verzameldata!$C$4)","v":""},null,null,null,null,{"$f":"IF(TabUren22[[#This Row],[eindtijd]]=\"\",\"\",IF(TabUren22[[#This Row],[eindtijd]]<TabUren22[[#This Row],[begintijd]],(\"24:00\"-TabUren22[[#This Row],[begintijd]]+TabUren22[[#This Row],[eindtijd]])-TabUren22[[#This Row],[pauze]],(TabUren22[[#This Row],[eindtijd]]-TabUren22[[#This Row],[begintijd]])-TabUren22[[#This Row],[pauze]]))","v":""},{"$f":"IF(OR(TabUren22[hoofdcategorie]=\"\",TabUren22[hoofdcategorie]=0),\"anders dan hoofdcategorie\",TabUren22[hoofdcategorie])","v":"anders dan hoofdcategorie"}]
[{"$f":"IF(TabUren22[[#This Row],[datum]]=\"\",\"\",INT((TabUren22[[#This Row],[datum]]-SUM(MOD(DATE(YEAR(TabUren22[[#This Row],[datum]]-MOD(TabUren22[[#This Row],[datum]]-2,7)+3),1,2),{1E+99;7})*{1;-1})+5) /7))","v":""},{"$f":"IF(TabUren22[[#This Row],[datum]]=\"\",\"\",TabUren22[[#This Row],[datum]])","v":""},null,null,{"$f":"IF(TabUren22[[#This Row],[datum]]=\"\",\"\",verzameldata!$C$4)","v":""},null,null,null,null,{"$f":"IF(TabUren22[[#This Row],[eindtijd]]=\"\",\"\",IF(TabUren22[[#This Row],[eindtijd]]<TabUren22[[#This Row],[begintijd]],(\"24:00\"-TabUren22[[#This Row],[begintijd]]+TabUren22[[#This Row],[eindtijd]])-TabUren22[[#This Row],[pauze]],(TabUren22[[#This Row],[eindtijd]]-TabUren22[[#This Row],[begintijd]])-TabUren22[[#This Row],[pauze]]))","v":""},{"$f":"IF(OR(TabUren22[hoofdcategorie]=\"\",TabUren22[hoofdcategorie]=0),\"anders dan hoofdcategorie\",TabUren22[hoofdcategorie])","v":"anders dan hoofdcategorie"}]
[{"$f":"IF(TabUren22[[#This Row],[datum]]=\"\",\"\",INT((TabUren22[[#This Row],[datum]]-SUM(MOD(DATE(YEAR(TabUren22[[#This Row],[datum]]-MOD(TabUren22[[#This Row],[datum]]-2,7)+3),1,2),{1E+99;7})*{1;-1})+5) /7))","v":""},{"$f":"IF(TabUren22[[#This Row],[datum]]=\"\",\"\",TabUren22[[#This Row],[datum]])","v":""},null,null,{"$f":"IF(TabUren22[[#This Row],[datum]]=\"\",\"\",verzameldata!$C$4)","v":""},null,null,null,null,{"$f":"IF(TabUren22[[#This Row],[eindtijd]]=\"\",\"\",IF(TabUren22[[#This Row],[eindtijd]]<TabUren22[[#This Row],[begintijd]],(\"24:00\"-TabUren22[[#This Row],[begintijd]]+TabUren22[[#This Row],[eindtijd]])-TabUren22[[#This Row],[pauze]],(TabUren22[[#This Row],[eindtijd]]-TabUren22[[#This Row],[begintijd]])-TabUren22[[#This Row],[pauze]]))","v":""},{"$f":"IF(OR(TabUren22[hoofdcategorie]=\"\",TabUren22[hoofdcategorie]=0),\"anders dan hoofdcategorie\",TabUren22[hoofdcategorie])","v":"anders dan hoofdcategorie"}]
[{"$f":"IF(TabUren22[[#This Row],[datum]]=\"\",\"\",INT((TabUren22[[#This Row],[datum]]-SUM(MOD(DATE(YEAR(TabUren22[[#This Row],[datum]]-MOD(TabUren22[[#This Row],[datum]]-2,7)+3),1,2),{1E+99;7})*{1;-1})+5) /7))","v":""},{"$f":"IF(TabUren22[[#This Row],[datum]]=\"\",\"\",TabUren22[[#This Row],[datum]])","v":""},null,null,{"$f":"IF(TabUren22[[#This Row],[datum]]=\"\",\"\",verzameldata!$C$4)","v":""},null,null,null,null,{"$f":"IF(TabUren22[[#This Row],[eindtijd]]=\"\",\"\",IF(TabUren22[[#This Row],[eindtijd]]<TabUren22[[#This Row],[begintijd]],(\"24:00\"-TabUren22[[#This Row],[begintijd]]+TabUren22[[#This Row],[eindtijd]])-TabUren22[[#This Row],[pauze]],(TabUren22[[#This Row],[eindtijd]]-TabUren22[[#This Row],[begintijd]])-TabUren22[[#This Row],[pauze]]))","v":""},{"$f":"IF(OR(TabUren22[hoofdcategorie]=\"\",TabUren22[hoofdcategorie]=0),\"anders dan hoofdcategorie\",TabUren22[hoofdcategorie])","v":"anders dan hoofdcategorie"}]
[{"$f":"IF(TabUren22[[#This Row],[datum]]=\"\",\"\",INT((TabUren22[[#This Row],[datum]]-SUM(MOD(DATE(YEAR(TabUren22[[#This Row],[datum]]-MOD(TabUren22[[#This Row],[datum]]-2,7)+3),1,2),{1E+99;7})*{1;-1})+5) /7))","v":""},{"$f":"IF(TabUren22[[#This Row],[datum]]=\"\",\"\",TabUren22[[#This Row],[datum]])","v":""},null,null,{"$f":"IF(TabUren22[[#This Row],[datum]]=\"\",\"\",verzameldata!$C$4)","v":""},null,null,null,null,{"$f":"IF(TabUren22[[#This Row],[eindtijd]]=\"\",\"\",IF(TabUren22[[#This Row],[eindtijd]]<TabUren22[[#This Row],[begintijd]],(\"24:00\"-TabUren22[[#This Row],[begintijd]]+TabUren22[[#This Row],[eindtijd]])-TabUren22[[#This Row],[pauze]],(TabUren22[[#This Row],[eindtijd]]-TabUren22[[#This Row],[begintijd]])-TabUren22[[#This Row],[pauze]]))","v":""},{"$f":"IF(OR(TabUren22[hoofdcategorie]=\"\",TabUren22[hoofdcategorie]=0),\"anders dan hoofdcategorie\",TabUren22[hoofdcategorie])","v":"anders dan hoofdcategorie"}]
[{"$f":"IF(TabUren22[[#This Row],[datum]]=\"\",\"\",INT((TabUren22[[#This Row],[datum]]-SUM(MOD(DATE(YEAR(TabUren22[[#This Row],[datum]]-MOD(TabUren22[[#This Row],[datum]]-2,7)+3),1,2),{1E+99;7})*{1;-1})+5) /7))","v":""},{"$f":"IF(TabUren22[[#This Row],[datum]]=\"\",\"\",TabUren22[[#This Row],[datum]])","v":""},null,null,{"$f":"IF(TabUren22[[#This Row],[datum]]=\"\",\"\",verzameldata!$C$4)","v":""},null,null,null,null,{"$f":"IF(TabUren22[[#This Row],[eindtijd]]=\"\",\"\",IF(TabUren22[[#This Row],[eindtijd]]<TabUren22[[#This Row],[begintijd]],(\"24:00\"-TabUren22[[#This Row],[begintijd]]+TabUren22[[#This Row],[eindtijd]])-TabUren22[[#This Row],[pauze]],(TabUren22[[#This Row],[eindtijd]]-TabUren22[[#This Row],[begintijd]])-TabUren22[[#This Row],[pauze]]))","v":""},{"$f":"IF(OR(TabUren22[hoofdcategorie]=\"\",TabUren22[hoofdcategorie]=0),\"anders dan hoofdcategorie\",TabUren22[hoofdcategorie])","v":"anders dan hoofdcategorie"}]
[{"$f":"IF(TabUren22[[#This Row],[datum]]=\"\",\"\",INT((TabUren22[[#This Row],[datum]]-SUM(MOD(DATE(YEAR(TabUren22[[#This Row],[datum]]-MOD(TabUren22[[#This Row],[datum]]-2,7)+3),1,2),{1E+99;7})*{1;-1})+5) /7))","v":""},{"$f":"IF(TabUren22[[#This Row],[datum]]=\"\",\"\",TabUren22[[#This Row],[datum]])","v":""},null,null,{"$f":"IF(TabUren22[[#This Row],[datum]]=\"\",\"\",verzameldata!$C$4)","v":""},null,null,null,null,{"$f":"IF(TabUren22[[#This Row],[eindtijd]]=\"\",\"\",IF(TabUren22[[#This Row],[eindtijd]]<TabUren22[[#This Row],[begintijd]],(\"24:00\"-TabUren22[[#This Row],[begintijd]]+TabUren22[[#This Row],[eindtijd]])-TabUren22[[#This Row],[pauze]],(TabUren22[[#This Row],[eindtijd]]-TabUren22[[#This Row],[begintijd]])-TabUren22[[#This Row],[pauze]]))","v":""},{"$f":"IF(OR(TabUren22[hoofdcategorie]=\"\",TabUren22[hoofdcategorie]=0),\"anders dan hoofdcategorie\",TabUren22[hoofdcategorie])","v":"anders dan hoofdcategorie"}]
[{"$f":"IF(TabUren22[[#This Row],[datum]]=\"\",\"\",INT((TabUren22[[#This Row],[datum]]-SUM(MOD(DATE(YEAR(TabUren22[[#This Row],[datum]]-MOD(TabUren22[[#This Row],[datum]]-2,7)+3),1,2),{1E+99;7})*{1;-1})+5) /7))","v":""},{"$f":"IF(TabUren22[[#This Row],[datum]]=\"\",\"\",TabUren22[[#This Row],[datum]])","v":""},null,null,{"$f":"IF(TabUren22[[#This Row],[datum]]=\"\",\"\",verzameldata!$C$4)","v":""},null,null,null,null,{"$f":"IF(TabUren22[[#This Row],[eindtijd]]=\"\",\"\",IF(TabUren22[[#This Row],[eindtijd]]<TabUren22[[#This Row],[begintijd]],(\"24:00\"-TabUren22[[#This Row],[begintijd]]+TabUren22[[#This Row],[eindtijd]])-TabUren22[[#This Row],[pauze]],(TabUren22[[#This Row],[eindtijd]]-TabUren22[[#This Row],[begintijd]])-TabUren22[[#This Row],[pauze]]))","v":""},{"$f":"IF(OR(TabUren22[hoofdcategorie]=\"\",TabUren22[hoofdcategorie]=0),\"anders dan hoofdcategorie\",TabUren22[hoofdcategorie])","v":"anders dan hoofdcategorie"}]
[{"$f":"IF(TabUren22[[#This Row],[datum]]=\"\",\"\",INT((TabUren22[[#This Row],[datum]]-SUM(MOD(DATE(YEAR(TabUren22[[#This Row],[datum]]-MOD(TabUren22[[#This Row],[datum]]-2,7)+3),1,2),{1E+99;7})*{1;-1})+5) /7))","v":""},{"$f":"IF(TabUren22[[#This Row],[datum]]=\"\",\"\",TabUren22[[#This Row],[datum]])","v":""},null,null,{"$f":"IF(TabUren22[[#This Row],[datum]]=\"\",\"\",verzameldata!$C$4)","v":""},null,null,null,null,{"$f":"IF(TabUren22[[#This Row],[eindtijd]]=\"\",\"\",IF(TabUren22[[#This Row],[eindtijd]]<TabUren22[[#This Row],[begintijd]],(\"24:00\"-TabUren22[[#This Row],[begintijd]]+TabUren22[[#This Row],[eindtijd]])-TabUren22[[#This Row],[pauze]],(TabUren22[[#This Row],[eindtijd]]-TabUren22[[#This Row],[begintijd]])-TabUren22[[#This Row],[pauze]]))","v":""},{"$f":"IF(OR(TabUren22[hoofdcategorie]=\"\",TabUren22[hoofdcategorie]=0),\"anders dan hoofdcategorie\",TabUren22[hoofdcategorie])","v":"anders dan hoofdcategorie"}]
[{"$f":"IF(TabUren22[[#This Row],[datum]]=\"\",\"\",INT((TabUren22[[#This Row],[datum]]-SUM(MOD(DATE(YEAR(TabUren22[[#This Row],[datum]]-MOD(TabUren22[[#This Row],[datum]]-2,7)+3),1,2),{1E+99;7})*{1;-1})+5) /7))","v":""},{"$f":"IF(TabUren22[[#This Row],[datum]]=\"\",\"\",TabUren22[[#This Row],[datum]])","v":""},null,null,{"$f":"IF(TabUren22[[#This Row],[datum]]=\"\",\"\",verzameldata!$C$4)","v":""},null,null,null,null,{"$f":"IF(TabUren22[[#This Row],[eindtijd]]=\"\",\"\",IF(TabUren22[[#This Row],[eindtijd]]<TabUren22[[#This Row],[begintijd]],(\"24:00\"-TabUren22[[#This Row],[begintijd]]+TabUren22[[#This Row],[eindtijd]])-TabUren22[[#This Row],[pauze]],(TabUren22[[#This Row],[eindtijd]]-TabUren22[[#This Row],[begintijd]])-TabUren22[[#This Row],[pauze]]))","v":""},{"$f":"IF(OR(TabUren22[hoofdcategorie]=\"\",TabUren22[hoofdcategorie]=0),\"anders dan hoofdcategorie\",TabUren22[hoofdcategorie])","v":"anders dan hoofdcategorie"}]
[{"$f":"IF(TabUren22[[#This Row],[datum]]=\"\",\"\",INT((TabUren22[[#This Row],[datum]]-SUM(MOD(DATE(YEAR(TabUren22[[#This Row],[datum]]-MOD(TabUren22[[#This Row],[datum]]-2,7)+3),1,2),{1E+99;7})*{1;-1})+5) /7))","v":""},{"$f":"IF(TabUren22[[#This Row],[datum]]=\"\",\"\",TabUren22[[#This Row],[datum]])","v":""},null,null,{"$f":"IF(TabUren22[[#This Row],[datum]]=\"\",\"\",verzameldata!$C$4)","v":""},null,null,null,null,{"$f":"IF(TabUren22[[#This Row],[eindtijd]]=\"\",\"\",IF(TabUren22[[#This Row],[eindtijd]]<TabUren22[[#This Row],[begintijd]],(\"24:00\"-TabUren22[[#This Row],[begintijd]]+TabUren22[[#This Row],[eindtijd]])-TabUren22[[#This Row],[pauze]],(TabUren22[[#This Row],[eindtijd]]-TabUren22[[#This Row],[begintijd]])-TabUren22[[#This Row],[pauze]]))","v":""},{"$f":"IF(OR(TabUren22[hoofdcategorie]=\"\",TabUren22[hoofdcategorie]=0),\"anders dan hoofdcategorie\",TabUren22[hoofdcategorie])","v":"anders dan hoofdcategorie"}]
[{"$f":"IF(TabUren22[[#This Row],[datum]]=\"\",\"\",INT((TabUren22[[#This Row],[datum]]-SUM(MOD(DATE(YEAR(TabUren22[[#This Row],[datum]]-MOD(TabUren22[[#This Row],[datum]]-2,7)+3),1,2),{1E+99;7})*{1;-1})+5) /7))","v":""},{"$f":"IF(TabUren22[[#This Row],[datum]]=\"\",\"\",TabUren22[[#This Row],[datum]])","v":""},null,null,{"$f":"IF(TabUren22[[#This Row],[datum]]=\"\",\"\",verzameldata!$C$4)","v":""},null,null,null,null,{"$f":"IF(TabUren22[[#This Row],[eindtijd]]=\"\",\"\",IF(TabUren22[[#This Row],[eindtijd]]<TabUren22[[#This Row],[begintijd]],(\"24:00\"-TabUren22[[#This Row],[begintijd]]+TabUren22[[#This Row],[eindtijd]])-TabUren22[[#This Row],[pauze]],(TabUren22[[#This Row],[eindtijd]]-TabUren22[[#This Row],[begintijd]])-TabUren22[[#This Row],[pauze]]))","v":""},{"$f":"IF(OR(TabUren22[hoofdcategorie]=\"\",TabUren22[hoofdcategorie]=0),\"anders dan hoofdcategorie\",TabUren22[hoofdcategorie])","v":"anders dan hoofdcategorie"}]
[{"$f":"IF(TabUren22[[#This Row],[datum]]=\"\",\"\",INT((TabUren22[[#This Row],[datum]]-SUM(MOD(DATE(YEAR(TabUren22[[#This Row],[datum]]-MOD(TabUren22[[#This Row],[datum]]-2,7)+3),1,2),{1E+99;7})*{1;-1})+5) /7))","v":""},{"$f":"IF(TabUren22[[#This Row],[datum]]=\"\",\"\",TabUren22[[#This Row],[datum]])","v":""},null,null,{"$f":"IF(TabUren22[[#This Row],[datum]]=\"\",\"\",verzameldata!$C$4)","v":""},null,null,null,null,{"$f":"IF(TabUren22[[#This Row],[eindtijd]]=\"\",\"\",IF(TabUren22[[#This Row],[eindtijd]]<TabUren22[[#This Row],[begintijd]],(\"24:00\"-TabUren22[[#This Row],[begintijd]]+TabUren22[[#This Row],[eindtijd]])-TabUren22[[#This Row],[pauze]],(TabUren22[[#This Row],[eindtijd]]-TabUren22[[#This Row],[begintijd]])-TabUren22[[#This Row],[pauze]]))","v":""},{"$f":"IF(OR(TabUren22[hoofdcategorie]=\"\",TabUren22[hoofdcategorie]=0),\"anders dan hoofdcategorie\",TabUren22[hoofdcategorie])","v":"anders dan hoofdcategorie"}]
[{"$f":"IF(TabUren22[[#This Row],[datum]]=\"\",\"\",INT((TabUren22[[#This Row],[datum]]-SUM(MOD(DATE(YEAR(TabUren22[[#This Row],[datum]]-MOD(TabUren22[[#This Row],[datum]]-2,7)+3),1,2),{1E+99;7})*{1;-1})+5) /7))","v":""},{"$f":"IF(TabUren22[[#This Row],[datum]]=\"\",\"\",TabUren22[[#This Row],[datum]])","v":""},null,null,{"$f":"IF(TabUren22[[#This Row],[datum]]=\"\",\"\",verzameldata!$C$4)","v":""},null,null,null,null,{"$f":"IF(TabUren22[[#This Row],[eindtijd]]=\"\",\"\",IF(TabUren22[[#This Row],[eindtijd]]<TabUren22[[#This Row],[begintijd]],(\"24:00\"-TabUren22[[#This Row],[begintijd]]+TabUren22[[#This Row],[eindtijd]])-TabUren22[[#This Row],[pauze]],(TabUren22[[#This Row],[eindtijd]]-TabUren22[[#This Row],[begintijd]])-TabUren22[[#This Row],[pauze]]))","v":""},{"$f":"IF(OR(TabUren22[hoofdcategorie]=\"\",TabUren22[hoofdcategorie]=0),\"anders dan hoofdcategorie\",TabUren22[hoofdcategorie])","v":"anders dan hoofdcategorie"}]
[{"$f":"IF(TabUren22[[#This Row],[datum]]=\"\",\"\",INT((TabUren22[[#This Row],[datum]]-SUM(MOD(DATE(YEAR(TabUren22[[#This Row],[datum]]-MOD(TabUren22[[#This Row],[datum]]-2,7)+3),1,2),{1E+99;7})*{1;-1})+5) /7))","v":""},{"$f":"IF(TabUren22[[#This Row],[datum]]=\"\",\"\",TabUren22[[#This Row],[datum]])","v":""},null,null,{"$f":"IF(TabUren22[[#This Row],[datum]]=\"\",\"\",verzameldata!$C$4)","v":""},null,null,null,null,{"$f":"IF(TabUren22[[#This Row],[eindtijd]]=\"\",\"\",IF(TabUren22[[#This Row],[eindtijd]]<TabUren22[[#This Row],[begintijd]],(\"24:00\"-TabUren22[[#This Row],[begintijd]]+TabUren22[[#This Row],[eindtijd]])-TabUren22[[#This Row],[pauze]],(TabUren22[[#This Row],[eindtijd]]-TabUren22[[#This Row],[begintijd]])-TabUren22[[#This Row],[pauze]]))","v":""},{"$f":"IF(OR(TabUren22[hoofdcategorie]=\"\",TabUren22[hoofdcategorie]=0),\"anders dan hoofdcategorie\",TabUren22[hoofdcategorie])","v":"anders dan hoofdcategorie"}]
[{"$f":"IF(TabUren22[[#This Row],[datum]]=\"\",\"\",INT((TabUren22[[#This Row],[datum]]-SUM(MOD(DATE(YEAR(TabUren22[[#This Row],[datum]]-MOD(TabUren22[[#This Row],[datum]]-2,7)+3),1,2),{1E+99;7})*{1;-1})+5) /7))","v":""},{"$f":"IF(TabUren22[[#This Row],[datum]]=\"\",\"\",TabUren22[[#This Row],[datum]])","v":""},null,null,{"$f":"IF(TabUren22[[#This Row],[datum]]=\"\",\"\",verzameldata!$C$4)","v":""},null,null,null,null,{"$f":"IF(TabUren22[[#This Row],[eindtijd]]=\"\",\"\",IF(TabUren22[[#This Row],[eindtijd]]<TabUren22[[#This Row],[begintijd]],(\"24:00\"-TabUren22[[#This Row],[begintijd]]+TabUren22[[#This Row],[eindtijd]])-TabUren22[[#This Row],[pauze]],(TabUren22[[#This Row],[eindtijd]]-TabUren22[[#This Row],[begintijd]])-TabUren22[[#This Row],[pauze]]))","v":""},{"$f":"IF(OR(TabUren22[hoofdcategorie]=\"\",TabUren22[hoofdcategorie]=0),\"anders dan hoofdcategorie\",TabUren22[hoofdcategorie])","v":"anders dan hoofdcategorie"}]
[{"$f":"IF(TabUren22[[#This Row],[datum]]=\"\",\"\",INT((TabUren22[[#This Row],[datum]]-SUM(MOD(DATE(YEAR(TabUren22[[#This Row],[datum]]-MOD(TabUren22[[#This Row],[datum]]-2,7)+3),1,2),{1E+99;7})*{1;-1})+5) /7))","v":""},{"$f":"IF(TabUren22[[#This Row],[datum]]=\"\",\"\",TabUren22[[#This Row],[datum]])","v":""},null,null,{"$f":"IF(TabUren22[[#This Row],[datum]]=\"\",\"\",verzameldata!$C$4)","v":""},null,null,null,null,{"$f":"IF(TabUren22[[#This Row],[eindtijd]]=\"\",\"\",IF(TabUren22[[#This Row],[eindtijd]]<TabUren22[[#This Row],[begintijd]],(\"24:00\"-TabUren22[[#This Row],[begintijd]]+TabUren22[[#This Row],[eindtijd]])-TabUren22[[#This Row],[pauze]],(TabUren22[[#This Row],[eindtijd]]-TabUren22[[#This Row],[begintijd]])-TabUren22[[#This Row],[pauze]]))","v":""},{"$f":"IF(OR(TabUren22[hoofdcategorie]=\"\",TabUren22[hoofdcategorie]=0),\"anders dan hoofdcategorie\",TabUren22[hoofdcategorie])","v":"anders dan hoofdcategorie"}]
[{"$f":"IF(TabUren22[[#This Row],[datum]]=\"\",\"\",INT((TabUren22[[#This Row],[datum]]-SUM(MOD(DATE(YEAR(TabUren22[[#This Row],[datum]]-MOD(TabUren22[[#This Row],[datum]]-2,7)+3),1,2),{1E+99;7})*{1;-1})+5) /7))","v":""},{"$f":"IF(TabUren22[[#This Row],[datum]]=\"\",\"\",TabUren22[[#This Row],[datum]])","v":""},null,null,{"$f":"IF(TabUren22[[#This Row],[datum]]=\"\",\"\",verzameldata!$C$4)","v":""},null,null,null,null,{"$f":"IF(TabUren22[[#This Row],[eindtijd]]=\"\",\"\",IF(TabUren22[[#This Row],[eindtijd]]<TabUren22[[#This Row],[begintijd]],(\"24:00\"-TabUren22[[#This Row],[begintijd]]+TabUren22[[#This Row],[eindtijd]])-TabUren22[[#This Row],[pauze]],(TabUren22[[#This Row],[eindtijd]]-TabUren22[[#This Row],[begintijd]])-TabUren22[[#This Row],[pauze]]))","v":""},{"$f":"IF(OR(TabUren22[hoofdcategorie]=\"\",TabUren22[hoofdcategorie]=0),\"anders dan hoofdcategorie\",TabUren22[hoofdcategorie])","v":"anders dan hoofdcategorie"}]
[{"$f":"IF(TabUren22[[#This Row],[datum]]=\"\",\"\",INT((TabUren22[[#This Row],[datum]]-SUM(MOD(DATE(YEAR(TabUren22[[#This Row],[datum]]-MOD(TabUren22[[#This Row],[datum]]-2,7)+3),1,2),{1E+99;7})*{1;-1})+5) /7))","v":""},{"$f":"IF(TabUren22[[#This Row],[datum]]=\"\",\"\",TabUren22[[#This Row],[datum]])","v":""},null,null,{"$f":"IF(TabUren22[[#This Row],[datum]]=\"\",\"\",verzameldata!$C$4)","v":""},null,null,null,null,{"$f":"IF(TabUren22[[#This Row],[eindtijd]]=\"\",\"\",IF(TabUren22[[#This Row],[eindtijd]]<TabUren22[[#This Row],[begintijd]],(\"24:00\"-TabUren22[[#This Row],[begintijd]]+TabUren22[[#This Row],[eindtijd]])-TabUren22[[#This Row],[pauze]],(TabUren22[[#This Row],[eindtijd]]-TabUren22[[#This Row],[begintijd]])-TabUren22[[#This Row],[pauze]]))","v":""},{"$f":"IF(OR(TabUren22[hoofdcategorie]=\"\",TabUren22[hoofdcategorie]=0),\"anders dan hoofdcategorie\",TabUren22[hoofdcategorie])","v":"anders dan hoofdcategorie"}]
[{"$f":"IF(TabUren22[[#This Row],[datum]]=\"\",\"\",INT((TabUren22[[#This Row],[datum]]-SUM(MOD(DATE(YEAR(TabUren22[[#This Row],[datum]]-MOD(TabUren22[[#This Row],[datum]]-2,7)+3),1,2),{1E+99;7})*{1;-1})+5) /7))","v":""},{"$f":"IF(TabUren22[[#This Row],[datum]]=\"\",\"\",TabUren22[[#This Row],[datum]])","v":""},null,null,{"$f":"IF(TabUren22[[#This Row],[datum]]=\"\",\"\",verzameldata!$C$4)","v":""},null,null,null,null,{"$f":"IF(TabUren22[[#This Row],[eindtijd]]=\"\",\"\",IF(TabUren22[[#This Row],[eindtijd]]<TabUren22[[#This Row],[begintijd]],(\"24:00\"-TabUren22[[#This Row],[begintijd]]+TabUren22[[#This Row],[eindtijd]])-TabUren22[[#This Row],[pauze]],(TabUren22[[#This Row],[eindtijd]]-TabUren22[[#This Row],[begintijd]])-TabUren22[[#This Row],[pauze]]))","v":""},{"$f":"IF(OR(TabUren22[hoofdcategorie]=\"\",TabUren22[hoofdcategorie]=0),\"anders dan hoofdcategorie\",TabUren22[hoofdcategorie])","v":"anders dan hoofdcategorie"}]
[{"$f":"IF(TabUren22[[#This Row],[datum]]=\"\",\"\",INT((TabUren22[[#This Row],[datum]]-SUM(MOD(DATE(YEAR(TabUren22[[#This Row],[datum]]-MOD(TabUren22[[#This Row],[datum]]-2,7)+3),1,2),{1E+99;7})*{1;-1})+5) /7))","v":""},{"$f":"IF(TabUren22[[#This Row],[datum]]=\"\",\"\",TabUren22[[#This Row],[datum]])","v":""},null,null,{"$f":"IF(TabUren22[[#This Row],[datum]]=\"\",\"\",verzameldata!$C$4)","v":""},null,null,null,null,{"$f":"IF(TabUren22[[#This Row],[eindtijd]]=\"\",\"\",IF(TabUren22[[#This Row],[eindtijd]]<TabUren22[[#This Row],[begintijd]],(\"24:00\"-TabUren22[[#This Row],[begintijd]]+TabUren22[[#This Row],[eindtijd]])-TabUren22[[#This Row],[pauze]],(TabUren22[[#This Row],[eindtijd]]-TabUren22[[#This Row],[begintijd]])-TabUren22[[#This Row],[pauze]]))","v":""},{"$f":"IF(OR(TabUren22[hoofdcategorie]=\"\",TabUren22[hoofdcategorie]=0),\"anders dan hoofdcategorie\",TabUren22[hoofdcategorie])","v":"anders dan hoofdcategorie"}]
[{"$f":"IF(TabUren22[[#This Row],[datum]]=\"\",\"\",INT((TabUren22[[#This Row],[datum]]-SUM(MOD(DATE(YEAR(TabUren22[[#This Row],[datum]]-MOD(TabUren22[[#This Row],[datum]]-2,7)+3),1,2),{1E+99;7})*{1;-1})+5) /7))","v":""},{"$f":"IF(TabUren22[[#This Row],[datum]]=\"\",\"\",TabUren22[[#This Row],[datum]])","v":""},null,null,{"$f":"IF(TabUren22[[#This Row],[datum]]=\"\",\"\",verzameldata!$C$4)","v":""},null,null,null,null,{"$f":"IF(TabUren22[[#This Row],[eindtijd]]=\"\",\"\",IF(TabUren22[[#This Row],[eindtijd]]<TabUren22[[#This Row],[begintijd]],(\"24:00\"-TabUren22[[#This Row],[begintijd]]+TabUren22[[#This Row],[eindtijd]])-TabUren22[[#This Row],[pauze]],(TabUren22[[#This Row],[eindtijd]]-TabUren22[[#This Row],[begintijd]])-TabUren22[[#This Row],[pauze]]))","v":""},{"$f":"IF(OR(TabUren22[hoofdcategorie]=\"\",TabUren22[hoofdcategorie]=0),\"anders dan hoofdcategorie\",TabUren22[hoofdcategorie])","v":"anders dan hoofdcategorie"}]
[{"$f":"IF(TabUren22[[#This Row],[datum]]=\"\",\"\",INT((TabUren22[[#This Row],[datum]]-SUM(MOD(DATE(YEAR(TabUren22[[#This Row],[datum]]-MOD(TabUren22[[#This Row],[datum]]-2,7)+3),1,2),{1E+99;7})*{1;-1})+5) /7))","v":""},{"$f":"IF(TabUren22[[#This Row],[datum]]=\"\",\"\",TabUren22[[#This Row],[datum]])","v":""},null,null,{"$f":"IF(TabUren22[[#This Row],[datum]]=\"\",\"\",verzameldata!$C$4)","v":""},null,null,null,null,{"$f":"IF(TabUren22[[#This Row],[eindtijd]]=\"\",\"\",IF(TabUren22[[#This Row],[eindtijd]]<TabUren22[[#This Row],[begintijd]],(\"24:00\"-TabUren22[[#This Row],[begintijd]]+TabUren22[[#This Row],[eindtijd]])-TabUren22[[#This Row],[pauze]],(TabUren22[[#This Row],[eindtijd]]-TabUren22[[#This Row],[begintijd]])-TabUren22[[#This Row],[pauze]]))","v":""},{"$f":"IF(OR(TabUren22[hoofdcategorie]=\"\",TabUren22[hoofdcategorie]=0),\"anders dan hoofdcategorie\",TabUren22[hoofdcategorie])","v":"anders dan hoofdcategorie"}]
[{"$f":"IF(TabUren22[[#This Row],[datum]]=\"\",\"\",INT((TabUren22[[#This Row],[datum]]-SUM(MOD(DATE(YEAR(TabUren22[[#This Row],[datum]]-MOD(TabUren22[[#This Row],[datum]]-2,7)+3),1,2),{1E+99;7})*{1;-1})+5) /7))","v":""},{"$f":"IF(TabUren22[[#This Row],[datum]]=\"\",\"\",TabUren22[[#This Row],[datum]])","v":""},null,null,{"$f":"IF(TabUren22[[#This Row],[datum]]=\"\",\"\",verzameldata!$C$4)","v":""},null,null,null,null,{"$f":"IF(TabUren22[[#This Row],[eindtijd]]=\"\",\"\",IF(TabUren22[[#This Row],[eindtijd]]<TabUren22[[#This Row],[begintijd]],(\"24:00\"-TabUren22[[#This Row],[begintijd]]+TabUren22[[#This Row],[eindtijd]])-TabUren22[[#This Row],[pauze]],(TabUren22[[#This Row],[eindtijd]]-TabUren22[[#This Row],[begintijd]])-TabUren22[[#This Row],[pauze]]))","v":""},{"$f":"IF(OR(TabUren22[hoofdcategorie]=\"\",TabUren22[hoofdcategorie]=0),\"anders dan hoofdcategorie\",TabUren22[hoofdcategorie])","v":"anders dan hoofdcategorie"}]
[{"$f":"IF(TabUren22[[#This Row],[datum]]=\"\",\"\",INT((TabUren22[[#This Row],[datum]]-SUM(MOD(DATE(YEAR(TabUren22[[#This Row],[datum]]-MOD(TabUren22[[#This Row],[datum]]-2,7)+3),1,2),{1E+99;7})*{1;-1})+5) /7))","v":""},{"$f":"IF(TabUren22[[#This Row],[datum]]=\"\",\"\",TabUren22[[#This Row],[datum]])","v":""},null,null,{"$f":"IF(TabUren22[[#This Row],[datum]]=\"\",\"\",verzameldata!$C$4)","v":""},null,null,null,null,{"$f":"IF(TabUren22[[#This Row],[eindtijd]]=\"\",\"\",IF(TabUren22[[#This Row],[eindtijd]]<TabUren22[[#This Row],[begintijd]],(\"24:00\"-TabUren22[[#This Row],[begintijd]]+TabUren22[[#This Row],[eindtijd]])-TabUren22[[#This Row],[pauze]],(TabUren22[[#This Row],[eindtijd]]-TabUren22[[#This Row],[begintijd]])-TabUren22[[#This Row],[pauze]]))","v":""},{"$f":"IF(OR(TabUren22[hoofdcategorie]=\"\",TabUren22[hoofdcategorie]=0),\"anders dan hoofdcategorie\",TabUren22[hoofdcategorie])","v":"anders dan hoofdcategorie"}]
[{"$f":"IF(TabUren22[[#This Row],[datum]]=\"\",\"\",INT((TabUren22[[#This Row],[datum]]-SUM(MOD(DATE(YEAR(TabUren22[[#This Row],[datum]]-MOD(TabUren22[[#This Row],[datum]]-2,7)+3),1,2),{1E+99;7})*{1;-1})+5) /7))","v":""},{"$f":"IF(TabUren22[[#This Row],[datum]]=\"\",\"\",TabUren22[[#This Row],[datum]])","v":""},null,null,{"$f":"IF(TabUren22[[#This Row],[datum]]=\"\",\"\",verzameldata!$C$4)","v":""},null,null,null,null,{"$f":"IF(TabUren22[[#This Row],[eindtijd]]=\"\",\"\",IF(TabUren22[[#This Row],[eindtijd]]<TabUren22[[#This Row],[begintijd]],(\"24:00\"-TabUren22[[#This Row],[begintijd]]+TabUren22[[#This Row],[eindtijd]])-TabUren22[[#This Row],[pauze]],(TabUren22[[#This Row],[eindtijd]]-TabUren22[[#This Row],[begintijd]])-TabUren22[[#This Row],[pauze]]))","v":""},{"$f":"IF(OR(TabUren22[hoofdcategorie]=\"\",TabUren22[hoofdcategorie]=0),\"anders dan hoofdcategorie\",TabUren22[hoofdcategorie])","v":"anders dan hoofdcategorie"}]
[{"$f":"IF(TabUren22[[#This Row],[datum]]=\"\",\"\",INT((TabUren22[[#This Row],[datum]]-SUM(MOD(DATE(YEAR(TabUren22[[#This Row],[datum]]-MOD(TabUren22[[#This Row],[datum]]-2,7)+3),1,2),{1E+99;7})*{1;-1})+5) /7))","v":""},{"$f":"IF(TabUren22[[#This Row],[datum]]=\"\",\"\",TabUren22[[#This Row],[datum]])","v":""},null,null,{"$f":"IF(TabUren22[[#This Row],[datum]]=\"\",\"\",verzameldata!$C$4)","v":""},null,null,null,null,{"$f":"IF(TabUren22[[#This Row],[eindtijd]]=\"\",\"\",IF(TabUren22[[#This Row],[eindtijd]]<TabUren22[[#This Row],[begintijd]],(\"24:00\"-TabUren22[[#This Row],[begintijd]]+TabUren22[[#This Row],[eindtijd]])-TabUren22[[#This Row],[pauze]],(TabUren22[[#This Row],[eindtijd]]-TabUren22[[#This Row],[begintijd]])-TabUren22[[#This Row],[pauze]]))","v":""},{"$f":"IF(OR(TabUren22[hoofdcategorie]=\"\",TabUren22[hoofdcategorie]=0),\"anders dan hoofdcategorie\",TabUren22[hoofdcategorie])","v":"anders dan hoofdcategorie"}]
[{"$f":"IF(TabUren22[[#This Row],[datum]]=\"\",\"\",INT((TabUren22[[#This Row],[datum]]-SUM(MOD(DATE(YEAR(TabUren22[[#This Row],[datum]]-MOD(TabUren22[[#This Row],[datum]]-2,7)+3),1,2),{1E+99;7})*{1;-1})+5) /7))","v":""},{"$f":"IF(TabUren22[[#This Row],[datum]]=\"\",\"\",TabUren22[[#This Row],[datum]])","v":""},null,null,{"$f":"IF(TabUren22[[#This Row],[datum]]=\"\",\"\",verzameldata!$C$4)","v":""},null,null,null,null,{"$f":"IF(TabUren22[[#This Row],[eindtijd]]=\"\",\"\",IF(TabUren22[[#This Row],[eindtijd]]<TabUren22[[#This Row],[begintijd]],(\"24:00\"-TabUren22[[#This Row],[begintijd]]+TabUren22[[#This Row],[eindtijd]])-TabUren22[[#This Row],[pauze]],(TabUren22[[#This Row],[eindtijd]]-TabUren22[[#This Row],[begintijd]])-TabUren22[[#This Row],[pauze]]))","v":""},{"$f":"IF(OR(TabUren22[hoofdcategorie]=\"\",TabUren22[hoofdcategorie]=0),\"anders dan hoofdcategorie\",TabUren22[hoofdcategorie])","v":"anders dan hoofdcategorie"}]
[{"$f":"IF(TabUren22[[#This Row],[datum]]=\"\",\"\",INT((TabUren22[[#This Row],[datum]]-SUM(MOD(DATE(YEAR(TabUren22[[#This Row],[datum]]-MOD(TabUren22[[#This Row],[datum]]-2,7)+3),1,2),{1E+99;7})*{1;-1})+5) /7))","v":""},{"$f":"IF(TabUren22[[#This Row],[datum]]=\"\",\"\",TabUren22[[#This Row],[datum]])","v":""},null,null,{"$f":"IF(TabUren22[[#This Row],[datum]]=\"\",\"\",verzameldata!$C$4)","v":""},null,null,null,null,{"$f":"IF(TabUren22[[#This Row],[eindtijd]]=\"\",\"\",IF(TabUren22[[#This Row],[eindtijd]]<TabUren22[[#This Row],[begintijd]],(\"24:00\"-TabUren22[[#This Row],[begintijd]]+TabUren22[[#This Row],[eindtijd]])-TabUren22[[#This Row],[pauze]],(TabUren22[[#This Row],[eindtijd]]-TabUren22[[#This Row],[begintijd]])-TabUren22[[#This Row],[pauze]]))","v":""},{"$f":"IF(OR(TabUren22[hoofdcategorie]=\"\",TabUren22[hoofdcategorie]=0),\"anders dan hoofdcategorie\",TabUren22[hoofdcategorie])","v":"anders dan hoofdcategorie"}]
[{"$f":"IF(TabUren22[[#This Row],[datum]]=\"\",\"\",INT((TabUren22[[#This Row],[datum]]-SUM(MOD(DATE(YEAR(TabUren22[[#This Row],[datum]]-MOD(TabUren22[[#This Row],[datum]]-2,7)+3),1,2),{1E+99;7})*{1;-1})+5) /7))","v":""},{"$f":"IF(TabUren22[[#This Row],[datum]]=\"\",\"\",TabUren22[[#This Row],[datum]])","v":""},null,null,{"$f":"IF(TabUren22[[#This Row],[datum]]=\"\",\"\",verzameldata!$C$4)","v":""},null,null,null,null,{"$f":"IF(TabUren22[[#This Row],[eindtijd]]=\"\",\"\",IF(TabUren22[[#This Row],[eindtijd]]<TabUren22[[#This Row],[begintijd]],(\"24:00\"-TabUren22[[#This Row],[begintijd]]+TabUren22[[#This Row],[eindtijd]])-TabUren22[[#This Row],[pauze]],(TabUren22[[#This Row],[eindtijd]]-TabUren22[[#This Row],[begintijd]])-TabUren22[[#This Row],[pauze]]))","v":""},{"$f":"IF(OR(TabUren22[hoofdcategorie]=\"\",TabUren22[hoofdcategorie]=0),\"anders dan hoofdcategorie\",TabUren22[hoofdcategorie])","v":"anders dan hoofdcategorie"}]
[{"$f":"IF(TabUren22[[#This Row],[datum]]=\"\",\"\",INT((TabUren22[[#This Row],[datum]]-SUM(MOD(DATE(YEAR(TabUren22[[#This Row],[datum]]-MOD(TabUren22[[#This Row],[datum]]-2,7)+3),1,2),{1E+99;7})*{1;-1})+5) /7))","v":""},{"$f":"IF(TabUren22[[#This Row],[datum]]=\"\",\"\",TabUren22[[#This Row],[datum]])","v":""},null,null,{"$f":"IF(TabUren22[[#This Row],[datum]]=\"\",\"\",verzameldata!$C$4)","v":""},null,null,null,null,{"$f":"IF(TabUren22[[#This Row],[eindtijd]]=\"\",\"\",IF(TabUren22[[#This Row],[eindtijd]]<TabUren22[[#This Row],[begintijd]],(\"24:00\"-TabUren22[[#This Row],[begintijd]]+TabUren22[[#This Row],[eindtijd]])-TabUren22[[#This Row],[pauze]],(TabUren22[[#This Row],[eindtijd]]-TabUren22[[#This Row],[begintijd]])-TabUren22[[#This Row],[pauze]]))","v":""},{"$f":"IF(OR(TabUren22[hoofdcategorie]=\"\",TabUren22[hoofdcategorie]=0),\"anders dan hoofdcategorie\",TabUren22[hoofdcategorie])","v":"anders dan hoofdcategorie"}]
[{"$f":"IF(TabUren22[[#This Row],[datum]]=\"\",\"\",INT((TabUren22[[#This Row],[datum]]-SUM(MOD(DATE(YEAR(TabUren22[[#This Row],[datum]]-MOD(TabUren22[[#This Row],[datum]]-2,7)+3),1,2),{1E+99;7})*{1;-1})+5) /7))","v":""},{"$f":"IF(TabUren22[[#This Row],[datum]]=\"\",\"\",TabUren22[[#This Row],[datum]])","v":""},null,null,{"$f":"IF(TabUren22[[#This Row],[datum]]=\"\",\"\",verzameldata!$C$4)","v":""},null,null,null,null,{"$f":"IF(TabUren22[[#This Row],[eindtijd]]=\"\",\"\",IF(TabUren22[[#This Row],[eindtijd]]<TabUren22[[#This Row],[begintijd]],(\"24:00\"-TabUren22[[#This Row],[begintijd]]+TabUren22[[#This Row],[eindtijd]])-TabUren22[[#This Row],[pauze]],(TabUren22[[#This Row],[eindtijd]]-TabUren22[[#This Row],[begintijd]])-TabUren22[[#This Row],[pauze]]))","v":""},{"$f":"IF(OR(TabUren22[hoofdcategorie]=\"\",TabUren22[hoofdcategorie]=0),\"anders dan hoofdcategorie\",TabUren22[hoofdcategorie])","v":"anders dan hoofdcategorie"}]
[{"$f":"IF(TabUren22[[#This Row],[datum]]=\"\",\"\",INT((TabUren22[[#This Row],[datum]]-SUM(MOD(DATE(YEAR(TabUren22[[#This Row],[datum]]-MOD(TabUren22[[#This Row],[datum]]-2,7)+3),1,2),{1E+99;7})*{1;-1})+5) /7))","v":""},{"$f":"IF(TabUren22[[#This Row],[datum]]=\"\",\"\",TabUren22[[#This Row],[datum]])","v":""},null,null,{"$f":"IF(TabUren22[[#This Row],[datum]]=\"\",\"\",verzameldata!$C$4)","v":""},null,null,null,null,{"$f":"IF(TabUren22[[#This Row],[eindtijd]]=\"\",\"\",IF(TabUren22[[#This Row],[eindtijd]]<TabUren22[[#This Row],[begintijd]],(\"24:00\"-TabUren22[[#This Row],[begintijd]]+TabUren22[[#This Row],[eindtijd]])-TabUren22[[#This Row],[pauze]],(TabUren22[[#This Row],[eindtijd]]-TabUren22[[#This Row],[begintijd]])-TabUren22[[#This Row],[pauze]]))","v":""},{"$f":"IF(OR(TabUren22[hoofdcategorie]=\"\",TabUren22[hoofdcategorie]=0),\"anders dan hoofdcategorie\",TabUren22[hoofdcategorie])","v":"anders dan hoofdcategorie"}]
[{"$f":"IF(TabUren22[[#This Row],[datum]]=\"\",\"\",INT((TabUren22[[#This Row],[datum]]-SUM(MOD(DATE(YEAR(TabUren22[[#This Row],[datum]]-MOD(TabUren22[[#This Row],[datum]]-2,7)+3),1,2),{1E+99;7})*{1;-1})+5) /7))","v":""},{"$f":"IF(TabUren22[[#This Row],[datum]]=\"\",\"\",TabUren22[[#This Row],[datum]])","v":""},null,null,{"$f":"IF(TabUren22[[#This Row],[datum]]=\"\",\"\",verzameldata!$C$4)","v":""},null,null,null,null,{"$f":"IF(TabUren22[[#This Row],[eindtijd]]=\"\",\"\",IF(TabUren22[[#This Row],[eindtijd]]<TabUren22[[#This Row],[begintijd]],(\"24:00\"-TabUren22[[#This Row],[begintijd]]+TabUren22[[#This Row],[eindtijd]])-TabUren22[[#This Row],[pauze]],(TabUren22[[#This Row],[eindtijd]]-TabUren22[[#This Row],[begintijd]])-TabUren22[[#This Row],[pauze]]))","v":""},{"$f":"IF(OR(TabUren22[hoofdcategorie]=\"\",TabUren22[hoofdcategorie]=0),\"anders dan hoofdcategorie\",TabUren22[hoofdcategorie])","v":"anders dan hoofdcategorie"}]
[{"$f":"IF(TabUren22[[#This Row],[datum]]=\"\",\"\",INT((TabUren22[[#This Row],[datum]]-SUM(MOD(DATE(YEAR(TabUren22[[#This Row],[datum]]-MOD(TabUren22[[#This Row],[datum]]-2,7)+3),1,2),{1E+99;7})*{1;-1})+5) /7))","v":""},{"$f":"IF(TabUren22[[#This Row],[datum]]=\"\",\"\",TabUren22[[#This Row],[datum]])","v":""},null,null,{"$f":"IF(TabUren22[[#This Row],[datum]]=\"\",\"\",verzameldata!$C$4)","v":""},null,null,null,null,{"$f":"IF(TabUren22[[#This Row],[eindtijd]]=\"\",\"\",IF(TabUren22[[#This Row],[eindtijd]]<TabUren22[[#This Row],[begintijd]],(\"24:00\"-TabUren22[[#This Row],[begintijd]]+TabUren22[[#This Row],[eindtijd]])-TabUren22[[#This Row],[pauze]],(TabUren22[[#This Row],[eindtijd]]-TabUren22[[#This Row],[begintijd]])-TabUren22[[#This Row],[pauze]]))","v":""},{"$f":"IF(OR(TabUren22[hoofdcategorie]=\"\",TabUren22[hoofdcategorie]=0),\"anders dan hoofdcategorie\",TabUren22[hoofdcategorie])","v":"anders dan hoofdcategorie"}]
[{"$f":"IF(TabUren22[[#This Row],[datum]]=\"\",\"\",INT((TabUren22[[#This Row],[datum]]-SUM(MOD(DATE(YEAR(TabUren22[[#This Row],[datum]]-MOD(TabUren22[[#This Row],[datum]]-2,7)+3),1,2),{1E+99;7})*{1;-1})+5) /7))","v":""},{"$f":"IF(TabUren22[[#This Row],[datum]]=\"\",\"\",TabUren22[[#This Row],[datum]])","v":""},null,null,{"$f":"IF(TabUren22[[#This Row],[datum]]=\"\",\"\",verzameldata!$C$4)","v":""},null,null,null,null,{"$f":"IF(TabUren22[[#This Row],[eindtijd]]=\"\",\"\",IF(TabUren22[[#This Row],[eindtijd]]<TabUren22[[#This Row],[begintijd]],(\"24:00\"-TabUren22[[#This Row],[begintijd]]+TabUren22[[#This Row],[eindtijd]])-TabUren22[[#This Row],[pauze]],(TabUren22[[#This Row],[eindtijd]]-TabUren22[[#This Row],[begintijd]])-TabUren22[[#This Row],[pauze]]))","v":""},{"$f":"IF(OR(TabUren22[hoofdcategorie]=\"\",TabUren22[hoofdcategorie]=0),\"anders dan hoofdcategorie\",TabUren22[hoofdcategorie])","v":"anders dan hoofdcategorie"}]
[{"$f":"IF(TabUren22[[#This Row],[datum]]=\"\",\"\",INT((TabUren22[[#This Row],[datum]]-SUM(MOD(DATE(YEAR(TabUren22[[#This Row],[datum]]-MOD(TabUren22[[#This Row],[datum]]-2,7)+3),1,2),{1E+99;7})*{1;-1})+5) /7))","v":""},{"$f":"IF(TabUren22[[#This Row],[datum]]=\"\",\"\",TabUren22[[#This Row],[datum]])","v":""},null,null,{"$f":"IF(TabUren22[[#This Row],[datum]]=\"\",\"\",verzameldata!$C$4)","v":""},null,null,null,null,{"$f":"IF(TabUren22[[#This Row],[eindtijd]]=\"\",\"\",IF(TabUren22[[#This Row],[eindtijd]]<TabUren22[[#This Row],[begintijd]],(\"24:00\"-TabUren22[[#This Row],[begintijd]]+TabUren22[[#This Row],[eindtijd]])-TabUren22[[#This Row],[pauze]],(TabUren22[[#This Row],[eindtijd]]-TabUren22[[#This Row],[begintijd]])-TabUren22[[#This Row],[pauze]]))","v":""},{"$f":"IF(OR(TabUren22[hoofdcategorie]=\"\",TabUren22[hoofdcategorie]=0),\"anders dan hoofdcategorie\",TabUren22[hoofdcategorie])","v":"anders dan hoofdcategorie"}]
[{"$f":"IF(TabUren22[[#This Row],[datum]]=\"\",\"\",INT((TabUren22[[#This Row],[datum]]-SUM(MOD(DATE(YEAR(TabUren22[[#This Row],[datum]]-MOD(TabUren22[[#This Row],[datum]]-2,7)+3),1,2),{1E+99;7})*{1;-1})+5) /7))","v":""},{"$f":"IF(TabUren22[[#This Row],[datum]]=\"\",\"\",TabUren22[[#This Row],[datum]])","v":""},null,null,{"$f":"IF(TabUren22[[#This Row],[datum]]=\"\",\"\",verzameldata!$C$4)","v":""},null,null,null,null,{"$f":"IF(TabUren22[[#This Row],[eindtijd]]=\"\",\"\",IF(TabUren22[[#This Row],[eindtijd]]<TabUren22[[#This Row],[begintijd]],(\"24:00\"-TabUren22[[#This Row],[begintijd]]+TabUren22[[#This Row],[eindtijd]])-TabUren22[[#This Row],[pauze]],(TabUren22[[#This Row],[eindtijd]]-TabUren22[[#This Row],[begintijd]])-TabUren22[[#This Row],[pauze]]))","v":""},{"$f":"IF(OR(TabUren22[hoofdcategorie]=\"\",TabUren22[hoofdcategorie]=0),\"anders dan hoofdcategorie\",TabUren22[hoofdcategorie])","v":"anders dan hoofdcategorie"}]
[{"$f":"IF(TabUren22[[#This Row],[datum]]=\"\",\"\",INT((TabUren22[[#This Row],[datum]]-SUM(MOD(DATE(YEAR(TabUren22[[#This Row],[datum]]-MOD(TabUren22[[#This Row],[datum]]-2,7)+3),1,2),{1E+99;7})*{1;-1})+5) /7))","v":""},{"$f":"IF(TabUren22[[#This Row],[datum]]=\"\",\"\",TabUren22[[#This Row],[datum]])","v":""},null,null,{"$f":"IF(TabUren22[[#This Row],[datum]]=\"\",\"\",verzameldata!$C$4)","v":""},null,null,null,null,{"$f":"IF(TabUren22[[#This Row],[eindtijd]]=\"\",\"\",IF(TabUren22[[#This Row],[eindtijd]]<TabUren22[[#This Row],[begintijd]],(\"24:00\"-TabUren22[[#This Row],[begintijd]]+TabUren22[[#This Row],[eindtijd]])-TabUren22[[#This Row],[pauze]],(TabUren22[[#This Row],[eindtijd]]-TabUren22[[#This Row],[begintijd]])-TabUren22[[#This Row],[pauze]]))","v":""},{"$f":"IF(OR(TabUren22[hoofdcategorie]=\"\",TabUren22[hoofdcategorie]=0),\"anders dan hoofdcategorie\",TabUren22[hoofdcategorie])","v":"anders dan hoofdcategorie"}]
[{"$f":"IF(TabUren22[[#This Row],[datum]]=\"\",\"\",INT((TabUren22[[#This Row],[datum]]-SUM(MOD(DATE(YEAR(TabUren22[[#This Row],[datum]]-MOD(TabUren22[[#This Row],[datum]]-2,7)+3),1,2),{1E+99;7})*{1;-1})+5) /7))","v":""},{"$f":"IF(TabUren22[[#This Row],[datum]]=\"\",\"\",TabUren22[[#This Row],[datum]])","v":""},null,null,{"$f":"IF(TabUren22[[#This Row],[datum]]=\"\",\"\",verzameldata!$C$4)","v":""},null,null,null,null,{"$f":"IF(TabUren22[[#This Row],[eindtijd]]=\"\",\"\",IF(TabUren22[[#This Row],[eindtijd]]<TabUren22[[#This Row],[begintijd]],(\"24:00\"-TabUren22[[#This Row],[begintijd]]+TabUren22[[#This Row],[eindtijd]])-TabUren22[[#This Row],[pauze]],(TabUren22[[#This Row],[eindtijd]]-TabUren22[[#This Row],[begintijd]])-TabUren22[[#This Row],[pauze]]))","v":""},{"$f":"IF(OR(TabUren22[hoofdcategorie]=\"\",TabUren22[hoofdcategorie]=0),\"anders dan hoofdcategorie\",TabUren22[hoofdcategorie])","v":"anders dan hoofdcategorie"}]
[{"$f":"IF(TabUren22[[#This Row],[datum]]=\"\",\"\",INT((TabUren22[[#This Row],[datum]]-SUM(MOD(DATE(YEAR(TabUren22[[#This Row],[datum]]-MOD(TabUren22[[#This Row],[datum]]-2,7)+3),1,2),{1E+99;7})*{1;-1})+5) /7))","v":""},{"$f":"IF(TabUren22[[#This Row],[datum]]=\"\",\"\",TabUren22[[#This Row],[datum]])","v":""},null,null,{"$f":"IF(TabUren22[[#This Row],[datum]]=\"\",\"\",verzameldata!$C$4)","v":""},null,null,null,null,{"$f":"IF(TabUren22[[#This Row],[eindtijd]]=\"\",\"\",IF(TabUren22[[#This Row],[eindtijd]]<TabUren22[[#This Row],[begintijd]],(\"24:00\"-TabUren22[[#This Row],[begintijd]]+TabUren22[[#This Row],[eindtijd]])-TabUren22[[#This Row],[pauze]],(TabUren22[[#This Row],[eindtijd]]-TabUren22[[#This Row],[begintijd]])-TabUren22[[#This Row],[pauze]]))","v":""},{"$f":"IF(OR(TabUren22[hoofdcategorie]=\"\",TabUren22[hoofdcategorie]=0),\"anders dan hoofdcategorie\",TabUren22[hoofdcategorie])","v":"anders dan hoofdcategorie"}]
[{"$f":"IF(TabUren22[[#This Row],[datum]]=\"\",\"\",INT((TabUren22[[#This Row],[datum]]-SUM(MOD(DATE(YEAR(TabUren22[[#This Row],[datum]]-MOD(TabUren22[[#This Row],[datum]]-2,7)+3),1,2),{1E+99;7})*{1;-1})+5) /7))","v":""},{"$f":"IF(TabUren22[[#This Row],[datum]]=\"\",\"\",TabUren22[[#This Row],[datum]])","v":""},null,null,{"$f":"IF(TabUren22[[#This Row],[datum]]=\"\",\"\",verzameldata!$C$4)","v":""},null,null,null,null,{"$f":"IF(TabUren22[[#This Row],[eindtijd]]=\"\",\"\",IF(TabUren22[[#This Row],[eindtijd]]<TabUren22[[#This Row],[begintijd]],(\"24:00\"-TabUren22[[#This Row],[begintijd]]+TabUren22[[#This Row],[eindtijd]])-TabUren22[[#This Row],[pauze]],(TabUren22[[#This Row],[eindtijd]]-TabUren22[[#This Row],[begintijd]])-TabUren22[[#This Row],[pauze]]))","v":""},{"$f":"IF(OR(TabUren22[hoofdcategorie]=\"\",TabUren22[hoofdcategorie]=0),\"anders dan hoofdcategorie\",TabUren22[hoofdcategorie])","v":"anders dan hoofdcategorie"}]
[{"$f":"IF(TabUren22[[#This Row],[datum]]=\"\",\"\",INT((TabUren22[[#This Row],[datum]]-SUM(MOD(DATE(YEAR(TabUren22[[#This Row],[datum]]-MOD(TabUren22[[#This Row],[datum]]-2,7)+3),1,2),{1E+99;7})*{1;-1})+5) /7))","v":""},{"$f":"IF(TabUren22[[#This Row],[datum]]=\"\",\"\",TabUren22[[#This Row],[datum]])","v":""},null,null,{"$f":"IF(TabUren22[[#This Row],[datum]]=\"\",\"\",verzameldata!$C$4)","v":""},null,null,null,null,{"$f":"IF(TabUren22[[#This Row],[eindtijd]]=\"\",\"\",IF(TabUren22[[#This Row],[eindtijd]]<TabUren22[[#This Row],[begintijd]],(\"24:00\"-TabUren22[[#This Row],[begintijd]]+TabUren22[[#This Row],[eindtijd]])-TabUren22[[#This Row],[pauze]],(TabUren22[[#This Row],[eindtijd]]-TabUren22[[#This Row],[begintijd]])-TabUren22[[#This Row],[pauze]]))","v":""},{"$f":"IF(OR(TabUren22[hoofdcategorie]=\"\",TabUren22[hoofdcategorie]=0),\"anders dan hoofdcategorie\",TabUren22[hoofdcategorie])","v":"anders dan hoofdcategorie"}]
[{"$f":"IF(TabUren22[[#This Row],[datum]]=\"\",\"\",INT((TabUren22[[#This Row],[datum]]-SUM(MOD(DATE(YEAR(TabUren22[[#This Row],[datum]]-MOD(TabUren22[[#This Row],[datum]]-2,7)+3),1,2),{1E+99;7})*{1;-1})+5) /7))","v":""},{"$f":"IF(TabUren22[[#This Row],[datum]]=\"\",\"\",TabUren22[[#This Row],[datum]])","v":""},null,null,{"$f":"IF(TabUren22[[#This Row],[datum]]=\"\",\"\",verzameldata!$C$4)","v":""},null,null,null,null,{"$f":"IF(TabUren22[[#This Row],[eindtijd]]=\"\",\"\",IF(TabUren22[[#This Row],[eindtijd]]<TabUren22[[#This Row],[begintijd]],(\"24:00\"-TabUren22[[#This Row],[begintijd]]+TabUren22[[#This Row],[eindtijd]])-TabUren22[[#This Row],[pauze]],(TabUren22[[#This Row],[eindtijd]]-TabUren22[[#This Row],[begintijd]])-TabUren22[[#This Row],[pauze]]))","v":""},{"$f":"IF(OR(TabUren22[hoofdcategorie]=\"\",TabUren22[hoofdcategorie]=0),\"anders dan hoofdcategorie\",TabUren22[hoofdcategorie])","v":"anders dan hoofdcategorie"}]
[{"$f":"IF(TabUren22[[#This Row],[datum]]=\"\",\"\",INT((TabUren22[[#This Row],[datum]]-SUM(MOD(DATE(YEAR(TabUren22[[#This Row],[datum]]-MOD(TabUren22[[#This Row],[datum]]-2,7)+3),1,2),{1E+99;7})*{1;-1})+5) /7))","v":""},{"$f":"IF(TabUren22[[#This Row],[datum]]=\"\",\"\",TabUren22[[#This Row],[datum]])","v":""},null,null,{"$f":"IF(TabUren22[[#This Row],[datum]]=\"\",\"\",verzameldata!$C$4)","v":""},null,null,null,null,{"$f":"IF(TabUren22[[#This Row],[eindtijd]]=\"\",\"\",IF(TabUren22[[#This Row],[eindtijd]]<TabUren22[[#This Row],[begintijd]],(\"24:00\"-TabUren22[[#This Row],[begintijd]]+TabUren22[[#This Row],[eindtijd]])-TabUren22[[#This Row],[pauze]],(TabUren22[[#This Row],[eindtijd]]-TabUren22[[#This Row],[begintijd]])-TabUren22[[#This Row],[pauze]]))","v":""},{"$f":"IF(OR(TabUren22[hoofdcategorie]=\"\",TabUren22[hoofdcategorie]=0),\"anders dan hoofdcategorie\",TabUren22[hoofdcategorie])","v":"anders dan hoofdcategorie"}]
[{"$f":"IF(TabUren22[[#This Row],[datum]]=\"\",\"\",INT((TabUren22[[#This Row],[datum]]-SUM(MOD(DATE(YEAR(TabUren22[[#This Row],[datum]]-MOD(TabUren22[[#This Row],[datum]]-2,7)+3),1,2),{1E+99;7})*{1;-1})+5) /7))","v":""},{"$f":"IF(TabUren22[[#This Row],[datum]]=\"\",\"\",TabUren22[[#This Row],[datum]])","v":""},null,null,{"$f":"IF(TabUren22[[#This Row],[datum]]=\"\",\"\",verzameldata!$C$4)","v":""},null,null,null,null,{"$f":"IF(TabUren22[[#This Row],[eindtijd]]=\"\",\"\",IF(TabUren22[[#This Row],[eindtijd]]<TabUren22[[#This Row],[begintijd]],(\"24:00\"-TabUren22[[#This Row],[begintijd]]+TabUren22[[#This Row],[eindtijd]])-TabUren22[[#This Row],[pauze]],(TabUren22[[#This Row],[eindtijd]]-TabUren22[[#This Row],[begintijd]])-TabUren22[[#This Row],[pauze]]))","v":""},{"$f":"IF(OR(TabUren22[hoofdcategorie]=\"\",TabUren22[hoofdcategorie]=0),\"anders dan hoofdcategorie\",TabUren22[hoofdcategorie])","v":"anders dan hoofdcategorie"}]
[{"$f":"IF(TabUren22[[#This Row],[datum]]=\"\",\"\",INT((TabUren22[[#This Row],[datum]]-SUM(MOD(DATE(YEAR(TabUren22[[#This Row],[datum]]-MOD(TabUren22[[#This Row],[datum]]-2,7)+3),1,2),{1E+99;7})*{1;-1})+5) /7))","v":""},{"$f":"IF(TabUren22[[#This Row],[datum]]=\"\",\"\",TabUren22[[#This Row],[datum]])","v":""},null,null,{"$f":"IF(TabUren22[[#This Row],[datum]]=\"\",\"\",verzameldata!$C$4)","v":""},null,null,null,null,{"$f":"IF(TabUren22[[#This Row],[eindtijd]]=\"\",\"\",IF(TabUren22[[#This Row],[eindtijd]]<TabUren22[[#This Row],[begintijd]],(\"24:00\"-TabUren22[[#This Row],[begintijd]]+TabUren22[[#This Row],[eindtijd]])-TabUren22[[#This Row],[pauze]],(TabUren22[[#This Row],[eindtijd]]-TabUren22[[#This Row],[begintijd]])-TabUren22[[#This Row],[pauze]]))","v":""},{"$f":"IF(OR(TabUren22[hoofdcategorie]=\"\",TabUren22[hoofdcategorie]=0),\"anders dan hoofdcategorie\",TabUren22[hoofdcategorie])","v":"anders dan hoofdcategorie"}]
[{"$f":"IF(TabUren22[[#This Row],[datum]]=\"\",\"\",INT((TabUren22[[#This Row],[datum]]-SUM(MOD(DATE(YEAR(TabUren22[[#This Row],[datum]]-MOD(TabUren22[[#This Row],[datum]]-2,7)+3),1,2),{1E+99;7})*{1;-1})+5) /7))","v":""},{"$f":"IF(TabUren22[[#This Row],[datum]]=\"\",\"\",TabUren22[[#This Row],[datum]])","v":""},null,null,{"$f":"IF(TabUren22[[#This Row],[datum]]=\"\",\"\",verzameldata!$C$4)","v":""},null,null,null,null,{"$f":"IF(TabUren22[[#This Row],[eindtijd]]=\"\",\"\",IF(TabUren22[[#This Row],[eindtijd]]<TabUren22[[#This Row],[begintijd]],(\"24:00\"-TabUren22[[#This Row],[begintijd]]+TabUren22[[#This Row],[eindtijd]])-TabUren22[[#This Row],[pauze]],(TabUren22[[#This Row],[eindtijd]]-TabUren22[[#This Row],[begintijd]])-TabUren22[[#This Row],[pauze]]))","v":""},{"$f":"IF(OR(TabUren22[hoofdcategorie]=\"\",TabUren22[hoofdcategorie]=0),\"anders dan hoofdcategorie\",TabUren22[hoofdcategorie])","v":"anders dan hoofdcategorie"}]
[{"$f":"IF(TabUren22[[#This Row],[datum]]=\"\",\"\",INT((TabUren22[[#This Row],[datum]]-SUM(MOD(DATE(YEAR(TabUren22[[#This Row],[datum]]-MOD(TabUren22[[#This Row],[datum]]-2,7)+3),1,2),{1E+99;7})*{1;-1})+5) /7))","v":""},{"$f":"IF(TabUren22[[#This Row],[datum]]=\"\",\"\",TabUren22[[#This Row],[datum]])","v":""},null,null,{"$f":"IF(TabUren22[[#This Row],[datum]]=\"\",\"\",verzameldata!$C$4)","v":""},null,null,null,null,{"$f":"IF(TabUren22[[#This Row],[eindtijd]]=\"\",\"\",IF(TabUren22[[#This Row],[eindtijd]]<TabUren22[[#This Row],[begintijd]],(\"24:00\"-TabUren22[[#This Row],[begintijd]]+TabUren22[[#This Row],[eindtijd]])-TabUren22[[#This Row],[pauze]],(TabUren22[[#This Row],[eindtijd]]-TabUren22[[#This Row],[begintijd]])-TabUren22[[#This Row],[pauze]]))","v":""},{"$f":"IF(OR(TabUren22[hoofdcategorie]=\"\",TabUren22[hoofdcategorie]=0),\"anders dan hoofdcategorie\",TabUren22[hoofdcategorie])","v":"anders dan hoofdcategorie"}]
[{"$f":"IF(TabUren22[[#This Row],[datum]]=\"\",\"\",INT((TabUren22[[#This Row],[datum]]-SUM(MOD(DATE(YEAR(TabUren22[[#This Row],[datum]]-MOD(TabUren22[[#This Row],[datum]]-2,7)+3),1,2),{1E+99;7})*{1;-1})+5) /7))","v":""},{"$f":"IF(TabUren22[[#This Row],[datum]]=\"\",\"\",TabUren22[[#This Row],[datum]])","v":""},null,null,{"$f":"IF(TabUren22[[#This Row],[datum]]=\"\",\"\",verzameldata!$C$4)","v":""},null,null,null,null,{"$f":"IF(TabUren22[[#This Row],[eindtijd]]=\"\",\"\",IF(TabUren22[[#This Row],[eindtijd]]<TabUren22[[#This Row],[begintijd]],(\"24:00\"-TabUren22[[#This Row],[begintijd]]+TabUren22[[#This Row],[eindtijd]])-TabUren22[[#This Row],[pauze]],(TabUren22[[#This Row],[eindtijd]]-TabUren22[[#This Row],[begintijd]])-TabUren22[[#This Row],[pauze]]))","v":""},{"$f":"IF(OR(TabUren22[hoofdcategorie]=\"\",TabUren22[hoofdcategorie]=0),\"anders dan hoofdcategorie\",TabUren22[hoofdcategorie])","v":"anders dan hoofdcategorie"}]
[{"$f":"IF(TabUren22[[#This Row],[datum]]=\"\",\"\",INT((TabUren22[[#This Row],[datum]]-SUM(MOD(DATE(YEAR(TabUren22[[#This Row],[datum]]-MOD(TabUren22[[#This Row],[datum]]-2,7)+3),1,2),{1E+99;7})*{1;-1})+5) /7))","v":""},{"$f":"IF(TabUren22[[#This Row],[datum]]=\"\",\"\",TabUren22[[#This Row],[datum]])","v":""},null,null,{"$f":"IF(TabUren22[[#This Row],[datum]]=\"\",\"\",verzameldata!$C$4)","v":""},null,null,null,null,{"$f":"IF(TabUren22[[#This Row],[eindtijd]]=\"\",\"\",IF(TabUren22[[#This Row],[eindtijd]]<TabUren22[[#This Row],[begintijd]],(\"24:00\"-TabUren22[[#This Row],[begintijd]]+TabUren22[[#This Row],[eindtijd]])-TabUren22[[#This Row],[pauze]],(TabUren22[[#This Row],[eindtijd]]-TabUren22[[#This Row],[begintijd]])-TabUren22[[#This Row],[pauze]]))","v":""},{"$f":"IF(OR(TabUren22[hoofdcategorie]=\"\",TabUren22[hoofdcategorie]=0),\"anders dan hoofdcategorie\",TabUren22[hoofdcategorie])","v":"anders dan hoofdcategorie"}]
[{"$f":"IF(TabUren22[[#This Row],[datum]]=\"\",\"\",INT((TabUren22[[#This Row],[datum]]-SUM(MOD(DATE(YEAR(TabUren22[[#This Row],[datum]]-MOD(TabUren22[[#This Row],[datum]]-2,7)+3),1,2),{1E+99;7})*{1;-1})+5) /7))","v":""},{"$f":"IF(TabUren22[[#This Row],[datum]]=\"\",\"\",TabUren22[[#This Row],[datum]])","v":""},null,null,{"$f":"IF(TabUren22[[#This Row],[datum]]=\"\",\"\",verzameldata!$C$4)","v":""},null,null,null,null,{"$f":"IF(TabUren22[[#This Row],[eindtijd]]=\"\",\"\",IF(TabUren22[[#This Row],[eindtijd]]<TabUren22[[#This Row],[begintijd]],(\"24:00\"-TabUren22[[#This Row],[begintijd]]+TabUren22[[#This Row],[eindtijd]])-TabUren22[[#This Row],[pauze]],(TabUren22[[#This Row],[eindtijd]]-TabUren22[[#This Row],[begintijd]])-TabUren22[[#This Row],[pauze]]))","v":""},{"$f":"IF(OR(TabUren22[hoofdcategorie]=\"\",TabUren22[hoofdcategorie]=0),\"anders dan hoofdcategorie\",TabUren22[hoofdcategorie])","v":"anders dan hoofdcategorie"}]
[{"$f":"IF(TabUren22[[#This Row],[datum]]=\"\",\"\",INT((TabUren22[[#This Row],[datum]]-SUM(MOD(DATE(YEAR(TabUren22[[#This Row],[datum]]-MOD(TabUren22[[#This Row],[datum]]-2,7)+3),1,2),{1E+99;7})*{1;-1})+5) /7))","v":""},{"$f":"IF(TabUren22[[#This Row],[datum]]=\"\",\"\",TabUren22[[#This Row],[datum]])","v":""},null,null,{"$f":"IF(TabUren22[[#This Row],[datum]]=\"\",\"\",verzameldata!$C$4)","v":""},null,null,null,null,{"$f":"IF(TabUren22[[#This Row],[eindtijd]]=\"\",\"\",IF(TabUren22[[#This Row],[eindtijd]]<TabUren22[[#This Row],[begintijd]],(\"24:00\"-TabUren22[[#This Row],[begintijd]]+TabUren22[[#This Row],[eindtijd]])-TabUren22[[#This Row],[pauze]],(TabUren22[[#This Row],[eindtijd]]-TabUren22[[#This Row],[begintijd]])-TabUren22[[#This Row],[pauze]]))","v":""},{"$f":"IF(OR(TabUren22[hoofdcategorie]=\"\",TabUren22[hoofdcategorie]=0),\"anders dan hoofdcategorie\",TabUren22[hoofdcategorie])","v":"anders dan hoofdcategorie"}]
[{"$f":"IF(TabUren22[[#This Row],[datum]]=\"\",\"\",INT((TabUren22[[#This Row],[datum]]-SUM(MOD(DATE(YEAR(TabUren22[[#This Row],[datum]]-MOD(TabUren22[[#This Row],[datum]]-2,7)+3),1,2),{1E+99;7})*{1;-1})+5) /7))","v":""},{"$f":"IF(TabUren22[[#This Row],[datum]]=\"\",\"\",TabUren22[[#This Row],[datum]])","v":""},null,null,{"$f":"IF(TabUren22[[#This Row],[datum]]=\"\",\"\",verzameldata!$C$4)","v":""},null,null,null,null,{"$f":"IF(TabUren22[[#This Row],[eindtijd]]=\"\",\"\",IF(TabUren22[[#This Row],[eindtijd]]<TabUren22[[#This Row],[begintijd]],(\"24:00\"-TabUren22[[#This Row],[begintijd]]+TabUren22[[#This Row],[eindtijd]])-TabUren22[[#This Row],[pauze]],(TabUren22[[#This Row],[eindtijd]]-TabUren22[[#This Row],[begintijd]])-TabUren22[[#This Row],[pauze]]))","v":""},{"$f":"IF(OR(TabUren22[hoofdcategorie]=\"\",TabUren22[hoofdcategorie]=0),\"anders dan hoofdcategorie\",TabUren22[hoofdcategorie])","v":"anders dan hoofdcategorie"}]
[{"$f":"IF(TabUren22[[#This Row],[datum]]=\"\",\"\",INT((TabUren22[[#This Row],[datum]]-SUM(MOD(DATE(YEAR(TabUren22[[#This Row],[datum]]-MOD(TabUren22[[#This Row],[datum]]-2,7)+3),1,2),{1E+99;7})*{1;-1})+5) /7))","v":""},{"$f":"IF(TabUren22[[#This Row],[datum]]=\"\",\"\",TabUren22[[#This Row],[datum]])","v":""},null,null,{"$f":"IF(TabUren22[[#This Row],[datum]]=\"\",\"\",verzameldata!$C$4)","v":""},null,null,null,null,{"$f":"IF(TabUren22[[#This Row],[eindtijd]]=\"\",\"\",IF(TabUren22[[#This Row],[eindtijd]]<TabUren22[[#This Row],[begintijd]],(\"24:00\"-TabUren22[[#This Row],[begintijd]]+TabUren22[[#This Row],[eindtijd]])-TabUren22[[#This Row],[pauze]],(TabUren22[[#This Row],[eindtijd]]-TabUren22[[#This Row],[begintijd]])-TabUren22[[#This Row],[pauze]]))","v":""},{"$f":"IF(OR(TabUren22[hoofdcategorie]=\"\",TabUren22[hoofdcategorie]=0),\"anders dan hoofdcategorie\",TabUren22[hoofdcategorie])","v":"anders dan hoofdcategorie"}]
[{"$f":"IF(TabUren22[[#This Row],[datum]]=\"\",\"\",INT((TabUren22[[#This Row],[datum]]-SUM(MOD(DATE(YEAR(TabUren22[[#This Row],[datum]]-MOD(TabUren22[[#This Row],[datum]]-2,7)+3),1,2),{1E+99;7})*{1;-1})+5) /7))","v":""},{"$f":"IF(TabUren22[[#This Row],[datum]]=\"\",\"\",TabUren22[[#This Row],[datum]])","v":""},null,null,{"$f":"IF(TabUren22[[#This Row],[datum]]=\"\",\"\",verzameldata!$C$4)","v":""},null,null,null,null,{"$f":"IF(TabUren22[[#This Row],[eindtijd]]=\"\",\"\",IF(TabUren22[[#This Row],[eindtijd]]<TabUren22[[#This Row],[begintijd]],(\"24:00\"-TabUren22[[#This Row],[begintijd]]+TabUren22[[#This Row],[eindtijd]])-TabUren22[[#This Row],[pauze]],(TabUren22[[#This Row],[eindtijd]]-TabUren22[[#This Row],[begintijd]])-TabUren22[[#This Row],[pauze]]))","v":""},{"$f":"IF(OR(TabUren22[hoofdcategorie]=\"\",TabUren22[hoofdcategorie]=0),\"anders dan hoofdcategorie\",TabUren22[hoofdcategorie])","v":"anders dan hoofdcategorie"}]
[{"$f":"IF(TabUren22[[#This Row],[datum]]=\"\",\"\",INT((TabUren22[[#This Row],[datum]]-SUM(MOD(DATE(YEAR(TabUren22[[#This Row],[datum]]-MOD(TabUren22[[#This Row],[datum]]-2,7)+3),1,2),{1E+99;7})*{1;-1})+5) /7))","v":""},{"$f":"IF(TabUren22[[#This Row],[datum]]=\"\",\"\",TabUren22[[#This Row],[datum]])","v":""},null,null,{"$f":"IF(TabUren22[[#This Row],[datum]]=\"\",\"\",verzameldata!$C$4)","v":""},null,null,null,null,{"$f":"IF(TabUren22[[#This Row],[eindtijd]]=\"\",\"\",IF(TabUren22[[#This Row],[eindtijd]]<TabUren22[[#This Row],[begintijd]],(\"24:00\"-TabUren22[[#This Row],[begintijd]]+TabUren22[[#This Row],[eindtijd]])-TabUren22[[#This Row],[pauze]],(TabUren22[[#This Row],[eindtijd]]-TabUren22[[#This Row],[begintijd]])-TabUren22[[#This Row],[pauze]]))","v":""},{"$f":"IF(OR(TabUren22[hoofdcategorie]=\"\",TabUren22[hoofdcategorie]=0),\"anders dan hoofdcategorie\",TabUren22[hoofdcategorie])","v":"anders dan hoofdcategorie"}]
[{"$f":"IF(TabUren22[[#This Row],[datum]]=\"\",\"\",INT((TabUren22[[#This Row],[datum]]-SUM(MOD(DATE(YEAR(TabUren22[[#This Row],[datum]]-MOD(TabUren22[[#This Row],[datum]]-2,7)+3),1,2),{1E+99;7})*{1;-1})+5) /7))","v":""},{"$f":"IF(TabUren22[[#This Row],[datum]]=\"\",\"\",TabUren22[[#This Row],[datum]])","v":""},null,null,{"$f":"IF(TabUren22[[#This Row],[datum]]=\"\",\"\",verzameldata!$C$4)","v":""},null,null,null,null,{"$f":"IF(TabUren22[[#This Row],[eindtijd]]=\"\",\"\",IF(TabUren22[[#This Row],[eindtijd]]<TabUren22[[#This Row],[begintijd]],(\"24:00\"-TabUren22[[#This Row],[begintijd]]+TabUren22[[#This Row],[eindtijd]])-TabUren22[[#This Row],[pauze]],(TabUren22[[#This Row],[eindtijd]]-TabUren22[[#This Row],[begintijd]])-TabUren22[[#This Row],[pauze]]))","v":""},{"$f":"IF(OR(TabUren22[hoofdcategorie]=\"\",TabUren22[hoofdcategorie]=0),\"anders dan hoofdcategorie\",TabUren22[hoofdcategorie])","v":"anders dan hoofdcategorie"}]
[{"$f":"IF(TabUren22[[#This Row],[datum]]=\"\",\"\",INT((TabUren22[[#This Row],[datum]]-SUM(MOD(DATE(YEAR(TabUren22[[#This Row],[datum]]-MOD(TabUren22[[#This Row],[datum]]-2,7)+3),1,2),{1E+99;7})*{1;-1})+5) /7))","v":""},{"$f":"IF(TabUren22[[#This Row],[datum]]=\"\",\"\",TabUren22[[#This Row],[datum]])","v":""},null,null,{"$f":"IF(TabUren22[[#This Row],[datum]]=\"\",\"\",verzameldata!$C$4)","v":""},null,null,null,null,{"$f":"IF(TabUren22[[#This Row],[eindtijd]]=\"\",\"\",IF(TabUren22[[#This Row],[eindtijd]]<TabUren22[[#This Row],[begintijd]],(\"24:00\"-TabUren22[[#This Row],[begintijd]]+TabUren22[[#This Row],[eindtijd]])-TabUren22[[#This Row],[pauze]],(TabUren22[[#This Row],[eindtijd]]-TabUren22[[#This Row],[begintijd]])-TabUren22[[#This Row],[pauze]]))","v":""},{"$f":"IF(OR(TabUren22[hoofdcategorie]=\"\",TabUren22[hoofdcategorie]=0),\"anders dan hoofdcategorie\",TabUren22[hoofdcategorie])","v":"anders dan hoofdcategorie"}]
[{"$f":"IF(TabUren22[[#This Row],[datum]]=\"\",\"\",INT((TabUren22[[#This Row],[datum]]-SUM(MOD(DATE(YEAR(TabUren22[[#This Row],[datum]]-MOD(TabUren22[[#This Row],[datum]]-2,7)+3),1,2),{1E+99;7})*{1;-1})+5) /7))","v":""},{"$f":"IF(TabUren22[[#This Row],[datum]]=\"\",\"\",TabUren22[[#This Row],[datum]])","v":""},null,null,{"$f":"IF(TabUren22[[#This Row],[datum]]=\"\",\"\",verzameldata!$C$4)","v":""},null,null,null,null,{"$f":"IF(TabUren22[[#This Row],[eindtijd]]=\"\",\"\",IF(TabUren22[[#This Row],[eindtijd]]<TabUren22[[#This Row],[begintijd]],(\"24:00\"-TabUren22[[#This Row],[begintijd]]+TabUren22[[#This Row],[eindtijd]])-TabUren22[[#This Row],[pauze]],(TabUren22[[#This Row],[eindtijd]]-TabUren22[[#This Row],[begintijd]])-TabUren22[[#This Row],[pauze]]))","v":""},{"$f":"IF(OR(TabUren22[hoofdcategorie]=\"\",TabUren22[hoofdcategorie]=0),\"anders dan hoofdcategorie\",TabUren22[hoofdcategorie])","v":"anders dan hoofdcategorie"}]
[{"$f":"IF(TabUren22[[#This Row],[datum]]=\"\",\"\",INT((TabUren22[[#This Row],[datum]]-SUM(MOD(DATE(YEAR(TabUren22[[#This Row],[datum]]-MOD(TabUren22[[#This Row],[datum]]-2,7)+3),1,2),{1E+99;7})*{1;-1})+5) /7))","v":""},{"$f":"IF(TabUren22[[#This Row],[datum]]=\"\",\"\",TabUren22[[#This Row],[datum]])","v":""},null,null,{"$f":"IF(TabUren22[[#This Row],[datum]]=\"\",\"\",verzameldata!$C$4)","v":""},null,null,null,null,{"$f":"IF(TabUren22[[#This Row],[eindtijd]]=\"\",\"\",IF(TabUren22[[#This Row],[eindtijd]]<TabUren22[[#This Row],[begintijd]],(\"24:00\"-TabUren22[[#This Row],[begintijd]]+TabUren22[[#This Row],[eindtijd]])-TabUren22[[#This Row],[pauze]],(TabUren22[[#This Row],[eindtijd]]-TabUren22[[#This Row],[begintijd]])-TabUren22[[#This Row],[pauze]]))","v":""},{"$f":"IF(OR(TabUren22[hoofdcategorie]=\"\",TabUren22[hoofdcategorie]=0),\"anders dan hoofdcategorie\",TabUren22[hoofdcategorie])","v":"anders dan hoofdcategorie"}]
[{"$f":"IF(TabUren22[[#This Row],[datum]]=\"\",\"\",INT((TabUren22[[#This Row],[datum]]-SUM(MOD(DATE(YEAR(TabUren22[[#This Row],[datum]]-MOD(TabUren22[[#This Row],[datum]]-2,7)+3),1,2),{1E+99;7})*{1;-1})+5) /7))","v":""},{"$f":"IF(TabUren22[[#This Row],[datum]]=\"\",\"\",TabUren22[[#This Row],[datum]])","v":""},null,null,{"$f":"IF(TabUren22[[#This Row],[datum]]=\"\",\"\",verzameldata!$C$4)","v":""},null,null,null,null,{"$f":"IF(TabUren22[[#This Row],[eindtijd]]=\"\",\"\",IF(TabUren22[[#This Row],[eindtijd]]<TabUren22[[#This Row],[begintijd]],(\"24:00\"-TabUren22[[#This Row],[begintijd]]+TabUren22[[#This Row],[eindtijd]])-TabUren22[[#This Row],[pauze]],(TabUren22[[#This Row],[eindtijd]]-TabUren22[[#This Row],[begintijd]])-TabUren22[[#This Row],[pauze]]))","v":""},{"$f":"IF(OR(TabUren22[hoofdcategorie]=\"\",TabUren22[hoofdcategorie]=0),\"anders dan hoofdcategorie\",TabUren22[hoofdcategorie])","v":"anders dan hoofdcategorie"}]
[{"$f":"IF(TabUren22[[#This Row],[datum]]=\"\",\"\",INT((TabUren22[[#This Row],[datum]]-SUM(MOD(DATE(YEAR(TabUren22[[#This Row],[datum]]-MOD(TabUren22[[#This Row],[datum]]-2,7)+3),1,2),{1E+99;7})*{1;-1})+5) /7))","v":""},{"$f":"IF(TabUren22[[#This Row],[datum]]=\"\",\"\",TabUren22[[#This Row],[datum]])","v":""},null,null,{"$f":"IF(TabUren22[[#This Row],[datum]]=\"\",\"\",verzameldata!$C$4)","v":""},null,null,null,null,{"$f":"IF(TabUren22[[#This Row],[eindtijd]]=\"\",\"\",IF(TabUren22[[#This Row],[eindtijd]]<TabUren22[[#This Row],[begintijd]],(\"24:00\"-TabUren22[[#This Row],[begintijd]]+TabUren22[[#This Row],[eindtijd]])-TabUren22[[#This Row],[pauze]],(TabUren22[[#This Row],[eindtijd]]-TabUren22[[#This Row],[begintijd]])-TabUren22[[#This Row],[pauze]]))","v":""},{"$f":"IF(OR(TabUren22[hoofdcategorie]=\"\",TabUren22[hoofdcategorie]=0),\"anders dan hoofdcategorie\",TabUren22[hoofdcategorie])","v":"anders dan hoofdcategorie"}]
[{"$f":"IF(TabUren22[[#This Row],[datum]]=\"\",\"\",INT((TabUren22[[#This Row],[datum]]-SUM(MOD(DATE(YEAR(TabUren22[[#This Row],[datum]]-MOD(TabUren22[[#This Row],[datum]]-2,7)+3),1,2),{1E+99;7})*{1;-1})+5) /7))","v":""},{"$f":"IF(TabUren22[[#This Row],[datum]]=\"\",\"\",TabUren22[[#This Row],[datum]])","v":""},null,null,{"$f":"IF(TabUren22[[#This Row],[datum]]=\"\",\"\",verzameldata!$C$4)","v":""},null,null,null,null,{"$f":"IF(TabUren22[[#This Row],[eindtijd]]=\"\",\"\",IF(TabUren22[[#This Row],[eindtijd]]<TabUren22[[#This Row],[begintijd]],(\"24:00\"-TabUren22[[#This Row],[begintijd]]+TabUren22[[#This Row],[eindtijd]])-TabUren22[[#This Row],[pauze]],(TabUren22[[#This Row],[eindtijd]]-TabUren22[[#This Row],[begintijd]])-TabUren22[[#This Row],[pauze]]))","v":""},{"$f":"IF(OR(TabUren22[hoofdcategorie]=\"\",TabUren22[hoofdcategorie]=0),\"anders dan hoofdcategorie\",TabUren22[hoofdcategorie])","v":"anders dan hoofdcategorie"}]
[{"$f":"IF(TabUren22[[#This Row],[datum]]=\"\",\"\",INT((TabUren22[[#This Row],[datum]]-SUM(MOD(DATE(YEAR(TabUren22[[#This Row],[datum]]-MOD(TabUren22[[#This Row],[datum]]-2,7)+3),1,2),{1E+99;7})*{1;-1})+5) /7))","v":""},{"$f":"IF(TabUren22[[#This Row],[datum]]=\"\",\"\",TabUren22[[#This Row],[datum]])","v":""},null,null,{"$f":"IF(TabUren22[[#This Row],[datum]]=\"\",\"\",verzameldata!$C$4)","v":""},null,null,null,null,{"$f":"IF(TabUren22[[#This Row],[eindtijd]]=\"\",\"\",IF(TabUren22[[#This Row],[eindtijd]]<TabUren22[[#This Row],[begintijd]],(\"24:00\"-TabUren22[[#This Row],[begintijd]]+TabUren22[[#This Row],[eindtijd]])-TabUren22[[#This Row],[pauze]],(TabUren22[[#This Row],[eindtijd]]-TabUren22[[#This Row],[begintijd]])-TabUren22[[#This Row],[pauze]]))","v":""},{"$f":"IF(OR(TabUren22[hoofdcategorie]=\"\",TabUren22[hoofdcategorie]=0),\"anders dan hoofdcategorie\",TabUren22[hoofdcategorie])","v":"anders dan hoofdcategorie"}]
[{"$f":"IF(TabUren22[[#This Row],[datum]]=\"\",\"\",INT((TabUren22[[#This Row],[datum]]-SUM(MOD(DATE(YEAR(TabUren22[[#This Row],[datum]]-MOD(TabUren22[[#This Row],[datum]]-2,7)+3),1,2),{1E+99;7})*{1;-1})+5) /7))","v":""},{"$f":"IF(TabUren22[[#This Row],[datum]]=\"\",\"\",TabUren22[[#This Row],[datum]])","v":""},null,null,{"$f":"IF(TabUren22[[#This Row],[datum]]=\"\",\"\",verzameldata!$C$4)","v":""},null,null,null,null,{"$f":"IF(TabUren22[[#This Row],[eindtijd]]=\"\",\"\",IF(TabUren22[[#This Row],[eindtijd]]<TabUren22[[#This Row],[begintijd]],(\"24:00\"-TabUren22[[#This Row],[begintijd]]+TabUren22[[#This Row],[eindtijd]])-TabUren22[[#This Row],[pauze]],(TabUren22[[#This Row],[eindtijd]]-TabUren22[[#This Row],[begintijd]])-TabUren22[[#This Row],[pauze]]))","v":""},{"$f":"IF(OR(TabUren22[hoofdcategorie]=\"\",TabUren22[hoofdcategorie]=0),\"anders dan hoofdcategorie\",TabUren22[hoofdcategorie])","v":"anders dan hoofdcategorie"}]
[{"$f":"IF(TabUren22[[#This Row],[datum]]=\"\",\"\",INT((TabUren22[[#This Row],[datum]]-SUM(MOD(DATE(YEAR(TabUren22[[#This Row],[datum]]-MOD(TabUren22[[#This Row],[datum]]-2,7)+3),1,2),{1E+99;7})*{1;-1})+5) /7))","v":""},{"$f":"IF(TabUren22[[#This Row],[datum]]=\"\",\"\",TabUren22[[#This Row],[datum]])","v":""},null,null,{"$f":"IF(TabUren22[[#This Row],[datum]]=\"\",\"\",verzameldata!$C$4)","v":""},null,null,null,null,{"$f":"IF(TabUren22[[#This Row],[eindtijd]]=\"\",\"\",IF(TabUren22[[#This Row],[eindtijd]]<TabUren22[[#This Row],[begintijd]],(\"24:00\"-TabUren22[[#This Row],[begintijd]]+TabUren22[[#This Row],[eindtijd]])-TabUren22[[#This Row],[pauze]],(TabUren22[[#This Row],[eindtijd]]-TabUren22[[#This Row],[begintijd]])-TabUren22[[#This Row],[pauze]]))","v":""},{"$f":"IF(OR(TabUren22[hoofdcategorie]=\"\",TabUren22[hoofdcategorie]=0),\"anders dan hoofdcategorie\",TabUren22[hoofdcategorie])","v":"anders dan hoofdcategorie"}]
[{"$f":"IF(TabUren22[[#This Row],[datum]]=\"\",\"\",INT((TabUren22[[#This Row],[datum]]-SUM(MOD(DATE(YEAR(TabUren22[[#This Row],[datum]]-MOD(TabUren22[[#This Row],[datum]]-2,7)+3),1,2),{1E+99;7})*{1;-1})+5) /7))","v":""},{"$f":"IF(TabUren22[[#This Row],[datum]]=\"\",\"\",TabUren22[[#This Row],[datum]])","v":""},null,null,{"$f":"IF(TabUren22[[#This Row],[datum]]=\"\",\"\",verzameldata!$C$4)","v":""},null,null,null,null,{"$f":"IF(TabUren22[[#This Row],[eindtijd]]=\"\",\"\",IF(TabUren22[[#This Row],[eindtijd]]<TabUren22[[#This Row],[begintijd]],(\"24:00\"-TabUren22[[#This Row],[begintijd]]+TabUren22[[#This Row],[eindtijd]])-TabUren22[[#This Row],[pauze]],(TabUren22[[#This Row],[eindtijd]]-TabUren22[[#This Row],[begintijd]])-TabUren22[[#This Row],[pauze]]))","v":""},{"$f":"IF(OR(TabUren22[hoofdcategorie]=\"\",TabUren22[hoofdcategorie]=0),\"anders dan hoofdcategorie\",TabUren22[hoofdcategorie])","v":"anders dan hoofdcategorie"}]
[{"$f":"IF(TabUren22[[#This Row],[datum]]=\"\",\"\",INT((TabUren22[[#This Row],[datum]]-SUM(MOD(DATE(YEAR(TabUren22[[#This Row],[datum]]-MOD(TabUren22[[#This Row],[datum]]-2,7)+3),1,2),{1E+99;7})*{1;-1})+5) /7))","v":""},{"$f":"IF(TabUren22[[#This Row],[datum]]=\"\",\"\",TabUren22[[#This Row],[datum]])","v":""},null,null,{"$f":"IF(TabUren22[[#This Row],[datum]]=\"\",\"\",verzameldata!$C$4)","v":""},null,null,null,null,{"$f":"IF(TabUren22[[#This Row],[eindtijd]]=\"\",\"\",IF(TabUren22[[#This Row],[eindtijd]]<TabUren22[[#This Row],[begintijd]],(\"24:00\"-TabUren22[[#This Row],[begintijd]]+TabUren22[[#This Row],[eindtijd]])-TabUren22[[#This Row],[pauze]],(TabUren22[[#This Row],[eindtijd]]-TabUren22[[#This Row],[begintijd]])-TabUren22[[#This Row],[pauze]]))","v":""},{"$f":"IF(OR(TabUren22[hoofdcategorie]=\"\",TabUren22[hoofdcategorie]=0),\"anders dan hoofdcategorie\",TabUren22[hoofdcategorie])","v":"anders dan hoofdcategorie"}]
[{"$f":"IF(TabUren22[[#This Row],[datum]]=\"\",\"\",INT((TabUren22[[#This Row],[datum]]-SUM(MOD(DATE(YEAR(TabUren22[[#This Row],[datum]]-MOD(TabUren22[[#This Row],[datum]]-2,7)+3),1,2),{1E+99;7})*{1;-1})+5) /7))","v":""},{"$f":"IF(TabUren22[[#This Row],[datum]]=\"\",\"\",TabUren22[[#This Row],[datum]])","v":""},null,null,{"$f":"IF(TabUren22[[#This Row],[datum]]=\"\",\"\",verzameldata!$C$4)","v":""},null,null,null,null,{"$f":"IF(TabUren22[[#This Row],[eindtijd]]=\"\",\"\",IF(TabUren22[[#This Row],[eindtijd]]<TabUren22[[#This Row],[begintijd]],(\"24:00\"-TabUren22[[#This Row],[begintijd]]+TabUren22[[#This Row],[eindtijd]])-TabUren22[[#This Row],[pauze]],(TabUren22[[#This Row],[eindtijd]]-TabUren22[[#This Row],[begintijd]])-TabUren22[[#This Row],[pauze]]))","v":""},{"$f":"IF(OR(TabUren22[hoofdcategorie]=\"\",TabUren22[hoofdcategorie]=0),\"anders dan hoofdcategorie\",TabUren22[hoofdcategorie])","v":"anders dan hoofdcategorie"}]
[{"$f":"IF(TabUren22[[#This Row],[datum]]=\"\",\"\",INT((TabUren22[[#This Row],[datum]]-SUM(MOD(DATE(YEAR(TabUren22[[#This Row],[datum]]-MOD(TabUren22[[#This Row],[datum]]-2,7)+3),1,2),{1E+99;7})*{1;-1})+5) /7))","v":""},{"$f":"IF(TabUren22[[#This Row],[datum]]=\"\",\"\",TabUren22[[#This Row],[datum]])","v":""},null,null,{"$f":"IF(TabUren22[[#This Row],[datum]]=\"\",\"\",verzameldata!$C$4)","v":""},null,null,null,null,{"$f":"IF(TabUren22[[#This Row],[eindtijd]]=\"\",\"\",IF(TabUren22[[#This Row],[eindtijd]]<TabUren22[[#This Row],[begintijd]],(\"24:00\"-TabUren22[[#This Row],[begintijd]]+TabUren22[[#This Row],[eindtijd]])-TabUren22[[#This Row],[pauze]],(TabUren22[[#This Row],[eindtijd]]-TabUren22[[#This Row],[begintijd]])-TabUren22[[#This Row],[pauze]]))","v":""},{"$f":"IF(OR(TabUren22[hoofdcategorie]=\"\",TabUren22[hoofdcategorie]=0),\"anders dan hoofdcategorie\",TabUren22[hoofdcategorie])","v":"anders dan hoofdcategorie"}]
[{"$f":"IF(TabUren22[[#This Row],[datum]]=\"\",\"\",INT((TabUren22[[#This Row],[datum]]-SUM(MOD(DATE(YEAR(TabUren22[[#This Row],[datum]]-MOD(TabUren22[[#This Row],[datum]]-2,7)+3),1,2),{1E+99;7})*{1;-1})+5) /7))","v":""},{"$f":"IF(TabUren22[[#This Row],[datum]]=\"\",\"\",TabUren22[[#This Row],[datum]])","v":""},null,null,{"$f":"IF(TabUren22[[#This Row],[datum]]=\"\",\"\",verzameldata!$C$4)","v":""},null,null,null,null,{"$f":"IF(TabUren22[[#This Row],[eindtijd]]=\"\",\"\",IF(TabUren22[[#This Row],[eindtijd]]<TabUren22[[#This Row],[begintijd]],(\"24:00\"-TabUren22[[#This Row],[begintijd]]+TabUren22[[#This Row],[eindtijd]])-TabUren22[[#This Row],[pauze]],(TabUren22[[#This Row],[eindtijd]]-TabUren22[[#This Row],[begintijd]])-TabUren22[[#This Row],[pauze]]))","v":""},{"$f":"IF(OR(TabUren22[hoofdcategorie]=\"\",TabUren22[hoofdcategorie]=0),\"anders dan hoofdcategorie\",TabUren22[hoofdcategorie])","v":"anders dan hoofdcategorie"}]
[{"$f":"IF(TabUren22[[#This Row],[datum]]=\"\",\"\",INT((TabUren22[[#This Row],[datum]]-SUM(MOD(DATE(YEAR(TabUren22[[#This Row],[datum]]-MOD(TabUren22[[#This Row],[datum]]-2,7)+3),1,2),{1E+99;7})*{1;-1})+5) /7))","v":""},{"$f":"IF(TabUren22[[#This Row],[datum]]=\"\",\"\",TabUren22[[#This Row],[datum]])","v":""},null,null,{"$f":"IF(TabUren22[[#This Row],[datum]]=\"\",\"\",verzameldata!$C$4)","v":""},null,null,null,null,{"$f":"IF(TabUren22[[#This Row],[eindtijd]]=\"\",\"\",IF(TabUren22[[#This Row],[eindtijd]]<TabUren22[[#This Row],[begintijd]],(\"24:00\"-TabUren22[[#This Row],[begintijd]]+TabUren22[[#This Row],[eindtijd]])-TabUren22[[#This Row],[pauze]],(TabUren22[[#This Row],[eindtijd]]-TabUren22[[#This Row],[begintijd]])-TabUren22[[#This Row],[pauze]]))","v":""},{"$f":"IF(OR(TabUren22[hoofdcategorie]=\"\",TabUren22[hoofdcategorie]=0),\"anders dan hoofdcategorie\",TabUren22[hoofdcategorie])","v":"anders dan hoofdcategorie"}]
[{"$f":"IF(TabUren22[[#This Row],[datum]]=\"\",\"\",INT((TabUren22[[#This Row],[datum]]-SUM(MOD(DATE(YEAR(TabUren22[[#This Row],[datum]]-MOD(TabUren22[[#This Row],[datum]]-2,7)+3),1,2),{1E+99;7})*{1;-1})+5) /7))","v":""},{"$f":"IF(TabUren22[[#This Row],[datum]]=\"\",\"\",TabUren22[[#This Row],[datum]])","v":""},null,null,{"$f":"IF(TabUren22[[#This Row],[datum]]=\"\",\"\",verzameldata!$C$4)","v":""},null,null,null,null,{"$f":"IF(TabUren22[[#This Row],[eindtijd]]=\"\",\"\",IF(TabUren22[[#This Row],[eindtijd]]<TabUren22[[#This Row],[begintijd]],(\"24:00\"-TabUren22[[#This Row],[begintijd]]+TabUren22[[#This Row],[eindtijd]])-TabUren22[[#This Row],[pauze]],(TabUren22[[#This Row],[eindtijd]]-TabUren22[[#This Row],[begintijd]])-TabUren22[[#This Row],[pauze]]))","v":""},{"$f":"IF(OR(TabUren22[hoofdcategorie]=\"\",TabUren22[hoofdcategorie]=0),\"anders dan hoofdcategorie\",TabUren22[hoofdcategorie])","v":"anders dan hoofdcategorie"}]
[{"$f":"IF(TabUren22[[#This Row],[datum]]=\"\",\"\",INT((TabUren22[[#This Row],[datum]]-SUM(MOD(DATE(YEAR(TabUren22[[#This Row],[datum]]-MOD(TabUren22[[#This Row],[datum]]-2,7)+3),1,2),{1E+99;7})*{1;-1})+5) /7))","v":""},{"$f":"IF(TabUren22[[#This Row],[datum]]=\"\",\"\",TabUren22[[#This Row],[datum]])","v":""},null,null,{"$f":"IF(TabUren22[[#This Row],[datum]]=\"\",\"\",verzameldata!$C$4)","v":""},null,null,null,null,{"$f":"IF(TabUren22[[#This Row],[eindtijd]]=\"\",\"\",IF(TabUren22[[#This Row],[eindtijd]]<TabUren22[[#This Row],[begintijd]],(\"24:00\"-TabUren22[[#This Row],[begintijd]]+TabUren22[[#This Row],[eindtijd]])-TabUren22[[#This Row],[pauze]],(TabUren22[[#This Row],[eindtijd]]-TabUren22[[#This Row],[begintijd]])-TabUren22[[#This Row],[pauze]]))","v":""},{"$f":"IF(OR(TabUren22[hoofdcategorie]=\"\",TabUren22[hoofdcategorie]=0),\"anders dan hoofdcategorie\",TabUren22[hoofdcategorie])","v":"anders dan hoofdcategorie"}]
[{"$f":"IF(TabUren22[[#This Row],[datum]]=\"\",\"\",INT((TabUren22[[#This Row],[datum]]-SUM(MOD(DATE(YEAR(TabUren22[[#This Row],[datum]]-MOD(TabUren22[[#This Row],[datum]]-2,7)+3),1,2),{1E+99;7})*{1;-1})+5) /7))","v":""},{"$f":"IF(TabUren22[[#This Row],[datum]]=\"\",\"\",TabUren22[[#This Row],[datum]])","v":""},null,null,{"$f":"IF(TabUren22[[#This Row],[datum]]=\"\",\"\",verzameldata!$C$4)","v":""},null,null,null,null,{"$f":"IF(TabUren22[[#This Row],[eindtijd]]=\"\",\"\",IF(TabUren22[[#This Row],[eindtijd]]<TabUren22[[#This Row],[begintijd]],(\"24:00\"-TabUren22[[#This Row],[begintijd]]+TabUren22[[#This Row],[eindtijd]])-TabUren22[[#This Row],[pauze]],(TabUren22[[#This Row],[eindtijd]]-TabUren22[[#This Row],[begintijd]])-TabUren22[[#This Row],[pauze]]))","v":""},{"$f":"IF(OR(TabUren22[hoofdcategorie]=\"\",TabUren22[hoofdcategorie]=0),\"anders dan hoofdcategorie\",TabUren22[hoofdcategorie])","v":"anders dan hoofdcategorie"}]
[{"$f":"IF(TabUren22[[#This Row],[datum]]=\"\",\"\",INT((TabUren22[[#This Row],[datum]]-SUM(MOD(DATE(YEAR(TabUren22[[#This Row],[datum]]-MOD(TabUren22[[#This Row],[datum]]-2,7)+3),1,2),{1E+99;7})*{1;-1})+5) /7))","v":""},{"$f":"IF(TabUren22[[#This Row],[datum]]=\"\",\"\",TabUren22[[#This Row],[datum]])","v":""},null,null,{"$f":"IF(TabUren22[[#This Row],[datum]]=\"\",\"\",verzameldata!$C$4)","v":""},null,null,null,null,{"$f":"IF(TabUren22[[#This Row],[eindtijd]]=\"\",\"\",IF(TabUren22[[#This Row],[eindtijd]]<TabUren22[[#This Row],[begintijd]],(\"24:00\"-TabUren22[[#This Row],[begintijd]]+TabUren22[[#This Row],[eindtijd]])-TabUren22[[#This Row],[pauze]],(TabUren22[[#This Row],[eindtijd]]-TabUren22[[#This Row],[begintijd]])-TabUren22[[#This Row],[pauze]]))","v":""},{"$f":"IF(OR(TabUren22[hoofdcategorie]=\"\",TabUren22[hoofdcategorie]=0),\"anders dan hoofdcategorie\",TabUren22[hoofdcategorie])","v":"anders dan hoofdcategorie"}]
[{"$f":"IF(TabUren22[[#This Row],[datum]]=\"\",\"\",INT((TabUren22[[#This Row],[datum]]-SUM(MOD(DATE(YEAR(TabUren22[[#This Row],[datum]]-MOD(TabUren22[[#This Row],[datum]]-2,7)+3),1,2),{1E+99;7})*{1;-1})+5) /7))","v":""},{"$f":"IF(TabUren22[[#This Row],[datum]]=\"\",\"\",TabUren22[[#This Row],[datum]])","v":""},null,null,{"$f":"IF(TabUren22[[#This Row],[datum]]=\"\",\"\",verzameldata!$C$4)","v":""},null,null,null,null,{"$f":"IF(TabUren22[[#This Row],[eindtijd]]=\"\",\"\",IF(TabUren22[[#This Row],[eindtijd]]<TabUren22[[#This Row],[begintijd]],(\"24:00\"-TabUren22[[#This Row],[begintijd]]+TabUren22[[#This Row],[eindtijd]])-TabUren22[[#This Row],[pauze]],(TabUren22[[#This Row],[eindtijd]]-TabUren22[[#This Row],[begintijd]])-TabUren22[[#This Row],[pauze]]))","v":""},{"$f":"IF(OR(TabUren22[hoofdcategorie]=\"\",TabUren22[hoofdcategorie]=0),\"anders dan hoofdcategorie\",TabUren22[hoofdcategorie])","v":"anders dan hoofdcategorie"}]
[{"$f":"IF(TabUren22[[#This Row],[datum]]=\"\",\"\",INT((TabUren22[[#This Row],[datum]]-SUM(MOD(DATE(YEAR(TabUren22[[#This Row],[datum]]-MOD(TabUren22[[#This Row],[datum]]-2,7)+3),1,2),{1E+99;7})*{1;-1})+5) /7))","v":""},{"$f":"IF(TabUren22[[#This Row],[datum]]=\"\",\"\",TabUren22[[#This Row],[datum]])","v":""},null,null,{"$f":"IF(TabUren22[[#This Row],[datum]]=\"\",\"\",verzameldata!$C$4)","v":""},null,null,null,null,{"$f":"IF(TabUren22[[#This Row],[eindtijd]]=\"\",\"\",IF(TabUren22[[#This Row],[eindtijd]]<TabUren22[[#This Row],[begintijd]],(\"24:00\"-TabUren22[[#This Row],[begintijd]]+TabUren22[[#This Row],[eindtijd]])-TabUren22[[#This Row],[pauze]],(TabUren22[[#This Row],[eindtijd]]-TabUren22[[#This Row],[begintijd]])-TabUren22[[#This Row],[pauze]]))","v":""},{"$f":"IF(OR(TabUren22[hoofdcategorie]=\"\",TabUren22[hoofdcategorie]=0),\"anders dan hoofdcategorie\",TabUren22[hoofdcategorie])","v":"anders dan hoofdcategorie"}]
[{"$f":"IF(TabUren22[[#This Row],[datum]]=\"\",\"\",INT((TabUren22[[#This Row],[datum]]-SUM(MOD(DATE(YEAR(TabUren22[[#This Row],[datum]]-MOD(TabUren22[[#This Row],[datum]]-2,7)+3),1,2),{1E+99;7})*{1;-1})+5) /7))","v":""},{"$f":"IF(TabUren22[[#This Row],[datum]]=\"\",\"\",TabUren22[[#This Row],[datum]])","v":""},null,null,{"$f":"IF(TabUren22[[#This Row],[datum]]=\"\",\"\",verzameldata!$C$4)","v":""},null,null,null,null,{"$f":"IF(TabUren22[[#This Row],[eindtijd]]=\"\",\"\",IF(TabUren22[[#This Row],[eindtijd]]<TabUren22[[#This Row],[begintijd]],(\"24:00\"-TabUren22[[#This Row],[begintijd]]+TabUren22[[#This Row],[eindtijd]])-TabUren22[[#This Row],[pauze]],(TabUren22[[#This Row],[eindtijd]]-TabUren22[[#This Row],[begintijd]])-TabUren22[[#This Row],[pauze]]))","v":""},{"$f":"IF(OR(TabUren22[hoofdcategorie]=\"\",TabUren22[hoofdcategorie]=0),\"anders dan hoofdcategorie\",TabUren22[hoofdcategorie])","v":"anders dan hoofdcategorie"}]
[{"$f":"IF(TabUren22[[#This Row],[datum]]=\"\",\"\",INT((TabUren22[[#This Row],[datum]]-SUM(MOD(DATE(YEAR(TabUren22[[#This Row],[datum]]-MOD(TabUren22[[#This Row],[datum]]-2,7)+3),1,2),{1E+99;7})*{1;-1})+5) /7))","v":""},{"$f":"IF(TabUren22[[#This Row],[datum]]=\"\",\"\",TabUren22[[#This Row],[datum]])","v":""},null,null,{"$f":"IF(TabUren22[[#This Row],[datum]]=\"\",\"\",verzameldata!$C$4)","v":""},null,null,null,null,{"$f":"IF(TabUren22[[#This Row],[eindtijd]]=\"\",\"\",IF(TabUren22[[#This Row],[eindtijd]]<TabUren22[[#This Row],[begintijd]],(\"24:00\"-TabUren22[[#This Row],[begintijd]]+TabUren22[[#This Row],[eindtijd]])-TabUren22[[#This Row],[pauze]],(TabUren22[[#This Row],[eindtijd]]-TabUren22[[#This Row],[begintijd]])-TabUren22[[#This Row],[pauze]]))","v":""},{"$f":"IF(OR(TabUren22[hoofdcategorie]=\"\",TabUren22[hoofdcategorie]=0),\"anders dan hoofdcategorie\",TabUren22[hoofdcategorie])","v":"anders dan hoofdcategorie"}]
[{"$f":"IF(TabUren22[[#This Row],[datum]]=\"\",\"\",INT((TabUren22[[#This Row],[datum]]-SUM(MOD(DATE(YEAR(TabUren22[[#This Row],[datum]]-MOD(TabUren22[[#This Row],[datum]]-2,7)+3),1,2),{1E+99;7})*{1;-1})+5) /7))","v":""},{"$f":"IF(TabUren22[[#This Row],[datum]]=\"\",\"\",TabUren22[[#This Row],[datum]])","v":""},null,null,{"$f":"IF(TabUren22[[#This Row],[datum]]=\"\",\"\",verzameldata!$C$4)","v":""},null,null,null,null,{"$f":"IF(TabUren22[[#This Row],[eindtijd]]=\"\",\"\",IF(TabUren22[[#This Row],[eindtijd]]<TabUren22[[#This Row],[begintijd]],(\"24:00\"-TabUren22[[#This Row],[begintijd]]+TabUren22[[#This Row],[eindtijd]])-TabUren22[[#This Row],[pauze]],(TabUren22[[#This Row],[eindtijd]]-TabUren22[[#This Row],[begintijd]])-TabUren22[[#This Row],[pauze]]))","v":""},{"$f":"IF(OR(TabUren22[hoofdcategorie]=\"\",TabUren22[hoofdcategorie]=0),\"anders dan hoofdcategorie\",TabUren22[hoofdcategorie])","v":"anders dan hoofdcategorie"}]
[{"$f":"IF(TabUren22[[#This Row],[datum]]=\"\",\"\",INT((TabUren22[[#This Row],[datum]]-SUM(MOD(DATE(YEAR(TabUren22[[#This Row],[datum]]-MOD(TabUren22[[#This Row],[datum]]-2,7)+3),1,2),{1E+99;7})*{1;-1})+5) /7))","v":""},{"$f":"IF(TabUren22[[#This Row],[datum]]=\"\",\"\",TabUren22[[#This Row],[datum]])","v":""},null,null,{"$f":"IF(TabUren22[[#This Row],[datum]]=\"\",\"\",verzameldata!$C$4)","v":""},null,null,null,null,{"$f":"IF(TabUren22[[#This Row],[eindtijd]]=\"\",\"\",IF(TabUren22[[#This Row],[eindtijd]]<TabUren22[[#This Row],[begintijd]],(\"24:00\"-TabUren22[[#This Row],[begintijd]]+TabUren22[[#This Row],[eindtijd]])-TabUren22[[#This Row],[pauze]],(TabUren22[[#This Row],[eindtijd]]-TabUren22[[#This Row],[begintijd]])-TabUren22[[#This Row],[pauze]]))","v":""},{"$f":"IF(OR(TabUren22[hoofdcategorie]=\"\",TabUren22[hoofdcategorie]=0),\"anders dan hoofdcategorie\",TabUren22[hoofdcategorie])","v":"anders dan hoofdcategorie"}]
[{"$f":"IF(TabUren22[[#This Row],[datum]]=\"\",\"\",INT((TabUren22[[#This Row],[datum]]-SUM(MOD(DATE(YEAR(TabUren22[[#This Row],[datum]]-MOD(TabUren22[[#This Row],[datum]]-2,7)+3),1,2),{1E+99;7})*{1;-1})+5) /7))","v":""},{"$f":"IF(TabUren22[[#This Row],[datum]]=\"\",\"\",TabUren22[[#This Row],[datum]])","v":""},null,null,{"$f":"IF(TabUren22[[#This Row],[datum]]=\"\",\"\",verzameldata!$C$4)","v":""},null,null,null,null,{"$f":"IF(TabUren22[[#This Row],[eindtijd]]=\"\",\"\",IF(TabUren22[[#This Row],[eindtijd]]<TabUren22[[#This Row],[begintijd]],(\"24:00\"-TabUren22[[#This Row],[begintijd]]+TabUren22[[#This Row],[eindtijd]])-TabUren22[[#This Row],[pauze]],(TabUren22[[#This Row],[eindtijd]]-TabUren22[[#This Row],[begintijd]])-TabUren22[[#This Row],[pauze]]))","v":""},{"$f":"IF(OR(TabUren22[hoofdcategorie]=\"\",TabUren22[hoofdcategorie]=0),\"anders dan hoofdcategorie\",TabUren22[hoofdcategorie])","v":"anders dan hoofdcategorie"}]
[{"$f":"IF(TabUren22[[#This Row],[datum]]=\"\",\"\",INT((TabUren22[[#This Row],[datum]]-SUM(MOD(DATE(YEAR(TabUren22[[#This Row],[datum]]-MOD(TabUren22[[#This Row],[datum]]-2,7)+3),1,2),{1E+99;7})*{1;-1})+5) /7))","v":""},{"$f":"IF(TabUren22[[#This Row],[datum]]=\"\",\"\",TabUren22[[#This Row],[datum]])","v":""},null,null,{"$f":"IF(TabUren22[[#This Row],[datum]]=\"\",\"\",verzameldata!$C$4)","v":""},null,null,null,null,{"$f":"IF(TabUren22[[#This Row],[eindtijd]]=\"\",\"\",IF(TabUren22[[#This Row],[eindtijd]]<TabUren22[[#This Row],[begintijd]],(\"24:00\"-TabUren22[[#This Row],[begintijd]]+TabUren22[[#This Row],[eindtijd]])-TabUren22[[#This Row],[pauze]],(TabUren22[[#This Row],[eindtijd]]-TabUren22[[#This Row],[begintijd]])-TabUren22[[#This Row],[pauze]]))","v":""},{"$f":"IF(OR(TabUren22[hoofdcategorie]=\"\",TabUren22[hoofdcategorie]=0),\"anders dan hoofdcategorie\",TabUren22[hoofdcategorie])","v":"anders dan hoofdcategorie"}]
[{"$f":"IF(TabUren22[[#This Row],[datum]]=\"\",\"\",INT((TabUren22[[#This Row],[datum]]-SUM(MOD(DATE(YEAR(TabUren22[[#This Row],[datum]]-MOD(TabUren22[[#This Row],[datum]]-2,7)+3),1,2),{1E+99;7})*{1;-1})+5) /7))","v":""},{"$f":"IF(TabUren22[[#This Row],[datum]]=\"\",\"\",TabUren22[[#This Row],[datum]])","v":""},null,null,{"$f":"IF(TabUren22[[#This Row],[datum]]=\"\",\"\",verzameldata!$C$4)","v":""},null,null,null,null,{"$f":"IF(TabUren22[[#This Row],[eindtijd]]=\"\",\"\",IF(TabUren22[[#This Row],[eindtijd]]<TabUren22[[#This Row],[begintijd]],(\"24:00\"-TabUren22[[#This Row],[begintijd]]+TabUren22[[#This Row],[eindtijd]])-TabUren22[[#This Row],[pauze]],(TabUren22[[#This Row],[eindtijd]]-TabUren22[[#This Row],[begintijd]])-TabUren22[[#This Row],[pauze]]))","v":""},{"$f":"IF(OR(TabUren22[hoofdcategorie]=\"\",TabUren22[hoofdcategorie]=0),\"anders dan hoofdcategorie\",TabUren22[hoofdcategorie])","v":"anders dan hoofdcategorie"}]
[{"$f":"IF(TabUren22[[#This Row],[datum]]=\"\",\"\",INT((TabUren22[[#This Row],[datum]]-SUM(MOD(DATE(YEAR(TabUren22[[#This Row],[datum]]-MOD(TabUren22[[#This Row],[datum]]-2,7)+3),1,2),{1E+99;7})*{1;-1})+5) /7))","v":""},{"$f":"IF(TabUren22[[#This Row],[datum]]=\"\",\"\",TabUren22[[#This Row],[datum]])","v":""},null,null,{"$f":"IF(TabUren22[[#This Row],[datum]]=\"\",\"\",verzameldata!$C$4)","v":""},null,null,null,null,{"$f":"IF(TabUren22[[#This Row],[eindtijd]]=\"\",\"\",IF(TabUren22[[#This Row],[eindtijd]]<TabUren22[[#This Row],[begintijd]],(\"24:00\"-TabUren22[[#This Row],[begintijd]]+TabUren22[[#This Row],[eindtijd]])-TabUren22[[#This Row],[pauze]],(TabUren22[[#This Row],[eindtijd]]-TabUren22[[#This Row],[begintijd]])-TabUren22[[#This Row],[pauze]]))","v":""},{"$f":"IF(OR(TabUren22[hoofdcategorie]=\"\",TabUren22[hoofdcategorie]=0),\"anders dan hoofdcategorie\",TabUren22[hoofdcategorie])","v":"anders dan hoofdcategorie"}]
[{"$f":"IF(TabUren22[[#This Row],[datum]]=\"\",\"\",INT((TabUren22[[#This Row],[datum]]-SUM(MOD(DATE(YEAR(TabUren22[[#This Row],[datum]]-MOD(TabUren22[[#This Row],[datum]]-2,7)+3),1,2),{1E+99;7})*{1;-1})+5) /7))","v":""},{"$f":"IF(TabUren22[[#This Row],[datum]]=\"\",\"\",TabUren22[[#This Row],[datum]])","v":""},null,null,{"$f":"IF(TabUren22[[#This Row],[datum]]=\"\",\"\",verzameldata!$C$4)","v":""},null,null,null,null,{"$f":"IF(TabUren22[[#This Row],[eindtijd]]=\"\",\"\",IF(TabUren22[[#This Row],[eindtijd]]<TabUren22[[#This Row],[begintijd]],(\"24:00\"-TabUren22[[#This Row],[begintijd]]+TabUren22[[#This Row],[eindtijd]])-TabUren22[[#This Row],[pauze]],(TabUren22[[#This Row],[eindtijd]]-TabUren22[[#This Row],[begintijd]])-TabUren22[[#This Row],[pauze]]))","v":""},{"$f":"IF(OR(TabUren22[hoofdcategorie]=\"\",TabUren22[hoofdcategorie]=0),\"anders dan hoofdcategorie\",TabUren22[hoofdcategorie])","v":"anders dan hoofdcategorie"}]
[{"$f":"IF(TabUren22[[#This Row],[datum]]=\"\",\"\",INT((TabUren22[[#This Row],[datum]]-SUM(MOD(DATE(YEAR(TabUren22[[#This Row],[datum]]-MOD(TabUren22[[#This Row],[datum]]-2,7)+3),1,2),{1E+99;7})*{1;-1})+5) /7))","v":""},{"$f":"IF(TabUren22[[#This Row],[datum]]=\"\",\"\",TabUren22[[#This Row],[datum]])","v":""},null,null,{"$f":"IF(TabUren22[[#This Row],[datum]]=\"\",\"\",verzameldata!$C$4)","v":""},null,null,null,null,{"$f":"IF(TabUren22[[#This Row],[eindtijd]]=\"\",\"\",IF(TabUren22[[#This Row],[eindtijd]]<TabUren22[[#This Row],[begintijd]],(\"24:00\"-TabUren22[[#This Row],[begintijd]]+TabUren22[[#This Row],[eindtijd]])-TabUren22[[#This Row],[pauze]],(TabUren22[[#This Row],[eindtijd]]-TabUren22[[#This Row],[begintijd]])-TabUren22[[#This Row],[pauze]]))","v":""},{"$f":"IF(OR(TabUren22[hoofdcategorie]=\"\",TabUren22[hoofdcategorie]=0),\"anders dan hoofdcategorie\",TabUren22[hoofdcategorie])","v":"anders dan hoofdcategorie"}]
[{"$f":"IF(TabUren22[[#This Row],[datum]]=\"\",\"\",INT((TabUren22[[#This Row],[datum]]-SUM(MOD(DATE(YEAR(TabUren22[[#This Row],[datum]]-MOD(TabUren22[[#This Row],[datum]]-2,7)+3),1,2),{1E+99;7})*{1;-1})+5) /7))","v":""},{"$f":"IF(TabUren22[[#This Row],[datum]]=\"\",\"\",TabUren22[[#This Row],[datum]])","v":""},null,null,{"$f":"IF(TabUren22[[#This Row],[datum]]=\"\",\"\",verzameldata!$C$4)","v":""},null,null,null,null,{"$f":"IF(TabUren22[[#This Row],[eindtijd]]=\"\",\"\",IF(TabUren22[[#This Row],[eindtijd]]<TabUren22[[#This Row],[begintijd]],(\"24:00\"-TabUren22[[#This Row],[begintijd]]+TabUren22[[#This Row],[eindtijd]])-TabUren22[[#This Row],[pauze]],(TabUren22[[#This Row],[eindtijd]]-TabUren22[[#This Row],[begintijd]])-TabUren22[[#This Row],[pauze]]))","v":""},{"$f":"IF(OR(TabUren22[hoofdcategorie]=\"\",TabUren22[hoofdcategorie]=0),\"anders dan hoofdcategorie\",TabUren22[hoofdcategorie])","v":"anders dan hoofdcategorie"}]
[{"$f":"IF(TabUren22[[#This Row],[datum]]=\"\",\"\",INT((TabUren22[[#This Row],[datum]]-SUM(MOD(DATE(YEAR(TabUren22[[#This Row],[datum]]-MOD(TabUren22[[#This Row],[datum]]-2,7)+3),1,2),{1E+99;7})*{1;-1})+5) /7))","v":""},{"$f":"IF(TabUren22[[#This Row],[datum]]=\"\",\"\",TabUren22[[#This Row],[datum]])","v":""},null,null,{"$f":"IF(TabUren22[[#This Row],[datum]]=\"\",\"\",verzameldata!$C$4)","v":""},null,null,null,null,{"$f":"IF(TabUren22[[#This Row],[eindtijd]]=\"\",\"\",IF(TabUren22[[#This Row],[eindtijd]]<TabUren22[[#This Row],[begintijd]],(\"24:00\"-TabUren22[[#This Row],[begintijd]]+TabUren22[[#This Row],[eindtijd]])-TabUren22[[#This Row],[pauze]],(TabUren22[[#This Row],[eindtijd]]-TabUren22[[#This Row],[begintijd]])-TabUren22[[#This Row],[pauze]]))","v":""},{"$f":"IF(OR(TabUren22[hoofdcategorie]=\"\",TabUren22[hoofdcategorie]=0),\"anders dan hoofdcategorie\",TabUren22[hoofdcategorie])","v":"anders dan hoofdcategorie"}]
[{"$f":"IF(TabUren22[[#This Row],[datum]]=\"\",\"\",INT((TabUren22[[#This Row],[datum]]-SUM(MOD(DATE(YEAR(TabUren22[[#This Row],[datum]]-MOD(TabUren22[[#This Row],[datum]]-2,7)+3),1,2),{1E+99;7})*{1;-1})+5) /7))","v":""},{"$f":"IF(TabUren22[[#This Row],[datum]]=\"\",\"\",TabUren22[[#This Row],[datum]])","v":""},null,null,{"$f":"IF(TabUren22[[#This Row],[datum]]=\"\",\"\",verzameldata!$C$4)","v":""},null,null,null,null,{"$f":"IF(TabUren22[[#This Row],[eindtijd]]=\"\",\"\",IF(TabUren22[[#This Row],[eindtijd]]<TabUren22[[#This Row],[begintijd]],(\"24:00\"-TabUren22[[#This Row],[begintijd]]+TabUren22[[#This Row],[eindtijd]])-TabUren22[[#This Row],[pauze]],(TabUren22[[#This Row],[eindtijd]]-TabUren22[[#This Row],[begintijd]])-TabUren22[[#This Row],[pauze]]))","v":""},{"$f":"IF(OR(TabUren22[hoofdcategorie]=\"\",TabUren22[hoofdcategorie]=0),\"anders dan hoofdcategorie\",TabUren22[hoofdcategorie])","v":"anders dan hoofdcategorie"}]
[{"$f":"IF(TabUren22[[#This Row],[datum]]=\"\",\"\",INT((TabUren22[[#This Row],[datum]]-SUM(MOD(DATE(YEAR(TabUren22[[#This Row],[datum]]-MOD(TabUren22[[#This Row],[datum]]-2,7)+3),1,2),{1E+99;7})*{1;-1})+5) /7))","v":""},{"$f":"IF(TabUren22[[#This Row],[datum]]=\"\",\"\",TabUren22[[#This Row],[datum]])","v":""},null,null,{"$f":"IF(TabUren22[[#This Row],[datum]]=\"\",\"\",verzameldata!$C$4)","v":""},null,null,null,null,{"$f":"IF(TabUren22[[#This Row],[eindtijd]]=\"\",\"\",IF(TabUren22[[#This Row],[eindtijd]]<TabUren22[[#This Row],[begintijd]],(\"24:00\"-TabUren22[[#This Row],[begintijd]]+TabUren22[[#This Row],[eindtijd]])-TabUren22[[#This Row],[pauze]],(TabUren22[[#This Row],[eindtijd]]-TabUren22[[#This Row],[begintijd]])-TabUren22[[#This Row],[pauze]]))","v":""},{"$f":"IF(OR(TabUren22[hoofdcategorie]=\"\",TabUren22[hoofdcategorie]=0),\"anders dan hoofdcategorie\",TabUren22[hoofdcategorie])","v":"anders dan hoofdcategorie"}]
[{"$f":"IF(TabUren22[[#This Row],[datum]]=\"\",\"\",INT((TabUren22[[#This Row],[datum]]-SUM(MOD(DATE(YEAR(TabUren22[[#This Row],[datum]]-MOD(TabUren22[[#This Row],[datum]]-2,7)+3),1,2),{1E+99;7})*{1;-1})+5) /7))","v":""},{"$f":"IF(TabUren22[[#This Row],[datum]]=\"\",\"\",TabUren22[[#This Row],[datum]])","v":""},null,null,{"$f":"IF(TabUren22[[#This Row],[datum]]=\"\",\"\",verzameldata!$C$4)","v":""},null,null,null,null,{"$f":"IF(TabUren22[[#This Row],[eindtijd]]=\"\",\"\",IF(TabUren22[[#This Row],[eindtijd]]<TabUren22[[#This Row],[begintijd]],(\"24:00\"-TabUren22[[#This Row],[begintijd]]+TabUren22[[#This Row],[eindtijd]])-TabUren22[[#This Row],[pauze]],(TabUren22[[#This Row],[eindtijd]]-TabUren22[[#This Row],[begintijd]])-TabUren22[[#This Row],[pauze]]))","v":""},{"$f":"IF(OR(TabUren22[hoofdcategorie]=\"\",TabUren22[hoofdcategorie]=0),\"anders dan hoofdcategorie\",TabUren22[hoofdcategorie])","v":"anders dan hoofdcategorie"}]
[{"$f":"IF(TabUren22[[#This Row],[datum]]=\"\",\"\",INT((TabUren22[[#This Row],[datum]]-SUM(MOD(DATE(YEAR(TabUren22[[#This Row],[datum]]-MOD(TabUren22[[#This Row],[datum]]-2,7)+3),1,2),{1E+99;7})*{1;-1})+5) /7))","v":""},{"$f":"IF(TabUren22[[#This Row],[datum]]=\"\",\"\",TabUren22[[#This Row],[datum]])","v":""},null,null,{"$f":"IF(TabUren22[[#This Row],[datum]]=\"\",\"\",verzameldata!$C$4)","v":""},null,null,null,null,{"$f":"IF(TabUren22[[#This Row],[eindtijd]]=\"\",\"\",IF(TabUren22[[#This Row],[eindtijd]]<TabUren22[[#This Row],[begintijd]],(\"24:00\"-TabUren22[[#This Row],[begintijd]]+TabUren22[[#This Row],[eindtijd]])-TabUren22[[#This Row],[pauze]],(TabUren22[[#This Row],[eindtijd]]-TabUren22[[#This Row],[begintijd]])-TabUren22[[#This Row],[pauze]]))","v":""},{"$f":"IF(OR(TabUren22[hoofdcategorie]=\"\",TabUren22[hoofdcategorie]=0),\"anders dan hoofdcategorie\",TabUren22[hoofdcategorie])","v":"anders dan hoofdcategorie"}]
[{"$f":"IF(TabUren22[[#This Row],[datum]]=\"\",\"\",INT((TabUren22[[#This Row],[datum]]-SUM(MOD(DATE(YEAR(TabUren22[[#This Row],[datum]]-MOD(TabUren22[[#This Row],[datum]]-2,7)+3),1,2),{1E+99;7})*{1;-1})+5) /7))","v":""},{"$f":"IF(TabUren22[[#This Row],[datum]]=\"\",\"\",TabUren22[[#This Row],[datum]])","v":""},null,null,{"$f":"IF(TabUren22[[#This Row],[datum]]=\"\",\"\",verzameldata!$C$4)","v":""},null,null,null,null,{"$f":"IF(TabUren22[[#This Row],[eindtijd]]=\"\",\"\",IF(TabUren22[[#This Row],[eindtijd]]<TabUren22[[#This Row],[begintijd]],(\"24:00\"-TabUren22[[#This Row],[begintijd]]+TabUren22[[#This Row],[eindtijd]])-TabUren22[[#This Row],[pauze]],(TabUren22[[#This Row],[eindtijd]]-TabUren22[[#This Row],[begintijd]])-TabUren22[[#This Row],[pauze]]))","v":""},{"$f":"IF(OR(TabUren22[hoofdcategorie]=\"\",TabUren22[hoofdcategorie]=0),\"anders dan hoofdcategorie\",TabUren22[hoofdcategorie])","v":"anders dan hoofdcategorie"}]
[{"$f":"IF(TabUren22[[#This Row],[datum]]=\"\",\"\",INT((TabUren22[[#This Row],[datum]]-SUM(MOD(DATE(YEAR(TabUren22[[#This Row],[datum]]-MOD(TabUren22[[#This Row],[datum]]-2,7)+3),1,2),{1E+99;7})*{1;-1})+5) /7))","v":""},{"$f":"IF(TabUren22[[#This Row],[datum]]=\"\",\"\",TabUren22[[#This Row],[datum]])","v":""},null,null,{"$f":"IF(TabUren22[[#This Row],[datum]]=\"\",\"\",verzameldata!$C$4)","v":""},null,null,null,null,{"$f":"IF(TabUren22[[#This Row],[eindtijd]]=\"\",\"\",IF(TabUren22[[#This Row],[eindtijd]]<TabUren22[[#This Row],[begintijd]],(\"24:00\"-TabUren22[[#This Row],[begintijd]]+TabUren22[[#This Row],[eindtijd]])-TabUren22[[#This Row],[pauze]],(TabUren22[[#This Row],[eindtijd]]-TabUren22[[#This Row],[begintijd]])-TabUren22[[#This Row],[pauze]]))","v":""},{"$f":"IF(OR(TabUren22[hoofdcategorie]=\"\",TabUren22[hoofdcategorie]=0),\"anders dan hoofdcategorie\",TabUren22[hoofdcategorie])","v":"anders dan hoofdcategorie"}]
[{"$f":"IF(TabUren22[[#This Row],[datum]]=\"\",\"\",INT((TabUren22[[#This Row],[datum]]-SUM(MOD(DATE(YEAR(TabUren22[[#This Row],[datum]]-MOD(TabUren22[[#This Row],[datum]]-2,7)+3),1,2),{1E+99;7})*{1;-1})+5) /7))","v":""},{"$f":"IF(TabUren22[[#This Row],[datum]]=\"\",\"\",TabUren22[[#This Row],[datum]])","v":""},null,null,{"$f":"IF(TabUren22[[#This Row],[datum]]=\"\",\"\",verzameldata!$C$4)","v":""},null,null,null,null,{"$f":"IF(TabUren22[[#This Row],[eindtijd]]=\"\",\"\",IF(TabUren22[[#This Row],[eindtijd]]<TabUren22[[#This Row],[begintijd]],(\"24:00\"-TabUren22[[#This Row],[begintijd]]+TabUren22[[#This Row],[eindtijd]])-TabUren22[[#This Row],[pauze]],(TabUren22[[#This Row],[eindtijd]]-TabUren22[[#This Row],[begintijd]])-TabUren22[[#This Row],[pauze]]))","v":""},{"$f":"IF(OR(TabUren22[hoofdcategorie]=\"\",TabUren22[hoofdcategorie]=0),\"anders dan hoofdcategorie\",TabUren22[hoofdcategorie])","v":"anders dan hoofdcategorie"}]
[{"$f":"IF(TabUren22[[#This Row],[datum]]=\"\",\"\",INT((TabUren22[[#This Row],[datum]]-SUM(MOD(DATE(YEAR(TabUren22[[#This Row],[datum]]-MOD(TabUren22[[#This Row],[datum]]-2,7)+3),1,2),{1E+99;7})*{1;-1})+5) /7))","v":""},{"$f":"IF(TabUren22[[#This Row],[datum]]=\"\",\"\",TabUren22[[#This Row],[datum]])","v":""},null,null,{"$f":"IF(TabUren22[[#This Row],[datum]]=\"\",\"\",verzameldata!$C$4)","v":""},null,null,null,null,{"$f":"IF(TabUren22[[#This Row],[eindtijd]]=\"\",\"\",IF(TabUren22[[#This Row],[eindtijd]]<TabUren22[[#This Row],[begintijd]],(\"24:00\"-TabUren22[[#This Row],[begintijd]]+TabUren22[[#This Row],[eindtijd]])-TabUren22[[#This Row],[pauze]],(TabUren22[[#This Row],[eindtijd]]-TabUren22[[#This Row],[begintijd]])-TabUren22[[#This Row],[pauze]]))","v":""},{"$f":"IF(OR(TabUren22[hoofdcategorie]=\"\",TabUren22[hoofdcategorie]=0),\"anders dan hoofdcategorie\",TabUren22[hoofdcategorie])","v":"anders dan hoofdcategorie"}]
[{"$f":"IF(TabUren22[[#This Row],[datum]]=\"\",\"\",INT((TabUren22[[#This Row],[datum]]-SUM(MOD(DATE(YEAR(TabUren22[[#This Row],[datum]]-MOD(TabUren22[[#This Row],[datum]]-2,7)+3),1,2),{1E+99;7})*{1;-1})+5) /7))","v":""},{"$f":"IF(TabUren22[[#This Row],[datum]]=\"\",\"\",TabUren22[[#This Row],[datum]])","v":""},null,null,{"$f":"IF(TabUren22[[#This Row],[datum]]=\"\",\"\",verzameldata!$C$4)","v":""},null,null,null,null,{"$f":"IF(TabUren22[[#This Row],[eindtijd]]=\"\",\"\",IF(TabUren22[[#This Row],[eindtijd]]<TabUren22[[#This Row],[begintijd]],(\"24:00\"-TabUren22[[#This Row],[begintijd]]+TabUren22[[#This Row],[eindtijd]])-TabUren22[[#This Row],[pauze]],(TabUren22[[#This Row],[eindtijd]]-TabUren22[[#This Row],[begintijd]])-TabUren22[[#This Row],[pauze]]))","v":""},{"$f":"IF(OR(TabUren22[hoofdcategorie]=\"\",TabUren22[hoofdcategorie]=0),\"anders dan hoofdcategorie\",TabUren22[hoofdcategorie])","v":"anders dan hoofdcategorie"}]
[{"$f":"IF(TabUren22[[#This Row],[datum]]=\"\",\"\",INT((TabUren22[[#This Row],[datum]]-SUM(MOD(DATE(YEAR(TabUren22[[#This Row],[datum]]-MOD(TabUren22[[#This Row],[datum]]-2,7)+3),1,2),{1E+99;7})*{1;-1})+5) /7))","v":""},{"$f":"IF(TabUren22[[#This Row],[datum]]=\"\",\"\",TabUren22[[#This Row],[datum]])","v":""},null,null,{"$f":"IF(TabUren22[[#This Row],[datum]]=\"\",\"\",verzameldata!$C$4)","v":""},null,null,null,null,{"$f":"IF(TabUren22[[#This Row],[eindtijd]]=\"\",\"\",IF(TabUren22[[#This Row],[eindtijd]]<TabUren22[[#This Row],[begintijd]],(\"24:00\"-TabUren22[[#This Row],[begintijd]]+TabUren22[[#This Row],[eindtijd]])-TabUren22[[#This Row],[pauze]],(TabUren22[[#This Row],[eindtijd]]-TabUren22[[#This Row],[begintijd]])-TabUren22[[#This Row],[pauze]]))","v":""},{"$f":"IF(OR(TabUren22[hoofdcategorie]=\"\",TabUren22[hoofdcategorie]=0),\"anders dan hoofdcategorie\",TabUren22[hoofdcategorie])","v":"anders dan hoofdcategorie"}]
[{"$f":"IF(TabUren22[[#This Row],[datum]]=\"\",\"\",INT((TabUren22[[#This Row],[datum]]-SUM(MOD(DATE(YEAR(TabUren22[[#This Row],[datum]]-MOD(TabUren22[[#This Row],[datum]]-2,7)+3),1,2),{1E+99;7})*{1;-1})+5) /7))","v":""},{"$f":"IF(TabUren22[[#This Row],[datum]]=\"\",\"\",TabUren22[[#This Row],[datum]])","v":""},null,null,{"$f":"IF(TabUren22[[#This Row],[datum]]=\"\",\"\",verzameldata!$C$4)","v":""},null,null,null,null,{"$f":"IF(TabUren22[[#This Row],[eindtijd]]=\"\",\"\",IF(TabUren22[[#This Row],[eindtijd]]<TabUren22[[#This Row],[begintijd]],(\"24:00\"-TabUren22[[#This Row],[begintijd]]+TabUren22[[#This Row],[eindtijd]])-TabUren22[[#This Row],[pauze]],(TabUren22[[#This Row],[eindtijd]]-TabUren22[[#This Row],[begintijd]])-TabUren22[[#This Row],[pauze]]))","v":""},{"$f":"IF(OR(TabUren22[hoofdcategorie]=\"\",TabUren22[hoofdcategorie]=0),\"anders dan hoofdcategorie\",TabUren22[hoofdcategorie])","v":"anders dan hoofdcategorie"}]
[{"$f":"IF(TabUren22[[#This Row],[datum]]=\"\",\"\",INT((TabUren22[[#This Row],[datum]]-SUM(MOD(DATE(YEAR(TabUren22[[#This Row],[datum]]-MOD(TabUren22[[#This Row],[datum]]-2,7)+3),1,2),{1E+99;7})*{1;-1})+5) /7))","v":""},{"$f":"IF(TabUren22[[#This Row],[datum]]=\"\",\"\",TabUren22[[#This Row],[datum]])","v":""},null,null,{"$f":"IF(TabUren22[[#This Row],[datum]]=\"\",\"\",verzameldata!$C$4)","v":""},null,null,null,null,{"$f":"IF(TabUren22[[#This Row],[eindtijd]]=\"\",\"\",IF(TabUren22[[#This Row],[eindtijd]]<TabUren22[[#This Row],[begintijd]],(\"24:00\"-TabUren22[[#This Row],[begintijd]]+TabUren22[[#This Row],[eindtijd]])-TabUren22[[#This Row],[pauze]],(TabUren22[[#This Row],[eindtijd]]-TabUren22[[#This Row],[begintijd]])-TabUren22[[#This Row],[pauze]]))","v":""},{"$f":"IF(OR(TabUren22[hoofdcategorie]=\"\",TabUren22[hoofdcategorie]=0),\"anders dan hoofdcategorie\",TabUren22[hoofdcategorie])","v":"anders dan hoofdcategorie"}]
[{"$f":"IF(TabUren22[[#This Row],[datum]]=\"\",\"\",INT((TabUren22[[#This Row],[datum]]-SUM(MOD(DATE(YEAR(TabUren22[[#This Row],[datum]]-MOD(TabUren22[[#This Row],[datum]]-2,7)+3),1,2),{1E+99;7})*{1;-1})+5) /7))","v":""},{"$f":"IF(TabUren22[[#This Row],[datum]]=\"\",\"\",TabUren22[[#This Row],[datum]])","v":""},null,null,{"$f":"IF(TabUren22[[#This Row],[datum]]=\"\",\"\",verzameldata!$C$4)","v":""},null,null,null,null,{"$f":"IF(TabUren22[[#This Row],[eindtijd]]=\"\",\"\",IF(TabUren22[[#This Row],[eindtijd]]<TabUren22[[#This Row],[begintijd]],(\"24:00\"-TabUren22[[#This Row],[begintijd]]+TabUren22[[#This Row],[eindtijd]])-TabUren22[[#This Row],[pauze]],(TabUren22[[#This Row],[eindtijd]]-TabUren22[[#This Row],[begintijd]])-TabUren22[[#This Row],[pauze]]))","v":""},{"$f":"IF(OR(TabUren22[hoofdcategorie]=\"\",TabUren22[hoofdcategorie]=0),\"anders dan hoofdcategorie\",TabUren22[hoofdcategorie])","v":"anders dan hoofdcategorie"}]
[{"$f":"IF(TabUren22[[#This Row],[datum]]=\"\",\"\",INT((TabUren22[[#This Row],[datum]]-SUM(MOD(DATE(YEAR(TabUren22[[#This Row],[datum]]-MOD(TabUren22[[#This Row],[datum]]-2,7)+3),1,2),{1E+99;7})*{1;-1})+5) /7))","v":""},{"$f":"IF(TabUren22[[#This Row],[datum]]=\"\",\"\",TabUren22[[#This Row],[datum]])","v":""},null,null,{"$f":"IF(TabUren22[[#This Row],[datum]]=\"\",\"\",verzameldata!$C$4)","v":""},null,null,null,null,{"$f":"IF(TabUren22[[#This Row],[eindtijd]]=\"\",\"\",IF(TabUren22[[#This Row],[eindtijd]]<TabUren22[[#This Row],[begintijd]],(\"24:00\"-TabUren22[[#This Row],[begintijd]]+TabUren22[[#This Row],[eindtijd]])-TabUren22[[#This Row],[pauze]],(TabUren22[[#This Row],[eindtijd]]-TabUren22[[#This Row],[begintijd]])-TabUren22[[#This Row],[pauze]]))","v":""},{"$f":"IF(OR(TabUren22[hoofdcategorie]=\"\",TabUren22[hoofdcategorie]=0),\"anders dan hoofdcategorie\",TabUren22[hoofdcategorie])","v":"anders dan hoofdcategorie"}]
[{"$f":"IF(TabUren22[[#This Row],[datum]]=\"\",\"\",INT((TabUren22[[#This Row],[datum]]-SUM(MOD(DATE(YEAR(TabUren22[[#This Row],[datum]]-MOD(TabUren22[[#This Row],[datum]]-2,7)+3),1,2),{1E+99;7})*{1;-1})+5) /7))","v":""},{"$f":"IF(TabUren22[[#This Row],[datum]]=\"\",\"\",TabUren22[[#This Row],[datum]])","v":""},null,null,{"$f":"IF(TabUren22[[#This Row],[datum]]=\"\",\"\",verzameldata!$C$4)","v":""},null,null,null,null,{"$f":"IF(TabUren22[[#This Row],[eindtijd]]=\"\",\"\",IF(TabUren22[[#This Row],[eindtijd]]<TabUren22[[#This Row],[begintijd]],(\"24:00\"-TabUren22[[#This Row],[begintijd]]+TabUren22[[#This Row],[eindtijd]])-TabUren22[[#This Row],[pauze]],(TabUren22[[#This Row],[eindtijd]]-TabUren22[[#This Row],[begintijd]])-TabUren22[[#This Row],[pauze]]))","v":""},{"$f":"IF(OR(TabUren22[hoofdcategorie]=\"\",TabUren22[hoofdcategorie]=0),\"anders dan hoofdcategorie\",TabUren22[hoofdcategorie])","v":"anders dan hoofdcategorie"}]
[{"$f":"IF(TabUren22[[#This Row],[datum]]=\"\",\"\",INT((TabUren22[[#This Row],[datum]]-SUM(MOD(DATE(YEAR(TabUren22[[#This Row],[datum]]-MOD(TabUren22[[#This Row],[datum]]-2,7)+3),1,2),{1E+99;7})*{1;-1})+5) /7))","v":""},{"$f":"IF(TabUren22[[#This Row],[datum]]=\"\",\"\",TabUren22[[#This Row],[datum]])","v":""},null,null,{"$f":"IF(TabUren22[[#This Row],[datum]]=\"\",\"\",verzameldata!$C$4)","v":""},null,null,null,null,{"$f":"IF(TabUren22[[#This Row],[eindtijd]]=\"\",\"\",IF(TabUren22[[#This Row],[eindtijd]]<TabUren22[[#This Row],[begintijd]],(\"24:00\"-TabUren22[[#This Row],[begintijd]]+TabUren22[[#This Row],[eindtijd]])-TabUren22[[#This Row],[pauze]],(TabUren22[[#This Row],[eindtijd]]-TabUren22[[#This Row],[begintijd]])-TabUren22[[#This Row],[pauze]]))","v":""},{"$f":"IF(OR(TabUren22[hoofdcategorie]=\"\",TabUren22[hoofdcategorie]=0),\"anders dan hoofdcategorie\",TabUren22[hoofdcategorie])","v":"anders dan hoofdcategorie"}]
[{"$f":"IF(TabUren22[[#This Row],[datum]]=\"\",\"\",INT((TabUren22[[#This Row],[datum]]-SUM(MOD(DATE(YEAR(TabUren22[[#This Row],[datum]]-MOD(TabUren22[[#This Row],[datum]]-2,7)+3),1,2),{1E+99;7})*{1;-1})+5) /7))","v":""},{"$f":"IF(TabUren22[[#This Row],[datum]]=\"\",\"\",TabUren22[[#This Row],[datum]])","v":""},null,null,{"$f":"IF(TabUren22[[#This Row],[datum]]=\"\",\"\",verzameldata!$C$4)","v":""},null,null,null,null,{"$f":"IF(TabUren22[[#This Row],[eindtijd]]=\"\",\"\",IF(TabUren22[[#This Row],[eindtijd]]<TabUren22[[#This Row],[begintijd]],(\"24:00\"-TabUren22[[#This Row],[begintijd]]+TabUren22[[#This Row],[eindtijd]])-TabUren22[[#This Row],[pauze]],(TabUren22[[#This Row],[eindtijd]]-TabUren22[[#This Row],[begintijd]])-TabUren22[[#This Row],[pauze]]))","v":""},{"$f":"IF(OR(TabUren22[hoofdcategorie]=\"\",TabUren22[hoofdcategorie]=0),\"anders dan hoofdcategorie\",TabUren22[hoofdcategorie])","v":"anders dan hoofdcategorie"}]
[{"$f":"IF(TabUren22[[#This Row],[datum]]=\"\",\"\",INT((TabUren22[[#This Row],[datum]]-SUM(MOD(DATE(YEAR(TabUren22[[#This Row],[datum]]-MOD(TabUren22[[#This Row],[datum]]-2,7)+3),1,2),{1E+99;7})*{1;-1})+5) /7))","v":""},{"$f":"IF(TabUren22[[#This Row],[datum]]=\"\",\"\",TabUren22[[#This Row],[datum]])","v":""},null,null,{"$f":"IF(TabUren22[[#This Row],[datum]]=\"\",\"\",verzameldata!$C$4)","v":""},null,null,null,null,{"$f":"IF(TabUren22[[#This Row],[eindtijd]]=\"\",\"\",IF(TabUren22[[#This Row],[eindtijd]]<TabUren22[[#This Row],[begintijd]],(\"24:00\"-TabUren22[[#This Row],[begintijd]]+TabUren22[[#This Row],[eindtijd]])-TabUren22[[#This Row],[pauze]],(TabUren22[[#This Row],[eindtijd]]-TabUren22[[#This Row],[begintijd]])-TabUren22[[#This Row],[pauze]]))","v":""},{"$f":"IF(OR(TabUren22[hoofdcategorie]=\"\",TabUren22[hoofdcategorie]=0),\"anders dan hoofdcategorie\",TabUren22[hoofdcategorie])","v":"anders dan hoofdcategorie"}]
[{"$f":"IF(TabUren22[[#This Row],[datum]]=\"\",\"\",INT((TabUren22[[#This Row],[datum]]-SUM(MOD(DATE(YEAR(TabUren22[[#This Row],[datum]]-MOD(TabUren22[[#This Row],[datum]]-2,7)+3),1,2),{1E+99;7})*{1;-1})+5) /7))","v":""},{"$f":"IF(TabUren22[[#This Row],[datum]]=\"\",\"\",TabUren22[[#This Row],[datum]])","v":""},null,null,{"$f":"IF(TabUren22[[#This Row],[datum]]=\"\",\"\",verzameldata!$C$4)","v":""},null,null,null,null,{"$f":"IF(TabUren22[[#This Row],[eindtijd]]=\"\",\"\",IF(TabUren22[[#This Row],[eindtijd]]<TabUren22[[#This Row],[begintijd]],(\"24:00\"-TabUren22[[#This Row],[begintijd]]+TabUren22[[#This Row],[eindtijd]])-TabUren22[[#This Row],[pauze]],(TabUren22[[#This Row],[eindtijd]]-TabUren22[[#This Row],[begintijd]])-TabUren22[[#This Row],[pauze]]))","v":""},{"$f":"IF(OR(TabUren22[hoofdcategorie]=\"\",TabUren22[hoofdcategorie]=0),\"anders dan hoofdcategorie\",TabUren22[hoofdcategorie])","v":"anders dan hoofdcategorie"}]
[{"$f":"IF(TabUren22[[#This Row],[datum]]=\"\",\"\",INT((TabUren22[[#This Row],[datum]]-SUM(MOD(DATE(YEAR(TabUren22[[#This Row],[datum]]-MOD(TabUren22[[#This Row],[datum]]-2,7)+3),1,2),{1E+99;7})*{1;-1})+5) /7))","v":""},{"$f":"IF(TabUren22[[#This Row],[datum]]=\"\",\"\",TabUren22[[#This Row],[datum]])","v":""},null,null,{"$f":"IF(TabUren22[[#This Row],[datum]]=\"\",\"\",verzameldata!$C$4)","v":""},null,null,null,null,{"$f":"IF(TabUren22[[#This Row],[eindtijd]]=\"\",\"\",IF(TabUren22[[#This Row],[eindtijd]]<TabUren22[[#This Row],[begintijd]],(\"24:00\"-TabUren22[[#This Row],[begintijd]]+TabUren22[[#This Row],[eindtijd]])-TabUren22[[#This Row],[pauze]],(TabUren22[[#This Row],[eindtijd]]-TabUren22[[#This Row],[begintijd]])-TabUren22[[#This Row],[pauze]]))","v":""},{"$f":"IF(OR(TabUren22[hoofdcategorie]=\"\",TabUren22[hoofdcategorie]=0),\"anders dan hoofdcategorie\",TabUren22[hoofdcategorie])","v":"anders dan hoofdcategorie"}]
[{"$f":"IF(TabUren22[[#This Row],[datum]]=\"\",\"\",INT((TabUren22[[#This Row],[datum]]-SUM(MOD(DATE(YEAR(TabUren22[[#This Row],[datum]]-MOD(TabUren22[[#This Row],[datum]]-2,7)+3),1,2),{1E+99;7})*{1;-1})+5) /7))","v":""},{"$f":"IF(TabUren22[[#This Row],[datum]]=\"\",\"\",TabUren22[[#This Row],[datum]])","v":""},null,null,{"$f":"IF(TabUren22[[#This Row],[datum]]=\"\",\"\",verzameldata!$C$4)","v":""},null,null,null,null,{"$f":"IF(TabUren22[[#This Row],[eindtijd]]=\"\",\"\",IF(TabUren22[[#This Row],[eindtijd]]<TabUren22[[#This Row],[begintijd]],(\"24:00\"-TabUren22[[#This Row],[begintijd]]+TabUren22[[#This Row],[eindtijd]])-TabUren22[[#This Row],[pauze]],(TabUren22[[#This Row],[eindtijd]]-TabUren22[[#This Row],[begintijd]])-TabUren22[[#This Row],[pauze]]))","v":""},{"$f":"IF(OR(TabUren22[hoofdcategorie]=\"\",TabUren22[hoofdcategorie]=0),\"anders dan hoofdcategorie\",TabUren22[hoofdcategorie])","v":"anders dan hoofdcategorie"}]
[{"$f":"IF(TabUren22[[#This Row],[datum]]=\"\",\"\",INT((TabUren22[[#This Row],[datum]]-SUM(MOD(DATE(YEAR(TabUren22[[#This Row],[datum]]-MOD(TabUren22[[#This Row],[datum]]-2,7)+3),1,2),{1E+99;7})*{1;-1})+5) /7))","v":""},{"$f":"IF(TabUren22[[#This Row],[datum]]=\"\",\"\",TabUren22[[#This Row],[datum]])","v":""},null,null,{"$f":"IF(TabUren22[[#This Row],[datum]]=\"\",\"\",verzameldata!$C$4)","v":""},null,null,null,null,{"$f":"IF(TabUren22[[#This Row],[eindtijd]]=\"\",\"\",IF(TabUren22[[#This Row],[eindtijd]]<TabUren22[[#This Row],[begintijd]],(\"24:00\"-TabUren22[[#This Row],[begintijd]]+TabUren22[[#This Row],[eindtijd]])-TabUren22[[#This Row],[pauze]],(TabUren22[[#This Row],[eindtijd]]-TabUren22[[#This Row],[begintijd]])-TabUren22[[#This Row],[pauze]]))","v":""},{"$f":"IF(OR(TabUren22[hoofdcategorie]=\"\",TabUren22[hoofdcategorie]=0),\"anders dan hoofdcategorie\",TabUren22[hoofdcategorie])","v":"anders dan hoofdcategorie"}]
[{"$f":"IF(TabUren22[[#This Row],[datum]]=\"\",\"\",INT((TabUren22[[#This Row],[datum]]-SUM(MOD(DATE(YEAR(TabUren22[[#This Row],[datum]]-MOD(TabUren22[[#This Row],[datum]]-2,7)+3),1,2),{1E+99;7})*{1;-1})+5) /7))","v":""},{"$f":"IF(TabUren22[[#This Row],[datum]]=\"\",\"\",TabUren22[[#This Row],[datum]])","v":""},null,null,{"$f":"IF(TabUren22[[#This Row],[datum]]=\"\",\"\",verzameldata!$C$4)","v":""},null,null,null,null,{"$f":"IF(TabUren22[[#This Row],[eindtijd]]=\"\",\"\",IF(TabUren22[[#This Row],[eindtijd]]<TabUren22[[#This Row],[begintijd]],(\"24:00\"-TabUren22[[#This Row],[begintijd]]+TabUren22[[#This Row],[eindtijd]])-TabUren22[[#This Row],[pauze]],(TabUren22[[#This Row],[eindtijd]]-TabUren22[[#This Row],[begintijd]])-TabUren22[[#This Row],[pauze]]))","v":""},{"$f":"IF(OR(TabUren22[hoofdcategorie]=\"\",TabUren22[hoofdcategorie]=0),\"anders dan hoofdcategorie\",TabUren22[hoofdcategorie])","v":"anders dan hoofdcategorie"}]
[{"$f":"IF(TabUren22[[#This Row],[datum]]=\"\",\"\",INT((TabUren22[[#This Row],[datum]]-SUM(MOD(DATE(YEAR(TabUren22[[#This Row],[datum]]-MOD(TabUren22[[#This Row],[datum]]-2,7)+3),1,2),{1E+99;7})*{1;-1})+5) /7))","v":""},{"$f":"IF(TabUren22[[#This Row],[datum]]=\"\",\"\",TabUren22[[#This Row],[datum]])","v":""},null,null,{"$f":"IF(TabUren22[[#This Row],[datum]]=\"\",\"\",verzameldata!$C$4)","v":""},null,null,null,null,{"$f":"IF(TabUren22[[#This Row],[eindtijd]]=\"\",\"\",IF(TabUren22[[#This Row],[eindtijd]]<TabUren22[[#This Row],[begintijd]],(\"24:00\"-TabUren22[[#This Row],[begintijd]]+TabUren22[[#This Row],[eindtijd]])-TabUren22[[#This Row],[pauze]],(TabUren22[[#This Row],[eindtijd]]-TabUren22[[#This Row],[begintijd]])-TabUren22[[#This Row],[pauze]]))","v":""},{"$f":"IF(OR(TabUren22[hoofdcategorie]=\"\",TabUren22[hoofdcategorie]=0),\"anders dan hoofdcategorie\",TabUren22[hoofdcategorie])","v":"anders dan hoofdcategorie"}]
[{"$f":"IF(TabUren22[[#This Row],[datum]]=\"\",\"\",INT((TabUren22[[#This Row],[datum]]-SUM(MOD(DATE(YEAR(TabUren22[[#This Row],[datum]]-MOD(TabUren22[[#This Row],[datum]]-2,7)+3),1,2),{1E+99;7})*{1;-1})+5) /7))","v":""},{"$f":"IF(TabUren22[[#This Row],[datum]]=\"\",\"\",TabUren22[[#This Row],[datum]])","v":""},null,null,{"$f":"IF(TabUren22[[#This Row],[datum]]=\"\",\"\",verzameldata!$C$4)","v":""},null,null,null,null,{"$f":"IF(TabUren22[[#This Row],[eindtijd]]=\"\",\"\",IF(TabUren22[[#This Row],[eindtijd]]<TabUren22[[#This Row],[begintijd]],(\"24:00\"-TabUren22[[#This Row],[begintijd]]+TabUren22[[#This Row],[eindtijd]])-TabUren22[[#This Row],[pauze]],(TabUren22[[#This Row],[eindtijd]]-TabUren22[[#This Row],[begintijd]])-TabUren22[[#This Row],[pauze]]))","v":""},{"$f":"IF(OR(TabUren22[hoofdcategorie]=\"\",TabUren22[hoofdcategorie]=0),\"anders dan hoofdcategorie\",TabUren22[hoofdcategorie])","v":"anders dan hoofdcategorie"}]
[{"$f":"IF(TabUren22[[#This Row],[datum]]=\"\",\"\",INT((TabUren22[[#This Row],[datum]]-SUM(MOD(DATE(YEAR(TabUren22[[#This Row],[datum]]-MOD(TabUren22[[#This Row],[datum]]-2,7)+3),1,2),{1E+99;7})*{1;-1})+5) /7))","v":""},{"$f":"IF(TabUren22[[#This Row],[datum]]=\"\",\"\",TabUren22[[#This Row],[datum]])","v":""},null,null,{"$f":"IF(TabUren22[[#This Row],[datum]]=\"\",\"\",verzameldata!$C$4)","v":""},null,null,null,null,{"$f":"IF(TabUren22[[#This Row],[eindtijd]]=\"\",\"\",IF(TabUren22[[#This Row],[eindtijd]]<TabUren22[[#This Row],[begintijd]],(\"24:00\"-TabUren22[[#This Row],[begintijd]]+TabUren22[[#This Row],[eindtijd]])-TabUren22[[#This Row],[pauze]],(TabUren22[[#This Row],[eindtijd]]-TabUren22[[#This Row],[begintijd]])-TabUren22[[#This Row],[pauze]]))","v":""},{"$f":"IF(OR(TabUren22[hoofdcategorie]=\"\",TabUren22[hoofdcategorie]=0),\"anders dan hoofdcategorie\",TabUren22[hoofdcategorie])","v":"anders dan hoofdcategorie"}]
[{"$f":"IF(TabUren22[[#This Row],[datum]]=\"\",\"\",INT((TabUren22[[#This Row],[datum]]-SUM(MOD(DATE(YEAR(TabUren22[[#This Row],[datum]]-MOD(TabUren22[[#This Row],[datum]]-2,7)+3),1,2),{1E+99;7})*{1;-1})+5) /7))","v":""},{"$f":"IF(TabUren22[[#This Row],[datum]]=\"\",\"\",TabUren22[[#This Row],[datum]])","v":""},null,null,{"$f":"IF(TabUren22[[#This Row],[datum]]=\"\",\"\",verzameldata!$C$4)","v":""},null,null,null,null,{"$f":"IF(TabUren22[[#This Row],[eindtijd]]=\"\",\"\",IF(TabUren22[[#This Row],[eindtijd]]<TabUren22[[#This Row],[begintijd]],(\"24:00\"-TabUren22[[#This Row],[begintijd]]+TabUren22[[#This Row],[eindtijd]])-TabUren22[[#This Row],[pauze]],(TabUren22[[#This Row],[eindtijd]]-TabUren22[[#This Row],[begintijd]])-TabUren22[[#This Row],[pauze]]))","v":""},{"$f":"IF(OR(TabUren22[hoofdcategorie]=\"\",TabUren22[hoofdcategorie]=0),\"anders dan hoofdcategorie\",TabUren22[hoofdcategorie])","v":"anders dan hoofdcategorie"}]
[{"$f":"IF(TabUren22[[#This Row],[datum]]=\"\",\"\",INT((TabUren22[[#This Row],[datum]]-SUM(MOD(DATE(YEAR(TabUren22[[#This Row],[datum]]-MOD(TabUren22[[#This Row],[datum]]-2,7)+3),1,2),{1E+99;7})*{1;-1})+5) /7))","v":""},{"$f":"IF(TabUren22[[#This Row],[datum]]=\"\",\"\",TabUren22[[#This Row],[datum]])","v":""},null,null,{"$f":"IF(TabUren22[[#This Row],[datum]]=\"\",\"\",verzameldata!$C$4)","v":""},null,null,null,null,{"$f":"IF(TabUren22[[#This Row],[eindtijd]]=\"\",\"\",IF(TabUren22[[#This Row],[eindtijd]]<TabUren22[[#This Row],[begintijd]],(\"24:00\"-TabUren22[[#This Row],[begintijd]]+TabUren22[[#This Row],[eindtijd]])-TabUren22[[#This Row],[pauze]],(TabUren22[[#This Row],[eindtijd]]-TabUren22[[#This Row],[begintijd]])-TabUren22[[#This Row],[pauze]]))","v":""},{"$f":"IF(OR(TabUren22[hoofdcategorie]=\"\",TabUren22[hoofdcategorie]=0),\"anders dan hoofdcategorie\",TabUren22[hoofdcategorie])","v":"anders dan hoofdcategorie"}]
[{"$f":"IF(TabUren22[[#This Row],[datum]]=\"\",\"\",INT((TabUren22[[#This Row],[datum]]-SUM(MOD(DATE(YEAR(TabUren22[[#This Row],[datum]]-MOD(TabUren22[[#This Row],[datum]]-2,7)+3),1,2),{1E+99;7})*{1;-1})+5) /7))","v":""},{"$f":"IF(TabUren22[[#This Row],[datum]]=\"\",\"\",TabUren22[[#This Row],[datum]])","v":""},null,null,{"$f":"IF(TabUren22[[#This Row],[datum]]=\"\",\"\",verzameldata!$C$4)","v":""},null,null,null,null,{"$f":"IF(TabUren22[[#This Row],[eindtijd]]=\"\",\"\",IF(TabUren22[[#This Row],[eindtijd]]<TabUren22[[#This Row],[begintijd]],(\"24:00\"-TabUren22[[#This Row],[begintijd]]+TabUren22[[#This Row],[eindtijd]])-TabUren22[[#This Row],[pauze]],(TabUren22[[#This Row],[eindtijd]]-TabUren22[[#This Row],[begintijd]])-TabUren22[[#This Row],[pauze]]))","v":""},{"$f":"IF(OR(TabUren22[hoofdcategorie]=\"\",TabUren22[hoofdcategorie]=0),\"anders dan hoofdcategorie\",TabUren22[hoofdcategorie])","v":"anders dan hoofdcategorie"}]
[{"$f":"IF(TabUren22[[#This Row],[datum]]=\"\",\"\",INT((TabUren22[[#This Row],[datum]]-SUM(MOD(DATE(YEAR(TabUren22[[#This Row],[datum]]-MOD(TabUren22[[#This Row],[datum]]-2,7)+3),1,2),{1E+99;7})*{1;-1})+5) /7))","v":""},{"$f":"IF(TabUren22[[#This Row],[datum]]=\"\",\"\",TabUren22[[#This Row],[datum]])","v":""},null,null,{"$f":"IF(TabUren22[[#This Row],[datum]]=\"\",\"\",verzameldata!$C$4)","v":""},null,null,null,null,{"$f":"IF(TabUren22[[#This Row],[eindtijd]]=\"\",\"\",IF(TabUren22[[#This Row],[eindtijd]]<TabUren22[[#This Row],[begintijd]],(\"24:00\"-TabUren22[[#This Row],[begintijd]]+TabUren22[[#This Row],[eindtijd]])-TabUren22[[#This Row],[pauze]],(TabUren22[[#This Row],[eindtijd]]-TabUren22[[#This Row],[begintijd]])-TabUren22[[#This Row],[pauze]]))","v":""},{"$f":"IF(OR(TabUren22[hoofdcategorie]=\"\",TabUren22[hoofdcategorie]=0),\"anders dan hoofdcategorie\",TabUren22[hoofdcategorie])","v":"anders dan hoofdcategorie"}]
[{"$f":"IF(TabUren22[[#This Row],[datum]]=\"\",\"\",INT((TabUren22[[#This Row],[datum]]-SUM(MOD(DATE(YEAR(TabUren22[[#This Row],[datum]]-MOD(TabUren22[[#This Row],[datum]]-2,7)+3),1,2),{1E+99;7})*{1;-1})+5) /7))","v":""},{"$f":"IF(TabUren22[[#This Row],[datum]]=\"\",\"\",TabUren22[[#This Row],[datum]])","v":""},null,null,{"$f":"IF(TabUren22[[#This Row],[datum]]=\"\",\"\",verzameldata!$C$4)","v":""},null,null,null,null,{"$f":"IF(TabUren22[[#This Row],[eindtijd]]=\"\",\"\",IF(TabUren22[[#This Row],[eindtijd]]<TabUren22[[#This Row],[begintijd]],(\"24:00\"-TabUren22[[#This Row],[begintijd]]+TabUren22[[#This Row],[eindtijd]])-TabUren22[[#This Row],[pauze]],(TabUren22[[#This Row],[eindtijd]]-TabUren22[[#This Row],[begintijd]])-TabUren22[[#This Row],[pauze]]))","v":""},{"$f":"IF(OR(TabUren22[hoofdcategorie]=\"\",TabUren22[hoofdcategorie]=0),\"anders dan hoofdcategorie\",TabUren22[hoofdcategorie])","v":"anders dan hoofdcategorie"}]
[{"$f":"IF(TabUren22[[#This Row],[datum]]=\"\",\"\",INT((TabUren22[[#This Row],[datum]]-SUM(MOD(DATE(YEAR(TabUren22[[#This Row],[datum]]-MOD(TabUren22[[#This Row],[datum]]-2,7)+3),1,2),{1E+99;7})*{1;-1})+5) /7))","v":""},{"$f":"IF(TabUren22[[#This Row],[datum]]=\"\",\"\",TabUren22[[#This Row],[datum]])","v":""},null,null,{"$f":"IF(TabUren22[[#This Row],[datum]]=\"\",\"\",verzameldata!$C$4)","v":""},null,null,null,null,{"$f":"IF(TabUren22[[#This Row],[eindtijd]]=\"\",\"\",IF(TabUren22[[#This Row],[eindtijd]]<TabUren22[[#This Row],[begintijd]],(\"24:00\"-TabUren22[[#This Row],[begintijd]]+TabUren22[[#This Row],[eindtijd]])-TabUren22[[#This Row],[pauze]],(TabUren22[[#This Row],[eindtijd]]-TabUren22[[#This Row],[begintijd]])-TabUren22[[#This Row],[pauze]]))","v":""},{"$f":"IF(OR(TabUren22[hoofdcategorie]=\"\",TabUren22[hoofdcategorie]=0),\"anders dan hoofdcategorie\",TabUren22[hoofdcategorie])","v":"anders dan hoofdcategorie"}]
[{"$f":"IF(TabUren22[[#This Row],[datum]]=\"\",\"\",INT((TabUren22[[#This Row],[datum]]-SUM(MOD(DATE(YEAR(TabUren22[[#This Row],[datum]]-MOD(TabUren22[[#This Row],[datum]]-2,7)+3),1,2),{1E+99;7})*{1;-1})+5) /7))","v":""},{"$f":"IF(TabUren22[[#This Row],[datum]]=\"\",\"\",TabUren22[[#This Row],[datum]])","v":""},null,null,{"$f":"IF(TabUren22[[#This Row],[datum]]=\"\",\"\",verzameldata!$C$4)","v":""},null,null,null,null,{"$f":"IF(TabUren22[[#This Row],[eindtijd]]=\"\",\"\",IF(TabUren22[[#This Row],[eindtijd]]<TabUren22[[#This Row],[begintijd]],(\"24:00\"-TabUren22[[#This Row],[begintijd]]+TabUren22[[#This Row],[eindtijd]])-TabUren22[[#This Row],[pauze]],(TabUren22[[#This Row],[eindtijd]]-TabUren22[[#This Row],[begintijd]])-TabUren22[[#This Row],[pauze]]))","v":""},{"$f":"IF(OR(TabUren22[hoofdcategorie]=\"\",TabUren22[hoofdcategorie]=0),\"anders dan hoofdcategorie\",TabUren22[hoofdcategorie])","v":"anders dan hoofdcategorie"}]
[{"$f":"IF(TabUren22[[#This Row],[datum]]=\"\",\"\",INT((TabUren22[[#This Row],[datum]]-SUM(MOD(DATE(YEAR(TabUren22[[#This Row],[datum]]-MOD(TabUren22[[#This Row],[datum]]-2,7)+3),1,2),{1E+99;7})*{1;-1})+5) /7))","v":""},{"$f":"IF(TabUren22[[#This Row],[datum]]=\"\",\"\",TabUren22[[#This Row],[datum]])","v":""},null,null,{"$f":"IF(TabUren22[[#This Row],[datum]]=\"\",\"\",verzameldata!$C$4)","v":""},null,null,null,null,{"$f":"IF(TabUren22[[#This Row],[eindtijd]]=\"\",\"\",IF(TabUren22[[#This Row],[eindtijd]]<TabUren22[[#This Row],[begintijd]],(\"24:00\"-TabUren22[[#This Row],[begintijd]]+TabUren22[[#This Row],[eindtijd]])-TabUren22[[#This Row],[pauze]],(TabUren22[[#This Row],[eindtijd]]-TabUren22[[#This Row],[begintijd]])-TabUren22[[#This Row],[pauze]]))","v":""},{"$f":"IF(OR(TabUren22[hoofdcategorie]=\"\",TabUren22[hoofdcategorie]=0),\"anders dan hoofdcategorie\",TabUren22[hoofdcategorie])","v":"anders dan hoofdcategorie"}]
[{"$f":"IF(TabUren22[[#This Row],[datum]]=\"\",\"\",INT((TabUren22[[#This Row],[datum]]-SUM(MOD(DATE(YEAR(TabUren22[[#This Row],[datum]]-MOD(TabUren22[[#This Row],[datum]]-2,7)+3),1,2),{1E+99;7})*{1;-1})+5) /7))","v":""},{"$f":"IF(TabUren22[[#This Row],[datum]]=\"\",\"\",TabUren22[[#This Row],[datum]])","v":""},null,null,{"$f":"IF(TabUren22[[#This Row],[datum]]=\"\",\"\",verzameldata!$C$4)","v":""},null,null,null,null,{"$f":"IF(TabUren22[[#This Row],[eindtijd]]=\"\",\"\",IF(TabUren22[[#This Row],[eindtijd]]<TabUren22[[#This Row],[begintijd]],(\"24:00\"-TabUren22[[#This Row],[begintijd]]+TabUren22[[#This Row],[eindtijd]])-TabUren22[[#This Row],[pauze]],(TabUren22[[#This Row],[eindtijd]]-TabUren22[[#This Row],[begintijd]])-TabUren22[[#This Row],[pauze]]))","v":""},{"$f":"IF(OR(TabUren22[hoofdcategorie]=\"\",TabUren22[hoofdcategorie]=0),\"anders dan hoofdcategorie\",TabUren22[hoofdcategorie])","v":"anders dan hoofdcategorie"}]
[{"$f":"IF(TabUren22[[#This Row],[datum]]=\"\",\"\",INT((TabUren22[[#This Row],[datum]]-SUM(MOD(DATE(YEAR(TabUren22[[#This Row],[datum]]-MOD(TabUren22[[#This Row],[datum]]-2,7)+3),1,2),{1E+99;7})*{1;-1})+5) /7))","v":""},{"$f":"IF(TabUren22[[#This Row],[datum]]=\"\",\"\",TabUren22[[#This Row],[datum]])","v":""},null,null,{"$f":"IF(TabUren22[[#This Row],[datum]]=\"\",\"\",verzameldata!$C$4)","v":""},null,null,null,null,{"$f":"IF(TabUren22[[#This Row],[eindtijd]]=\"\",\"\",IF(TabUren22[[#This Row],[eindtijd]]<TabUren22[[#This Row],[begintijd]],(\"24:00\"-TabUren22[[#This Row],[begintijd]]+TabUren22[[#This Row],[eindtijd]])-TabUren22[[#This Row],[pauze]],(TabUren22[[#This Row],[eindtijd]]-TabUren22[[#This Row],[begintijd]])-TabUren22[[#This Row],[pauze]]))","v":""},{"$f":"IF(OR(TabUren22[hoofdcategorie]=\"\",TabUren22[hoofdcategorie]=0),\"anders dan hoofdcategorie\",TabUren22[hoofdcategorie])","v":"anders dan hoofdcategorie"}]
[{"$f":"IF(TabUren22[[#This Row],[datum]]=\"\",\"\",INT((TabUren22[[#This Row],[datum]]-SUM(MOD(DATE(YEAR(TabUren22[[#This Row],[datum]]-MOD(TabUren22[[#This Row],[datum]]-2,7)+3),1,2),{1E+99;7})*{1;-1})+5) /7))","v":""},{"$f":"IF(TabUren22[[#This Row],[datum]]=\"\",\"\",TabUren22[[#This Row],[datum]])","v":""},null,null,{"$f":"IF(TabUren22[[#This Row],[datum]]=\"\",\"\",verzameldata!$C$4)","v":""},null,null,null,null,{"$f":"IF(TabUren22[[#This Row],[eindtijd]]=\"\",\"\",IF(TabUren22[[#This Row],[eindtijd]]<TabUren22[[#This Row],[begintijd]],(\"24:00\"-TabUren22[[#This Row],[begintijd]]+TabUren22[[#This Row],[eindtijd]])-TabUren22[[#This Row],[pauze]],(TabUren22[[#This Row],[eindtijd]]-TabUren22[[#This Row],[begintijd]])-TabUren22[[#This Row],[pauze]]))","v":""},{"$f":"IF(OR(TabUren22[hoofdcategorie]=\"\",TabUren22[hoofdcategorie]=0),\"anders dan hoofdcategorie\",TabUren22[hoofdcategorie])","v":"anders dan hoofdcategorie"}]
[{"$f":"IF(TabUren22[[#This Row],[datum]]=\"\",\"\",INT((TabUren22[[#This Row],[datum]]-SUM(MOD(DATE(YEAR(TabUren22[[#This Row],[datum]]-MOD(TabUren22[[#This Row],[datum]]-2,7)+3),1,2),{1E+99;7})*{1;-1})+5) /7))","v":""},{"$f":"IF(TabUren22[[#This Row],[datum]]=\"\",\"\",TabUren22[[#This Row],[datum]])","v":""},null,null,{"$f":"IF(TabUren22[[#This Row],[datum]]=\"\",\"\",verzameldata!$C$4)","v":""},null,null,null,null,{"$f":"IF(TabUren22[[#This Row],[eindtijd]]=\"\",\"\",IF(TabUren22[[#This Row],[eindtijd]]<TabUren22[[#This Row],[begintijd]],(\"24:00\"-TabUren22[[#This Row],[begintijd]]+TabUren22[[#This Row],[eindtijd]])-TabUren22[[#This Row],[pauze]],(TabUren22[[#This Row],[eindtijd]]-TabUren22[[#This Row],[begintijd]])-TabUren22[[#This Row],[pauze]]))","v":""},{"$f":"IF(OR(TabUren22[hoofdcategorie]=\"\",TabUren22[hoofdcategorie]=0),\"anders dan hoofdcategorie\",TabUren22[hoofdcategorie])","v":"anders dan hoofdcategorie"}]
[{"$f":"IF(TabUren22[[#This Row],[datum]]=\"\",\"\",INT((TabUren22[[#This Row],[datum]]-SUM(MOD(DATE(YEAR(TabUren22[[#This Row],[datum]]-MOD(TabUren22[[#This Row],[datum]]-2,7)+3),1,2),{1E+99;7})*{1;-1})+5) /7))","v":""},{"$f":"IF(TabUren22[[#This Row],[datum]]=\"\",\"\",TabUren22[[#This Row],[datum]])","v":""},null,null,{"$f":"IF(TabUren22[[#This Row],[datum]]=\"\",\"\",verzameldata!$C$4)","v":""},null,null,null,null,{"$f":"IF(TabUren22[[#This Row],[eindtijd]]=\"\",\"\",IF(TabUren22[[#This Row],[eindtijd]]<TabUren22[[#This Row],[begintijd]],(\"24:00\"-TabUren22[[#This Row],[begintijd]]+TabUren22[[#This Row],[eindtijd]])-TabUren22[[#This Row],[pauze]],(TabUren22[[#This Row],[eindtijd]]-TabUren22[[#This Row],[begintijd]])-TabUren22[[#This Row],[pauze]]))","v":""},{"$f":"IF(OR(TabUren22[hoofdcategorie]=\"\",TabUren22[hoofdcategorie]=0),\"anders dan hoofdcategorie\",TabUren22[hoofdcategorie])","v":"anders dan hoofdcategorie"}]
[{"$f":"IF(TabUren22[[#This Row],[datum]]=\"\",\"\",INT((TabUren22[[#This Row],[datum]]-SUM(MOD(DATE(YEAR(TabUren22[[#This Row],[datum]]-MOD(TabUren22[[#This Row],[datum]]-2,7)+3),1,2),{1E+99;7})*{1;-1})+5) /7))","v":""},{"$f":"IF(TabUren22[[#This Row],[datum]]=\"\",\"\",TabUren22[[#This Row],[datum]])","v":""},null,null,{"$f":"IF(TabUren22[[#This Row],[datum]]=\"\",\"\",verzameldata!$C$4)","v":""},null,null,null,null,{"$f":"IF(TabUren22[[#This Row],[eindtijd]]=\"\",\"\",IF(TabUren22[[#This Row],[eindtijd]]<TabUren22[[#This Row],[begintijd]],(\"24:00\"-TabUren22[[#This Row],[begintijd]]+TabUren22[[#This Row],[eindtijd]])-TabUren22[[#This Row],[pauze]],(TabUren22[[#This Row],[eindtijd]]-TabUren22[[#This Row],[begintijd]])-TabUren22[[#This Row],[pauze]]))","v":""},{"$f":"IF(OR(TabUren22[hoofdcategorie]=\"\",TabUren22[hoofdcategorie]=0),\"anders dan hoofdcategorie\",TabUren22[hoofdcategorie])","v":"anders dan hoofdcategorie"}]
[{"$f":"IF(TabUren22[[#This Row],[datum]]=\"\",\"\",INT((TabUren22[[#This Row],[datum]]-SUM(MOD(DATE(YEAR(TabUren22[[#This Row],[datum]]-MOD(TabUren22[[#This Row],[datum]]-2,7)+3),1,2),{1E+99;7})*{1;-1})+5) /7))","v":""},{"$f":"IF(TabUren22[[#This Row],[datum]]=\"\",\"\",TabUren22[[#This Row],[datum]])","v":""},null,null,{"$f":"IF(TabUren22[[#This Row],[datum]]=\"\",\"\",verzameldata!$C$4)","v":""},null,null,null,null,{"$f":"IF(TabUren22[[#This Row],[eindtijd]]=\"\",\"\",IF(TabUren22[[#This Row],[eindtijd]]<TabUren22[[#This Row],[begintijd]],(\"24:00\"-TabUren22[[#This Row],[begintijd]]+TabUren22[[#This Row],[eindtijd]])-TabUren22[[#This Row],[pauze]],(TabUren22[[#This Row],[eindtijd]]-TabUren22[[#This Row],[begintijd]])-TabUren22[[#This Row],[pauze]]))","v":""},{"$f":"IF(OR(TabUren22[hoofdcategorie]=\"\",TabUren22[hoofdcategorie]=0),\"anders dan hoofdcategorie\",TabUren22[hoofdcategorie])","v":"anders dan hoofdcategorie"}]
[{"$f":"IF(TabUren22[[#This Row],[datum]]=\"\",\"\",INT((TabUren22[[#This Row],[datum]]-SUM(MOD(DATE(YEAR(TabUren22[[#This Row],[datum]]-MOD(TabUren22[[#This Row],[datum]]-2,7)+3),1,2),{1E+99;7})*{1;-1})+5) /7))","v":""},{"$f":"IF(TabUren22[[#This Row],[datum]]=\"\",\"\",TabUren22[[#This Row],[datum]])","v":""},null,null,{"$f":"IF(TabUren22[[#This Row],[datum]]=\"\",\"\",verzameldata!$C$4)","v":""},null,null,null,null,{"$f":"IF(TabUren22[[#This Row],[eindtijd]]=\"\",\"\",IF(TabUren22[[#This Row],[eindtijd]]<TabUren22[[#This Row],[begintijd]],(\"24:00\"-TabUren22[[#This Row],[begintijd]]+TabUren22[[#This Row],[eindtijd]])-TabUren22[[#This Row],[pauze]],(TabUren22[[#This Row],[eindtijd]]-TabUren22[[#This Row],[begintijd]])-TabUren22[[#This Row],[pauze]]))","v":""},{"$f":"IF(OR(TabUren22[hoofdcategorie]=\"\",TabUren22[hoofdcategorie]=0),\"anders dan hoofdcategorie\",TabUren22[hoofdcategorie])","v":"anders dan hoofdcategorie"}]
[{"$f":"IF(TabUren22[[#This Row],[datum]]=\"\",\"\",INT((TabUren22[[#This Row],[datum]]-SUM(MOD(DATE(YEAR(TabUren22[[#This Row],[datum]]-MOD(TabUren22[[#This Row],[datum]]-2,7)+3),1,2),{1E+99;7})*{1;-1})+5) /7))","v":""},{"$f":"IF(TabUren22[[#This Row],[datum]]=\"\",\"\",TabUren22[[#This Row],[datum]])","v":""},null,null,{"$f":"IF(TabUren22[[#This Row],[datum]]=\"\",\"\",verzameldata!$C$4)","v":""},null,null,null,null,{"$f":"IF(TabUren22[[#This Row],[eindtijd]]=\"\",\"\",IF(TabUren22[[#This Row],[eindtijd]]<TabUren22[[#This Row],[begintijd]],(\"24:00\"-TabUren22[[#This Row],[begintijd]]+TabUren22[[#This Row],[eindtijd]])-TabUren22[[#This Row],[pauze]],(TabUren22[[#This Row],[eindtijd]]-TabUren22[[#This Row],[begintijd]])-TabUren22[[#This Row],[pauze]]))","v":""},{"$f":"IF(OR(TabUren22[hoofdcategorie]=\"\",TabUren22[hoofdcategorie]=0),\"anders dan hoofdcategorie\",TabUren22[hoofdcategorie])","v":"anders dan hoofdcategorie"}]
[{"$f":"IF(TabUren22[[#This Row],[datum]]=\"\",\"\",INT((TabUren22[[#This Row],[datum]]-SUM(MOD(DATE(YEAR(TabUren22[[#This Row],[datum]]-MOD(TabUren22[[#This Row],[datum]]-2,7)+3),1,2),{1E+99;7})*{1;-1})+5) /7))","v":""},{"$f":"IF(TabUren22[[#This Row],[datum]]=\"\",\"\",TabUren22[[#This Row],[datum]])","v":""},null,null,{"$f":"IF(TabUren22[[#This Row],[datum]]=\"\",\"\",verzameldata!$C$4)","v":""},null,null,null,null,{"$f":"IF(TabUren22[[#This Row],[eindtijd]]=\"\",\"\",IF(TabUren22[[#This Row],[eindtijd]]<TabUren22[[#This Row],[begintijd]],(\"24:00\"-TabUren22[[#This Row],[begintijd]]+TabUren22[[#This Row],[eindtijd]])-TabUren22[[#This Row],[pauze]],(TabUren22[[#This Row],[eindtijd]]-TabUren22[[#This Row],[begintijd]])-TabUren22[[#This Row],[pauze]]))","v":""},{"$f":"IF(OR(TabUren22[hoofdcategorie]=\"\",TabUren22[hoofdcategorie]=0),\"anders dan hoofdcategorie\",TabUren22[hoofdcategorie])","v":"anders dan hoofdcategorie"}]
[{"$f":"IF(TabUren22[[#This Row],[datum]]=\"\",\"\",INT((TabUren22[[#This Row],[datum]]-SUM(MOD(DATE(YEAR(TabUren22[[#This Row],[datum]]-MOD(TabUren22[[#This Row],[datum]]-2,7)+3),1,2),{1E+99;7})*{1;-1})+5) /7))","v":""},{"$f":"IF(TabUren22[[#This Row],[datum]]=\"\",\"\",TabUren22[[#This Row],[datum]])","v":""},null,null,{"$f":"IF(TabUren22[[#This Row],[datum]]=\"\",\"\",verzameldata!$C$4)","v":""},null,null,null,null,{"$f":"IF(TabUren22[[#This Row],[eindtijd]]=\"\",\"\",IF(TabUren22[[#This Row],[eindtijd]]<TabUren22[[#This Row],[begintijd]],(\"24:00\"-TabUren22[[#This Row],[begintijd]]+TabUren22[[#This Row],[eindtijd]])-TabUren22[[#This Row],[pauze]],(TabUren22[[#This Row],[eindtijd]]-TabUren22[[#This Row],[begintijd]])-TabUren22[[#This Row],[pauze]]))","v":""},{"$f":"IF(OR(TabUren22[hoofdcategorie]=\"\",TabUren22[hoofdcategorie]=0),\"anders dan hoofdcategorie\",TabUren22[hoofdcategorie])","v":"anders dan hoofdcategorie"}]
[{"$f":"IF(TabUren22[[#This Row],[datum]]=\"\",\"\",INT((TabUren22[[#This Row],[datum]]-SUM(MOD(DATE(YEAR(TabUren22[[#This Row],[datum]]-MOD(TabUren22[[#This Row],[datum]]-2,7)+3),1,2),{1E+99;7})*{1;-1})+5) /7))","v":""},{"$f":"IF(TabUren22[[#This Row],[datum]]=\"\",\"\",TabUren22[[#This Row],[datum]])","v":""},null,null,{"$f":"IF(TabUren22[[#This Row],[datum]]=\"\",\"\",verzameldata!$C$4)","v":""},null,null,null,null,{"$f":"IF(TabUren22[[#This Row],[eindtijd]]=\"\",\"\",IF(TabUren22[[#This Row],[eindtijd]]<TabUren22[[#This Row],[begintijd]],(\"24:00\"-TabUren22[[#This Row],[begintijd]]+TabUren22[[#This Row],[eindtijd]])-TabUren22[[#This Row],[pauze]],(TabUren22[[#This Row],[eindtijd]]-TabUren22[[#This Row],[begintijd]])-TabUren22[[#This Row],[pauze]]))","v":""},{"$f":"IF(OR(TabUren22[hoofdcategorie]=\"\",TabUren22[hoofdcategorie]=0),\"anders dan hoofdcategorie\",TabUren22[hoofdcategorie])","v":"anders dan hoofdcategorie"}]
[{"$f":"IF(TabUren22[[#This Row],[datum]]=\"\",\"\",INT((TabUren22[[#This Row],[datum]]-SUM(MOD(DATE(YEAR(TabUren22[[#This Row],[datum]]-MOD(TabUren22[[#This Row],[datum]]-2,7)+3),1,2),{1E+99;7})*{1;-1})+5) /7))","v":""},{"$f":"IF(TabUren22[[#This Row],[datum]]=\"\",\"\",TabUren22[[#This Row],[datum]])","v":""},null,null,{"$f":"IF(TabUren22[[#This Row],[datum]]=\"\",\"\",verzameldata!$C$4)","v":""},null,null,null,null,{"$f":"IF(TabUren22[[#This Row],[eindtijd]]=\"\",\"\",IF(TabUren22[[#This Row],[eindtijd]]<TabUren22[[#This Row],[begintijd]],(\"24:00\"-TabUren22[[#This Row],[begintijd]]+TabUren22[[#This Row],[eindtijd]])-TabUren22[[#This Row],[pauze]],(TabUren22[[#This Row],[eindtijd]]-TabUren22[[#This Row],[begintijd]])-TabUren22[[#This Row],[pauze]]))","v":""},{"$f":"IF(OR(TabUren22[hoofdcategorie]=\"\",TabUren22[hoofdcategorie]=0),\"anders dan hoofdcategorie\",TabUren22[hoofdcategorie])","v":"anders dan hoofdcategorie"}]
[{"$f":"IF(TabUren22[[#This Row],[datum]]=\"\",\"\",INT((TabUren22[[#This Row],[datum]]-SUM(MOD(DATE(YEAR(TabUren22[[#This Row],[datum]]-MOD(TabUren22[[#This Row],[datum]]-2,7)+3),1,2),{1E+99;7})*{1;-1})+5) /7))","v":""},{"$f":"IF(TabUren22[[#This Row],[datum]]=\"\",\"\",TabUren22[[#This Row],[datum]])","v":""},null,null,{"$f":"IF(TabUren22[[#This Row],[datum]]=\"\",\"\",verzameldata!$C$4)","v":""},null,null,null,null,{"$f":"IF(TabUren22[[#This Row],[eindtijd]]=\"\",\"\",IF(TabUren22[[#This Row],[eindtijd]]<TabUren22[[#This Row],[begintijd]],(\"24:00\"-TabUren22[[#This Row],[begintijd]]+TabUren22[[#This Row],[eindtijd]])-TabUren22[[#This Row],[pauze]],(TabUren22[[#This Row],[eindtijd]]-TabUren22[[#This Row],[begintijd]])-TabUren22[[#This Row],[pauze]]))","v":""},{"$f":"IF(OR(TabUren22[hoofdcategorie]=\"\",TabUren22[hoofdcategorie]=0),\"anders dan hoofdcategorie\",TabUren22[hoofdcategorie])","v":"anders dan hoofdcategorie"}]
[{"$f":"IF(TabUren22[[#This Row],[datum]]=\"\",\"\",INT((TabUren22[[#This Row],[datum]]-SUM(MOD(DATE(YEAR(TabUren22[[#This Row],[datum]]-MOD(TabUren22[[#This Row],[datum]]-2,7)+3),1,2),{1E+99;7})*{1;-1})+5) /7))","v":""},{"$f":"IF(TabUren22[[#This Row],[datum]]=\"\",\"\",TabUren22[[#This Row],[datum]])","v":""},null,null,{"$f":"IF(TabUren22[[#This Row],[datum]]=\"\",\"\",verzameldata!$C$4)","v":""},null,null,null,null,{"$f":"IF(TabUren22[[#This Row],[eindtijd]]=\"\",\"\",IF(TabUren22[[#This Row],[eindtijd]]<TabUren22[[#This Row],[begintijd]],(\"24:00\"-TabUren22[[#This Row],[begintijd]]+TabUren22[[#This Row],[eindtijd]])-TabUren22[[#This Row],[pauze]],(TabUren22[[#This Row],[eindtijd]]-TabUren22[[#This Row],[begintijd]])-TabUren22[[#This Row],[pauze]]))","v":""},{"$f":"IF(OR(TabUren22[hoofdcategorie]=\"\",TabUren22[hoofdcategorie]=0),\"anders dan hoofdcategorie\",TabUren22[hoofdcategorie])","v":"anders dan hoofdcategorie"}]
[{"$f":"IF(TabUren22[[#This Row],[datum]]=\"\",\"\",INT((TabUren22[[#This Row],[datum]]-SUM(MOD(DATE(YEAR(TabUren22[[#This Row],[datum]]-MOD(TabUren22[[#This Row],[datum]]-2,7)+3),1,2),{1E+99;7})*{1;-1})+5) /7))","v":""},{"$f":"IF(TabUren22[[#This Row],[datum]]=\"\",\"\",TabUren22[[#This Row],[datum]])","v":""},null,null,{"$f":"IF(TabUren22[[#This Row],[datum]]=\"\",\"\",verzameldata!$C$4)","v":""},null,null,null,null,{"$f":"IF(TabUren22[[#This Row],[eindtijd]]=\"\",\"\",IF(TabUren22[[#This Row],[eindtijd]]<TabUren22[[#This Row],[begintijd]],(\"24:00\"-TabUren22[[#This Row],[begintijd]]+TabUren22[[#This Row],[eindtijd]])-TabUren22[[#This Row],[pauze]],(TabUren22[[#This Row],[eindtijd]]-TabUren22[[#This Row],[begintijd]])-TabUren22[[#This Row],[pauze]]))","v":""},{"$f":"IF(OR(TabUren22[hoofdcategorie]=\"\",TabUren22[hoofdcategorie]=0),\"anders dan hoofdcategorie\",TabUren22[hoofdcategorie])","v":"anders dan hoofdcategorie"}]
[{"$f":"IF(TabUren22[[#This Row],[datum]]=\"\",\"\",INT((TabUren22[[#This Row],[datum]]-SUM(MOD(DATE(YEAR(TabUren22[[#This Row],[datum]]-MOD(TabUren22[[#This Row],[datum]]-2,7)+3),1,2),{1E+99;7})*{1;-1})+5) /7))","v":""},{"$f":"IF(TabUren22[[#This Row],[datum]]=\"\",\"\",TabUren22[[#This Row],[datum]])","v":""},null,null,{"$f":"IF(TabUren22[[#This Row],[datum]]=\"\",\"\",verzameldata!$C$4)","v":""},null,null,null,null,{"$f":"IF(TabUren22[[#This Row],[eindtijd]]=\"\",\"\",IF(TabUren22[[#This Row],[eindtijd]]<TabUren22[[#This Row],[begintijd]],(\"24:00\"-TabUren22[[#This Row],[begintijd]]+TabUren22[[#This Row],[eindtijd]])-TabUren22[[#This Row],[pauze]],(TabUren22[[#This Row],[eindtijd]]-TabUren22[[#This Row],[begintijd]])-TabUren22[[#This Row],[pauze]]))","v":""},{"$f":"IF(OR(TabUren22[hoofdcategorie]=\"\",TabUren22[hoofdcategorie]=0),\"anders dan hoofdcategorie\",TabUren22[hoofdcategorie])","v":"anders dan hoofdcategorie"}]
[{"$f":"IF(TabUren22[[#This Row],[datum]]=\"\",\"\",INT((TabUren22[[#This Row],[datum]]-SUM(MOD(DATE(YEAR(TabUren22[[#This Row],[datum]]-MOD(TabUren22[[#This Row],[datum]]-2,7)+3),1,2),{1E+99;7})*{1;-1})+5) /7))","v":""},{"$f":"IF(TabUren22[[#This Row],[datum]]=\"\",\"\",TabUren22[[#This Row],[datum]])","v":""},null,null,{"$f":"IF(TabUren22[[#This Row],[datum]]=\"\",\"\",verzameldata!$C$4)","v":""},null,null,null,null,{"$f":"IF(TabUren22[[#This Row],[eindtijd]]=\"\",\"\",IF(TabUren22[[#This Row],[eindtijd]]<TabUren22[[#This Row],[begintijd]],(\"24:00\"-TabUren22[[#This Row],[begintijd]]+TabUren22[[#This Row],[eindtijd]])-TabUren22[[#This Row],[pauze]],(TabUren22[[#This Row],[eindtijd]]-TabUren22[[#This Row],[begintijd]])-TabUren22[[#This Row],[pauze]]))","v":""},{"$f":"IF(OR(TabUren22[hoofdcategorie]=\"\",TabUren22[hoofdcategorie]=0),\"anders dan hoofdcategorie\",TabUren22[hoofdcategorie])","v":"anders dan hoofdcategorie"}]
[{"$f":"IF(TabUren22[[#This Row],[datum]]=\"\",\"\",INT((TabUren22[[#This Row],[datum]]-SUM(MOD(DATE(YEAR(TabUren22[[#This Row],[datum]]-MOD(TabUren22[[#This Row],[datum]]-2,7)+3),1,2),{1E+99;7})*{1;-1})+5) /7))","v":""},{"$f":"IF(TabUren22[[#This Row],[datum]]=\"\",\"\",TabUren22[[#This Row],[datum]])","v":""},null,null,{"$f":"IF(TabUren22[[#This Row],[datum]]=\"\",\"\",verzameldata!$C$4)","v":""},null,null,null,null,{"$f":"IF(TabUren22[[#This Row],[eindtijd]]=\"\",\"\",IF(TabUren22[[#This Row],[eindtijd]]<TabUren22[[#This Row],[begintijd]],(\"24:00\"-TabUren22[[#This Row],[begintijd]]+TabUren22[[#This Row],[eindtijd]])-TabUren22[[#This Row],[pauze]],(TabUren22[[#This Row],[eindtijd]]-TabUren22[[#This Row],[begintijd]])-TabUren22[[#This Row],[pauze]]))","v":""},{"$f":"IF(OR(TabUren22[hoofdcategorie]=\"\",TabUren22[hoofdcategorie]=0),\"anders dan hoofdcategorie\",TabUren22[hoofdcategorie])","v":"anders dan hoofdcategorie"}]
[{"$f":"IF(TabUren22[[#This Row],[datum]]=\"\",\"\",INT((TabUren22[[#This Row],[datum]]-SUM(MOD(DATE(YEAR(TabUren22[[#This Row],[datum]]-MOD(TabUren22[[#This Row],[datum]]-2,7)+3),1,2),{1E+99;7})*{1;-1})+5) /7))","v":""},{"$f":"IF(TabUren22[[#This Row],[datum]]=\"\",\"\",TabUren22[[#This Row],[datum]])","v":""},null,null,{"$f":"IF(TabUren22[[#This Row],[datum]]=\"\",\"\",verzameldata!$C$4)","v":""},null,null,null,null,{"$f":"IF(TabUren22[[#This Row],[eindtijd]]=\"\",\"\",IF(TabUren22[[#This Row],[eindtijd]]<TabUren22[[#This Row],[begintijd]],(\"24:00\"-TabUren22[[#This Row],[begintijd]]+TabUren22[[#This Row],[eindtijd]])-TabUren22[[#This Row],[pauze]],(TabUren22[[#This Row],[eindtijd]]-TabUren22[[#This Row],[begintijd]])-TabUren22[[#This Row],[pauze]]))","v":""},{"$f":"IF(OR(TabUren22[hoofdcategorie]=\"\",TabUren22[hoofdcategorie]=0),\"anders dan hoofdcategorie\",TabUren22[hoofdcategorie])","v":"anders dan hoofdcategorie"}]
[{"$f":"IF(TabUren22[[#This Row],[datum]]=\"\",\"\",INT((TabUren22[[#This Row],[datum]]-SUM(MOD(DATE(YEAR(TabUren22[[#This Row],[datum]]-MOD(TabUren22[[#This Row],[datum]]-2,7)+3),1,2),{1E+99;7})*{1;-1})+5) /7))","v":""},{"$f":"IF(TabUren22[[#This Row],[datum]]=\"\",\"\",TabUren22[[#This Row],[datum]])","v":""},null,null,{"$f":"IF(TabUren22[[#This Row],[datum]]=\"\",\"\",verzameldata!$C$4)","v":""},null,null,null,null,{"$f":"IF(TabUren22[[#This Row],[eindtijd]]=\"\",\"\",IF(TabUren22[[#This Row],[eindtijd]]<TabUren22[[#This Row],[begintijd]],(\"24:00\"-TabUren22[[#This Row],[begintijd]]+TabUren22[[#This Row],[eindtijd]])-TabUren22[[#This Row],[pauze]],(TabUren22[[#This Row],[eindtijd]]-TabUren22[[#This Row],[begintijd]])-TabUren22[[#This Row],[pauze]]))","v":""},{"$f":"IF(OR(TabUren22[hoofdcategorie]=\"\",TabUren22[hoofdcategorie]=0),\"anders dan hoofdcategorie\",TabUren22[hoofdcategorie])","v":"anders dan hoofdcategorie"}]
[{"$f":"IF(TabUren22[[#This Row],[datum]]=\"\",\"\",INT((TabUren22[[#This Row],[datum]]-SUM(MOD(DATE(YEAR(TabUren22[[#This Row],[datum]]-MOD(TabUren22[[#This Row],[datum]]-2,7)+3),1,2),{1E+99;7})*{1;-1})+5) /7))","v":""},{"$f":"IF(TabUren22[[#This Row],[datum]]=\"\",\"\",TabUren22[[#This Row],[datum]])","v":""},null,null,{"$f":"IF(TabUren22[[#This Row],[datum]]=\"\",\"\",verzameldata!$C$4)","v":""},null,null,null,null,{"$f":"IF(TabUren22[[#This Row],[eindtijd]]=\"\",\"\",IF(TabUren22[[#This Row],[eindtijd]]<TabUren22[[#This Row],[begintijd]],(\"24:00\"-TabUren22[[#This Row],[begintijd]]+TabUren22[[#This Row],[eindtijd]])-TabUren22[[#This Row],[pauze]],(TabUren22[[#This Row],[eindtijd]]-TabUren22[[#This Row],[begintijd]])-TabUren22[[#This Row],[pauze]]))","v":""},{"$f":"IF(OR(TabUren22[hoofdcategorie]=\"\",TabUren22[hoofdcategorie]=0),\"anders dan hoofdcategorie\",TabUren22[hoofdcategorie])","v":"anders dan hoofdcategorie"}]
[{"$f":"IF(TabUren22[[#This Row],[datum]]=\"\",\"\",INT((TabUren22[[#This Row],[datum]]-SUM(MOD(DATE(YEAR(TabUren22[[#This Row],[datum]]-MOD(TabUren22[[#This Row],[datum]]-2,7)+3),1,2),{1E+99;7})*{1;-1})+5) /7))","v":""},{"$f":"IF(TabUren22[[#This Row],[datum]]=\"\",\"\",TabUren22[[#This Row],[datum]])","v":""},null,null,{"$f":"IF(TabUren22[[#This Row],[datum]]=\"\",\"\",verzameldata!$C$4)","v":""},null,null,null,null,{"$f":"IF(TabUren22[[#This Row],[eindtijd]]=\"\",\"\",IF(TabUren22[[#This Row],[eindtijd]]<TabUren22[[#This Row],[begintijd]],(\"24:00\"-TabUren22[[#This Row],[begintijd]]+TabUren22[[#This Row],[eindtijd]])-TabUren22[[#This Row],[pauze]],(TabUren22[[#This Row],[eindtijd]]-TabUren22[[#This Row],[begintijd]])-TabUren22[[#This Row],[pauze]]))","v":""},{"$f":"IF(OR(TabUren22[hoofdcategorie]=\"\",TabUren22[hoofdcategorie]=0),\"anders dan hoofdcategorie\",TabUren22[hoofdcategorie])","v":"anders dan hoofdcategorie"}]
[{"$f":"IF(TabUren22[[#This Row],[datum]]=\"\",\"\",INT((TabUren22[[#This Row],[datum]]-SUM(MOD(DATE(YEAR(TabUren22[[#This Row],[datum]]-MOD(TabUren22[[#This Row],[datum]]-2,7)+3),1,2),{1E+99;7})*{1;-1})+5) /7))","v":""},{"$f":"IF(TabUren22[[#This Row],[datum]]=\"\",\"\",TabUren22[[#This Row],[datum]])","v":""},null,null,{"$f":"IF(TabUren22[[#This Row],[datum]]=\"\",\"\",verzameldata!$C$4)","v":""},null,null,null,null,{"$f":"IF(TabUren22[[#This Row],[eindtijd]]=\"\",\"\",IF(TabUren22[[#This Row],[eindtijd]]<TabUren22[[#This Row],[begintijd]],(\"24:00\"-TabUren22[[#This Row],[begintijd]]+TabUren22[[#This Row],[eindtijd]])-TabUren22[[#This Row],[pauze]],(TabUren22[[#This Row],[eindtijd]]-TabUren22[[#This Row],[begintijd]])-TabUren22[[#This Row],[pauze]]))","v":""},{"$f":"IF(OR(TabUren22[hoofdcategorie]=\"\",TabUren22[hoofdcategorie]=0),\"anders dan hoofdcategorie\",TabUren22[hoofdcategorie])","v":"anders dan hoofdcategorie"}]
[{"$f":"IF(TabUren22[[#This Row],[datum]]=\"\",\"\",INT((TabUren22[[#This Row],[datum]]-SUM(MOD(DATE(YEAR(TabUren22[[#This Row],[datum]]-MOD(TabUren22[[#This Row],[datum]]-2,7)+3),1,2),{1E+99;7})*{1;-1})+5) /7))","v":""},{"$f":"IF(TabUren22[[#This Row],[datum]]=\"\",\"\",TabUren22[[#This Row],[datum]])","v":""},null,null,{"$f":"IF(TabUren22[[#This Row],[datum]]=\"\",\"\",verzameldata!$C$4)","v":""},null,null,null,null,{"$f":"IF(TabUren22[[#This Row],[eindtijd]]=\"\",\"\",IF(TabUren22[[#This Row],[eindtijd]]<TabUren22[[#This Row],[begintijd]],(\"24:00\"-TabUren22[[#This Row],[begintijd]]+TabUren22[[#This Row],[eindtijd]])-TabUren22[[#This Row],[pauze]],(TabUren22[[#This Row],[eindtijd]]-TabUren22[[#This Row],[begintijd]])-TabUren22[[#This Row],[pauze]]))","v":""},{"$f":"IF(OR(TabUren22[hoofdcategorie]=\"\",TabUren22[hoofdcategorie]=0),\"anders dan hoofdcategorie\",TabUren22[hoofdcategorie])","v":"anders dan hoofdcategorie"}]
[{"$f":"IF(TabUren22[[#This Row],[datum]]=\"\",\"\",INT((TabUren22[[#This Row],[datum]]-SUM(MOD(DATE(YEAR(TabUren22[[#This Row],[datum]]-MOD(TabUren22[[#This Row],[datum]]-2,7)+3),1,2),{1E+99;7})*{1;-1})+5) /7))","v":""},{"$f":"IF(TabUren22[[#This Row],[datum]]=\"\",\"\",TabUren22[[#This Row],[datum]])","v":""},null,null,{"$f":"IF(TabUren22[[#This Row],[datum]]=\"\",\"\",verzameldata!$C$4)","v":""},null,null,null,null,{"$f":"IF(TabUren22[[#This Row],[eindtijd]]=\"\",\"\",IF(TabUren22[[#This Row],[eindtijd]]<TabUren22[[#This Row],[begintijd]],(\"24:00\"-TabUren22[[#This Row],[begintijd]]+TabUren22[[#This Row],[eindtijd]])-TabUren22[[#This Row],[pauze]],(TabUren22[[#This Row],[eindtijd]]-TabUren22[[#This Row],[begintijd]])-TabUren22[[#This Row],[pauze]]))","v":""},{"$f":"IF(OR(TabUren22[hoofdcategorie]=\"\",TabUren22[hoofdcategorie]=0),\"anders dan hoofdcategorie\",TabUren22[hoofdcategorie])","v":"anders dan hoofdcategorie"}]
[{"$f":"IF(TabUren22[[#This Row],[datum]]=\"\",\"\",INT((TabUren22[[#This Row],[datum]]-SUM(MOD(DATE(YEAR(TabUren22[[#This Row],[datum]]-MOD(TabUren22[[#This Row],[datum]]-2,7)+3),1,2),{1E+99;7})*{1;-1})+5) /7))","v":""},{"$f":"IF(TabUren22[[#This Row],[datum]]=\"\",\"\",TabUren22[[#This Row],[datum]])","v":""},null,null,{"$f":"IF(TabUren22[[#This Row],[datum]]=\"\",\"\",verzameldata!$C$4)","v":""},null,null,null,null,{"$f":"IF(TabUren22[[#This Row],[eindtijd]]=\"\",\"\",IF(TabUren22[[#This Row],[eindtijd]]<TabUren22[[#This Row],[begintijd]],(\"24:00\"-TabUren22[[#This Row],[begintijd]]+TabUren22[[#This Row],[eindtijd]])-TabUren22[[#This Row],[pauze]],(TabUren22[[#This Row],[eindtijd]]-TabUren22[[#This Row],[begintijd]])-TabUren22[[#This Row],[pauze]]))","v":""},{"$f":"IF(OR(TabUren22[hoofdcategorie]=\"\",TabUren22[hoofdcategorie]=0),\"anders dan hoofdcategorie\",TabUren22[hoofdcategorie])","v":"anders dan hoofdcategorie"}]
[{"$f":"IF(TabUren22[[#This Row],[datum]]=\"\",\"\",INT((TabUren22[[#This Row],[datum]]-SUM(MOD(DATE(YEAR(TabUren22[[#This Row],[datum]]-MOD(TabUren22[[#This Row],[datum]]-2,7)+3),1,2),{1E+99;7})*{1;-1})+5) /7))","v":""},{"$f":"IF(TabUren22[[#This Row],[datum]]=\"\",\"\",TabUren22[[#This Row],[datum]])","v":""},null,null,{"$f":"IF(TabUren22[[#This Row],[datum]]=\"\",\"\",verzameldata!$C$4)","v":""},null,null,null,null,{"$f":"IF(TabUren22[[#This Row],[eindtijd]]=\"\",\"\",IF(TabUren22[[#This Row],[eindtijd]]<TabUren22[[#This Row],[begintijd]],(\"24:00\"-TabUren22[[#This Row],[begintijd]]+TabUren22[[#This Row],[eindtijd]])-TabUren22[[#This Row],[pauze]],(TabUren22[[#This Row],[eindtijd]]-TabUren22[[#This Row],[begintijd]])-TabUren22[[#This Row],[pauze]]))","v":""},{"$f":"IF(OR(TabUren22[hoofdcategorie]=\"\",TabUren22[hoofdcategorie]=0),\"anders dan hoofdcategorie\",TabUren22[hoofdcategorie])","v":"anders dan hoofdcategorie"}]
[{"$f":"IF(TabUren22[[#This Row],[datum]]=\"\",\"\",INT((TabUren22[[#This Row],[datum]]-SUM(MOD(DATE(YEAR(TabUren22[[#This Row],[datum]]-MOD(TabUren22[[#This Row],[datum]]-2,7)+3),1,2),{1E+99;7})*{1;-1})+5) /7))","v":""},{"$f":"IF(TabUren22[[#This Row],[datum]]=\"\",\"\",TabUren22[[#This Row],[datum]])","v":""},null,null,{"$f":"IF(TabUren22[[#This Row],[datum]]=\"\",\"\",verzameldata!$C$4)","v":""},null,null,null,null,{"$f":"IF(TabUren22[[#This Row],[eindtijd]]=\"\",\"\",IF(TabUren22[[#This Row],[eindtijd]]<TabUren22[[#This Row],[begintijd]],(\"24:00\"-TabUren22[[#This Row],[begintijd]]+TabUren22[[#This Row],[eindtijd]])-TabUren22[[#This Row],[pauze]],(TabUren22[[#This Row],[eindtijd]]-TabUren22[[#This Row],[begintijd]])-TabUren22[[#This Row],[pauze]]))","v":""},{"$f":"IF(OR(TabUren22[hoofdcategorie]=\"\",TabUren22[hoofdcategorie]=0),\"anders dan hoofdcategorie\",TabUren22[hoofdcategorie])","v":"anders dan hoofdcategorie"}]
[{"$f":"IF(TabUren22[[#This Row],[datum]]=\"\",\"\",INT((TabUren22[[#This Row],[datum]]-SUM(MOD(DATE(YEAR(TabUren22[[#This Row],[datum]]-MOD(TabUren22[[#This Row],[datum]]-2,7)+3),1,2),{1E+99;7})*{1;-1})+5) /7))","v":""},{"$f":"IF(TabUren22[[#This Row],[datum]]=\"\",\"\",TabUren22[[#This Row],[datum]])","v":""},null,null,{"$f":"IF(TabUren22[[#This Row],[datum]]=\"\",\"\",verzameldata!$C$4)","v":""},null,null,null,null,{"$f":"IF(TabUren22[[#This Row],[eindtijd]]=\"\",\"\",IF(TabUren22[[#This Row],[eindtijd]]<TabUren22[[#This Row],[begintijd]],(\"24:00\"-TabUren22[[#This Row],[begintijd]]+TabUren22[[#This Row],[eindtijd]])-TabUren22[[#This Row],[pauze]],(TabUren22[[#This Row],[eindtijd]]-TabUren22[[#This Row],[begintijd]])-TabUren22[[#This Row],[pauze]]))","v":""},{"$f":"IF(OR(TabUren22[hoofdcategorie]=\"\",TabUren22[hoofdcategorie]=0),\"anders dan hoofdcategorie\",TabUren22[hoofdcategorie])","v":"anders dan hoofdcategorie"}]
[{"$f":"IF(TabUren22[[#This Row],[datum]]=\"\",\"\",INT((TabUren22[[#This Row],[datum]]-SUM(MOD(DATE(YEAR(TabUren22[[#This Row],[datum]]-MOD(TabUren22[[#This Row],[datum]]-2,7)+3),1,2),{1E+99;7})*{1;-1})+5) /7))","v":""},{"$f":"IF(TabUren22[[#This Row],[datum]]=\"\",\"\",TabUren22[[#This Row],[datum]])","v":""},null,null,{"$f":"IF(TabUren22[[#This Row],[datum]]=\"\",\"\",verzameldata!$C$4)","v":""},null,null,null,null,{"$f":"IF(TabUren22[[#This Row],[eindtijd]]=\"\",\"\",IF(TabUren22[[#This Row],[eindtijd]]<TabUren22[[#This Row],[begintijd]],(\"24:00\"-TabUren22[[#This Row],[begintijd]]+TabUren22[[#This Row],[eindtijd]])-TabUren22[[#This Row],[pauze]],(TabUren22[[#This Row],[eindtijd]]-TabUren22[[#This Row],[begintijd]])-TabUren22[[#This Row],[pauze]]))","v":""},{"$f":"IF(OR(TabUren22[hoofdcategorie]=\"\",TabUren22[hoofdcategorie]=0),\"anders dan hoofdcategorie\",TabUren22[hoofdcategorie])","v":"anders dan hoofdcategorie"}]
[{"$f":"IF(TabUren22[[#This Row],[datum]]=\"\",\"\",INT((TabUren22[[#This Row],[datum]]-SUM(MOD(DATE(YEAR(TabUren22[[#This Row],[datum]]-MOD(TabUren22[[#This Row],[datum]]-2,7)+3),1,2),{1E+99;7})*{1;-1})+5) /7))","v":""},{"$f":"IF(TabUren22[[#This Row],[datum]]=\"\",\"\",TabUren22[[#This Row],[datum]])","v":""},null,null,{"$f":"IF(TabUren22[[#This Row],[datum]]=\"\",\"\",verzameldata!$C$4)","v":""},null,null,null,null,{"$f":"IF(TabUren22[[#This Row],[eindtijd]]=\"\",\"\",IF(TabUren22[[#This Row],[eindtijd]]<TabUren22[[#This Row],[begintijd]],(\"24:00\"-TabUren22[[#This Row],[begintijd]]+TabUren22[[#This Row],[eindtijd]])-TabUren22[[#This Row],[pauze]],(TabUren22[[#This Row],[eindtijd]]-TabUren22[[#This Row],[begintijd]])-TabUren22[[#This Row],[pauze]]))","v":""},{"$f":"IF(OR(TabUren22[hoofdcategorie]=\"\",TabUren22[hoofdcategorie]=0),\"anders dan hoofdcategorie\",TabUren22[hoofdcategorie])","v":"anders dan hoofdcategorie"}]
[{"$f":"IF(TabUren22[[#This Row],[datum]]=\"\",\"\",INT((TabUren22[[#This Row],[datum]]-SUM(MOD(DATE(YEAR(TabUren22[[#This Row],[datum]]-MOD(TabUren22[[#This Row],[datum]]-2,7)+3),1,2),{1E+99;7})*{1;-1})+5) /7))","v":""},{"$f":"IF(TabUren22[[#This Row],[datum]]=\"\",\"\",TabUren22[[#This Row],[datum]])","v":""},null,null,{"$f":"IF(TabUren22[[#This Row],[datum]]=\"\",\"\",verzameldata!$C$4)","v":""},null,null,null,null,{"$f":"IF(TabUren22[[#This Row],[eindtijd]]=\"\",\"\",IF(TabUren22[[#This Row],[eindtijd]]<TabUren22[[#This Row],[begintijd]],(\"24:00\"-TabUren22[[#This Row],[begintijd]]+TabUren22[[#This Row],[eindtijd]])-TabUren22[[#This Row],[pauze]],(TabUren22[[#This Row],[eindtijd]]-TabUren22[[#This Row],[begintijd]])-TabUren22[[#This Row],[pauze]]))","v":""},{"$f":"IF(OR(TabUren22[hoofdcategorie]=\"\",TabUren22[hoofdcategorie]=0),\"anders dan hoofdcategorie\",TabUren22[hoofdcategorie])","v":"anders dan hoofdcategorie"}]
[{"$f":"IF(TabUren22[[#This Row],[datum]]=\"\",\"\",INT((TabUren22[[#This Row],[datum]]-SUM(MOD(DATE(YEAR(TabUren22[[#This Row],[datum]]-MOD(TabUren22[[#This Row],[datum]]-2,7)+3),1,2),{1E+99;7})*{1;-1})+5) /7))","v":""},{"$f":"IF(TabUren22[[#This Row],[datum]]=\"\",\"\",TabUren22[[#This Row],[datum]])","v":""},null,null,{"$f":"IF(TabUren22[[#This Row],[datum]]=\"\",\"\",verzameldata!$C$4)","v":""},null,null,null,null,{"$f":"IF(TabUren22[[#This Row],[eindtijd]]=\"\",\"\",IF(TabUren22[[#This Row],[eindtijd]]<TabUren22[[#This Row],[begintijd]],(\"24:00\"-TabUren22[[#This Row],[begintijd]]+TabUren22[[#This Row],[eindtijd]])-TabUren22[[#This Row],[pauze]],(TabUren22[[#This Row],[eindtijd]]-TabUren22[[#This Row],[begintijd]])-TabUren22[[#This Row],[pauze]]))","v":""},{"$f":"IF(OR(TabUren22[hoofdcategorie]=\"\",TabUren22[hoofdcategorie]=0),\"anders dan hoofdcategorie\",TabUren22[hoofdcategorie])","v":"anders dan hoofdcategorie"}]
[{"$f":"IF(TabUren22[[#This Row],[datum]]=\"\",\"\",INT((TabUren22[[#This Row],[datum]]-SUM(MOD(DATE(YEAR(TabUren22[[#This Row],[datum]]-MOD(TabUren22[[#This Row],[datum]]-2,7)+3),1,2),{1E+99;7})*{1;-1})+5) /7))","v":""},{"$f":"IF(TabUren22[[#This Row],[datum]]=\"\",\"\",TabUren22[[#This Row],[datum]])","v":""},null,null,{"$f":"IF(TabUren22[[#This Row],[datum]]=\"\",\"\",verzameldata!$C$4)","v":""},null,null,null,null,{"$f":"IF(TabUren22[[#This Row],[eindtijd]]=\"\",\"\",IF(TabUren22[[#This Row],[eindtijd]]<TabUren22[[#This Row],[begintijd]],(\"24:00\"-TabUren22[[#This Row],[begintijd]]+TabUren22[[#This Row],[eindtijd]])-TabUren22[[#This Row],[pauze]],(TabUren22[[#This Row],[eindtijd]]-TabUren22[[#This Row],[begintijd]])-TabUren22[[#This Row],[pauze]]))","v":""},{"$f":"IF(OR(TabUren22[hoofdcategorie]=\"\",TabUren22[hoofdcategorie]=0),\"anders dan hoofdcategorie\",TabUren22[hoofdcategorie])","v":"anders dan hoofdcategorie"}]
[{"$f":"IF(TabUren22[[#This Row],[datum]]=\"\",\"\",INT((TabUren22[[#This Row],[datum]]-SUM(MOD(DATE(YEAR(TabUren22[[#This Row],[datum]]-MOD(TabUren22[[#This Row],[datum]]-2,7)+3),1,2),{1E+99;7})*{1;-1})+5) /7))","v":""},{"$f":"IF(TabUren22[[#This Row],[datum]]=\"\",\"\",TabUren22[[#This Row],[datum]])","v":""},null,null,{"$f":"IF(TabUren22[[#This Row],[datum]]=\"\",\"\",verzameldata!$C$4)","v":""},null,null,null,null,{"$f":"IF(TabUren22[[#This Row],[eindtijd]]=\"\",\"\",IF(TabUren22[[#This Row],[eindtijd]]<TabUren22[[#This Row],[begintijd]],(\"24:00\"-TabUren22[[#This Row],[begintijd]]+TabUren22[[#This Row],[eindtijd]])-TabUren22[[#This Row],[pauze]],(TabUren22[[#This Row],[eindtijd]]-TabUren22[[#This Row],[begintijd]])-TabUren22[[#This Row],[pauze]]))","v":""},{"$f":"IF(OR(TabUren22[hoofdcategorie]=\"\",TabUren22[hoofdcategorie]=0),\"anders dan hoofdcategorie\",TabUren22[hoofdcategorie])","v":"anders dan hoofdcategorie"}]
[{"$f":"IF(TabUren22[[#This Row],[datum]]=\"\",\"\",INT((TabUren22[[#This Row],[datum]]-SUM(MOD(DATE(YEAR(TabUren22[[#This Row],[datum]]-MOD(TabUren22[[#This Row],[datum]]-2,7)+3),1,2),{1E+99;7})*{1;-1})+5) /7))","v":""},{"$f":"IF(TabUren22[[#This Row],[datum]]=\"\",\"\",TabUren22[[#This Row],[datum]])","v":""},null,null,{"$f":"IF(TabUren22[[#This Row],[datum]]=\"\",\"\",verzameldata!$C$4)","v":""},null,null,null,null,{"$f":"IF(TabUren22[[#This Row],[eindtijd]]=\"\",\"\",IF(TabUren22[[#This Row],[eindtijd]]<TabUren22[[#This Row],[begintijd]],(\"24:00\"-TabUren22[[#This Row],[begintijd]]+TabUren22[[#This Row],[eindtijd]])-TabUren22[[#This Row],[pauze]],(TabUren22[[#This Row],[eindtijd]]-TabUren22[[#This Row],[begintijd]])-TabUren22[[#This Row],[pauze]]))","v":""},{"$f":"IF(OR(TabUren22[hoofdcategorie]=\"\",TabUren22[hoofdcategorie]=0),\"anders dan hoofdcategorie\",TabUren22[hoofdcategorie])","v":"anders dan hoofdcategorie"}]
[{"$f":"IF(TabUren22[[#This Row],[datum]]=\"\",\"\",INT((TabUren22[[#This Row],[datum]]-SUM(MOD(DATE(YEAR(TabUren22[[#This Row],[datum]]-MOD(TabUren22[[#This Row],[datum]]-2,7)+3),1,2),{1E+99;7})*{1;-1})+5) /7))","v":""},{"$f":"IF(TabUren22[[#This Row],[datum]]=\"\",\"\",TabUren22[[#This Row],[datum]])","v":""},null,null,{"$f":"IF(TabUren22[[#This Row],[datum]]=\"\",\"\",verzameldata!$C$4)","v":""},null,null,null,null,{"$f":"IF(TabUren22[[#This Row],[eindtijd]]=\"\",\"\",IF(TabUren22[[#This Row],[eindtijd]]<TabUren22[[#This Row],[begintijd]],(\"24:00\"-TabUren22[[#This Row],[begintijd]]+TabUren22[[#This Row],[eindtijd]])-TabUren22[[#This Row],[pauze]],(TabUren22[[#This Row],[eindtijd]]-TabUren22[[#This Row],[begintijd]])-TabUren22[[#This Row],[pauze]]))","v":""},{"$f":"IF(OR(TabUren22[hoofdcategorie]=\"\",TabUren22[hoofdcategorie]=0),\"anders dan hoofdcategorie\",TabUren22[hoofdcategorie])","v":"anders dan hoofdcategorie"}]
[{"$f":"IF(TabUren22[[#This Row],[datum]]=\"\",\"\",INT((TabUren22[[#This Row],[datum]]-SUM(MOD(DATE(YEAR(TabUren22[[#This Row],[datum]]-MOD(TabUren22[[#This Row],[datum]]-2,7)+3),1,2),{1E+99;7})*{1;-1})+5) /7))","v":""},{"$f":"IF(TabUren22[[#This Row],[datum]]=\"\",\"\",TabUren22[[#This Row],[datum]])","v":""},null,null,{"$f":"IF(TabUren22[[#This Row],[datum]]=\"\",\"\",verzameldata!$C$4)","v":""},null,null,null,null,{"$f":"IF(TabUren22[[#This Row],[eindtijd]]=\"\",\"\",IF(TabUren22[[#This Row],[eindtijd]]<TabUren22[[#This Row],[begintijd]],(\"24:00\"-TabUren22[[#This Row],[begintijd]]+TabUren22[[#This Row],[eindtijd]])-TabUren22[[#This Row],[pauze]],(TabUren22[[#This Row],[eindtijd]]-TabUren22[[#This Row],[begintijd]])-TabUren22[[#This Row],[pauze]]))","v":""},{"$f":"IF(OR(TabUren22[hoofdcategorie]=\"\",TabUren22[hoofdcategorie]=0),\"anders dan hoofdcategorie\",TabUren22[hoofdcategorie])","v":"anders dan hoofdcategorie"}]
[{"$f":"IF(TabUren22[[#This Row],[datum]]=\"\",\"\",INT((TabUren22[[#This Row],[datum]]-SUM(MOD(DATE(YEAR(TabUren22[[#This Row],[datum]]-MOD(TabUren22[[#This Row],[datum]]-2,7)+3),1,2),{1E+99;7})*{1;-1})+5) /7))","v":""},{"$f":"IF(TabUren22[[#This Row],[datum]]=\"\",\"\",TabUren22[[#This Row],[datum]])","v":""},null,null,{"$f":"IF(TabUren22[[#This Row],[datum]]=\"\",\"\",verzameldata!$C$4)","v":""},null,null,null,null,{"$f":"IF(TabUren22[[#This Row],[eindtijd]]=\"\",\"\",IF(TabUren22[[#This Row],[eindtijd]]<TabUren22[[#This Row],[begintijd]],(\"24:00\"-TabUren22[[#This Row],[begintijd]]+TabUren22[[#This Row],[eindtijd]])-TabUren22[[#This Row],[pauze]],(TabUren22[[#This Row],[eindtijd]]-TabUren22[[#This Row],[begintijd]])-TabUren22[[#This Row],[pauze]]))","v":""},{"$f":"IF(OR(TabUren22[hoofdcategorie]=\"\",TabUren22[hoofdcategorie]=0),\"anders dan hoofdcategorie\",TabUren22[hoofdcategorie])","v":"anders dan hoofdcategorie"}]
[{"$f":"IF(TabUren22[[#This Row],[datum]]=\"\",\"\",INT((TabUren22[[#This Row],[datum]]-SUM(MOD(DATE(YEAR(TabUren22[[#This Row],[datum]]-MOD(TabUren22[[#This Row],[datum]]-2,7)+3),1,2),{1E+99;7})*{1;-1})+5) /7))","v":""},{"$f":"IF(TabUren22[[#This Row],[datum]]=\"\",\"\",TabUren22[[#This Row],[datum]])","v":""},null,null,{"$f":"IF(TabUren22[[#This Row],[datum]]=\"\",\"\",verzameldata!$C$4)","v":""},null,null,null,null,{"$f":"IF(TabUren22[[#This Row],[eindtijd]]=\"\",\"\",IF(TabUren22[[#This Row],[eindtijd]]<TabUren22[[#This Row],[begintijd]],(\"24:00\"-TabUren22[[#This Row],[begintijd]]+TabUren22[[#This Row],[eindtijd]])-TabUren22[[#This Row],[pauze]],(TabUren22[[#This Row],[eindtijd]]-TabUren22[[#This Row],[begintijd]])-TabUren22[[#This Row],[pauze]]))","v":""},{"$f":"IF(OR(TabUren22[hoofdcategorie]=\"\",TabUren22[hoofdcategorie]=0),\"anders dan hoofdcategorie\",TabUren22[hoofdcategorie])","v":"anders dan hoofdcategorie"}]
[{"$f":"IF(TabUren22[[#This Row],[datum]]=\"\",\"\",INT((TabUren22[[#This Row],[datum]]-SUM(MOD(DATE(YEAR(TabUren22[[#This Row],[datum]]-MOD(TabUren22[[#This Row],[datum]]-2,7)+3),1,2),{1E+99;7})*{1;-1})+5) /7))","v":""},{"$f":"IF(TabUren22[[#This Row],[datum]]=\"\",\"\",TabUren22[[#This Row],[datum]])","v":""},null,null,{"$f":"IF(TabUren22[[#This Row],[datum]]=\"\",\"\",verzameldata!$C$4)","v":""},null,null,null,null,{"$f":"IF(TabUren22[[#This Row],[eindtijd]]=\"\",\"\",IF(TabUren22[[#This Row],[eindtijd]]<TabUren22[[#This Row],[begintijd]],(\"24:00\"-TabUren22[[#This Row],[begintijd]]+TabUren22[[#This Row],[eindtijd]])-TabUren22[[#This Row],[pauze]],(TabUren22[[#This Row],[eindtijd]]-TabUren22[[#This Row],[begintijd]])-TabUren22[[#This Row],[pauze]]))","v":""},{"$f":"IF(OR(TabUren22[hoofdcategorie]=\"\",TabUren22[hoofdcategorie]=0),\"anders dan hoofdcategorie\",TabUren22[hoofdcategorie])","v":"anders dan hoofdcategorie"}]
[{"$f":"IF(TabUren22[[#This Row],[datum]]=\"\",\"\",INT((TabUren22[[#This Row],[datum]]-SUM(MOD(DATE(YEAR(TabUren22[[#This Row],[datum]]-MOD(TabUren22[[#This Row],[datum]]-2,7)+3),1,2),{1E+99;7})*{1;-1})+5) /7))","v":""},{"$f":"IF(TabUren22[[#This Row],[datum]]=\"\",\"\",TabUren22[[#This Row],[datum]])","v":""},null,null,{"$f":"IF(TabUren22[[#This Row],[datum]]=\"\",\"\",verzameldata!$C$4)","v":""},null,null,null,null,{"$f":"IF(TabUren22[[#This Row],[eindtijd]]=\"\",\"\",IF(TabUren22[[#This Row],[eindtijd]]<TabUren22[[#This Row],[begintijd]],(\"24:00\"-TabUren22[[#This Row],[begintijd]]+TabUren22[[#This Row],[eindtijd]])-TabUren22[[#This Row],[pauze]],(TabUren22[[#This Row],[eindtijd]]-TabUren22[[#This Row],[begintijd]])-TabUren22[[#This Row],[pauze]]))","v":""},{"$f":"IF(OR(TabUren22[hoofdcategorie]=\"\",TabUren22[hoofdcategorie]=0),\"anders dan hoofdcategorie\",TabUren22[hoofdcategorie])","v":"anders dan hoofdcategorie"}]
[{"$f":"IF(TabUren22[[#This Row],[datum]]=\"\",\"\",INT((TabUren22[[#This Row],[datum]]-SUM(MOD(DATE(YEAR(TabUren22[[#This Row],[datum]]-MOD(TabUren22[[#This Row],[datum]]-2,7)+3),1,2),{1E+99;7})*{1;-1})+5) /7))","v":""},{"$f":"IF(TabUren22[[#This Row],[datum]]=\"\",\"\",TabUren22[[#This Row],[datum]])","v":""},null,null,{"$f":"IF(TabUren22[[#This Row],[datum]]=\"\",\"\",verzameldata!$C$4)","v":""},null,null,null,null,{"$f":"IF(TabUren22[[#This Row],[eindtijd]]=\"\",\"\",IF(TabUren22[[#This Row],[eindtijd]]<TabUren22[[#This Row],[begintijd]],(\"24:00\"-TabUren22[[#This Row],[begintijd]]+TabUren22[[#This Row],[eindtijd]])-TabUren22[[#This Row],[pauze]],(TabUren22[[#This Row],[eindtijd]]-TabUren22[[#This Row],[begintijd]])-TabUren22[[#This Row],[pauze]]))","v":""},{"$f":"IF(OR(TabUren22[hoofdcategorie]=\"\",TabUren22[hoofdcategorie]=0),\"anders dan hoofdcategorie\",TabUren22[hoofdcategorie])","v":"anders dan hoofdcategorie"}]
[{"$f":"IF(TabUren22[[#This Row],[datum]]=\"\",\"\",INT((TabUren22[[#This Row],[datum]]-SUM(MOD(DATE(YEAR(TabUren22[[#This Row],[datum]]-MOD(TabUren22[[#This Row],[datum]]-2,7)+3),1,2),{1E+99;7})*{1;-1})+5) /7))","v":""},{"$f":"IF(TabUren22[[#This Row],[datum]]=\"\",\"\",TabUren22[[#This Row],[datum]])","v":""},null,null,{"$f":"IF(TabUren22[[#This Row],[datum]]=\"\",\"\",verzameldata!$C$4)","v":""},null,null,null,null,{"$f":"IF(TabUren22[[#This Row],[eindtijd]]=\"\",\"\",IF(TabUren22[[#This Row],[eindtijd]]<TabUren22[[#This Row],[begintijd]],(\"24:00\"-TabUren22[[#This Row],[begintijd]]+TabUren22[[#This Row],[eindtijd]])-TabUren22[[#This Row],[pauze]],(TabUren22[[#This Row],[eindtijd]]-TabUren22[[#This Row],[begintijd]])-TabUren22[[#This Row],[pauze]]))","v":""},{"$f":"IF(OR(TabUren22[hoofdcategorie]=\"\",TabUren22[hoofdcategorie]=0),\"anders dan hoofdcategorie\",TabUren22[hoofdcategorie])","v":"anders dan hoofdcategorie"}]
[{"$f":"IF(TabUren22[[#This Row],[datum]]=\"\",\"\",INT((TabUren22[[#This Row],[datum]]-SUM(MOD(DATE(YEAR(TabUren22[[#This Row],[datum]]-MOD(TabUren22[[#This Row],[datum]]-2,7)+3),1,2),{1E+99;7})*{1;-1})+5) /7))","v":""},{"$f":"IF(TabUren22[[#This Row],[datum]]=\"\",\"\",TabUren22[[#This Row],[datum]])","v":""},null,null,{"$f":"IF(TabUren22[[#This Row],[datum]]=\"\",\"\",verzameldata!$C$4)","v":""},null,null,null,null,{"$f":"IF(TabUren22[[#This Row],[eindtijd]]=\"\",\"\",IF(TabUren22[[#This Row],[eindtijd]]<TabUren22[[#This Row],[begintijd]],(\"24:00\"-TabUren22[[#This Row],[begintijd]]+TabUren22[[#This Row],[eindtijd]])-TabUren22[[#This Row],[pauze]],(TabUren22[[#This Row],[eindtijd]]-TabUren22[[#This Row],[begintijd]])-TabUren22[[#This Row],[pauze]]))","v":""},{"$f":"IF(OR(TabUren22[hoofdcategorie]=\"\",TabUren22[hoofdcategorie]=0),\"anders dan hoofdcategorie\",TabUren22[hoofdcategorie])","v":"anders dan hoofdcategorie"}]
[{"$f":"IF(TabUren22[[#This Row],[datum]]=\"\",\"\",INT((TabUren22[[#This Row],[datum]]-SUM(MOD(DATE(YEAR(TabUren22[[#This Row],[datum]]-MOD(TabUren22[[#This Row],[datum]]-2,7)+3),1,2),{1E+99;7})*{1;-1})+5) /7))","v":""},{"$f":"IF(TabUren22[[#This Row],[datum]]=\"\",\"\",TabUren22[[#This Row],[datum]])","v":""},null,null,{"$f":"IF(TabUren22[[#This Row],[datum]]=\"\",\"\",verzameldata!$C$4)","v":""},null,null,null,null,{"$f":"IF(TabUren22[[#This Row],[eindtijd]]=\"\",\"\",IF(TabUren22[[#This Row],[eindtijd]]<TabUren22[[#This Row],[begintijd]],(\"24:00\"-TabUren22[[#This Row],[begintijd]]+TabUren22[[#This Row],[eindtijd]])-TabUren22[[#This Row],[pauze]],(TabUren22[[#This Row],[eindtijd]]-TabUren22[[#This Row],[begintijd]])-TabUren22[[#This Row],[pauze]]))","v":""},{"$f":"IF(OR(TabUren22[hoofdcategorie]=\"\",TabUren22[hoofdcategorie]=0),\"anders dan hoofdcategorie\",TabUren22[hoofdcategorie])","v":"anders dan hoofdcategorie"}]
[{"$f":"IF(TabUren22[[#This Row],[datum]]=\"\",\"\",INT((TabUren22[[#This Row],[datum]]-SUM(MOD(DATE(YEAR(TabUren22[[#This Row],[datum]]-MOD(TabUren22[[#This Row],[datum]]-2,7)+3),1,2),{1E+99;7})*{1;-1})+5) /7))","v":""},{"$f":"IF(TabUren22[[#This Row],[datum]]=\"\",\"\",TabUren22[[#This Row],[datum]])","v":""},null,null,{"$f":"IF(TabUren22[[#This Row],[datum]]=\"\",\"\",verzameldata!$C$4)","v":""},null,null,null,null,{"$f":"IF(TabUren22[[#This Row],[eindtijd]]=\"\",\"\",IF(TabUren22[[#This Row],[eindtijd]]<TabUren22[[#This Row],[begintijd]],(\"24:00\"-TabUren22[[#This Row],[begintijd]]+TabUren22[[#This Row],[eindtijd]])-TabUren22[[#This Row],[pauze]],(TabUren22[[#This Row],[eindtijd]]-TabUren22[[#This Row],[begintijd]])-TabUren22[[#This Row],[pauze]]))","v":""},{"$f":"IF(OR(TabUren22[hoofdcategorie]=\"\",TabUren22[hoofdcategorie]=0),\"anders dan hoofdcategorie\",TabUren22[hoofdcategorie])","v":"anders dan hoofdcategorie"}]
[{"$f":"IF(TabUren22[[#This Row],[datum]]=\"\",\"\",INT((TabUren22[[#This Row],[datum]]-SUM(MOD(DATE(YEAR(TabUren22[[#This Row],[datum]]-MOD(TabUren22[[#This Row],[datum]]-2,7)+3),1,2),{1E+99;7})*{1;-1})+5) /7))","v":""},{"$f":"IF(TabUren22[[#This Row],[datum]]=\"\",\"\",TabUren22[[#This Row],[datum]])","v":""},null,null,{"$f":"IF(TabUren22[[#This Row],[datum]]=\"\",\"\",verzameldata!$C$4)","v":""},null,null,null,null,{"$f":"IF(TabUren22[[#This Row],[eindtijd]]=\"\",\"\",IF(TabUren22[[#This Row],[eindtijd]]<TabUren22[[#This Row],[begintijd]],(\"24:00\"-TabUren22[[#This Row],[begintijd]]+TabUren22[[#This Row],[eindtijd]])-TabUren22[[#This Row],[pauze]],(TabUren22[[#This Row],[eindtijd]]-TabUren22[[#This Row],[begintijd]])-TabUren22[[#This Row],[pauze]]))","v":""},{"$f":"IF(OR(TabUren22[hoofdcategorie]=\"\",TabUren22[hoofdcategorie]=0),\"anders dan hoofdcategorie\",TabUren22[hoofdcategorie])","v":"anders dan hoofdcategorie"}]
[{"$f":"IF(TabUren22[[#This Row],[datum]]=\"\",\"\",INT((TabUren22[[#This Row],[datum]]-SUM(MOD(DATE(YEAR(TabUren22[[#This Row],[datum]]-MOD(TabUren22[[#This Row],[datum]]-2,7)+3),1,2),{1E+99;7})*{1;-1})+5) /7))","v":""},{"$f":"IF(TabUren22[[#This Row],[datum]]=\"\",\"\",TabUren22[[#This Row],[datum]])","v":""},null,null,{"$f":"IF(TabUren22[[#This Row],[datum]]=\"\",\"\",verzameldata!$C$4)","v":""},null,null,null,null,{"$f":"IF(TabUren22[[#This Row],[eindtijd]]=\"\",\"\",IF(TabUren22[[#This Row],[eindtijd]]<TabUren22[[#This Row],[begintijd]],(\"24:00\"-TabUren22[[#This Row],[begintijd]]+TabUren22[[#This Row],[eindtijd]])-TabUren22[[#This Row],[pauze]],(TabUren22[[#This Row],[eindtijd]]-TabUren22[[#This Row],[begintijd]])-TabUren22[[#This Row],[pauze]]))","v":""},{"$f":"IF(OR(TabUren22[hoofdcategorie]=\"\",TabUren22[hoofdcategorie]=0),\"anders dan hoofdcategorie\",TabUren22[hoofdcategorie])","v":"anders dan hoofdcategorie"}]
[{"$f":"IF(TabUren22[[#This Row],[datum]]=\"\",\"\",INT((TabUren22[[#This Row],[datum]]-SUM(MOD(DATE(YEAR(TabUren22[[#This Row],[datum]]-MOD(TabUren22[[#This Row],[datum]]-2,7)+3),1,2),{1E+99;7})*{1;-1})+5) /7))","v":""},{"$f":"IF(TabUren22[[#This Row],[datum]]=\"\",\"\",TabUren22[[#This Row],[datum]])","v":""},null,null,{"$f":"IF(TabUren22[[#This Row],[datum]]=\"\",\"\",verzameldata!$C$4)","v":""},null,null,null,null,{"$f":"IF(TabUren22[[#This Row],[eindtijd]]=\"\",\"\",IF(TabUren22[[#This Row],[eindtijd]]<TabUren22[[#This Row],[begintijd]],(\"24:00\"-TabUren22[[#This Row],[begintijd]]+TabUren22[[#This Row],[eindtijd]])-TabUren22[[#This Row],[pauze]],(TabUren22[[#This Row],[eindtijd]]-TabUren22[[#This Row],[begintijd]])-TabUren22[[#This Row],[pauze]]))","v":""},{"$f":"IF(OR(TabUren22[hoofdcategorie]=\"\",TabUren22[hoofdcategorie]=0),\"anders dan hoofdcategorie\",TabUren22[hoofdcategorie])","v":"anders dan hoofdcategorie"}]
[{"$f":"IF(TabUren22[[#This Row],[datum]]=\"\",\"\",INT((TabUren22[[#This Row],[datum]]-SUM(MOD(DATE(YEAR(TabUren22[[#This Row],[datum]]-MOD(TabUren22[[#This Row],[datum]]-2,7)+3),1,2),{1E+99;7})*{1;-1})+5) /7))","v":""},{"$f":"IF(TabUren22[[#This Row],[datum]]=\"\",\"\",TabUren22[[#This Row],[datum]])","v":""},null,null,{"$f":"IF(TabUren22[[#This Row],[datum]]=\"\",\"\",verzameldata!$C$4)","v":""},null,null,null,null,{"$f":"IF(TabUren22[[#This Row],[eindtijd]]=\"\",\"\",IF(TabUren22[[#This Row],[eindtijd]]<TabUren22[[#This Row],[begintijd]],(\"24:00\"-TabUren22[[#This Row],[begintijd]]+TabUren22[[#This Row],[eindtijd]])-TabUren22[[#This Row],[pauze]],(TabUren22[[#This Row],[eindtijd]]-TabUren22[[#This Row],[begintijd]])-TabUren22[[#This Row],[pauze]]))","v":""},{"$f":"IF(OR(TabUren22[hoofdcategorie]=\"\",TabUren22[hoofdcategorie]=0),\"anders dan hoofdcategorie\",TabUren22[hoofdcategorie])","v":"anders dan hoofdcategorie"}]
[{"$f":"IF(TabUren22[[#This Row],[datum]]=\"\",\"\",INT((TabUren22[[#This Row],[datum]]-SUM(MOD(DATE(YEAR(TabUren22[[#This Row],[datum]]-MOD(TabUren22[[#This Row],[datum]]-2,7)+3),1,2),{1E+99;7})*{1;-1})+5) /7))","v":""},{"$f":"IF(TabUren22[[#This Row],[datum]]=\"\",\"\",TabUren22[[#This Row],[datum]])","v":""},null,null,{"$f":"IF(TabUren22[[#This Row],[datum]]=\"\",\"\",verzameldata!$C$4)","v":""},null,null,null,null,{"$f":"IF(TabUren22[[#This Row],[eindtijd]]=\"\",\"\",IF(TabUren22[[#This Row],[eindtijd]]<TabUren22[[#This Row],[begintijd]],(\"24:00\"-TabUren22[[#This Row],[begintijd]]+TabUren22[[#This Row],[eindtijd]])-TabUren22[[#This Row],[pauze]],(TabUren22[[#This Row],[eindtijd]]-TabUren22[[#This Row],[begintijd]])-TabUren22[[#This Row],[pauze]]))","v":""},{"$f":"IF(OR(TabUren22[hoofdcategorie]=\"\",TabUren22[hoofdcategorie]=0),\"anders dan hoofdcategorie\",TabUren22[hoofdcategorie])","v":"anders dan hoofdcategorie"}]
[{"$f":"IF(TabUren22[[#This Row],[datum]]=\"\",\"\",INT((TabUren22[[#This Row],[datum]]-SUM(MOD(DATE(YEAR(TabUren22[[#This Row],[datum]]-MOD(TabUren22[[#This Row],[datum]]-2,7)+3),1,2),{1E+99;7})*{1;-1})+5) /7))","v":""},{"$f":"IF(TabUren22[[#This Row],[datum]]=\"\",\"\",TabUren22[[#This Row],[datum]])","v":""},null,null,{"$f":"IF(TabUren22[[#This Row],[datum]]=\"\",\"\",verzameldata!$C$4)","v":""},null,null,null,null,{"$f":"IF(TabUren22[[#This Row],[eindtijd]]=\"\",\"\",IF(TabUren22[[#This Row],[eindtijd]]<TabUren22[[#This Row],[begintijd]],(\"24:00\"-TabUren22[[#This Row],[begintijd]]+TabUren22[[#This Row],[eindtijd]])-TabUren22[[#This Row],[pauze]],(TabUren22[[#This Row],[eindtijd]]-TabUren22[[#This Row],[begintijd]])-TabUren22[[#This Row],[pauze]]))","v":""},{"$f":"IF(OR(TabUren22[hoofdcategorie]=\"\",TabUren22[hoofdcategorie]=0),\"anders dan hoofdcategorie\",TabUren22[hoofdcategorie])","v":"anders dan hoofdcategorie"}]
[{"$f":"IF(TabUren22[[#This Row],[datum]]=\"\",\"\",INT((TabUren22[[#This Row],[datum]]-SUM(MOD(DATE(YEAR(TabUren22[[#This Row],[datum]]-MOD(TabUren22[[#This Row],[datum]]-2,7)+3),1,2),{1E+99;7})*{1;-1})+5) /7))","v":""},{"$f":"IF(TabUren22[[#This Row],[datum]]=\"\",\"\",TabUren22[[#This Row],[datum]])","v":""},null,null,{"$f":"IF(TabUren22[[#This Row],[datum]]=\"\",\"\",verzameldata!$C$4)","v":""},null,null,null,null,{"$f":"IF(TabUren22[[#This Row],[eindtijd]]=\"\",\"\",IF(TabUren22[[#This Row],[eindtijd]]<TabUren22[[#This Row],[begintijd]],(\"24:00\"-TabUren22[[#This Row],[begintijd]]+TabUren22[[#This Row],[eindtijd]])-TabUren22[[#This Row],[pauze]],(TabUren22[[#This Row],[eindtijd]]-TabUren22[[#This Row],[begintijd]])-TabUren22[[#This Row],[pauze]]))","v":""},{"$f":"IF(OR(TabUren22[hoofdcategorie]=\"\",TabUren22[hoofdcategorie]=0),\"anders dan hoofdcategorie\",TabUren22[hoofdcategorie])","v":"anders dan hoofdcategorie"}]
[{"$f":"IF(TabUren22[[#This Row],[datum]]=\"\",\"\",INT((TabUren22[[#This Row],[datum]]-SUM(MOD(DATE(YEAR(TabUren22[[#This Row],[datum]]-MOD(TabUren22[[#This Row],[datum]]-2,7)+3),1,2),{1E+99;7})*{1;-1})+5) /7))","v":""},{"$f":"IF(TabUren22[[#This Row],[datum]]=\"\",\"\",TabUren22[[#This Row],[datum]])","v":""},null,null,{"$f":"IF(TabUren22[[#This Row],[datum]]=\"\",\"\",verzameldata!$C$4)","v":""},null,null,null,null,{"$f":"IF(TabUren22[[#This Row],[eindtijd]]=\"\",\"\",IF(TabUren22[[#This Row],[eindtijd]]<TabUren22[[#This Row],[begintijd]],(\"24:00\"-TabUren22[[#This Row],[begintijd]]+TabUren22[[#This Row],[eindtijd]])-TabUren22[[#This Row],[pauze]],(TabUren22[[#This Row],[eindtijd]]-TabUren22[[#This Row],[begintijd]])-TabUren22[[#This Row],[pauze]]))","v":""},{"$f":"IF(OR(TabUren22[hoofdcategorie]=\"\",TabUren22[hoofdcategorie]=0),\"anders dan hoofdcategorie\",TabUren22[hoofdcategorie])","v":"anders dan hoofdcategorie"}]
[{"$f":"IF(TabUren22[[#This Row],[datum]]=\"\",\"\",INT((TabUren22[[#This Row],[datum]]-SUM(MOD(DATE(YEAR(TabUren22[[#This Row],[datum]]-MOD(TabUren22[[#This Row],[datum]]-2,7)+3),1,2),{1E+99;7})*{1;-1})+5) /7))","v":""},{"$f":"IF(TabUren22[[#This Row],[datum]]=\"\",\"\",TabUren22[[#This Row],[datum]])","v":""},null,null,{"$f":"IF(TabUren22[[#This Row],[datum]]=\"\",\"\",verzameldata!$C$4)","v":""},null,null,null,null,{"$f":"IF(TabUren22[[#This Row],[eindtijd]]=\"\",\"\",IF(TabUren22[[#This Row],[eindtijd]]<TabUren22[[#This Row],[begintijd]],(\"24:00\"-TabUren22[[#This Row],[begintijd]]+TabUren22[[#This Row],[eindtijd]])-TabUren22[[#This Row],[pauze]],(TabUren22[[#This Row],[eindtijd]]-TabUren22[[#This Row],[begintijd]])-TabUren22[[#This Row],[pauze]]))","v":""},{"$f":"IF(OR(TabUren22[hoofdcategorie]=\"\",TabUren22[hoofdcategorie]=0),\"anders dan hoofdcategorie\",TabUren22[hoofdcategorie])","v":"anders dan hoofdcategorie"}]
[{"$f":"IF(TabUren22[[#This Row],[datum]]=\"\",\"\",INT((TabUren22[[#This Row],[datum]]-SUM(MOD(DATE(YEAR(TabUren22[[#This Row],[datum]]-MOD(TabUren22[[#This Row],[datum]]-2,7)+3),1,2),{1E+99;7})*{1;-1})+5) /7))","v":""},{"$f":"IF(TabUren22[[#This Row],[datum]]=\"\",\"\",TabUren22[[#This Row],[datum]])","v":""},null,null,{"$f":"IF(TabUren22[[#This Row],[datum]]=\"\",\"\",verzameldata!$C$4)","v":""},null,null,null,null,{"$f":"IF(TabUren22[[#This Row],[eindtijd]]=\"\",\"\",IF(TabUren22[[#This Row],[eindtijd]]<TabUren22[[#This Row],[begintijd]],(\"24:00\"-TabUren22[[#This Row],[begintijd]]+TabUren22[[#This Row],[eindtijd]])-TabUren22[[#This Row],[pauze]],(TabUren22[[#This Row],[eindtijd]]-TabUren22[[#This Row],[begintijd]])-TabUren22[[#This Row],[pauze]]))","v":""},{"$f":"IF(OR(TabUren22[hoofdcategorie]=\"\",TabUren22[hoofdcategorie]=0),\"anders dan hoofdcategorie\",TabUren22[hoofdcategorie])","v":"anders dan hoofdcategorie"}]
[{"$f":"IF(TabUren22[[#This Row],[datum]]=\"\",\"\",INT((TabUren22[[#This Row],[datum]]-SUM(MOD(DATE(YEAR(TabUren22[[#This Row],[datum]]-MOD(TabUren22[[#This Row],[datum]]-2,7)+3),1,2),{1E+99;7})*{1;-1})+5) /7))","v":""},{"$f":"IF(TabUren22[[#This Row],[datum]]=\"\",\"\",TabUren22[[#This Row],[datum]])","v":""},null,null,{"$f":"IF(TabUren22[[#This Row],[datum]]=\"\",\"\",verzameldata!$C$4)","v":""},null,null,null,null,{"$f":"IF(TabUren22[[#This Row],[eindtijd]]=\"\",\"\",IF(TabUren22[[#This Row],[eindtijd]]<TabUren22[[#This Row],[begintijd]],(\"24:00\"-TabUren22[[#This Row],[begintijd]]+TabUren22[[#This Row],[eindtijd]])-TabUren22[[#This Row],[pauze]],(TabUren22[[#This Row],[eindtijd]]-TabUren22[[#This Row],[begintijd]])-TabUren22[[#This Row],[pauze]]))","v":""},{"$f":"IF(OR(TabUren22[hoofdcategorie]=\"\",TabUren22[hoofdcategorie]=0),\"anders dan hoofdcategorie\",TabUren22[hoofdcategorie])","v":"anders dan hoofdcategorie"}]
[{"$f":"IF(TabUren22[[#This Row],[datum]]=\"\",\"\",INT((TabUren22[[#This Row],[datum]]-SUM(MOD(DATE(YEAR(TabUren22[[#This Row],[datum]]-MOD(TabUren22[[#This Row],[datum]]-2,7)+3),1,2),{1E+99;7})*{1;-1})+5) /7))","v":""},{"$f":"IF(TabUren22[[#This Row],[datum]]=\"\",\"\",TabUren22[[#This Row],[datum]])","v":""},null,null,{"$f":"IF(TabUren22[[#This Row],[datum]]=\"\",\"\",verzameldata!$C$4)","v":""},null,null,null,null,{"$f":"IF(TabUren22[[#This Row],[eindtijd]]=\"\",\"\",IF(TabUren22[[#This Row],[eindtijd]]<TabUren22[[#This Row],[begintijd]],(\"24:00\"-TabUren22[[#This Row],[begintijd]]+TabUren22[[#This Row],[eindtijd]])-TabUren22[[#This Row],[pauze]],(TabUren22[[#This Row],[eindtijd]]-TabUren22[[#This Row],[begintijd]])-TabUren22[[#This Row],[pauze]]))","v":""},{"$f":"IF(OR(TabUren22[hoofdcategorie]=\"\",TabUren22[hoofdcategorie]=0),\"anders dan hoofdcategorie\",TabUren22[hoofdcategorie])","v":"anders dan hoofdcategorie"}]
[{"$f":"IF(TabUren22[[#This Row],[datum]]=\"\",\"\",INT((TabUren22[[#This Row],[datum]]-SUM(MOD(DATE(YEAR(TabUren22[[#This Row],[datum]]-MOD(TabUren22[[#This Row],[datum]]-2,7)+3),1,2),{1E+99;7})*{1;-1})+5) /7))","v":""},{"$f":"IF(TabUren22[[#This Row],[datum]]=\"\",\"\",TabUren22[[#This Row],[datum]])","v":""},null,null,{"$f":"IF(TabUren22[[#This Row],[datum]]=\"\",\"\",verzameldata!$C$4)","v":""},null,null,null,null,{"$f":"IF(TabUren22[[#This Row],[eindtijd]]=\"\",\"\",IF(TabUren22[[#This Row],[eindtijd]]<TabUren22[[#This Row],[begintijd]],(\"24:00\"-TabUren22[[#This Row],[begintijd]]+TabUren22[[#This Row],[eindtijd]])-TabUren22[[#This Row],[pauze]],(TabUren22[[#This Row],[eindtijd]]-TabUren22[[#This Row],[begintijd]])-TabUren22[[#This Row],[pauze]]))","v":""},{"$f":"IF(OR(TabUren22[hoofdcategorie]=\"\",TabUren22[hoofdcategorie]=0),\"anders dan hoofdcategorie\",TabUren22[hoofdcategorie])","v":"anders dan hoofdcategorie"}]
[{"$f":"IF(TabUren22[[#This Row],[datum]]=\"\",\"\",INT((TabUren22[[#This Row],[datum]]-SUM(MOD(DATE(YEAR(TabUren22[[#This Row],[datum]]-MOD(TabUren22[[#This Row],[datum]]-2,7)+3),1,2),{1E+99;7})*{1;-1})+5) /7))","v":""},{"$f":"IF(TabUren22[[#This Row],[datum]]=\"\",\"\",TabUren22[[#This Row],[datum]])","v":""},null,null,{"$f":"IF(TabUren22[[#This Row],[datum]]=\"\",\"\",verzameldata!$C$4)","v":""},null,null,null,null,{"$f":"IF(TabUren22[[#This Row],[eindtijd]]=\"\",\"\",IF(TabUren22[[#This Row],[eindtijd]]<TabUren22[[#This Row],[begintijd]],(\"24:00\"-TabUren22[[#This Row],[begintijd]]+TabUren22[[#This Row],[eindtijd]])-TabUren22[[#This Row],[pauze]],(TabUren22[[#This Row],[eindtijd]]-TabUren22[[#This Row],[begintijd]])-TabUren22[[#This Row],[pauze]]))","v":""},{"$f":"IF(OR(TabUren22[hoofdcategorie]=\"\",TabUren22[hoofdcategorie]=0),\"anders dan hoofdcategorie\",TabUren22[hoofdcategorie])","v":"anders dan hoofdcategorie"}]
[{"$f":"IF(TabUren22[[#This Row],[datum]]=\"\",\"\",INT((TabUren22[[#This Row],[datum]]-SUM(MOD(DATE(YEAR(TabUren22[[#This Row],[datum]]-MOD(TabUren22[[#This Row],[datum]]-2,7)+3),1,2),{1E+99;7})*{1;-1})+5) /7))","v":""},{"$f":"IF(TabUren22[[#This Row],[datum]]=\"\",\"\",TabUren22[[#This Row],[datum]])","v":""},null,null,{"$f":"IF(TabUren22[[#This Row],[datum]]=\"\",\"\",verzameldata!$C$4)","v":""},null,null,null,null,{"$f":"IF(TabUren22[[#This Row],[eindtijd]]=\"\",\"\",IF(TabUren22[[#This Row],[eindtijd]]<TabUren22[[#This Row],[begintijd]],(\"24:00\"-TabUren22[[#This Row],[begintijd]]+TabUren22[[#This Row],[eindtijd]])-TabUren22[[#This Row],[pauze]],(TabUren22[[#This Row],[eindtijd]]-TabUren22[[#This Row],[begintijd]])-TabUren22[[#This Row],[pauze]]))","v":""},{"$f":"IF(OR(TabUren22[hoofdcategorie]=\"\",TabUren22[hoofdcategorie]=0),\"anders dan hoofdcategorie\",TabUren22[hoofdcategorie])","v":"anders dan hoofdcategorie"}]
[{"$f":"IF(TabUren22[[#This Row],[datum]]=\"\",\"\",INT((TabUren22[[#This Row],[datum]]-SUM(MOD(DATE(YEAR(TabUren22[[#This Row],[datum]]-MOD(TabUren22[[#This Row],[datum]]-2,7)+3),1,2),{1E+99;7})*{1;-1})+5) /7))","v":""},{"$f":"IF(TabUren22[[#This Row],[datum]]=\"\",\"\",TabUren22[[#This Row],[datum]])","v":""},null,null,{"$f":"IF(TabUren22[[#This Row],[datum]]=\"\",\"\",verzameldata!$C$4)","v":""},null,null,null,null,{"$f":"IF(TabUren22[[#This Row],[eindtijd]]=\"\",\"\",IF(TabUren22[[#This Row],[eindtijd]]<TabUren22[[#This Row],[begintijd]],(\"24:00\"-TabUren22[[#This Row],[begintijd]]+TabUren22[[#This Row],[eindtijd]])-TabUren22[[#This Row],[pauze]],(TabUren22[[#This Row],[eindtijd]]-TabUren22[[#This Row],[begintijd]])-TabUren22[[#This Row],[pauze]]))","v":""},{"$f":"IF(OR(TabUren22[hoofdcategorie]=\"\",TabUren22[hoofdcategorie]=0),\"anders dan hoofdcategorie\",TabUren22[hoofdcategorie])","v":"anders dan hoofdcategorie"}]
[{"$f":"IF(TabUren22[[#This Row],[datum]]=\"\",\"\",INT((TabUren22[[#This Row],[datum]]-SUM(MOD(DATE(YEAR(TabUren22[[#This Row],[datum]]-MOD(TabUren22[[#This Row],[datum]]-2,7)+3),1,2),{1E+99;7})*{1;-1})+5) /7))","v":""},{"$f":"IF(TabUren22[[#This Row],[datum]]=\"\",\"\",TabUren22[[#This Row],[datum]])","v":""},null,null,{"$f":"IF(TabUren22[[#This Row],[datum]]=\"\",\"\",verzameldata!$C$4)","v":""},null,null,null,null,{"$f":"IF(TabUren22[[#This Row],[eindtijd]]=\"\",\"\",IF(TabUren22[[#This Row],[eindtijd]]<TabUren22[[#This Row],[begintijd]],(\"24:00\"-TabUren22[[#This Row],[begintijd]]+TabUren22[[#This Row],[eindtijd]])-TabUren22[[#This Row],[pauze]],(TabUren22[[#This Row],[eindtijd]]-TabUren22[[#This Row],[begintijd]])-TabUren22[[#This Row],[pauze]]))","v":""},{"$f":"IF(OR(TabUren22[hoofdcategorie]=\"\",TabUren22[hoofdcategorie]=0),\"anders dan hoofdcategorie\",TabUren22[hoofdcategorie])","v":"anders dan hoofdcategorie"}]
[{"$f":"IF(TabUren22[[#This Row],[datum]]=\"\",\"\",INT((TabUren22[[#This Row],[datum]]-SUM(MOD(DATE(YEAR(TabUren22[[#This Row],[datum]]-MOD(TabUren22[[#This Row],[datum]]-2,7)+3),1,2),{1E+99;7})*{1;-1})+5) /7))","v":""},{"$f":"IF(TabUren22[[#This Row],[datum]]=\"\",\"\",TabUren22[[#This Row],[datum]])","v":""},null,null,{"$f":"IF(TabUren22[[#This Row],[datum]]=\"\",\"\",verzameldata!$C$4)","v":""},null,null,null,null,{"$f":"IF(TabUren22[[#This Row],[eindtijd]]=\"\",\"\",IF(TabUren22[[#This Row],[eindtijd]]<TabUren22[[#This Row],[begintijd]],(\"24:00\"-TabUren22[[#This Row],[begintijd]]+TabUren22[[#This Row],[eindtijd]])-TabUren22[[#This Row],[pauze]],(TabUren22[[#This Row],[eindtijd]]-TabUren22[[#This Row],[begintijd]])-TabUren22[[#This Row],[pauze]]))","v":""},{"$f":"IF(OR(TabUren22[hoofdcategorie]=\"\",TabUren22[hoofdcategorie]=0),\"anders dan hoofdcategorie\",TabUren22[hoofdcategorie])","v":"anders dan hoofdcategorie"}]
[{"$f":"IF(TabUren22[[#This Row],[datum]]=\"\",\"\",INT((TabUren22[[#This Row],[datum]]-SUM(MOD(DATE(YEAR(TabUren22[[#This Row],[datum]]-MOD(TabUren22[[#This Row],[datum]]-2,7)+3),1,2),{1E+99;7})*{1;-1})+5) /7))","v":""},{"$f":"IF(TabUren22[[#This Row],[datum]]=\"\",\"\",TabUren22[[#This Row],[datum]])","v":""},null,null,{"$f":"IF(TabUren22[[#This Row],[datum]]=\"\",\"\",verzameldata!$C$4)","v":""},null,null,null,null,{"$f":"IF(TabUren22[[#This Row],[eindtijd]]=\"\",\"\",IF(TabUren22[[#This Row],[eindtijd]]<TabUren22[[#This Row],[begintijd]],(\"24:00\"-TabUren22[[#This Row],[begintijd]]+TabUren22[[#This Row],[eindtijd]])-TabUren22[[#This Row],[pauze]],(TabUren22[[#This Row],[eindtijd]]-TabUren22[[#This Row],[begintijd]])-TabUren22[[#This Row],[pauze]]))","v":""},{"$f":"IF(OR(TabUren22[hoofdcategorie]=\"\",TabUren22[hoofdcategorie]=0),\"anders dan hoofdcategorie\",TabUren22[hoofdcategorie])","v":"anders dan hoofdcategorie"}]
[{"$f":"IF(TabUren22[[#This Row],[datum]]=\"\",\"\",INT((TabUren22[[#This Row],[datum]]-SUM(MOD(DATE(YEAR(TabUren22[[#This Row],[datum]]-MOD(TabUren22[[#This Row],[datum]]-2,7)+3),1,2),{1E+99;7})*{1;-1})+5) /7))","v":""},{"$f":"IF(TabUren22[[#This Row],[datum]]=\"\",\"\",TabUren22[[#This Row],[datum]])","v":""},null,null,{"$f":"IF(TabUren22[[#This Row],[datum]]=\"\",\"\",verzameldata!$C$4)","v":""},null,null,null,null,{"$f":"IF(TabUren22[[#This Row],[eindtijd]]=\"\",\"\",IF(TabUren22[[#This Row],[eindtijd]]<TabUren22[[#This Row],[begintijd]],(\"24:00\"-TabUren22[[#This Row],[begintijd]]+TabUren22[[#This Row],[eindtijd]])-TabUren22[[#This Row],[pauze]],(TabUren22[[#This Row],[eindtijd]]-TabUren22[[#This Row],[begintijd]])-TabUren22[[#This Row],[pauze]]))","v":""},{"$f":"IF(OR(TabUren22[hoofdcategorie]=\"\",TabUren22[hoofdcategorie]=0),\"anders dan hoofdcategorie\",TabUren22[hoofdcategorie])","v":"anders dan hoofdcategorie"}]
[{"$f":"IF(TabUren22[[#This Row],[datum]]=\"\",\"\",INT((TabUren22[[#This Row],[datum]]-SUM(MOD(DATE(YEAR(TabUren22[[#This Row],[datum]]-MOD(TabUren22[[#This Row],[datum]]-2,7)+3),1,2),{1E+99;7})*{1;-1})+5) /7))","v":""},{"$f":"IF(TabUren22[[#This Row],[datum]]=\"\",\"\",TabUren22[[#This Row],[datum]])","v":""},null,null,{"$f":"IF(TabUren22[[#This Row],[datum]]=\"\",\"\",verzameldata!$C$4)","v":""},null,null,null,null,{"$f":"IF(TabUren22[[#This Row],[eindtijd]]=\"\",\"\",IF(TabUren22[[#This Row],[eindtijd]]<TabUren22[[#This Row],[begintijd]],(\"24:00\"-TabUren22[[#This Row],[begintijd]]+TabUren22[[#This Row],[eindtijd]])-TabUren22[[#This Row],[pauze]],(TabUren22[[#This Row],[eindtijd]]-TabUren22[[#This Row],[begintijd]])-TabUren22[[#This Row],[pauze]]))","v":""},{"$f":"IF(OR(TabUren22[hoofdcategorie]=\"\",TabUren22[hoofdcategorie]=0),\"anders dan hoofdcategorie\",TabUren22[hoofdcategorie])","v":"anders dan hoofdcategorie"}]
[{"$f":"IF(TabUren22[[#This Row],[datum]]=\"\",\"\",INT((TabUren22[[#This Row],[datum]]-SUM(MOD(DATE(YEAR(TabUren22[[#This Row],[datum]]-MOD(TabUren22[[#This Row],[datum]]-2,7)+3),1,2),{1E+99;7})*{1;-1})+5) /7))","v":""},{"$f":"IF(TabUren22[[#This Row],[datum]]=\"\",\"\",TabUren22[[#This Row],[datum]])","v":""},null,null,{"$f":"IF(TabUren22[[#This Row],[datum]]=\"\",\"\",verzameldata!$C$4)","v":""},null,null,null,null,{"$f":"IF(TabUren22[[#This Row],[eindtijd]]=\"\",\"\",IF(TabUren22[[#This Row],[eindtijd]]<TabUren22[[#This Row],[begintijd]],(\"24:00\"-TabUren22[[#This Row],[begintijd]]+TabUren22[[#This Row],[eindtijd]])-TabUren22[[#This Row],[pauze]],(TabUren22[[#This Row],[eindtijd]]-TabUren22[[#This Row],[begintijd]])-TabUren22[[#This Row],[pauze]]))","v":""},{"$f":"IF(OR(TabUren22[hoofdcategorie]=\"\",TabUren22[hoofdcategorie]=0),\"anders dan hoofdcategorie\",TabUren22[hoofdcategorie])","v":"anders dan hoofdcategorie"}]
[{"$f":"IF(TabUren22[[#This Row],[datum]]=\"\",\"\",INT((TabUren22[[#This Row],[datum]]-SUM(MOD(DATE(YEAR(TabUren22[[#This Row],[datum]]-MOD(TabUren22[[#This Row],[datum]]-2,7)+3),1,2),{1E+99;7})*{1;-1})+5) /7))","v":""},{"$f":"IF(TabUren22[[#This Row],[datum]]=\"\",\"\",TabUren22[[#This Row],[datum]])","v":""},null,null,{"$f":"IF(TabUren22[[#This Row],[datum]]=\"\",\"\",verzameldata!$C$4)","v":""},null,null,null,null,{"$f":"IF(TabUren22[[#This Row],[eindtijd]]=\"\",\"\",IF(TabUren22[[#This Row],[eindtijd]]<TabUren22[[#This Row],[begintijd]],(\"24:00\"-TabUren22[[#This Row],[begintijd]]+TabUren22[[#This Row],[eindtijd]])-TabUren22[[#This Row],[pauze]],(TabUren22[[#This Row],[eindtijd]]-TabUren22[[#This Row],[begintijd]])-TabUren22[[#This Row],[pauze]]))","v":""},{"$f":"IF(OR(TabUren22[hoofdcategorie]=\"\",TabUren22[hoofdcategorie]=0),\"anders dan hoofdcategorie\",TabUren22[hoofdcategorie])","v":"anders dan hoofdcategorie"}]
[{"$f":"IF(TabUren22[[#This Row],[datum]]=\"\",\"\",INT((TabUren22[[#This Row],[datum]]-SUM(MOD(DATE(YEAR(TabUren22[[#This Row],[datum]]-MOD(TabUren22[[#This Row],[datum]]-2,7)+3),1,2),{1E+99;7})*{1;-1})+5) /7))","v":""},{"$f":"IF(TabUren22[[#This Row],[datum]]=\"\",\"\",TabUren22[[#This Row],[datum]])","v":""},null,null,{"$f":"IF(TabUren22[[#This Row],[datum]]=\"\",\"\",verzameldata!$C$4)","v":""},null,null,null,null,{"$f":"IF(TabUren22[[#This Row],[eindtijd]]=\"\",\"\",IF(TabUren22[[#This Row],[eindtijd]]<TabUren22[[#This Row],[begintijd]],(\"24:00\"-TabUren22[[#This Row],[begintijd]]+TabUren22[[#This Row],[eindtijd]])-TabUren22[[#This Row],[pauze]],(TabUren22[[#This Row],[eindtijd]]-TabUren22[[#This Row],[begintijd]])-TabUren22[[#This Row],[pauze]]))","v":""},{"$f":"IF(OR(TabUren22[hoofdcategorie]=\"\",TabUren22[hoofdcategorie]=0),\"anders dan hoofdcategorie\",TabUren22[hoofdcategorie])","v":"anders dan hoofdcategorie"}]
[{"$f":"IF(TabUren22[[#This Row],[datum]]=\"\",\"\",INT((TabUren22[[#This Row],[datum]]-SUM(MOD(DATE(YEAR(TabUren22[[#This Row],[datum]]-MOD(TabUren22[[#This Row],[datum]]-2,7)+3),1,2),{1E+99;7})*{1;-1})+5) /7))","v":""},{"$f":"IF(TabUren22[[#This Row],[datum]]=\"\",\"\",TabUren22[[#This Row],[datum]])","v":""},null,null,{"$f":"IF(TabUren22[[#This Row],[datum]]=\"\",\"\",verzameldata!$C$4)","v":""},null,null,null,null,{"$f":"IF(TabUren22[[#This Row],[eindtijd]]=\"\",\"\",IF(TabUren22[[#This Row],[eindtijd]]<TabUren22[[#This Row],[begintijd]],(\"24:00\"-TabUren22[[#This Row],[begintijd]]+TabUren22[[#This Row],[eindtijd]])-TabUren22[[#This Row],[pauze]],(TabUren22[[#This Row],[eindtijd]]-TabUren22[[#This Row],[begintijd]])-TabUren22[[#This Row],[pauze]]))","v":""},{"$f":"IF(OR(TabUren22[hoofdcategorie]=\"\",TabUren22[hoofdcategorie]=0),\"anders dan hoofdcategorie\",TabUren22[hoofdcategorie])","v":"anders dan hoofdcategorie"}]
[{"$f":"IF(TabUren22[[#This Row],[datum]]=\"\",\"\",INT((TabUren22[[#This Row],[datum]]-SUM(MOD(DATE(YEAR(TabUren22[[#This Row],[datum]]-MOD(TabUren22[[#This Row],[datum]]-2,7)+3),1,2),{1E+99;7})*{1;-1})+5) /7))","v":""},{"$f":"IF(TabUren22[[#This Row],[datum]]=\"\",\"\",TabUren22[[#This Row],[datum]])","v":""},null,null,{"$f":"IF(TabUren22[[#This Row],[datum]]=\"\",\"\",verzameldata!$C$4)","v":""},null,null,null,null,{"$f":"IF(TabUren22[[#This Row],[eindtijd]]=\"\",\"\",IF(TabUren22[[#This Row],[eindtijd]]<TabUren22[[#This Row],[begintijd]],(\"24:00\"-TabUren22[[#This Row],[begintijd]]+TabUren22[[#This Row],[eindtijd]])-TabUren22[[#This Row],[pauze]],(TabUren22[[#This Row],[eindtijd]]-TabUren22[[#This Row],[begintijd]])-TabUren22[[#This Row],[pauze]]))","v":""},{"$f":"IF(OR(TabUren22[hoofdcategorie]=\"\",TabUren22[hoofdcategorie]=0),\"anders dan hoofdcategorie\",TabUren22[hoofdcategorie])","v":"anders dan hoofdcategorie"}]
[{"$f":"IF(TabUren22[[#This Row],[datum]]=\"\",\"\",INT((TabUren22[[#This Row],[datum]]-SUM(MOD(DATE(YEAR(TabUren22[[#This Row],[datum]]-MOD(TabUren22[[#This Row],[datum]]-2,7)+3),1,2),{1E+99;7})*{1;-1})+5) /7))","v":""},{"$f":"IF(TabUren22[[#This Row],[datum]]=\"\",\"\",TabUren22[[#This Row],[datum]])","v":""},null,null,{"$f":"IF(TabUren22[[#This Row],[datum]]=\"\",\"\",verzameldata!$C$4)","v":""},null,null,null,null,{"$f":"IF(TabUren22[[#This Row],[eindtijd]]=\"\",\"\",IF(TabUren22[[#This Row],[eindtijd]]<TabUren22[[#This Row],[begintijd]],(\"24:00\"-TabUren22[[#This Row],[begintijd]]+TabUren22[[#This Row],[eindtijd]])-TabUren22[[#This Row],[pauze]],(TabUren22[[#This Row],[eindtijd]]-TabUren22[[#This Row],[begintijd]])-TabUren22[[#This Row],[pauze]]))","v":""},{"$f":"IF(OR(TabUren22[hoofdcategorie]=\"\",TabUren22[hoofdcategorie]=0),\"anders dan hoofdcategorie\",TabUren22[hoofdcategorie])","v":"anders dan hoofdcategorie"}]
[{"$f":"IF(TabUren22[[#This Row],[datum]]=\"\",\"\",INT((TabUren22[[#This Row],[datum]]-SUM(MOD(DATE(YEAR(TabUren22[[#This Row],[datum]]-MOD(TabUren22[[#This Row],[datum]]-2,7)+3),1,2),{1E+99;7})*{1;-1})+5) /7))","v":""},{"$f":"IF(TabUren22[[#This Row],[datum]]=\"\",\"\",TabUren22[[#This Row],[datum]])","v":""},null,null,{"$f":"IF(TabUren22[[#This Row],[datum]]=\"\",\"\",verzameldata!$C$4)","v":""},null,null,null,null,{"$f":"IF(TabUren22[[#This Row],[eindtijd]]=\"\",\"\",IF(TabUren22[[#This Row],[eindtijd]]<TabUren22[[#This Row],[begintijd]],(\"24:00\"-TabUren22[[#This Row],[begintijd]]+TabUren22[[#This Row],[eindtijd]])-TabUren22[[#This Row],[pauze]],(TabUren22[[#This Row],[eindtijd]]-TabUren22[[#This Row],[begintijd]])-TabUren22[[#This Row],[pauze]]))","v":""},{"$f":"IF(OR(TabUren22[hoofdcategorie]=\"\",TabUren22[hoofdcategorie]=0),\"anders dan hoofdcategorie\",TabUren22[hoofdcategorie])","v":"anders dan hoofdcategorie"}]
[{"$f":"IF(TabUren22[[#This Row],[datum]]=\"\",\"\",INT((TabUren22[[#This Row],[datum]]-SUM(MOD(DATE(YEAR(TabUren22[[#This Row],[datum]]-MOD(TabUren22[[#This Row],[datum]]-2,7)+3),1,2),{1E+99;7})*{1;-1})+5) /7))","v":""},{"$f":"IF(TabUren22[[#This Row],[datum]]=\"\",\"\",TabUren22[[#This Row],[datum]])","v":""},null,null,{"$f":"IF(TabUren22[[#This Row],[datum]]=\"\",\"\",verzameldata!$C$4)","v":""},null,null,null,null,{"$f":"IF(TabUren22[[#This Row],[eindtijd]]=\"\",\"\",IF(TabUren22[[#This Row],[eindtijd]]<TabUren22[[#This Row],[begintijd]],(\"24:00\"-TabUren22[[#This Row],[begintijd]]+TabUren22[[#This Row],[eindtijd]])-TabUren22[[#This Row],[pauze]],(TabUren22[[#This Row],[eindtijd]]-TabUren22[[#This Row],[begintijd]])-TabUren22[[#This Row],[pauze]]))","v":""},{"$f":"IF(OR(TabUren22[hoofdcategorie]=\"\",TabUren22[hoofdcategorie]=0),\"anders dan hoofdcategorie\",TabUren22[hoofdcategorie])","v":"anders dan hoofdcategorie"}]
[{"$f":"IF(TabUren22[[#This Row],[datum]]=\"\",\"\",INT((TabUren22[[#This Row],[datum]]-SUM(MOD(DATE(YEAR(TabUren22[[#This Row],[datum]]-MOD(TabUren22[[#This Row],[datum]]-2,7)+3),1,2),{1E+99;7})*{1;-1})+5) /7))","v":""},{"$f":"IF(TabUren22[[#This Row],[datum]]=\"\",\"\",TabUren22[[#This Row],[datum]])","v":""},null,null,{"$f":"IF(TabUren22[[#This Row],[datum]]=\"\",\"\",verzameldata!$C$4)","v":""},null,null,null,null,{"$f":"IF(TabUren22[[#This Row],[eindtijd]]=\"\",\"\",IF(TabUren22[[#This Row],[eindtijd]]<TabUren22[[#This Row],[begintijd]],(\"24:00\"-TabUren22[[#This Row],[begintijd]]+TabUren22[[#This Row],[eindtijd]])-TabUren22[[#This Row],[pauze]],(TabUren22[[#This Row],[eindtijd]]-TabUren22[[#This Row],[begintijd]])-TabUren22[[#This Row],[pauze]]))","v":""},{"$f":"IF(OR(TabUren22[hoofdcategorie]=\"\",TabUren22[hoofdcategorie]=0),\"anders dan hoofdcategorie\",TabUren22[hoofdcategorie])","v":"anders dan hoofdcategorie"}]
[{"$f":"IF(TabUren22[[#This Row],[datum]]=\"\",\"\",INT((TabUren22[[#This Row],[datum]]-SUM(MOD(DATE(YEAR(TabUren22[[#This Row],[datum]]-MOD(TabUren22[[#This Row],[datum]]-2,7)+3),1,2),{1E+99;7})*{1;-1})+5) /7))","v":""},{"$f":"IF(TabUren22[[#This Row],[datum]]=\"\",\"\",TabUren22[[#This Row],[datum]])","v":""},null,null,{"$f":"IF(TabUren22[[#This Row],[datum]]=\"\",\"\",verzameldata!$C$4)","v":""},null,null,null,null,{"$f":"IF(TabUren22[[#This Row],[eindtijd]]=\"\",\"\",IF(TabUren22[[#This Row],[eindtijd]]<TabUren22[[#This Row],[begintijd]],(\"24:00\"-TabUren22[[#This Row],[begintijd]]+TabUren22[[#This Row],[eindtijd]])-TabUren22[[#This Row],[pauze]],(TabUren22[[#This Row],[eindtijd]]-TabUren22[[#This Row],[begintijd]])-TabUren22[[#This Row],[pauze]]))","v":""},{"$f":"IF(OR(TabUren22[hoofdcategorie]=\"\",TabUren22[hoofdcategorie]=0),\"anders dan hoofdcategorie\",TabUren22[hoofdcategorie])","v":"anders dan hoofdcategorie"}]
[{"$f":"IF(TabUren22[[#This Row],[datum]]=\"\",\"\",INT((TabUren22[[#This Row],[datum]]-SUM(MOD(DATE(YEAR(TabUren22[[#This Row],[datum]]-MOD(TabUren22[[#This Row],[datum]]-2,7)+3),1,2),{1E+99;7})*{1;-1})+5) /7))","v":""},{"$f":"IF(TabUren22[[#This Row],[datum]]=\"\",\"\",TabUren22[[#This Row],[datum]])","v":""},null,null,{"$f":"IF(TabUren22[[#This Row],[datum]]=\"\",\"\",verzameldata!$C$4)","v":""},null,null,null,null,{"$f":"IF(TabUren22[[#This Row],[eindtijd]]=\"\",\"\",IF(TabUren22[[#This Row],[eindtijd]]<TabUren22[[#This Row],[begintijd]],(\"24:00\"-TabUren22[[#This Row],[begintijd]]+TabUren22[[#This Row],[eindtijd]])-TabUren22[[#This Row],[pauze]],(TabUren22[[#This Row],[eindtijd]]-TabUren22[[#This Row],[begintijd]])-TabUren22[[#This Row],[pauze]]))","v":""},{"$f":"IF(OR(TabUren22[hoofdcategorie]=\"\",TabUren22[hoofdcategorie]=0),\"anders dan hoofdcategorie\",TabUren22[hoofdcategorie])","v":"anders dan hoofdcategorie"}]
[{"$f":"IF(TabUren22[[#This Row],[datum]]=\"\",\"\",INT((TabUren22[[#This Row],[datum]]-SUM(MOD(DATE(YEAR(TabUren22[[#This Row],[datum]]-MOD(TabUren22[[#This Row],[datum]]-2,7)+3),1,2),{1E+99;7})*{1;-1})+5) /7))","v":""},{"$f":"IF(TabUren22[[#This Row],[datum]]=\"\",\"\",TabUren22[[#This Row],[datum]])","v":""},null,null,{"$f":"IF(TabUren22[[#This Row],[datum]]=\"\",\"\",verzameldata!$C$4)","v":""},null,null,null,null,{"$f":"IF(TabUren22[[#This Row],[eindtijd]]=\"\",\"\",IF(TabUren22[[#This Row],[eindtijd]]<TabUren22[[#This Row],[begintijd]],(\"24:00\"-TabUren22[[#This Row],[begintijd]]+TabUren22[[#This Row],[eindtijd]])-TabUren22[[#This Row],[pauze]],(TabUren22[[#This Row],[eindtijd]]-TabUren22[[#This Row],[begintijd]])-TabUren22[[#This Row],[pauze]]))","v":""},{"$f":"IF(OR(TabUren22[hoofdcategorie]=\"\",TabUren22[hoofdcategorie]=0),\"anders dan hoofdcategorie\",TabUren22[hoofdcategorie])","v":"anders dan hoofdcategorie"}]
[{"$f":"IF(TabUren22[[#This Row],[datum]]=\"\",\"\",INT((TabUren22[[#This Row],[datum]]-SUM(MOD(DATE(YEAR(TabUren22[[#This Row],[datum]]-MOD(TabUren22[[#This Row],[datum]]-2,7)+3),1,2),{1E+99;7})*{1;-1})+5) /7))","v":""},{"$f":"IF(TabUren22[[#This Row],[datum]]=\"\",\"\",TabUren22[[#This Row],[datum]])","v":""},null,null,{"$f":"IF(TabUren22[[#This Row],[datum]]=\"\",\"\",verzameldata!$C$4)","v":""},null,null,null,null,{"$f":"IF(TabUren22[[#This Row],[eindtijd]]=\"\",\"\",IF(TabUren22[[#This Row],[eindtijd]]<TabUren22[[#This Row],[begintijd]],(\"24:00\"-TabUren22[[#This Row],[begintijd]]+TabUren22[[#This Row],[eindtijd]])-TabUren22[[#This Row],[pauze]],(TabUren22[[#This Row],[eindtijd]]-TabUren22[[#This Row],[begintijd]])-TabUren22[[#This Row],[pauze]]))","v":""},{"$f":"IF(OR(TabUren22[hoofdcategorie]=\"\",TabUren22[hoofdcategorie]=0),\"anders dan hoofdcategorie\",TabUren22[hoofdcategorie])","v":"anders dan hoofdcategorie"}]
[{"$f":"IF(TabUren22[[#This Row],[datum]]=\"\",\"\",INT((TabUren22[[#This Row],[datum]]-SUM(MOD(DATE(YEAR(TabUren22[[#This Row],[datum]]-MOD(TabUren22[[#This Row],[datum]]-2,7)+3),1,2),{1E+99;7})*{1;-1})+5) /7))","v":""},{"$f":"IF(TabUren22[[#This Row],[datum]]=\"\",\"\",TabUren22[[#This Row],[datum]])","v":""},null,null,{"$f":"IF(TabUren22[[#This Row],[datum]]=\"\",\"\",verzameldata!$C$4)","v":""},null,null,null,null,{"$f":"IF(TabUren22[[#This Row],[eindtijd]]=\"\",\"\",IF(TabUren22[[#This Row],[eindtijd]]<TabUren22[[#This Row],[begintijd]],(\"24:00\"-TabUren22[[#This Row],[begintijd]]+TabUren22[[#This Row],[eindtijd]])-TabUren22[[#This Row],[pauze]],(TabUren22[[#This Row],[eindtijd]]-TabUren22[[#This Row],[begintijd]])-TabUren22[[#This Row],[pauze]]))","v":""},{"$f":"IF(OR(TabUren22[hoofdcategorie]=\"\",TabUren22[hoofdcategorie]=0),\"anders dan hoofdcategorie\",TabUren22[hoofdcategorie])","v":"anders dan hoofdcategorie"}]
[{"$f":"IF(TabUren22[[#This Row],[datum]]=\"\",\"\",INT((TabUren22[[#This Row],[datum]]-SUM(MOD(DATE(YEAR(TabUren22[[#This Row],[datum]]-MOD(TabUren22[[#This Row],[datum]]-2,7)+3),1,2),{1E+99;7})*{1;-1})+5) /7))","v":""},{"$f":"IF(TabUren22[[#This Row],[datum]]=\"\",\"\",TabUren22[[#This Row],[datum]])","v":""},null,null,{"$f":"IF(TabUren22[[#This Row],[datum]]=\"\",\"\",verzameldata!$C$4)","v":""},null,null,null,null,{"$f":"IF(TabUren22[[#This Row],[eindtijd]]=\"\",\"\",IF(TabUren22[[#This Row],[eindtijd]]<TabUren22[[#This Row],[begintijd]],(\"24:00\"-TabUren22[[#This Row],[begintijd]]+TabUren22[[#This Row],[eindtijd]])-TabUren22[[#This Row],[pauze]],(TabUren22[[#This Row],[eindtijd]]-TabUren22[[#This Row],[begintijd]])-TabUren22[[#This Row],[pauze]]))","v":""},{"$f":"IF(OR(TabUren22[hoofdcategorie]=\"\",TabUren22[hoofdcategorie]=0),\"anders dan hoofdcategorie\",TabUren22[hoofdcategorie])","v":"anders dan hoofdcategorie"}]
[{"$f":"IF(TabUren22[[#This Row],[datum]]=\"\",\"\",INT((TabUren22[[#This Row],[datum]]-SUM(MOD(DATE(YEAR(TabUren22[[#This Row],[datum]]-MOD(TabUren22[[#This Row],[datum]]-2,7)+3),1,2),{1E+99;7})*{1;-1})+5) /7))","v":""},{"$f":"IF(TabUren22[[#This Row],[datum]]=\"\",\"\",TabUren22[[#This Row],[datum]])","v":""},null,null,{"$f":"IF(TabUren22[[#This Row],[datum]]=\"\",\"\",verzameldata!$C$4)","v":""},null,null,null,null,{"$f":"IF(TabUren22[[#This Row],[eindtijd]]=\"\",\"\",IF(TabUren22[[#This Row],[eindtijd]]<TabUren22[[#This Row],[begintijd]],(\"24:00\"-TabUren22[[#This Row],[begintijd]]+TabUren22[[#This Row],[eindtijd]])-TabUren22[[#This Row],[pauze]],(TabUren22[[#This Row],[eindtijd]]-TabUren22[[#This Row],[begintijd]])-TabUren22[[#This Row],[pauze]]))","v":""},{"$f":"IF(OR(TabUren22[hoofdcategorie]=\"\",TabUren22[hoofdcategorie]=0),\"anders dan hoofdcategorie\",TabUren22[hoofdcategorie])","v":"anders dan hoofdcategorie"}]
[{"$f":"IF(TabUren22[[#This Row],[datum]]=\"\",\"\",INT((TabUren22[[#This Row],[datum]]-SUM(MOD(DATE(YEAR(TabUren22[[#This Row],[datum]]-MOD(TabUren22[[#This Row],[datum]]-2,7)+3),1,2),{1E+99;7})*{1;-1})+5) /7))","v":""},{"$f":"IF(TabUren22[[#This Row],[datum]]=\"\",\"\",TabUren22[[#This Row],[datum]])","v":""},null,null,{"$f":"IF(TabUren22[[#This Row],[datum]]=\"\",\"\",verzameldata!$C$4)","v":""},null,null,null,null,{"$f":"IF(TabUren22[[#This Row],[eindtijd]]=\"\",\"\",IF(TabUren22[[#This Row],[eindtijd]]<TabUren22[[#This Row],[begintijd]],(\"24:00\"-TabUren22[[#This Row],[begintijd]]+TabUren22[[#This Row],[eindtijd]])-TabUren22[[#This Row],[pauze]],(TabUren22[[#This Row],[eindtijd]]-TabUren22[[#This Row],[begintijd]])-TabUren22[[#This Row],[pauze]]))","v":""},{"$f":"IF(OR(TabUren22[hoofdcategorie]=\"\",TabUren22[hoofdcategorie]=0),\"anders dan hoofdcategorie\",TabUren22[hoofdcategorie])","v":"anders dan hoofdcategorie"}]
[{"$f":"IF(TabUren22[[#This Row],[datum]]=\"\",\"\",INT((TabUren22[[#This Row],[datum]]-SUM(MOD(DATE(YEAR(TabUren22[[#This Row],[datum]]-MOD(TabUren22[[#This Row],[datum]]-2,7)+3),1,2),{1E+99;7})*{1;-1})+5) /7))","v":""},{"$f":"IF(TabUren22[[#This Row],[datum]]=\"\",\"\",TabUren22[[#This Row],[datum]])","v":""},null,null,{"$f":"IF(TabUren22[[#This Row],[datum]]=\"\",\"\",verzameldata!$C$4)","v":""},null,null,null,null,{"$f":"IF(TabUren22[[#This Row],[eindtijd]]=\"\",\"\",IF(TabUren22[[#This Row],[eindtijd]]<TabUren22[[#This Row],[begintijd]],(\"24:00\"-TabUren22[[#This Row],[begintijd]]+TabUren22[[#This Row],[eindtijd]])-TabUren22[[#This Row],[pauze]],(TabUren22[[#This Row],[eindtijd]]-TabUren22[[#This Row],[begintijd]])-TabUren22[[#This Row],[pauze]]))","v":""},{"$f":"IF(OR(TabUren22[hoofdcategorie]=\"\",TabUren22[hoofdcategorie]=0),\"anders dan hoofdcategorie\",TabUren22[hoofdcategorie])","v":"anders dan hoofdcategorie"}]
[{"$f":"IF(TabUren22[[#This Row],[datum]]=\"\",\"\",INT((TabUren22[[#This Row],[datum]]-SUM(MOD(DATE(YEAR(TabUren22[[#This Row],[datum]]-MOD(TabUren22[[#This Row],[datum]]-2,7)+3),1,2),{1E+99;7})*{1;-1})+5) /7))","v":""},{"$f":"IF(TabUren22[[#This Row],[datum]]=\"\",\"\",TabUren22[[#This Row],[datum]])","v":""},null,null,{"$f":"IF(TabUren22[[#This Row],[datum]]=\"\",\"\",verzameldata!$C$4)","v":""},null,null,null,null,{"$f":"IF(TabUren22[[#This Row],[eindtijd]]=\"\",\"\",IF(TabUren22[[#This Row],[eindtijd]]<TabUren22[[#This Row],[begintijd]],(\"24:00\"-TabUren22[[#This Row],[begintijd]]+TabUren22[[#This Row],[eindtijd]])-TabUren22[[#This Row],[pauze]],(TabUren22[[#This Row],[eindtijd]]-TabUren22[[#This Row],[begintijd]])-TabUren22[[#This Row],[pauze]]))","v":""},{"$f":"IF(OR(TabUren22[hoofdcategorie]=\"\",TabUren22[hoofdcategorie]=0),\"anders dan hoofdcategorie\",TabUren22[hoofdcategorie])","v":"anders dan hoofdcategorie"}]
[{"$f":"IF(TabUren22[[#This Row],[datum]]=\"\",\"\",INT((TabUren22[[#This Row],[datum]]-SUM(MOD(DATE(YEAR(TabUren22[[#This Row],[datum]]-MOD(TabUren22[[#This Row],[datum]]-2,7)+3),1,2),{1E+99;7})*{1;-1})+5) /7))","v":""},{"$f":"IF(TabUren22[[#This Row],[datum]]=\"\",\"\",TabUren22[[#This Row],[datum]])","v":""},null,null,{"$f":"IF(TabUren22[[#This Row],[datum]]=\"\",\"\",verzameldata!$C$4)","v":""},null,null,null,null,{"$f":"IF(TabUren22[[#This Row],[eindtijd]]=\"\",\"\",IF(TabUren22[[#This Row],[eindtijd]]<TabUren22[[#This Row],[begintijd]],(\"24:00\"-TabUren22[[#This Row],[begintijd]]+TabUren22[[#This Row],[eindtijd]])-TabUren22[[#This Row],[pauze]],(TabUren22[[#This Row],[eindtijd]]-TabUren22[[#This Row],[begintijd]])-TabUren22[[#This Row],[pauze]]))","v":""},{"$f":"IF(OR(TabUren22[hoofdcategorie]=\"\",TabUren22[hoofdcategorie]=0),\"anders dan hoofdcategorie\",TabUren22[hoofdcategorie])","v":"anders dan hoofdcategorie"}]
[{"$f":"IF(TabUren22[[#This Row],[datum]]=\"\",\"\",INT((TabUren22[[#This Row],[datum]]-SUM(MOD(DATE(YEAR(TabUren22[[#This Row],[datum]]-MOD(TabUren22[[#This Row],[datum]]-2,7)+3),1,2),{1E+99;7})*{1;-1})+5) /7))","v":""},{"$f":"IF(TabUren22[[#This Row],[datum]]=\"\",\"\",TabUren22[[#This Row],[datum]])","v":""},null,null,{"$f":"IF(TabUren22[[#This Row],[datum]]=\"\",\"\",verzameldata!$C$4)","v":""},null,null,null,null,{"$f":"IF(TabUren22[[#This Row],[eindtijd]]=\"\",\"\",IF(TabUren22[[#This Row],[eindtijd]]<TabUren22[[#This Row],[begintijd]],(\"24:00\"-TabUren22[[#This Row],[begintijd]]+TabUren22[[#This Row],[eindtijd]])-TabUren22[[#This Row],[pauze]],(TabUren22[[#This Row],[eindtijd]]-TabUren22[[#This Row],[begintijd]])-TabUren22[[#This Row],[pauze]]))","v":""},{"$f":"IF(OR(TabUren22[hoofdcategorie]=\"\",TabUren22[hoofdcategorie]=0),\"anders dan hoofdcategorie\",TabUren22[hoofdcategorie])","v":"anders dan hoofdcategorie"}]
[{"$f":"IF(TabUren22[[#This Row],[datum]]=\"\",\"\",INT((TabUren22[[#This Row],[datum]]-SUM(MOD(DATE(YEAR(TabUren22[[#This Row],[datum]]-MOD(TabUren22[[#This Row],[datum]]-2,7)+3),1,2),{1E+99;7})*{1;-1})+5) /7))","v":""},{"$f":"IF(TabUren22[[#This Row],[datum]]=\"\",\"\",TabUren22[[#This Row],[datum]])","v":""},null,null,{"$f":"IF(TabUren22[[#This Row],[datum]]=\"\",\"\",verzameldata!$C$4)","v":""},null,null,null,null,{"$f":"IF(TabUren22[[#This Row],[eindtijd]]=\"\",\"\",IF(TabUren22[[#This Row],[eindtijd]]<TabUren22[[#This Row],[begintijd]],(\"24:00\"-TabUren22[[#This Row],[begintijd]]+TabUren22[[#This Row],[eindtijd]])-TabUren22[[#This Row],[pauze]],(TabUren22[[#This Row],[eindtijd]]-TabUren22[[#This Row],[begintijd]])-TabUren22[[#This Row],[pauze]]))","v":""},{"$f":"IF(OR(TabUren22[hoofdcategorie]=\"\",TabUren22[hoofdcategorie]=0),\"anders dan hoofdcategorie\",TabUren22[hoofdcategorie])","v":"anders dan hoofdcategorie"}]
[{"$f":"IF(TabUren22[[#This Row],[datum]]=\"\",\"\",INT((TabUren22[[#This Row],[datum]]-SUM(MOD(DATE(YEAR(TabUren22[[#This Row],[datum]]-MOD(TabUren22[[#This Row],[datum]]-2,7)+3),1,2),{1E+99;7})*{1;-1})+5) /7))","v":""},{"$f":"IF(TabUren22[[#This Row],[datum]]=\"\",\"\",TabUren22[[#This Row],[datum]])","v":""},null,null,{"$f":"IF(TabUren22[[#This Row],[datum]]=\"\",\"\",verzameldata!$C$4)","v":""},null,null,null,null,{"$f":"IF(TabUren22[[#This Row],[eindtijd]]=\"\",\"\",IF(TabUren22[[#This Row],[eindtijd]]<TabUren22[[#This Row],[begintijd]],(\"24:00\"-TabUren22[[#This Row],[begintijd]]+TabUren22[[#This Row],[eindtijd]])-TabUren22[[#This Row],[pauze]],(TabUren22[[#This Row],[eindtijd]]-TabUren22[[#This Row],[begintijd]])-TabUren22[[#This Row],[pauze]]))","v":""},{"$f":"IF(OR(TabUren22[hoofdcategorie]=\"\",TabUren22[hoofdcategorie]=0),\"anders dan hoofdcategorie\",TabUren22[hoofdcategorie])","v":"anders dan hoofdcategorie"}]
[{"$f":"IF(TabUren22[[#This Row],[datum]]=\"\",\"\",INT((TabUren22[[#This Row],[datum]]-SUM(MOD(DATE(YEAR(TabUren22[[#This Row],[datum]]-MOD(TabUren22[[#This Row],[datum]]-2,7)+3),1,2),{1E+99;7})*{1;-1})+5) /7))","v":""},{"$f":"IF(TabUren22[[#This Row],[datum]]=\"\",\"\",TabUren22[[#This Row],[datum]])","v":""},null,null,{"$f":"IF(TabUren22[[#This Row],[datum]]=\"\",\"\",verzameldata!$C$4)","v":""},null,null,null,null,{"$f":"IF(TabUren22[[#This Row],[eindtijd]]=\"\",\"\",IF(TabUren22[[#This Row],[eindtijd]]<TabUren22[[#This Row],[begintijd]],(\"24:00\"-TabUren22[[#This Row],[begintijd]]+TabUren22[[#This Row],[eindtijd]])-TabUren22[[#This Row],[pauze]],(TabUren22[[#This Row],[eindtijd]]-TabUren22[[#This Row],[begintijd]])-TabUren22[[#This Row],[pauze]]))","v":""},{"$f":"IF(OR(TabUren22[hoofdcategorie]=\"\",TabUren22[hoofdcategorie]=0),\"anders dan hoofdcategorie\",TabUren22[hoofdcategorie])","v":"anders dan hoofdcategorie"}]
[{"$f":"IF(TabUren22[[#This Row],[datum]]=\"\",\"\",INT((TabUren22[[#This Row],[datum]]-SUM(MOD(DATE(YEAR(TabUren22[[#This Row],[datum]]-MOD(TabUren22[[#This Row],[datum]]-2,7)+3),1,2),{1E+99;7})*{1;-1})+5) /7))","v":""},{"$f":"IF(TabUren22[[#This Row],[datum]]=\"\",\"\",TabUren22[[#This Row],[datum]])","v":""},null,null,{"$f":"IF(TabUren22[[#This Row],[datum]]=\"\",\"\",verzameldata!$C$4)","v":""},null,null,null,null,{"$f":"IF(TabUren22[[#This Row],[eindtijd]]=\"\",\"\",IF(TabUren22[[#This Row],[eindtijd]]<TabUren22[[#This Row],[begintijd]],(\"24:00\"-TabUren22[[#This Row],[begintijd]]+TabUren22[[#This Row],[eindtijd]])-TabUren22[[#This Row],[pauze]],(TabUren22[[#This Row],[eindtijd]]-TabUren22[[#This Row],[begintijd]])-TabUren22[[#This Row],[pauze]]))","v":""},{"$f":"IF(OR(TabUren22[hoofdcategorie]=\"\",TabUren22[hoofdcategorie]=0),\"anders dan hoofdcategorie\",TabUren22[hoofdcategorie])","v":"anders dan hoofdcategorie"}]
[{"$f":"IF(TabUren22[[#This Row],[datum]]=\"\",\"\",INT((TabUren22[[#This Row],[datum]]-SUM(MOD(DATE(YEAR(TabUren22[[#This Row],[datum]]-MOD(TabUren22[[#This Row],[datum]]-2,7)+3),1,2),{1E+99;7})*{1;-1})+5) /7))","v":""},{"$f":"IF(TabUren22[[#This Row],[datum]]=\"\",\"\",TabUren22[[#This Row],[datum]])","v":""},null,null,{"$f":"IF(TabUren22[[#This Row],[datum]]=\"\",\"\",verzameldata!$C$4)","v":""},null,null,null,null,{"$f":"IF(TabUren22[[#This Row],[eindtijd]]=\"\",\"\",IF(TabUren22[[#This Row],[eindtijd]]<TabUren22[[#This Row],[begintijd]],(\"24:00\"-TabUren22[[#This Row],[begintijd]]+TabUren22[[#This Row],[eindtijd]])-TabUren22[[#This Row],[pauze]],(TabUren22[[#This Row],[eindtijd]]-TabUren22[[#This Row],[begintijd]])-TabUren22[[#This Row],[pauze]]))","v":""},{"$f":"IF(OR(TabUren22[hoofdcategorie]=\"\",TabUren22[hoofdcategorie]=0),\"anders dan hoofdcategorie\",TabUren22[hoofdcategorie])","v":"anders dan hoofdcategorie"}]
[{"$f":"IF(TabUren22[[#This Row],[datum]]=\"\",\"\",INT((TabUren22[[#This Row],[datum]]-SUM(MOD(DATE(YEAR(TabUren22[[#This Row],[datum]]-MOD(TabUren22[[#This Row],[datum]]-2,7)+3),1,2),{1E+99;7})*{1;-1})+5) /7))","v":""},{"$f":"IF(TabUren22[[#This Row],[datum]]=\"\",\"\",TabUren22[[#This Row],[datum]])","v":""},null,null,{"$f":"IF(TabUren22[[#This Row],[datum]]=\"\",\"\",verzameldata!$C$4)","v":""},null,null,null,null,{"$f":"IF(TabUren22[[#This Row],[eindtijd]]=\"\",\"\",IF(TabUren22[[#This Row],[eindtijd]]<TabUren22[[#This Row],[begintijd]],(\"24:00\"-TabUren22[[#This Row],[begintijd]]+TabUren22[[#This Row],[eindtijd]])-TabUren22[[#This Row],[pauze]],(TabUren22[[#This Row],[eindtijd]]-TabUren22[[#This Row],[begintijd]])-TabUren22[[#This Row],[pauze]]))","v":""},{"$f":"IF(OR(TabUren22[hoofdcategorie]=\"\",TabUren22[hoofdcategorie]=0),\"anders dan hoofdcategorie\",TabUren22[hoofdcategorie])","v":"anders dan hoofdcategorie"}]
[{"$f":"IF(TabUren22[[#This Row],[datum]]=\"\",\"\",INT((TabUren22[[#This Row],[datum]]-SUM(MOD(DATE(YEAR(TabUren22[[#This Row],[datum]]-MOD(TabUren22[[#This Row],[datum]]-2,7)+3),1,2),{1E+99;7})*{1;-1})+5) /7))","v":""},{"$f":"IF(TabUren22[[#This Row],[datum]]=\"\",\"\",TabUren22[[#This Row],[datum]])","v":""},null,null,{"$f":"IF(TabUren22[[#This Row],[datum]]=\"\",\"\",verzameldata!$C$4)","v":""},null,null,null,null,{"$f":"IF(TabUren22[[#This Row],[eindtijd]]=\"\",\"\",IF(TabUren22[[#This Row],[eindtijd]]<TabUren22[[#This Row],[begintijd]],(\"24:00\"-TabUren22[[#This Row],[begintijd]]+TabUren22[[#This Row],[eindtijd]])-TabUren22[[#This Row],[pauze]],(TabUren22[[#This Row],[eindtijd]]-TabUren22[[#This Row],[begintijd]])-TabUren22[[#This Row],[pauze]]))","v":""},{"$f":"IF(OR(TabUren22[hoofdcategorie]=\"\",TabUren22[hoofdcategorie]=0),\"anders dan hoofdcategorie\",TabUren22[hoofdcategorie])","v":"anders dan hoofdcategorie"}]
[{"$f":"IF(TabUren22[[#This Row],[datum]]=\"\",\"\",INT((TabUren22[[#This Row],[datum]]-SUM(MOD(DATE(YEAR(TabUren22[[#This Row],[datum]]-MOD(TabUren22[[#This Row],[datum]]-2,7)+3),1,2),{1E+99;7})*{1;-1})+5) /7))","v":""},{"$f":"IF(TabUren22[[#This Row],[datum]]=\"\",\"\",TabUren22[[#This Row],[datum]])","v":""},null,null,{"$f":"IF(TabUren22[[#This Row],[datum]]=\"\",\"\",verzameldata!$C$4)","v":""},null,null,null,null,{"$f":"IF(TabUren22[[#This Row],[eindtijd]]=\"\",\"\",IF(TabUren22[[#This Row],[eindtijd]]<TabUren22[[#This Row],[begintijd]],(\"24:00\"-TabUren22[[#This Row],[begintijd]]+TabUren22[[#This Row],[eindtijd]])-TabUren22[[#This Row],[pauze]],(TabUren22[[#This Row],[eindtijd]]-TabUren22[[#This Row],[begintijd]])-TabUren22[[#This Row],[pauze]]))","v":""},{"$f":"IF(OR(TabUren22[hoofdcategorie]=\"\",TabUren22[hoofdcategorie]=0),\"anders dan hoofdcategorie\",TabUren22[hoofdcategorie])","v":"anders dan hoofdcategorie"}]
[{"$f":"IF(TabUren22[[#This Row],[datum]]=\"\",\"\",INT((TabUren22[[#This Row],[datum]]-SUM(MOD(DATE(YEAR(TabUren22[[#This Row],[datum]]-MOD(TabUren22[[#This Row],[datum]]-2,7)+3),1,2),{1E+99;7})*{1;-1})+5) /7))","v":""},{"$f":"IF(TabUren22[[#This Row],[datum]]=\"\",\"\",TabUren22[[#This Row],[datum]])","v":""},null,null,{"$f":"IF(TabUren22[[#This Row],[datum]]=\"\",\"\",verzameldata!$C$4)","v":""},null,null,null,null,{"$f":"IF(TabUren22[[#This Row],[eindtijd]]=\"\",\"\",IF(TabUren22[[#This Row],[eindtijd]]<TabUren22[[#This Row],[begintijd]],(\"24:00\"-TabUren22[[#This Row],[begintijd]]+TabUren22[[#This Row],[eindtijd]])-TabUren22[[#This Row],[pauze]],(TabUren22[[#This Row],[eindtijd]]-TabUren22[[#This Row],[begintijd]])-TabUren22[[#This Row],[pauze]]))","v":""},{"$f":"IF(OR(TabUren22[hoofdcategorie]=\"\",TabUren22[hoofdcategorie]=0),\"anders dan hoofdcategorie\",TabUren22[hoofdcategorie])","v":"anders dan hoofdcategorie"}]
[{"$f":"IF(TabUren22[[#This Row],[datum]]=\"\",\"\",INT((TabUren22[[#This Row],[datum]]-SUM(MOD(DATE(YEAR(TabUren22[[#This Row],[datum]]-MOD(TabUren22[[#This Row],[datum]]-2,7)+3),1,2),{1E+99;7})*{1;-1})+5) /7))","v":""},{"$f":"IF(TabUren22[[#This Row],[datum]]=\"\",\"\",TabUren22[[#This Row],[datum]])","v":""},null,null,{"$f":"IF(TabUren22[[#This Row],[datum]]=\"\",\"\",verzameldata!$C$4)","v":""},null,null,null,null,{"$f":"IF(TabUren22[[#This Row],[eindtijd]]=\"\",\"\",IF(TabUren22[[#This Row],[eindtijd]]<TabUren22[[#This Row],[begintijd]],(\"24:00\"-TabUren22[[#This Row],[begintijd]]+TabUren22[[#This Row],[eindtijd]])-TabUren22[[#This Row],[pauze]],(TabUren22[[#This Row],[eindtijd]]-TabUren22[[#This Row],[begintijd]])-TabUren22[[#This Row],[pauze]]))","v":""},{"$f":"IF(OR(TabUren22[hoofdcategorie]=\"\",TabUren22[hoofdcategorie]=0),\"anders dan hoofdcategorie\",TabUren22[hoofdcategorie])","v":"anders dan hoofdcategorie"}]
[{"$f":"IF(TabUren22[[#This Row],[datum]]=\"\",\"\",INT((TabUren22[[#This Row],[datum]]-SUM(MOD(DATE(YEAR(TabUren22[[#This Row],[datum]]-MOD(TabUren22[[#This Row],[datum]]-2,7)+3),1,2),{1E+99;7})*{1;-1})+5) /7))","v":""},{"$f":"IF(TabUren22[[#This Row],[datum]]=\"\",\"\",TabUren22[[#This Row],[datum]])","v":""},null,null,{"$f":"IF(TabUren22[[#This Row],[datum]]=\"\",\"\",verzameldata!$C$4)","v":""},null,null,null,null,{"$f":"IF(TabUren22[[#This Row],[eindtijd]]=\"\",\"\",IF(TabUren22[[#This Row],[eindtijd]]<TabUren22[[#This Row],[begintijd]],(\"24:00\"-TabUren22[[#This Row],[begintijd]]+TabUren22[[#This Row],[eindtijd]])-TabUren22[[#This Row],[pauze]],(TabUren22[[#This Row],[eindtijd]]-TabUren22[[#This Row],[begintijd]])-TabUren22[[#This Row],[pauze]]))","v":""},{"$f":"IF(OR(TabUren22[hoofdcategorie]=\"\",TabUren22[hoofdcategorie]=0),\"anders dan hoofdcategorie\",TabUren22[hoofdcategorie])","v":"anders dan hoofdcategorie"}]
[{"$f":"IF(TabUren22[[#This Row],[datum]]=\"\",\"\",INT((TabUren22[[#This Row],[datum]]-SUM(MOD(DATE(YEAR(TabUren22[[#This Row],[datum]]-MOD(TabUren22[[#This Row],[datum]]-2,7)+3),1,2),{1E+99;7})*{1;-1})+5) /7))","v":""},{"$f":"IF(TabUren22[[#This Row],[datum]]=\"\",\"\",TabUren22[[#This Row],[datum]])","v":""},null,null,{"$f":"IF(TabUren22[[#This Row],[datum]]=\"\",\"\",verzameldata!$C$4)","v":""},null,null,null,null,{"$f":"IF(TabUren22[[#This Row],[eindtijd]]=\"\",\"\",IF(TabUren22[[#This Row],[eindtijd]]<TabUren22[[#This Row],[begintijd]],(\"24:00\"-TabUren22[[#This Row],[begintijd]]+TabUren22[[#This Row],[eindtijd]])-TabUren22[[#This Row],[pauze]],(TabUren22[[#This Row],[eindtijd]]-TabUren22[[#This Row],[begintijd]])-TabUren22[[#This Row],[pauze]]))","v":""},{"$f":"IF(OR(TabUren22[hoofdcategorie]=\"\",TabUren22[hoofdcategorie]=0),\"anders dan hoofdcategorie\",TabUren22[hoofdcategorie])","v":"anders dan hoofdcategorie"}]
[{"$f":"IF(TabUren22[[#This Row],[datum]]=\"\",\"\",INT((TabUren22[[#This Row],[datum]]-SUM(MOD(DATE(YEAR(TabUren22[[#This Row],[datum]]-MOD(TabUren22[[#This Row],[datum]]-2,7)+3),1,2),{1E+99;7})*{1;-1})+5) /7))","v":""},{"$f":"IF(TabUren22[[#This Row],[datum]]=\"\",\"\",TabUren22[[#This Row],[datum]])","v":""},null,null,{"$f":"IF(TabUren22[[#This Row],[datum]]=\"\",\"\",verzameldata!$C$4)","v":""},null,null,null,null,{"$f":"IF(TabUren22[[#This Row],[eindtijd]]=\"\",\"\",IF(TabUren22[[#This Row],[eindtijd]]<TabUren22[[#This Row],[begintijd]],(\"24:00\"-TabUren22[[#This Row],[begintijd]]+TabUren22[[#This Row],[eindtijd]])-TabUren22[[#This Row],[pauze]],(TabUren22[[#This Row],[eindtijd]]-TabUren22[[#This Row],[begintijd]])-TabUren22[[#This Row],[pauze]]))","v":""},{"$f":"IF(OR(TabUren22[hoofdcategorie]=\"\",TabUren22[hoofdcategorie]=0),\"anders dan hoofdcategorie\",TabUren22[hoofdcategorie])","v":"anders dan hoofdcategorie"}]
[{"$f":"IF(TabUren22[[#This Row],[datum]]=\"\",\"\",INT((TabUren22[[#This Row],[datum]]-SUM(MOD(DATE(YEAR(TabUren22[[#This Row],[datum]]-MOD(TabUren22[[#This Row],[datum]]-2,7)+3),1,2),{1E+99;7})*{1;-1})+5) /7))","v":""},{"$f":"IF(TabUren22[[#This Row],[datum]]=\"\",\"\",TabUren22[[#This Row],[datum]])","v":""},null,null,{"$f":"IF(TabUren22[[#This Row],[datum]]=\"\",\"\",verzameldata!$C$4)","v":""},null,null,null,null,{"$f":"IF(TabUren22[[#This Row],[eindtijd]]=\"\",\"\",IF(TabUren22[[#This Row],[eindtijd]]<TabUren22[[#This Row],[begintijd]],(\"24:00\"-TabUren22[[#This Row],[begintijd]]+TabUren22[[#This Row],[eindtijd]])-TabUren22[[#This Row],[pauze]],(TabUren22[[#This Row],[eindtijd]]-TabUren22[[#This Row],[begintijd]])-TabUren22[[#This Row],[pauze]]))","v":""},{"$f":"IF(OR(TabUren22[hoofdcategorie]=\"\",TabUren22[hoofdcategorie]=0),\"anders dan hoofdcategorie\",TabUren22[hoofdcategorie])","v":"anders dan hoofdcategorie"}]
[{"$f":"IF(TabUren22[[#This Row],[datum]]=\"\",\"\",INT((TabUren22[[#This Row],[datum]]-SUM(MOD(DATE(YEAR(TabUren22[[#This Row],[datum]]-MOD(TabUren22[[#This Row],[datum]]-2,7)+3),1,2),{1E+99;7})*{1;-1})+5) /7))","v":""},{"$f":"IF(TabUren22[[#This Row],[datum]]=\"\",\"\",TabUren22[[#This Row],[datum]])","v":""},null,null,{"$f":"IF(TabUren22[[#This Row],[datum]]=\"\",\"\",verzameldata!$C$4)","v":""},null,null,null,null,{"$f":"IF(TabUren22[[#This Row],[eindtijd]]=\"\",\"\",IF(TabUren22[[#This Row],[eindtijd]]<TabUren22[[#This Row],[begintijd]],(\"24:00\"-TabUren22[[#This Row],[begintijd]]+TabUren22[[#This Row],[eindtijd]])-TabUren22[[#This Row],[pauze]],(TabUren22[[#This Row],[eindtijd]]-TabUren22[[#This Row],[begintijd]])-TabUren22[[#This Row],[pauze]]))","v":""},{"$f":"IF(OR(TabUren22[hoofdcategorie]=\"\",TabUren22[hoofdcategorie]=0),\"anders dan hoofdcategorie\",TabUren22[hoofdcategorie])","v":"anders dan hoofdcategorie"}]
[{"$f":"IF(TabUren22[[#This Row],[datum]]=\"\",\"\",INT((TabUren22[[#This Row],[datum]]-SUM(MOD(DATE(YEAR(TabUren22[[#This Row],[datum]]-MOD(TabUren22[[#This Row],[datum]]-2,7)+3),1,2),{1E+99;7})*{1;-1})+5) /7))","v":""},{"$f":"IF(TabUren22[[#This Row],[datum]]=\"\",\"\",TabUren22[[#This Row],[datum]])","v":""},null,null,{"$f":"IF(TabUren22[[#This Row],[datum]]=\"\",\"\",verzameldata!$C$4)","v":""},null,null,null,null,{"$f":"IF(TabUren22[[#This Row],[eindtijd]]=\"\",\"\",IF(TabUren22[[#This Row],[eindtijd]]<TabUren22[[#This Row],[begintijd]],(\"24:00\"-TabUren22[[#This Row],[begintijd]]+TabUren22[[#This Row],[eindtijd]])-TabUren22[[#This Row],[pauze]],(TabUren22[[#This Row],[eindtijd]]-TabUren22[[#This Row],[begintijd]])-TabUren22[[#This Row],[pauze]]))","v":""},{"$f":"IF(OR(TabUren22[hoofdcategorie]=\"\",TabUren22[hoofdcategorie]=0),\"anders dan hoofdcategorie\",TabUren22[hoofdcategorie])","v":"anders dan hoofdcategorie"}]
[{"$f":"IF(TabUren22[[#This Row],[datum]]=\"\",\"\",INT((TabUren22[[#This Row],[datum]]-SUM(MOD(DATE(YEAR(TabUren22[[#This Row],[datum]]-MOD(TabUren22[[#This Row],[datum]]-2,7)+3),1,2),{1E+99;7})*{1;-1})+5) /7))","v":""},{"$f":"IF(TabUren22[[#This Row],[datum]]=\"\",\"\",TabUren22[[#This Row],[datum]])","v":""},null,null,{"$f":"IF(TabUren22[[#This Row],[datum]]=\"\",\"\",verzameldata!$C$4)","v":""},null,null,null,null,{"$f":"IF(TabUren22[[#This Row],[eindtijd]]=\"\",\"\",IF(TabUren22[[#This Row],[eindtijd]]<TabUren22[[#This Row],[begintijd]],(\"24:00\"-TabUren22[[#This Row],[begintijd]]+TabUren22[[#This Row],[eindtijd]])-TabUren22[[#This Row],[pauze]],(TabUren22[[#This Row],[eindtijd]]-TabUren22[[#This Row],[begintijd]])-TabUren22[[#This Row],[pauze]]))","v":""},{"$f":"IF(OR(TabUren22[hoofdcategorie]=\"\",TabUren22[hoofdcategorie]=0),\"anders dan hoofdcategorie\",TabUren22[hoofdcategorie])","v":"anders dan hoofdcategorie"}]
[{"$f":"IF(TabUren22[[#This Row],[datum]]=\"\",\"\",INT((TabUren22[[#This Row],[datum]]-SUM(MOD(DATE(YEAR(TabUren22[[#This Row],[datum]]-MOD(TabUren22[[#This Row],[datum]]-2,7)+3),1,2),{1E+99;7})*{1;-1})+5) /7))","v":""},{"$f":"IF(TabUren22[[#This Row],[datum]]=\"\",\"\",TabUren22[[#This Row],[datum]])","v":""},null,null,{"$f":"IF(TabUren22[[#This Row],[datum]]=\"\",\"\",verzameldata!$C$4)","v":""},null,null,null,null,{"$f":"IF(TabUren22[[#This Row],[eindtijd]]=\"\",\"\",IF(TabUren22[[#This Row],[eindtijd]]<TabUren22[[#This Row],[begintijd]],(\"24:00\"-TabUren22[[#This Row],[begintijd]]+TabUren22[[#This Row],[eindtijd]])-TabUren22[[#This Row],[pauze]],(TabUren22[[#This Row],[eindtijd]]-TabUren22[[#This Row],[begintijd]])-TabUren22[[#This Row],[pauze]]))","v":""},{"$f":"IF(OR(TabUren22[hoofdcategorie]=\"\",TabUren22[hoofdcategorie]=0),\"anders dan hoofdcategorie\",TabUren22[hoofdcategorie])","v":"anders dan hoofdcategorie"}]
[{"$f":"IF(TabUren22[[#This Row],[datum]]=\"\",\"\",INT((TabUren22[[#This Row],[datum]]-SUM(MOD(DATE(YEAR(TabUren22[[#This Row],[datum]]-MOD(TabUren22[[#This Row],[datum]]-2,7)+3),1,2),{1E+99;7})*{1;-1})+5) /7))","v":""},{"$f":"IF(TabUren22[[#This Row],[datum]]=\"\",\"\",TabUren22[[#This Row],[datum]])","v":""},null,null,{"$f":"IF(TabUren22[[#This Row],[datum]]=\"\",\"\",verzameldata!$C$4)","v":""},null,null,null,null,{"$f":"IF(TabUren22[[#This Row],[eindtijd]]=\"\",\"\",IF(TabUren22[[#This Row],[eindtijd]]<TabUren22[[#This Row],[begintijd]],(\"24:00\"-TabUren22[[#This Row],[begintijd]]+TabUren22[[#This Row],[eindtijd]])-TabUren22[[#This Row],[pauze]],(TabUren22[[#This Row],[eindtijd]]-TabUren22[[#This Row],[begintijd]])-TabUren22[[#This Row],[pauze]]))","v":""},{"$f":"IF(OR(TabUren22[hoofdcategorie]=\"\",TabUren22[hoofdcategorie]=0),\"anders dan hoofdcategorie\",TabUren22[hoofdcategorie])","v":"anders dan hoofdcategorie"}]
[{"$f":"IF(TabUren22[[#This Row],[datum]]=\"\",\"\",INT((TabUren22[[#This Row],[datum]]-SUM(MOD(DATE(YEAR(TabUren22[[#This Row],[datum]]-MOD(TabUren22[[#This Row],[datum]]-2,7)+3),1,2),{1E+99;7})*{1;-1})+5) /7))","v":""},{"$f":"IF(TabUren22[[#This Row],[datum]]=\"\",\"\",TabUren22[[#This Row],[datum]])","v":""},null,null,{"$f":"IF(TabUren22[[#This Row],[datum]]=\"\",\"\",verzameldata!$C$4)","v":""},null,null,null,null,{"$f":"IF(TabUren22[[#This Row],[eindtijd]]=\"\",\"\",IF(TabUren22[[#This Row],[eindtijd]]<TabUren22[[#This Row],[begintijd]],(\"24:00\"-TabUren22[[#This Row],[begintijd]]+TabUren22[[#This Row],[eindtijd]])-TabUren22[[#This Row],[pauze]],(TabUren22[[#This Row],[eindtijd]]-TabUren22[[#This Row],[begintijd]])-TabUren22[[#This Row],[pauze]]))","v":""},{"$f":"IF(OR(TabUren22[hoofdcategorie]=\"\",TabUren22[hoofdcategorie]=0),\"anders dan hoofdcategorie\",TabUren22[hoofdcategorie])","v":"anders dan hoofdcategorie"}]
[{"$f":"IF(TabUren22[[#This Row],[datum]]=\"\",\"\",INT((TabUren22[[#This Row],[datum]]-SUM(MOD(DATE(YEAR(TabUren22[[#This Row],[datum]]-MOD(TabUren22[[#This Row],[datum]]-2,7)+3),1,2),{1E+99;7})*{1;-1})+5) /7))","v":""},{"$f":"IF(TabUren22[[#This Row],[datum]]=\"\",\"\",TabUren22[[#This Row],[datum]])","v":""},null,null,{"$f":"IF(TabUren22[[#This Row],[datum]]=\"\",\"\",verzameldata!$C$4)","v":""},null,null,null,null,{"$f":"IF(TabUren22[[#This Row],[eindtijd]]=\"\",\"\",IF(TabUren22[[#This Row],[eindtijd]]<TabUren22[[#This Row],[begintijd]],(\"24:00\"-TabUren22[[#This Row],[begintijd]]+TabUren22[[#This Row],[eindtijd]])-TabUren22[[#This Row],[pauze]],(TabUren22[[#This Row],[eindtijd]]-TabUren22[[#This Row],[begintijd]])-TabUren22[[#This Row],[pauze]]))","v":""},{"$f":"IF(OR(TabUren22[hoofdcategorie]=\"\",TabUren22[hoofdcategorie]=0),\"anders dan hoofdcategorie\",TabUren22[hoofdcategorie])","v":"anders dan hoofdcategorie"}]
[{"$f":"IF(TabUren22[[#This Row],[datum]]=\"\",\"\",INT((TabUren22[[#This Row],[datum]]-SUM(MOD(DATE(YEAR(TabUren22[[#This Row],[datum]]-MOD(TabUren22[[#This Row],[datum]]-2,7)+3),1,2),{1E+99;7})*{1;-1})+5) /7))","v":""},{"$f":"IF(TabUren22[[#This Row],[datum]]=\"\",\"\",TabUren22[[#This Row],[datum]])","v":""},null,null,{"$f":"IF(TabUren22[[#This Row],[datum]]=\"\",\"\",verzameldata!$C$4)","v":""},null,null,null,null,{"$f":"IF(TabUren22[[#This Row],[eindtijd]]=\"\",\"\",IF(TabUren22[[#This Row],[eindtijd]]<TabUren22[[#This Row],[begintijd]],(\"24:00\"-TabUren22[[#This Row],[begintijd]]+TabUren22[[#This Row],[eindtijd]])-TabUren22[[#This Row],[pauze]],(TabUren22[[#This Row],[eindtijd]]-TabUren22[[#This Row],[begintijd]])-TabUren22[[#This Row],[pauze]]))","v":""},{"$f":"IF(OR(TabUren22[hoofdcategorie]=\"\",TabUren22[hoofdcategorie]=0),\"anders dan hoofdcategorie\",TabUren22[hoofdcategorie])","v":"anders dan hoofdcategorie"}]
[{"$f":"IF(TabUren22[[#This Row],[datum]]=\"\",\"\",INT((TabUren22[[#This Row],[datum]]-SUM(MOD(DATE(YEAR(TabUren22[[#This Row],[datum]]-MOD(TabUren22[[#This Row],[datum]]-2,7)+3),1,2),{1E+99;7})*{1;-1})+5) /7))","v":""},{"$f":"IF(TabUren22[[#This Row],[datum]]=\"\",\"\",TabUren22[[#This Row],[datum]])","v":""},null,null,{"$f":"IF(TabUren22[[#This Row],[datum]]=\"\",\"\",verzameldata!$C$4)","v":""},null,null,null,null,{"$f":"IF(TabUren22[[#This Row],[eindtijd]]=\"\",\"\",IF(TabUren22[[#This Row],[eindtijd]]<TabUren22[[#This Row],[begintijd]],(\"24:00\"-TabUren22[[#This Row],[begintijd]]+TabUren22[[#This Row],[eindtijd]])-TabUren22[[#This Row],[pauze]],(TabUren22[[#This Row],[eindtijd]]-TabUren22[[#This Row],[begintijd]])-TabUren22[[#This Row],[pauze]]))","v":""},{"$f":"IF(OR(TabUren22[hoofdcategorie]=\"\",TabUren22[hoofdcategorie]=0),\"anders dan hoofdcategorie\",TabUren22[hoofdcategorie])","v":"anders dan hoofdcategorie"}]
[{"$f":"IF(TabUren22[[#This Row],[datum]]=\"\",\"\",INT((TabUren22[[#This Row],[datum]]-SUM(MOD(DATE(YEAR(TabUren22[[#This Row],[datum]]-MOD(TabUren22[[#This Row],[datum]]-2,7)+3),1,2),{1E+99;7})*{1;-1})+5) /7))","v":""},{"$f":"IF(TabUren22[[#This Row],[datum]]=\"\",\"\",TabUren22[[#This Row],[datum]])","v":""},null,null,{"$f":"IF(TabUren22[[#This Row],[datum]]=\"\",\"\",verzameldata!$C$4)","v":""},null,null,null,null,{"$f":"IF(TabUren22[[#This Row],[eindtijd]]=\"\",\"\",IF(TabUren22[[#This Row],[eindtijd]]<TabUren22[[#This Row],[begintijd]],(\"24:00\"-TabUren22[[#This Row],[begintijd]]+TabUren22[[#This Row],[eindtijd]])-TabUren22[[#This Row],[pauze]],(TabUren22[[#This Row],[eindtijd]]-TabUren22[[#This Row],[begintijd]])-TabUren22[[#This Row],[pauze]]))","v":""},{"$f":"IF(OR(TabUren22[hoofdcategorie]=\"\",TabUren22[hoofdcategorie]=0),\"anders dan hoofdcategorie\",TabUren22[hoofdcategorie])","v":"anders dan hoofdcategorie"}]
[{"$f":"IF(TabUren22[[#This Row],[datum]]=\"\",\"\",INT((TabUren22[[#This Row],[datum]]-SUM(MOD(DATE(YEAR(TabUren22[[#This Row],[datum]]-MOD(TabUren22[[#This Row],[datum]]-2,7)+3),1,2),{1E+99;7})*{1;-1})+5) /7))","v":""},{"$f":"IF(TabUren22[[#This Row],[datum]]=\"\",\"\",TabUren22[[#This Row],[datum]])","v":""},null,null,{"$f":"IF(TabUren22[[#This Row],[datum]]=\"\",\"\",verzameldata!$C$4)","v":""},null,null,null,null,{"$f":"IF(TabUren22[[#This Row],[eindtijd]]=\"\",\"\",IF(TabUren22[[#This Row],[eindtijd]]<TabUren22[[#This Row],[begintijd]],(\"24:00\"-TabUren22[[#This Row],[begintijd]]+TabUren22[[#This Row],[eindtijd]])-TabUren22[[#This Row],[pauze]],(TabUren22[[#This Row],[eindtijd]]-TabUren22[[#This Row],[begintijd]])-TabUren22[[#This Row],[pauze]]))","v":""},{"$f":"IF(OR(TabUren22[hoofdcategorie]=\"\",TabUren22[hoofdcategorie]=0),\"anders dan hoofdcategorie\",TabUren22[hoofdcategorie])","v":"anders dan hoofdcategorie"}]
[{"$f":"IF(TabUren22[[#This Row],[datum]]=\"\",\"\",INT((TabUren22[[#This Row],[datum]]-SUM(MOD(DATE(YEAR(TabUren22[[#This Row],[datum]]-MOD(TabUren22[[#This Row],[datum]]-2,7)+3),1,2),{1E+99;7})*{1;-1})+5) /7))","v":""},{"$f":"IF(TabUren22[[#This Row],[datum]]=\"\",\"\",TabUren22[[#This Row],[datum]])","v":""},null,null,{"$f":"IF(TabUren22[[#This Row],[datum]]=\"\",\"\",verzameldata!$C$4)","v":""},null,null,null,null,{"$f":"IF(TabUren22[[#This Row],[eindtijd]]=\"\",\"\",IF(TabUren22[[#This Row],[eindtijd]]<TabUren22[[#This Row],[begintijd]],(\"24:00\"-TabUren22[[#This Row],[begintijd]]+TabUren22[[#This Row],[eindtijd]])-TabUren22[[#This Row],[pauze]],(TabUren22[[#This Row],[eindtijd]]-TabUren22[[#This Row],[begintijd]])-TabUren22[[#This Row],[pauze]]))","v":""},{"$f":"IF(OR(TabUren22[hoofdcategorie]=\"\",TabUren22[hoofdcategorie]=0),\"anders dan hoofdcategorie\",TabUren22[hoofdcategorie])","v":"anders dan hoofdcategorie"}]
[{"$f":"IF(TabUren22[[#This Row],[datum]]=\"\",\"\",INT((TabUren22[[#This Row],[datum]]-SUM(MOD(DATE(YEAR(TabUren22[[#This Row],[datum]]-MOD(TabUren22[[#This Row],[datum]]-2,7)+3),1,2),{1E+99;7})*{1;-1})+5) /7))","v":""},{"$f":"IF(TabUren22[[#This Row],[datum]]=\"\",\"\",TabUren22[[#This Row],[datum]])","v":""},null,null,{"$f":"IF(TabUren22[[#This Row],[datum]]=\"\",\"\",verzameldata!$C$4)","v":""},null,null,null,null,{"$f":"IF(TabUren22[[#This Row],[eindtijd]]=\"\",\"\",IF(TabUren22[[#This Row],[eindtijd]]<TabUren22[[#This Row],[begintijd]],(\"24:00\"-TabUren22[[#This Row],[begintijd]]+TabUren22[[#This Row],[eindtijd]])-TabUren22[[#This Row],[pauze]],(TabUren22[[#This Row],[eindtijd]]-TabUren22[[#This Row],[begintijd]])-TabUren22[[#This Row],[pauze]]))","v":""},{"$f":"IF(OR(TabUren22[hoofdcategorie]=\"\",TabUren22[hoofdcategorie]=0),\"anders dan hoofdcategorie\",TabUren22[hoofdcategorie])","v":"anders dan hoofdcategorie"}]
[{"$f":"IF(TabUren22[[#This Row],[datum]]=\"\",\"\",INT((TabUren22[[#This Row],[datum]]-SUM(MOD(DATE(YEAR(TabUren22[[#This Row],[datum]]-MOD(TabUren22[[#This Row],[datum]]-2,7)+3),1,2),{1E+99;7})*{1;-1})+5) /7))","v":""},{"$f":"IF(TabUren22[[#This Row],[datum]]=\"\",\"\",TabUren22[[#This Row],[datum]])","v":""},null,null,{"$f":"IF(TabUren22[[#This Row],[datum]]=\"\",\"\",verzameldata!$C$4)","v":""},null,null,null,null,{"$f":"IF(TabUren22[[#This Row],[eindtijd]]=\"\",\"\",IF(TabUren22[[#This Row],[eindtijd]]<TabUren22[[#This Row],[begintijd]],(\"24:00\"-TabUren22[[#This Row],[begintijd]]+TabUren22[[#This Row],[eindtijd]])-TabUren22[[#This Row],[pauze]],(TabUren22[[#This Row],[eindtijd]]-TabUren22[[#This Row],[begintijd]])-TabUren22[[#This Row],[pauze]]))","v":""},{"$f":"IF(OR(TabUren22[hoofdcategorie]=\"\",TabUren22[hoofdcategorie]=0),\"anders dan hoofdcategorie\",TabUren22[hoofdcategorie])","v":"anders dan hoofdcategorie"}]
[{"$f":"IF(TabUren22[[#This Row],[datum]]=\"\",\"\",INT((TabUren22[[#This Row],[datum]]-SUM(MOD(DATE(YEAR(TabUren22[[#This Row],[datum]]-MOD(TabUren22[[#This Row],[datum]]-2,7)+3),1,2),{1E+99;7})*{1;-1})+5) /7))","v":""},{"$f":"IF(TabUren22[[#This Row],[datum]]=\"\",\"\",TabUren22[[#This Row],[datum]])","v":""},null,null,{"$f":"IF(TabUren22[[#This Row],[datum]]=\"\",\"\",verzameldata!$C$4)","v":""},null,null,null,null,{"$f":"IF(TabUren22[[#This Row],[eindtijd]]=\"\",\"\",IF(TabUren22[[#This Row],[eindtijd]]<TabUren22[[#This Row],[begintijd]],(\"24:00\"-TabUren22[[#This Row],[begintijd]]+TabUren22[[#This Row],[eindtijd]])-TabUren22[[#This Row],[pauze]],(TabUren22[[#This Row],[eindtijd]]-TabUren22[[#This Row],[begintijd]])-TabUren22[[#This Row],[pauze]]))","v":""},{"$f":"IF(OR(TabUren22[hoofdcategorie]=\"\",TabUren22[hoofdcategorie]=0),\"anders dan hoofdcategorie\",TabUren22[hoofdcategorie])","v":"anders dan hoofdcategorie"}]
[{"$f":"IF(TabUren22[[#This Row],[datum]]=\"\",\"\",INT((TabUren22[[#This Row],[datum]]-SUM(MOD(DATE(YEAR(TabUren22[[#This Row],[datum]]-MOD(TabUren22[[#This Row],[datum]]-2,7)+3),1,2),{1E+99;7})*{1;-1})+5) /7))","v":""},{"$f":"IF(TabUren22[[#This Row],[datum]]=\"\",\"\",TabUren22[[#This Row],[datum]])","v":""},null,null,{"$f":"IF(TabUren22[[#This Row],[datum]]=\"\",\"\",verzameldata!$C$4)","v":""},null,null,null,null,{"$f":"IF(TabUren22[[#This Row],[eindtijd]]=\"\",\"\",IF(TabUren22[[#This Row],[eindtijd]]<TabUren22[[#This Row],[begintijd]],(\"24:00\"-TabUren22[[#This Row],[begintijd]]+TabUren22[[#This Row],[eindtijd]])-TabUren22[[#This Row],[pauze]],(TabUren22[[#This Row],[eindtijd]]-TabUren22[[#This Row],[begintijd]])-TabUren22[[#This Row],[pauze]]))","v":""},{"$f":"IF(OR(TabUren22[hoofdcategorie]=\"\",TabUren22[hoofdcategorie]=0),\"anders dan hoofdcategorie\",TabUren22[hoofdcategorie])","v":"anders dan hoofdcategorie"}]
[{"$f":"IF(TabUren22[[#This Row],[datum]]=\"\",\"\",INT((TabUren22[[#This Row],[datum]]-SUM(MOD(DATE(YEAR(TabUren22[[#This Row],[datum]]-MOD(TabUren22[[#This Row],[datum]]-2,7)+3),1,2),{1E+99;7})*{1;-1})+5) /7))","v":""},{"$f":"IF(TabUren22[[#This Row],[datum]]=\"\",\"\",TabUren22[[#This Row],[datum]])","v":""},null,null,{"$f":"IF(TabUren22[[#This Row],[datum]]=\"\",\"\",verzameldata!$C$4)","v":""},null,null,null,null,{"$f":"IF(TabUren22[[#This Row],[eindtijd]]=\"\",\"\",IF(TabUren22[[#This Row],[eindtijd]]<TabUren22[[#This Row],[begintijd]],(\"24:00\"-TabUren22[[#This Row],[begintijd]]+TabUren22[[#This Row],[eindtijd]])-TabUren22[[#This Row],[pauze]],(TabUren22[[#This Row],[eindtijd]]-TabUren22[[#This Row],[begintijd]])-TabUren22[[#This Row],[pauze]]))","v":""},{"$f":"IF(OR(TabUren22[hoofdcategorie]=\"\",TabUren22[hoofdcategorie]=0),\"anders dan hoofdcategorie\",TabUren22[hoofdcategorie])","v":"anders dan hoofdcategorie"}]
[{"$f":"IF(TabUren22[[#This Row],[datum]]=\"\",\"\",INT((TabUren22[[#This Row],[datum]]-SUM(MOD(DATE(YEAR(TabUren22[[#This Row],[datum]]-MOD(TabUren22[[#This Row],[datum]]-2,7)+3),1,2),{1E+99;7})*{1;-1})+5) /7))","v":""},{"$f":"IF(TabUren22[[#This Row],[datum]]=\"\",\"\",TabUren22[[#This Row],[datum]])","v":""},null,null,{"$f":"IF(TabUren22[[#This Row],[datum]]=\"\",\"\",verzameldata!$C$4)","v":""},null,null,null,null,{"$f":"IF(TabUren22[[#This Row],[eindtijd]]=\"\",\"\",IF(TabUren22[[#This Row],[eindtijd]]<TabUren22[[#This Row],[begintijd]],(\"24:00\"-TabUren22[[#This Row],[begintijd]]+TabUren22[[#This Row],[eindtijd]])-TabUren22[[#This Row],[pauze]],(TabUren22[[#This Row],[eindtijd]]-TabUren22[[#This Row],[begintijd]])-TabUren22[[#This Row],[pauze]]))","v":""},{"$f":"IF(OR(TabUren22[hoofdcategorie]=\"\",TabUren22[hoofdcategorie]=0),\"anders dan hoofdcategorie\",TabUren22[hoofdcategorie])","v":"anders dan hoofdcategorie"}]
[{"$f":"IF(TabUren22[[#This Row],[datum]]=\"\",\"\",INT((TabUren22[[#This Row],[datum]]-SUM(MOD(DATE(YEAR(TabUren22[[#This Row],[datum]]-MOD(TabUren22[[#This Row],[datum]]-2,7)+3),1,2),{1E+99;7})*{1;-1})+5) /7))","v":""},{"$f":"IF(TabUren22[[#This Row],[datum]]=\"\",\"\",TabUren22[[#This Row],[datum]])","v":""},null,null,{"$f":"IF(TabUren22[[#This Row],[datum]]=\"\",\"\",verzameldata!$C$4)","v":""},null,null,null,null,{"$f":"IF(TabUren22[[#This Row],[eindtijd]]=\"\",\"\",IF(TabUren22[[#This Row],[eindtijd]]<TabUren22[[#This Row],[begintijd]],(\"24:00\"-TabUren22[[#This Row],[begintijd]]+TabUren22[[#This Row],[eindtijd]])-TabUren22[[#This Row],[pauze]],(TabUren22[[#This Row],[eindtijd]]-TabUren22[[#This Row],[begintijd]])-TabUren22[[#This Row],[pauze]]))","v":""},{"$f":"IF(OR(TabUren22[hoofdcategorie]=\"\",TabUren22[hoofdcategorie]=0),\"anders dan hoofdcategorie\",TabUren22[hoofdcategorie])","v":"anders dan hoofdcategorie"}]
[{"$f":"IF(TabUren22[[#This Row],[datum]]=\"\",\"\",INT((TabUren22[[#This Row],[datum]]-SUM(MOD(DATE(YEAR(TabUren22[[#This Row],[datum]]-MOD(TabUren22[[#This Row],[datum]]-2,7)+3),1,2),{1E+99;7})*{1;-1})+5) /7))","v":""},{"$f":"IF(TabUren22[[#This Row],[datum]]=\"\",\"\",TabUren22[[#This Row],[datum]])","v":""},null,null,{"$f":"IF(TabUren22[[#This Row],[datum]]=\"\",\"\",verzameldata!$C$4)","v":""},null,null,null,null,{"$f":"IF(TabUren22[[#This Row],[eindtijd]]=\"\",\"\",IF(TabUren22[[#This Row],[eindtijd]]<TabUren22[[#This Row],[begintijd]],(\"24:00\"-TabUren22[[#This Row],[begintijd]]+TabUren22[[#This Row],[eindtijd]])-TabUren22[[#This Row],[pauze]],(TabUren22[[#This Row],[eindtijd]]-TabUren22[[#This Row],[begintijd]])-TabUren22[[#This Row],[pauze]]))","v":""},{"$f":"IF(OR(TabUren22[hoofdcategorie]=\"\",TabUren22[hoofdcategorie]=0),\"anders dan hoofdcategorie\",TabUren22[hoofdcategorie])","v":"anders dan hoofdcategorie"}]
[{"$f":"IF(TabUren22[[#This Row],[datum]]=\"\",\"\",INT((TabUren22[[#This Row],[datum]]-SUM(MOD(DATE(YEAR(TabUren22[[#This Row],[datum]]-MOD(TabUren22[[#This Row],[datum]]-2,7)+3),1,2),{1E+99;7})*{1;-1})+5) /7))","v":""},{"$f":"IF(TabUren22[[#This Row],[datum]]=\"\",\"\",TabUren22[[#This Row],[datum]])","v":""},null,null,{"$f":"IF(TabUren22[[#This Row],[datum]]=\"\",\"\",verzameldata!$C$4)","v":""},null,null,null,null,{"$f":"IF(TabUren22[[#This Row],[eindtijd]]=\"\",\"\",IF(TabUren22[[#This Row],[eindtijd]]<TabUren22[[#This Row],[begintijd]],(\"24:00\"-TabUren22[[#This Row],[begintijd]]+TabUren22[[#This Row],[eindtijd]])-TabUren22[[#This Row],[pauze]],(TabUren22[[#This Row],[eindtijd]]-TabUren22[[#This Row],[begintijd]])-TabUren22[[#This Row],[pauze]]))","v":""},{"$f":"IF(OR(TabUren22[hoofdcategorie]=\"\",TabUren22[hoofdcategorie]=0),\"anders dan hoofdcategorie\",TabUren22[hoofdcategorie])","v":"anders dan hoofdcategorie"}]
[{"$f":"IF(TabUren22[[#This Row],[datum]]=\"\",\"\",INT((TabUren22[[#This Row],[datum]]-SUM(MOD(DATE(YEAR(TabUren22[[#This Row],[datum]]-MOD(TabUren22[[#This Row],[datum]]-2,7)+3),1,2),{1E+99;7})*{1;-1})+5) /7))","v":""},{"$f":"IF(TabUren22[[#This Row],[datum]]=\"\",\"\",TabUren22[[#This Row],[datum]])","v":""},null,null,{"$f":"IF(TabUren22[[#This Row],[datum]]=\"\",\"\",verzameldata!$C$4)","v":""},null,null,null,null,{"$f":"IF(TabUren22[[#This Row],[eindtijd]]=\"\",\"\",IF(TabUren22[[#This Row],[eindtijd]]<TabUren22[[#This Row],[begintijd]],(\"24:00\"-TabUren22[[#This Row],[begintijd]]+TabUren22[[#This Row],[eindtijd]])-TabUren22[[#This Row],[pauze]],(TabUren22[[#This Row],[eindtijd]]-TabUren22[[#This Row],[begintijd]])-TabUren22[[#This Row],[pauze]]))","v":""},{"$f":"IF(OR(TabUren22[hoofdcategorie]=\"\",TabUren22[hoofdcategorie]=0),\"anders dan hoofdcategorie\",TabUren22[hoofdcategorie])","v":"anders dan hoofdcategorie"}]
[{"$f":"IF(TabUren22[[#This Row],[datum]]=\"\",\"\",INT((TabUren22[[#This Row],[datum]]-SUM(MOD(DATE(YEAR(TabUren22[[#This Row],[datum]]-MOD(TabUren22[[#This Row],[datum]]-2,7)+3),1,2),{1E+99;7})*{1;-1})+5) /7))","v":""},{"$f":"IF(TabUren22[[#This Row],[datum]]=\"\",\"\",TabUren22[[#This Row],[datum]])","v":""},null,null,{"$f":"IF(TabUren22[[#This Row],[datum]]=\"\",\"\",verzameldata!$C$4)","v":""},null,null,null,null,{"$f":"IF(TabUren22[[#This Row],[eindtijd]]=\"\",\"\",IF(TabUren22[[#This Row],[eindtijd]]<TabUren22[[#This Row],[begintijd]],(\"24:00\"-TabUren22[[#This Row],[begintijd]]+TabUren22[[#This Row],[eindtijd]])-TabUren22[[#This Row],[pauze]],(TabUren22[[#This Row],[eindtijd]]-TabUren22[[#This Row],[begintijd]])-TabUren22[[#This Row],[pauze]]))","v":""},{"$f":"IF(OR(TabUren22[hoofdcategorie]=\"\",TabUren22[hoofdcategorie]=0),\"anders dan hoofdcategorie\",TabUren22[hoofdcategorie])","v":"anders dan hoofdcategorie"}]
[{"$f":"IF(TabUren22[[#This Row],[datum]]=\"\",\"\",INT((TabUren22[[#This Row],[datum]]-SUM(MOD(DATE(YEAR(TabUren22[[#This Row],[datum]]-MOD(TabUren22[[#This Row],[datum]]-2,7)+3),1,2),{1E+99;7})*{1;-1})+5) /7))","v":""},{"$f":"IF(TabUren22[[#This Row],[datum]]=\"\",\"\",TabUren22[[#This Row],[datum]])","v":""},null,null,{"$f":"IF(TabUren22[[#This Row],[datum]]=\"\",\"\",verzameldata!$C$4)","v":""},null,null,null,null,{"$f":"IF(TabUren22[[#This Row],[eindtijd]]=\"\",\"\",IF(TabUren22[[#This Row],[eindtijd]]<TabUren22[[#This Row],[begintijd]],(\"24:00\"-TabUren22[[#This Row],[begintijd]]+TabUren22[[#This Row],[eindtijd]])-TabUren22[[#This Row],[pauze]],(TabUren22[[#This Row],[eindtijd]]-TabUren22[[#This Row],[begintijd]])-TabUren22[[#This Row],[pauze]]))","v":""},{"$f":"IF(OR(TabUren22[hoofdcategorie]=\"\",TabUren22[hoofdcategorie]=0),\"anders dan hoofdcategorie\",TabUren22[hoofdcategorie])","v":"anders dan hoofdcategorie"}]
[{"$f":"IF(TabUren22[[#This Row],[datum]]=\"\",\"\",INT((TabUren22[[#This Row],[datum]]-SUM(MOD(DATE(YEAR(TabUren22[[#This Row],[datum]]-MOD(TabUren22[[#This Row],[datum]]-2,7)+3),1,2),{1E+99;7})*{1;-1})+5) /7))","v":""},{"$f":"IF(TabUren22[[#This Row],[datum]]=\"\",\"\",TabUren22[[#This Row],[datum]])","v":""},null,null,{"$f":"IF(TabUren22[[#This Row],[datum]]=\"\",\"\",verzameldata!$C$4)","v":""},null,null,null,null,{"$f":"IF(TabUren22[[#This Row],[eindtijd]]=\"\",\"\",IF(TabUren22[[#This Row],[eindtijd]]<TabUren22[[#This Row],[begintijd]],(\"24:00\"-TabUren22[[#This Row],[begintijd]]+TabUren22[[#This Row],[eindtijd]])-TabUren22[[#This Row],[pauze]],(TabUren22[[#This Row],[eindtijd]]-TabUren22[[#This Row],[begintijd]])-TabUren22[[#This Row],[pauze]]))","v":""},{"$f":"IF(OR(TabUren22[hoofdcategorie]=\"\",TabUren22[hoofdcategorie]=0),\"anders dan hoofdcategorie\",TabUren22[hoofdcategorie])","v":"anders dan hoofdcategorie"}]
[{"$f":"IF(TabUren22[[#This Row],[datum]]=\"\",\"\",INT((TabUren22[[#This Row],[datum]]-SUM(MOD(DATE(YEAR(TabUren22[[#This Row],[datum]]-MOD(TabUren22[[#This Row],[datum]]-2,7)+3),1,2),{1E+99;7})*{1;-1})+5) /7))","v":""},{"$f":"IF(TabUren22[[#This Row],[datum]]=\"\",\"\",TabUren22[[#This Row],[datum]])","v":""},null,null,{"$f":"IF(TabUren22[[#This Row],[datum]]=\"\",\"\",verzameldata!$C$4)","v":""},null,null,null,null,{"$f":"IF(TabUren22[[#This Row],[eindtijd]]=\"\",\"\",IF(TabUren22[[#This Row],[eindtijd]]<TabUren22[[#This Row],[begintijd]],(\"24:00\"-TabUren22[[#This Row],[begintijd]]+TabUren22[[#This Row],[eindtijd]])-TabUren22[[#This Row],[pauze]],(TabUren22[[#This Row],[eindtijd]]-TabUren22[[#This Row],[begintijd]])-TabUren22[[#This Row],[pauze]]))","v":""},{"$f":"IF(OR(TabUren22[hoofdcategorie]=\"\",TabUren22[hoofdcategorie]=0),\"anders dan hoofdcategorie\",TabUren22[hoofdcategorie])","v":"anders dan hoofdcategorie"}]
[{"$f":"IF(TabUren22[[#This Row],[datum]]=\"\",\"\",INT((TabUren22[[#This Row],[datum]]-SUM(MOD(DATE(YEAR(TabUren22[[#This Row],[datum]]-MOD(TabUren22[[#This Row],[datum]]-2,7)+3),1,2),{1E+99;7})*{1;-1})+5) /7))","v":""},{"$f":"IF(TabUren22[[#This Row],[datum]]=\"\",\"\",TabUren22[[#This Row],[datum]])","v":""},null,null,{"$f":"IF(TabUren22[[#This Row],[datum]]=\"\",\"\",verzameldata!$C$4)","v":""},null,null,null,null,{"$f":"IF(TabUren22[[#This Row],[eindtijd]]=\"\",\"\",IF(TabUren22[[#This Row],[eindtijd]]<TabUren22[[#This Row],[begintijd]],(\"24:00\"-TabUren22[[#This Row],[begintijd]]+TabUren22[[#This Row],[eindtijd]])-TabUren22[[#This Row],[pauze]],(TabUren22[[#This Row],[eindtijd]]-TabUren22[[#This Row],[begintijd]])-TabUren22[[#This Row],[pauze]]))","v":""},{"$f":"IF(OR(TabUren22[hoofdcategorie]=\"\",TabUren22[hoofdcategorie]=0),\"anders dan hoofdcategorie\",TabUren22[hoofdcategorie])","v":"anders dan hoofdcategorie"}]
[{"$f":"IF(TabUren22[[#This Row],[datum]]=\"\",\"\",INT((TabUren22[[#This Row],[datum]]-SUM(MOD(DATE(YEAR(TabUren22[[#This Row],[datum]]-MOD(TabUren22[[#This Row],[datum]]-2,7)+3),1,2),{1E+99;7})*{1;-1})+5) /7))","v":""},{"$f":"IF(TabUren22[[#This Row],[datum]]=\"\",\"\",TabUren22[[#This Row],[datum]])","v":""},null,null,{"$f":"IF(TabUren22[[#This Row],[datum]]=\"\",\"\",verzameldata!$C$4)","v":""},null,null,null,null,{"$f":"IF(TabUren22[[#This Row],[eindtijd]]=\"\",\"\",IF(TabUren22[[#This Row],[eindtijd]]<TabUren22[[#This Row],[begintijd]],(\"24:00\"-TabUren22[[#This Row],[begintijd]]+TabUren22[[#This Row],[eindtijd]])-TabUren22[[#This Row],[pauze]],(TabUren22[[#This Row],[eindtijd]]-TabUren22[[#This Row],[begintijd]])-TabUren22[[#This Row],[pauze]]))","v":""},{"$f":"IF(OR(TabUren22[hoofdcategorie]=\"\",TabUren22[hoofdcategorie]=0),\"anders dan hoofdcategorie\",TabUren22[hoofdcategorie])","v":"anders dan hoofdcategorie"}]
[{"$f":"IF(TabUren22[[#This Row],[datum]]=\"\",\"\",INT((TabUren22[[#This Row],[datum]]-SUM(MOD(DATE(YEAR(TabUren22[[#This Row],[datum]]-MOD(TabUren22[[#This Row],[datum]]-2,7)+3),1,2),{1E+99;7})*{1;-1})+5) /7))","v":""},{"$f":"IF(TabUren22[[#This Row],[datum]]=\"\",\"\",TabUren22[[#This Row],[datum]])","v":""},null,null,{"$f":"IF(TabUren22[[#This Row],[datum]]=\"\",\"\",verzameldata!$C$4)","v":""},null,null,null,null,{"$f":"IF(TabUren22[[#This Row],[eindtijd]]=\"\",\"\",IF(TabUren22[[#This Row],[eindtijd]]<TabUren22[[#This Row],[begintijd]],(\"24:00\"-TabUren22[[#This Row],[begintijd]]+TabUren22[[#This Row],[eindtijd]])-TabUren22[[#This Row],[pauze]],(TabUren22[[#This Row],[eindtijd]]-TabUren22[[#This Row],[begintijd]])-TabUren22[[#This Row],[pauze]]))","v":""},{"$f":"IF(OR(TabUren22[hoofdcategorie]=\"\",TabUren22[hoofdcategorie]=0),\"anders dan hoofdcategorie\",TabUren22[hoofdcategorie])","v":"anders dan hoofdcategorie"}]
[{"$f":"IF(TabUren22[[#This Row],[datum]]=\"\",\"\",INT((TabUren22[[#This Row],[datum]]-SUM(MOD(DATE(YEAR(TabUren22[[#This Row],[datum]]-MOD(TabUren22[[#This Row],[datum]]-2,7)+3),1,2),{1E+99;7})*{1;-1})+5) /7))","v":""},{"$f":"IF(TabUren22[[#This Row],[datum]]=\"\",\"\",TabUren22[[#This Row],[datum]])","v":""},null,null,{"$f":"IF(TabUren22[[#This Row],[datum]]=\"\",\"\",verzameldata!$C$4)","v":""},null,null,null,null,{"$f":"IF(TabUren22[[#This Row],[eindtijd]]=\"\",\"\",IF(TabUren22[[#This Row],[eindtijd]]<TabUren22[[#This Row],[begintijd]],(\"24:00\"-TabUren22[[#This Row],[begintijd]]+TabUren22[[#This Row],[eindtijd]])-TabUren22[[#This Row],[pauze]],(TabUren22[[#This Row],[eindtijd]]-TabUren22[[#This Row],[begintijd]])-TabUren22[[#This Row],[pauze]]))","v":""},{"$f":"IF(OR(TabUren22[hoofdcategorie]=\"\",TabUren22[hoofdcategorie]=0),\"anders dan hoofdcategorie\",TabUren22[hoofdcategorie])","v":"anders dan hoofdcategorie"}]
[{"$f":"IF(TabUren22[[#This Row],[datum]]=\"\",\"\",INT((TabUren22[[#This Row],[datum]]-SUM(MOD(DATE(YEAR(TabUren22[[#This Row],[datum]]-MOD(TabUren22[[#This Row],[datum]]-2,7)+3),1,2),{1E+99;7})*{1;-1})+5) /7))","v":""},{"$f":"IF(TabUren22[[#This Row],[datum]]=\"\",\"\",TabUren22[[#This Row],[datum]])","v":""},null,null,{"$f":"IF(TabUren22[[#This Row],[datum]]=\"\",\"\",verzameldata!$C$4)","v":""},null,null,null,null,{"$f":"IF(TabUren22[[#This Row],[eindtijd]]=\"\",\"\",IF(TabUren22[[#This Row],[eindtijd]]<TabUren22[[#This Row],[begintijd]],(\"24:00\"-TabUren22[[#This Row],[begintijd]]+TabUren22[[#This Row],[eindtijd]])-TabUren22[[#This Row],[pauze]],(TabUren22[[#This Row],[eindtijd]]-TabUren22[[#This Row],[begintijd]])-TabUren22[[#This Row],[pauze]]))","v":""},{"$f":"IF(OR(TabUren22[hoofdcategorie]=\"\",TabUren22[hoofdcategorie]=0),\"anders dan hoofdcategorie\",TabUren22[hoofdcategorie])","v":"anders dan hoofdcategorie"}]
[{"$f":"IF(TabUren22[[#This Row],[datum]]=\"\",\"\",INT((TabUren22[[#This Row],[datum]]-SUM(MOD(DATE(YEAR(TabUren22[[#This Row],[datum]]-MOD(TabUren22[[#This Row],[datum]]-2,7)+3),1,2),{1E+99;7})*{1;-1})+5) /7))","v":""},{"$f":"IF(TabUren22[[#This Row],[datum]]=\"\",\"\",TabUren22[[#This Row],[datum]])","v":""},null,null,{"$f":"IF(TabUren22[[#This Row],[datum]]=\"\",\"\",verzameldata!$C$4)","v":""},null,null,null,null,{"$f":"IF(TabUren22[[#This Row],[eindtijd]]=\"\",\"\",IF(TabUren22[[#This Row],[eindtijd]]<TabUren22[[#This Row],[begintijd]],(\"24:00\"-TabUren22[[#This Row],[begintijd]]+TabUren22[[#This Row],[eindtijd]])-TabUren22[[#This Row],[pauze]],(TabUren22[[#This Row],[eindtijd]]-TabUren22[[#This Row],[begintijd]])-TabUren22[[#This Row],[pauze]]))","v":""},{"$f":"IF(OR(TabUren22[hoofdcategorie]=\"\",TabUren22[hoofdcategorie]=0),\"anders dan hoofdcategorie\",TabUren22[hoofdcategorie])","v":"anders dan hoofdcategorie"}]
[{"$f":"IF(TabUren22[[#This Row],[datum]]=\"\",\"\",INT((TabUren22[[#This Row],[datum]]-SUM(MOD(DATE(YEAR(TabUren22[[#This Row],[datum]]-MOD(TabUren22[[#This Row],[datum]]-2,7)+3),1,2),{1E+99;7})*{1;-1})+5) /7))","v":""},{"$f":"IF(TabUren22[[#This Row],[datum]]=\"\",\"\",TabUren22[[#This Row],[datum]])","v":""},null,null,{"$f":"IF(TabUren22[[#This Row],[datum]]=\"\",\"\",verzameldata!$C$4)","v":""},null,null,null,null,{"$f":"IF(TabUren22[[#This Row],[eindtijd]]=\"\",\"\",IF(TabUren22[[#This Row],[eindtijd]]<TabUren22[[#This Row],[begintijd]],(\"24:00\"-TabUren22[[#This Row],[begintijd]]+TabUren22[[#This Row],[eindtijd]])-TabUren22[[#This Row],[pauze]],(TabUren22[[#This Row],[eindtijd]]-TabUren22[[#This Row],[begintijd]])-TabUren22[[#This Row],[pauze]]))","v":""},{"$f":"IF(OR(TabUren22[hoofdcategorie]=\"\",TabUren22[hoofdcategorie]=0),\"anders dan hoofdcategorie\",TabUren22[hoofdcategorie])","v":"anders dan hoofdcategorie"}]
[{"$f":"IF(TabUren22[[#This Row],[datum]]=\"\",\"\",INT((TabUren22[[#This Row],[datum]]-SUM(MOD(DATE(YEAR(TabUren22[[#This Row],[datum]]-MOD(TabUren22[[#This Row],[datum]]-2,7)+3),1,2),{1E+99;7})*{1;-1})+5) /7))","v":""},{"$f":"IF(TabUren22[[#This Row],[datum]]=\"\",\"\",TabUren22[[#This Row],[datum]])","v":""},null,null,{"$f":"IF(TabUren22[[#This Row],[datum]]=\"\",\"\",verzameldata!$C$4)","v":""},null,null,null,null,{"$f":"IF(TabUren22[[#This Row],[eindtijd]]=\"\",\"\",IF(TabUren22[[#This Row],[eindtijd]]<TabUren22[[#This Row],[begintijd]],(\"24:00\"-TabUren22[[#This Row],[begintijd]]+TabUren22[[#This Row],[eindtijd]])-TabUren22[[#This Row],[pauze]],(TabUren22[[#This Row],[eindtijd]]-TabUren22[[#This Row],[begintijd]])-TabUren22[[#This Row],[pauze]]))","v":""},{"$f":"IF(OR(TabUren22[hoofdcategorie]=\"\",TabUren22[hoofdcategorie]=0),\"anders dan hoofdcategorie\",TabUren22[hoofdcategorie])","v":"anders dan hoofdcategorie"}]
[{"$f":"IF(TabUren22[[#This Row],[datum]]=\"\",\"\",INT((TabUren22[[#This Row],[datum]]-SUM(MOD(DATE(YEAR(TabUren22[[#This Row],[datum]]-MOD(TabUren22[[#This Row],[datum]]-2,7)+3),1,2),{1E+99;7})*{1;-1})+5) /7))","v":""},{"$f":"IF(TabUren22[[#This Row],[datum]]=\"\",\"\",TabUren22[[#This Row],[datum]])","v":""},null,null,{"$f":"IF(TabUren22[[#This Row],[datum]]=\"\",\"\",verzameldata!$C$4)","v":""},null,null,null,null,{"$f":"IF(TabUren22[[#This Row],[eindtijd]]=\"\",\"\",IF(TabUren22[[#This Row],[eindtijd]]<TabUren22[[#This Row],[begintijd]],(\"24:00\"-TabUren22[[#This Row],[begintijd]]+TabUren22[[#This Row],[eindtijd]])-TabUren22[[#This Row],[pauze]],(TabUren22[[#This Row],[eindtijd]]-TabUren22[[#This Row],[begintijd]])-TabUren22[[#This Row],[pauze]]))","v":""},{"$f":"IF(OR(TabUren22[hoofdcategorie]=\"\",TabUren22[hoofdcategorie]=0),\"anders dan hoofdcategorie\",TabUren22[hoofdcategorie])","v":"anders dan hoofdcategorie"}]
[{"$f":"IF(TabUren22[[#This Row],[datum]]=\"\",\"\",INT((TabUren22[[#This Row],[datum]]-SUM(MOD(DATE(YEAR(TabUren22[[#This Row],[datum]]-MOD(TabUren22[[#This Row],[datum]]-2,7)+3),1,2),{1E+99;7})*{1;-1})+5) /7))","v":""},{"$f":"IF(TabUren22[[#This Row],[datum]]=\"\",\"\",TabUren22[[#This Row],[datum]])","v":""},null,null,{"$f":"IF(TabUren22[[#This Row],[datum]]=\"\",\"\",verzameldata!$C$4)","v":""},null,null,null,null,{"$f":"IF(TabUren22[[#This Row],[eindtijd]]=\"\",\"\",IF(TabUren22[[#This Row],[eindtijd]]<TabUren22[[#This Row],[begintijd]],(\"24:00\"-TabUren22[[#This Row],[begintijd]]+TabUren22[[#This Row],[eindtijd]])-TabUren22[[#This Row],[pauze]],(TabUren22[[#This Row],[eindtijd]]-TabUren22[[#This Row],[begintijd]])-TabUren22[[#This Row],[pauze]]))","v":""},{"$f":"IF(OR(TabUren22[hoofdcategorie]=\"\",TabUren22[hoofdcategorie]=0),\"anders dan hoofdcategorie\",TabUren22[hoofdcategorie])","v":"anders dan hoofdcategorie"}]
[{"$f":"IF(TabUren22[[#This Row],[datum]]=\"\",\"\",INT((TabUren22[[#This Row],[datum]]-SUM(MOD(DATE(YEAR(TabUren22[[#This Row],[datum]]-MOD(TabUren22[[#This Row],[datum]]-2,7)+3),1,2),{1E+99;7})*{1;-1})+5) /7))","v":""},{"$f":"IF(TabUren22[[#This Row],[datum]]=\"\",\"\",TabUren22[[#This Row],[datum]])","v":""},null,null,{"$f":"IF(TabUren22[[#This Row],[datum]]=\"\",\"\",verzameldata!$C$4)","v":""},null,null,null,null,{"$f":"IF(TabUren22[[#This Row],[eindtijd]]=\"\",\"\",IF(TabUren22[[#This Row],[eindtijd]]<TabUren22[[#This Row],[begintijd]],(\"24:00\"-TabUren22[[#This Row],[begintijd]]+TabUren22[[#This Row],[eindtijd]])-TabUren22[[#This Row],[pauze]],(TabUren22[[#This Row],[eindtijd]]-TabUren22[[#This Row],[begintijd]])-TabUren22[[#This Row],[pauze]]))","v":""},{"$f":"IF(OR(TabUren22[hoofdcategorie]=\"\",TabUren22[hoofdcategorie]=0),\"anders dan hoofdcategorie\",TabUren22[hoofdcategorie])","v":"anders dan hoofdcategorie"}]
[{"$f":"IF(TabUren22[[#This Row],[datum]]=\"\",\"\",INT((TabUren22[[#This Row],[datum]]-SUM(MOD(DATE(YEAR(TabUren22[[#This Row],[datum]]-MOD(TabUren22[[#This Row],[datum]]-2,7)+3),1,2),{1E+99;7})*{1;-1})+5) /7))","v":""},{"$f":"IF(TabUren22[[#This Row],[datum]]=\"\",\"\",TabUren22[[#This Row],[datum]])","v":""},null,null,{"$f":"IF(TabUren22[[#This Row],[datum]]=\"\",\"\",verzameldata!$C$4)","v":""},null,null,null,null,{"$f":"IF(TabUren22[[#This Row],[eindtijd]]=\"\",\"\",IF(TabUren22[[#This Row],[eindtijd]]<TabUren22[[#This Row],[begintijd]],(\"24:00\"-TabUren22[[#This Row],[begintijd]]+TabUren22[[#This Row],[eindtijd]])-TabUren22[[#This Row],[pauze]],(TabUren22[[#This Row],[eindtijd]]-TabUren22[[#This Row],[begintijd]])-TabUren22[[#This Row],[pauze]]))","v":""},{"$f":"IF(OR(TabUren22[hoofdcategorie]=\"\",TabUren22[hoofdcategorie]=0),\"anders dan hoofdcategorie\",TabUren22[hoofdcategorie])","v":"anders dan hoofdcategorie"}]
[{"$f":"IF(TabUren22[[#This Row],[datum]]=\"\",\"\",INT((TabUren22[[#This Row],[datum]]-SUM(MOD(DATE(YEAR(TabUren22[[#This Row],[datum]]-MOD(TabUren22[[#This Row],[datum]]-2,7)+3),1,2),{1E+99;7})*{1;-1})+5) /7))","v":""},{"$f":"IF(TabUren22[[#This Row],[datum]]=\"\",\"\",TabUren22[[#This Row],[datum]])","v":""},null,null,{"$f":"IF(TabUren22[[#This Row],[datum]]=\"\",\"\",verzameldata!$C$4)","v":""},null,null,null,null,{"$f":"IF(TabUren22[[#This Row],[eindtijd]]=\"\",\"\",IF(TabUren22[[#This Row],[eindtijd]]<TabUren22[[#This Row],[begintijd]],(\"24:00\"-TabUren22[[#This Row],[begintijd]]+TabUren22[[#This Row],[eindtijd]])-TabUren22[[#This Row],[pauze]],(TabUren22[[#This Row],[eindtijd]]-TabUren22[[#This Row],[begintijd]])-TabUren22[[#This Row],[pauze]]))","v":""},{"$f":"IF(OR(TabUren22[hoofdcategorie]=\"\",TabUren22[hoofdcategorie]=0),\"anders dan hoofdcategorie\",TabUren22[hoofdcategorie])","v":"anders dan hoofdcategorie"}]
[{"$f":"IF(TabUren22[[#This Row],[datum]]=\"\",\"\",INT((TabUren22[[#This Row],[datum]]-SUM(MOD(DATE(YEAR(TabUren22[[#This Row],[datum]]-MOD(TabUren22[[#This Row],[datum]]-2,7)+3),1,2),{1E+99;7})*{1;-1})+5) /7))","v":""},{"$f":"IF(TabUren22[[#This Row],[datum]]=\"\",\"\",TabUren22[[#This Row],[datum]])","v":""},null,null,{"$f":"IF(TabUren22[[#This Row],[datum]]=\"\",\"\",verzameldata!$C$4)","v":""},null,null,null,null,{"$f":"IF(TabUren22[[#This Row],[eindtijd]]=\"\",\"\",IF(TabUren22[[#This Row],[eindtijd]]<TabUren22[[#This Row],[begintijd]],(\"24:00\"-TabUren22[[#This Row],[begintijd]]+TabUren22[[#This Row],[eindtijd]])-TabUren22[[#This Row],[pauze]],(TabUren22[[#This Row],[eindtijd]]-TabUren22[[#This Row],[begintijd]])-TabUren22[[#This Row],[pauze]]))","v":""},{"$f":"IF(OR(TabUren22[hoofdcategorie]=\"\",TabUren22[hoofdcategorie]=0),\"anders dan hoofdcategorie\",TabUren22[hoofdcategorie])","v":"anders dan hoofdcategorie"}]
[{"$f":"IF(TabUren22[[#This Row],[datum]]=\"\",\"\",INT((TabUren22[[#This Row],[datum]]-SUM(MOD(DATE(YEAR(TabUren22[[#This Row],[datum]]-MOD(TabUren22[[#This Row],[datum]]-2,7)+3),1,2),{1E+99;7})*{1;-1})+5) /7))","v":""},{"$f":"IF(TabUren22[[#This Row],[datum]]=\"\",\"\",TabUren22[[#This Row],[datum]])","v":""},null,null,{"$f":"IF(TabUren22[[#This Row],[datum]]=\"\",\"\",verzameldata!$C$4)","v":""},null,null,null,null,{"$f":"IF(TabUren22[[#This Row],[eindtijd]]=\"\",\"\",IF(TabUren22[[#This Row],[eindtijd]]<TabUren22[[#This Row],[begintijd]],(\"24:00\"-TabUren22[[#This Row],[begintijd]]+TabUren22[[#This Row],[eindtijd]])-TabUren22[[#This Row],[pauze]],(TabUren22[[#This Row],[eindtijd]]-TabUren22[[#This Row],[begintijd]])-TabUren22[[#This Row],[pauze]]))","v":""},{"$f":"IF(OR(TabUren22[hoofdcategorie]=\"\",TabUren22[hoofdcategorie]=0),\"anders dan hoofdcategorie\",TabUren22[hoofdcategorie])","v":"anders dan hoofdcategorie"}]
[{"$f":"IF(TabUren22[[#This Row],[datum]]=\"\",\"\",INT((TabUren22[[#This Row],[datum]]-SUM(MOD(DATE(YEAR(TabUren22[[#This Row],[datum]]-MOD(TabUren22[[#This Row],[datum]]-2,7)+3),1,2),{1E+99;7})*{1;-1})+5) /7))","v":""},{"$f":"IF(TabUren22[[#This Row],[datum]]=\"\",\"\",TabUren22[[#This Row],[datum]])","v":""},null,null,{"$f":"IF(TabUren22[[#This Row],[datum]]=\"\",\"\",verzameldata!$C$4)","v":""},null,null,null,null,{"$f":"IF(TabUren22[[#This Row],[eindtijd]]=\"\",\"\",IF(TabUren22[[#This Row],[eindtijd]]<TabUren22[[#This Row],[begintijd]],(\"24:00\"-TabUren22[[#This Row],[begintijd]]+TabUren22[[#This Row],[eindtijd]])-TabUren22[[#This Row],[pauze]],(TabUren22[[#This Row],[eindtijd]]-TabUren22[[#This Row],[begintijd]])-TabUren22[[#This Row],[pauze]]))","v":""},{"$f":"IF(OR(TabUren22[hoofdcategorie]=\"\",TabUren22[hoofdcategorie]=0),\"anders dan hoofdcategorie\",TabUren22[hoofdcategorie])","v":"anders dan hoofdcategorie"}]
[{"$f":"IF(TabUren22[[#This Row],[datum]]=\"\",\"\",INT((TabUren22[[#This Row],[datum]]-SUM(MOD(DATE(YEAR(TabUren22[[#This Row],[datum]]-MOD(TabUren22[[#This Row],[datum]]-2,7)+3),1,2),{1E+99;7})*{1;-1})+5) /7))","v":""},{"$f":"IF(TabUren22[[#This Row],[datum]]=\"\",\"\",TabUren22[[#This Row],[datum]])","v":""},null,null,{"$f":"IF(TabUren22[[#This Row],[datum]]=\"\",\"\",verzameldata!$C$4)","v":""},null,null,null,null,{"$f":"IF(TabUren22[[#This Row],[eindtijd]]=\"\",\"\",IF(TabUren22[[#This Row],[eindtijd]]<TabUren22[[#This Row],[begintijd]],(\"24:00\"-TabUren22[[#This Row],[begintijd]]+TabUren22[[#This Row],[eindtijd]])-TabUren22[[#This Row],[pauze]],(TabUren22[[#This Row],[eindtijd]]-TabUren22[[#This Row],[begintijd]])-TabUren22[[#This Row],[pauze]]))","v":""},{"$f":"IF(OR(TabUren22[hoofdcategorie]=\"\",TabUren22[hoofdcategorie]=0),\"anders dan hoofdcategorie\",TabUren22[hoofdcategorie])","v":"anders dan hoofdcategorie"}]
[{"$f":"IF(TabUren22[[#This Row],[datum]]=\"\",\"\",INT((TabUren22[[#This Row],[datum]]-SUM(MOD(DATE(YEAR(TabUren22[[#This Row],[datum]]-MOD(TabUren22[[#This Row],[datum]]-2,7)+3),1,2),{1E+99;7})*{1;-1})+5) /7))","v":""},{"$f":"IF(TabUren22[[#This Row],[datum]]=\"\",\"\",TabUren22[[#This Row],[datum]])","v":""},null,null,{"$f":"IF(TabUren22[[#This Row],[datum]]=\"\",\"\",verzameldata!$C$4)","v":""},null,null,null,null,{"$f":"IF(TabUren22[[#This Row],[eindtijd]]=\"\",\"\",IF(TabUren22[[#This Row],[eindtijd]]<TabUren22[[#This Row],[begintijd]],(\"24:00\"-TabUren22[[#This Row],[begintijd]]+TabUren22[[#This Row],[eindtijd]])-TabUren22[[#This Row],[pauze]],(TabUren22[[#This Row],[eindtijd]]-TabUren22[[#This Row],[begintijd]])-TabUren22[[#This Row],[pauze]]))","v":""},{"$f":"IF(OR(TabUren22[hoofdcategorie]=\"\",TabUren22[hoofdcategorie]=0),\"anders dan hoofdcategorie\",TabUren22[hoofdcategorie])","v":"anders dan hoofdcategorie"}]
[{"$f":"IF(TabUren22[[#This Row],[datum]]=\"\",\"\",INT((TabUren22[[#This Row],[datum]]-SUM(MOD(DATE(YEAR(TabUren22[[#This Row],[datum]]-MOD(TabUren22[[#This Row],[datum]]-2,7)+3),1,2),{1E+99;7})*{1;-1})+5) /7))","v":""},{"$f":"IF(TabUren22[[#This Row],[datum]]=\"\",\"\",TabUren22[[#This Row],[datum]])","v":""},null,null,{"$f":"IF(TabUren22[[#This Row],[datum]]=\"\",\"\",verzameldata!$C$4)","v":""},null,null,null,null,{"$f":"IF(TabUren22[[#This Row],[eindtijd]]=\"\",\"\",IF(TabUren22[[#This Row],[eindtijd]]<TabUren22[[#This Row],[begintijd]],(\"24:00\"-TabUren22[[#This Row],[begintijd]]+TabUren22[[#This Row],[eindtijd]])-TabUren22[[#This Row],[pauze]],(TabUren22[[#This Row],[eindtijd]]-TabUren22[[#This Row],[begintijd]])-TabUren22[[#This Row],[pauze]]))","v":""},{"$f":"IF(OR(TabUren22[hoofdcategorie]=\"\",TabUren22[hoofdcategorie]=0),\"anders dan hoofdcategorie\",TabUren22[hoofdcategorie])","v":"anders dan hoofdcategorie"}]
[{"$f":"IF(TabUren22[[#This Row],[datum]]=\"\",\"\",INT((TabUren22[[#This Row],[datum]]-SUM(MOD(DATE(YEAR(TabUren22[[#This Row],[datum]]-MOD(TabUren22[[#This Row],[datum]]-2,7)+3),1,2),{1E+99;7})*{1;-1})+5) /7))","v":""},{"$f":"IF(TabUren22[[#This Row],[datum]]=\"\",\"\",TabUren22[[#This Row],[datum]])","v":""},null,null,{"$f":"IF(TabUren22[[#This Row],[datum]]=\"\",\"\",verzameldata!$C$4)","v":""},null,null,null,null,{"$f":"IF(TabUren22[[#This Row],[eindtijd]]=\"\",\"\",IF(TabUren22[[#This Row],[eindtijd]]<TabUren22[[#This Row],[begintijd]],(\"24:00\"-TabUren22[[#This Row],[begintijd]]+TabUren22[[#This Row],[eindtijd]])-TabUren22[[#This Row],[pauze]],(TabUren22[[#This Row],[eindtijd]]-TabUren22[[#This Row],[begintijd]])-TabUren22[[#This Row],[pauze]]))","v":""},{"$f":"IF(OR(TabUren22[hoofdcategorie]=\"\",TabUren22[hoofdcategorie]=0),\"anders dan hoofdcategorie\",TabUren22[hoofdcategorie])","v":"anders dan hoofdcategorie"}]
[{"$f":"IF(TabUren22[[#This Row],[datum]]=\"\",\"\",INT((TabUren22[[#This Row],[datum]]-SUM(MOD(DATE(YEAR(TabUren22[[#This Row],[datum]]-MOD(TabUren22[[#This Row],[datum]]-2,7)+3),1,2),{1E+99;7})*{1;-1})+5) /7))","v":""},{"$f":"IF(TabUren22[[#This Row],[datum]]=\"\",\"\",TabUren22[[#This Row],[datum]])","v":""},null,null,{"$f":"IF(TabUren22[[#This Row],[datum]]=\"\",\"\",verzameldata!$C$4)","v":""},null,null,null,null,{"$f":"IF(TabUren22[[#This Row],[eindtijd]]=\"\",\"\",IF(TabUren22[[#This Row],[eindtijd]]<TabUren22[[#This Row],[begintijd]],(\"24:00\"-TabUren22[[#This Row],[begintijd]]+TabUren22[[#This Row],[eindtijd]])-TabUren22[[#This Row],[pauze]],(TabUren22[[#This Row],[eindtijd]]-TabUren22[[#This Row],[begintijd]])-TabUren22[[#This Row],[pauze]]))","v":""},{"$f":"IF(OR(TabUren22[hoofdcategorie]=\"\",TabUren22[hoofdcategorie]=0),\"anders dan hoofdcategorie\",TabUren22[hoofdcategorie])","v":"anders dan hoofdcategorie"}]
[{"$f":"IF(TabUren22[[#This Row],[datum]]=\"\",\"\",INT((TabUren22[[#This Row],[datum]]-SUM(MOD(DATE(YEAR(TabUren22[[#This Row],[datum]]-MOD(TabUren22[[#This Row],[datum]]-2,7)+3),1,2),{1E+99;7})*{1;-1})+5) /7))","v":""},{"$f":"IF(TabUren22[[#This Row],[datum]]=\"\",\"\",TabUren22[[#This Row],[datum]])","v":""},null,null,{"$f":"IF(TabUren22[[#This Row],[datum]]=\"\",\"\",verzameldata!$C$4)","v":""},null,null,null,null,{"$f":"IF(TabUren22[[#This Row],[eindtijd]]=\"\",\"\",IF(TabUren22[[#This Row],[eindtijd]]<TabUren22[[#This Row],[begintijd]],(\"24:00\"-TabUren22[[#This Row],[begintijd]]+TabUren22[[#This Row],[eindtijd]])-TabUren22[[#This Row],[pauze]],(TabUren22[[#This Row],[eindtijd]]-TabUren22[[#This Row],[begintijd]])-TabUren22[[#This Row],[pauze]]))","v":""},{"$f":"IF(OR(TabUren22[hoofdcategorie]=\"\",TabUren22[hoofdcategorie]=0),\"anders dan hoofdcategorie\",TabUren22[hoofdcategorie])","v":"anders dan hoofdcategorie"}]
[{"$f":"IF(TabUren22[[#This Row],[datum]]=\"\",\"\",INT((TabUren22[[#This Row],[datum]]-SUM(MOD(DATE(YEAR(TabUren22[[#This Row],[datum]]-MOD(TabUren22[[#This Row],[datum]]-2,7)+3),1,2),{1E+99;7})*{1;-1})+5) /7))","v":""},{"$f":"IF(TabUren22[[#This Row],[datum]]=\"\",\"\",TabUren22[[#This Row],[datum]])","v":""},null,null,{"$f":"IF(TabUren22[[#This Row],[datum]]=\"\",\"\",verzameldata!$C$4)","v":""},null,null,null,null,{"$f":"IF(TabUren22[[#This Row],[eindtijd]]=\"\",\"\",IF(TabUren22[[#This Row],[eindtijd]]<TabUren22[[#This Row],[begintijd]],(\"24:00\"-TabUren22[[#This Row],[begintijd]]+TabUren22[[#This Row],[eindtijd]])-TabUren22[[#This Row],[pauze]],(TabUren22[[#This Row],[eindtijd]]-TabUren22[[#This Row],[begintijd]])-TabUren22[[#This Row],[pauze]]))","v":""},{"$f":"IF(OR(TabUren22[hoofdcategorie]=\"\",TabUren22[hoofdcategorie]=0),\"anders dan hoofdcategorie\",TabUren22[hoofdcategorie])","v":"anders dan hoofdcategorie"}]
[{"$f":"IF(TabUren22[[#This Row],[datum]]=\"\",\"\",INT((TabUren22[[#This Row],[datum]]-SUM(MOD(DATE(YEAR(TabUren22[[#This Row],[datum]]-MOD(TabUren22[[#This Row],[datum]]-2,7)+3),1,2),{1E+99;7})*{1;-1})+5) /7))","v":""},{"$f":"IF(TabUren22[[#This Row],[datum]]=\"\",\"\",TabUren22[[#This Row],[datum]])","v":""},null,null,{"$f":"IF(TabUren22[[#This Row],[datum]]=\"\",\"\",verzameldata!$C$4)","v":""},null,null,null,null,{"$f":"IF(TabUren22[[#This Row],[eindtijd]]=\"\",\"\",IF(TabUren22[[#This Row],[eindtijd]]<TabUren22[[#This Row],[begintijd]],(\"24:00\"-TabUren22[[#This Row],[begintijd]]+TabUren22[[#This Row],[eindtijd]])-TabUren22[[#This Row],[pauze]],(TabUren22[[#This Row],[eindtijd]]-TabUren22[[#This Row],[begintijd]])-TabUren22[[#This Row],[pauze]]))","v":""},{"$f":"IF(OR(TabUren22[hoofdcategorie]=\"\",TabUren22[hoofdcategorie]=0),\"anders dan hoofdcategorie\",TabUren22[hoofdcategorie])","v":"anders dan hoofdcategorie"}]
[{"$f":"IF(TabUren22[[#This Row],[datum]]=\"\",\"\",INT((TabUren22[[#This Row],[datum]]-SUM(MOD(DATE(YEAR(TabUren22[[#This Row],[datum]]-MOD(TabUren22[[#This Row],[datum]]-2,7)+3),1,2),{1E+99;7})*{1;-1})+5) /7))","v":""},{"$f":"IF(TabUren22[[#This Row],[datum]]=\"\",\"\",TabUren22[[#This Row],[datum]])","v":""},null,null,{"$f":"IF(TabUren22[[#This Row],[datum]]=\"\",\"\",verzameldata!$C$4)","v":""},null,null,null,null,{"$f":"IF(TabUren22[[#This Row],[eindtijd]]=\"\",\"\",IF(TabUren22[[#This Row],[eindtijd]]<TabUren22[[#This Row],[begintijd]],(\"24:00\"-TabUren22[[#This Row],[begintijd]]+TabUren22[[#This Row],[eindtijd]])-TabUren22[[#This Row],[pauze]],(TabUren22[[#This Row],[eindtijd]]-TabUren22[[#This Row],[begintijd]])-TabUren22[[#This Row],[pauze]]))","v":""},{"$f":"IF(OR(TabUren22[hoofdcategorie]=\"\",TabUren22[hoofdcategorie]=0),\"anders dan hoofdcategorie\",TabUren22[hoofdcategorie])","v":"anders dan hoofdcategorie"}]
[{"$f":"IF(TabUren22[[#This Row],[datum]]=\"\",\"\",INT((TabUren22[[#This Row],[datum]]-SUM(MOD(DATE(YEAR(TabUren22[[#This Row],[datum]]-MOD(TabUren22[[#This Row],[datum]]-2,7)+3),1,2),{1E+99;7})*{1;-1})+5) /7))","v":""},{"$f":"IF(TabUren22[[#This Row],[datum]]=\"\",\"\",TabUren22[[#This Row],[datum]])","v":""},null,null,{"$f":"IF(TabUren22[[#This Row],[datum]]=\"\",\"\",verzameldata!$C$4)","v":""},null,null,null,null,{"$f":"IF(TabUren22[[#This Row],[eindtijd]]=\"\",\"\",IF(TabUren22[[#This Row],[eindtijd]]<TabUren22[[#This Row],[begintijd]],(\"24:00\"-TabUren22[[#This Row],[begintijd]]+TabUren22[[#This Row],[eindtijd]])-TabUren22[[#This Row],[pauze]],(TabUren22[[#This Row],[eindtijd]]-TabUren22[[#This Row],[begintijd]])-TabUren22[[#This Row],[pauze]]))","v":""},{"$f":"IF(OR(TabUren22[hoofdcategorie]=\"\",TabUren22[hoofdcategorie]=0),\"anders dan hoofdcategorie\",TabUren22[hoofdcategorie])","v":"anders dan hoofdcategorie"}]
[{"$f":"IF(TabUren22[[#This Row],[datum]]=\"\",\"\",INT((TabUren22[[#This Row],[datum]]-SUM(MOD(DATE(YEAR(TabUren22[[#This Row],[datum]]-MOD(TabUren22[[#This Row],[datum]]-2,7)+3),1,2),{1E+99;7})*{1;-1})+5) /7))","v":""},{"$f":"IF(TabUren22[[#This Row],[datum]]=\"\",\"\",TabUren22[[#This Row],[datum]])","v":""},null,null,{"$f":"IF(TabUren22[[#This Row],[datum]]=\"\",\"\",verzameldata!$C$4)","v":""},null,null,null,null,{"$f":"IF(TabUren22[[#This Row],[eindtijd]]=\"\",\"\",IF(TabUren22[[#This Row],[eindtijd]]<TabUren22[[#This Row],[begintijd]],(\"24:00\"-TabUren22[[#This Row],[begintijd]]+TabUren22[[#This Row],[eindtijd]])-TabUren22[[#This Row],[pauze]],(TabUren22[[#This Row],[eindtijd]]-TabUren22[[#This Row],[begintijd]])-TabUren22[[#This Row],[pauze]]))","v":""},{"$f":"IF(OR(TabUren22[hoofdcategorie]=\"\",TabUren22[hoofdcategorie]=0),\"anders dan hoofdcategorie\",TabUren22[hoofdcategorie])","v":"anders dan hoofdcategorie"}]
[{"$f":"IF(TabUren22[[#This Row],[datum]]=\"\",\"\",INT((TabUren22[[#This Row],[datum]]-SUM(MOD(DATE(YEAR(TabUren22[[#This Row],[datum]]-MOD(TabUren22[[#This Row],[datum]]-2,7)+3),1,2),{1E+99;7})*{1;-1})+5) /7))","v":""},{"$f":"IF(TabUren22[[#This Row],[datum]]=\"\",\"\",TabUren22[[#This Row],[datum]])","v":""},null,null,{"$f":"IF(TabUren22[[#This Row],[datum]]=\"\",\"\",verzameldata!$C$4)","v":""},null,null,null,null,{"$f":"IF(TabUren22[[#This Row],[eindtijd]]=\"\",\"\",IF(TabUren22[[#This Row],[eindtijd]]<TabUren22[[#This Row],[begintijd]],(\"24:00\"-TabUren22[[#This Row],[begintijd]]+TabUren22[[#This Row],[eindtijd]])-TabUren22[[#This Row],[pauze]],(TabUren22[[#This Row],[eindtijd]]-TabUren22[[#This Row],[begintijd]])-TabUren22[[#This Row],[pauze]]))","v":""},{"$f":"IF(OR(TabUren22[hoofdcategorie]=\"\",TabUren22[hoofdcategorie]=0),\"anders dan hoofdcategorie\",TabUren22[hoofdcategorie])","v":"anders dan hoofdcategorie"}]
[{"$f":"IF(TabUren22[[#This Row],[datum]]=\"\",\"\",INT((TabUren22[[#This Row],[datum]]-SUM(MOD(DATE(YEAR(TabUren22[[#This Row],[datum]]-MOD(TabUren22[[#This Row],[datum]]-2,7)+3),1,2),{1E+99;7})*{1;-1})+5) /7))","v":""},{"$f":"IF(TabUren22[[#This Row],[datum]]=\"\",\"\",TabUren22[[#This Row],[datum]])","v":""},null,null,{"$f":"IF(TabUren22[[#This Row],[datum]]=\"\",\"\",verzameldata!$C$4)","v":""},null,null,null,null,{"$f":"IF(TabUren22[[#This Row],[eindtijd]]=\"\",\"\",IF(TabUren22[[#This Row],[eindtijd]]<TabUren22[[#This Row],[begintijd]],(\"24:00\"-TabUren22[[#This Row],[begintijd]]+TabUren22[[#This Row],[eindtijd]])-TabUren22[[#This Row],[pauze]],(TabUren22[[#This Row],[eindtijd]]-TabUren22[[#This Row],[begintijd]])-TabUren22[[#This Row],[pauze]]))","v":""},{"$f":"IF(OR(TabUren22[hoofdcategorie]=\"\",TabUren22[hoofdcategorie]=0),\"anders dan hoofdcategorie\",TabUren22[hoofdcategorie])","v":"anders dan hoofdcategorie"}]
[{"$f":"IF(TabUren22[[#This Row],[datum]]=\"\",\"\",INT((TabUren22[[#This Row],[datum]]-SUM(MOD(DATE(YEAR(TabUren22[[#This Row],[datum]]-MOD(TabUren22[[#This Row],[datum]]-2,7)+3),1,2),{1E+99;7})*{1;-1})+5) /7))","v":""},{"$f":"IF(TabUren22[[#This Row],[datum]]=\"\",\"\",TabUren22[[#This Row],[datum]])","v":""},null,null,{"$f":"IF(TabUren22[[#This Row],[datum]]=\"\",\"\",verzameldata!$C$4)","v":""},null,null,null,null,{"$f":"IF(TabUren22[[#This Row],[eindtijd]]=\"\",\"\",IF(TabUren22[[#This Row],[eindtijd]]<TabUren22[[#This Row],[begintijd]],(\"24:00\"-TabUren22[[#This Row],[begintijd]]+TabUren22[[#This Row],[eindtijd]])-TabUren22[[#This Row],[pauze]],(TabUren22[[#This Row],[eindtijd]]-TabUren22[[#This Row],[begintijd]])-TabUren22[[#This Row],[pauze]]))","v":""},{"$f":"IF(OR(TabUren22[hoofdcategorie]=\"\",TabUren22[hoofdcategorie]=0),\"anders dan hoofdcategorie\",TabUren22[hoofdcategorie])","v":"anders dan hoofdcategorie"}]
[{"$f":"IF(TabUren22[[#This Row],[datum]]=\"\",\"\",INT((TabUren22[[#This Row],[datum]]-SUM(MOD(DATE(YEAR(TabUren22[[#This Row],[datum]]-MOD(TabUren22[[#This Row],[datum]]-2,7)+3),1,2),{1E+99;7})*{1;-1})+5) /7))","v":""},{"$f":"IF(TabUren22[[#This Row],[datum]]=\"\",\"\",TabUren22[[#This Row],[datum]])","v":""},null,null,{"$f":"IF(TabUren22[[#This Row],[datum]]=\"\",\"\",verzameldata!$C$4)","v":""},null,null,null,null,{"$f":"IF(TabUren22[[#This Row],[eindtijd]]=\"\",\"\",IF(TabUren22[[#This Row],[eindtijd]]<TabUren22[[#This Row],[begintijd]],(\"24:00\"-TabUren22[[#This Row],[begintijd]]+TabUren22[[#This Row],[eindtijd]])-TabUren22[[#This Row],[pauze]],(TabUren22[[#This Row],[eindtijd]]-TabUren22[[#This Row],[begintijd]])-TabUren22[[#This Row],[pauze]]))","v":""},{"$f":"IF(OR(TabUren22[hoofdcategorie]=\"\",TabUren22[hoofdcategorie]=0),\"anders dan hoofdcategorie\",TabUren22[hoofdcategorie])","v":"anders dan hoofdcategorie"}]
[{"$f":"IF(TabUren22[[#This Row],[datum]]=\"\",\"\",INT((TabUren22[[#This Row],[datum]]-SUM(MOD(DATE(YEAR(TabUren22[[#This Row],[datum]]-MOD(TabUren22[[#This Row],[datum]]-2,7)+3),1,2),{1E+99;7})*{1;-1})+5) /7))","v":""},{"$f":"IF(TabUren22[[#This Row],[datum]]=\"\",\"\",TabUren22[[#This Row],[datum]])","v":""},null,null,{"$f":"IF(TabUren22[[#This Row],[datum]]=\"\",\"\",verzameldata!$C$4)","v":""},null,null,null,null,{"$f":"IF(TabUren22[[#This Row],[eindtijd]]=\"\",\"\",IF(TabUren22[[#This Row],[eindtijd]]<TabUren22[[#This Row],[begintijd]],(\"24:00\"-TabUren22[[#This Row],[begintijd]]+TabUren22[[#This Row],[eindtijd]])-TabUren22[[#This Row],[pauze]],(TabUren22[[#This Row],[eindtijd]]-TabUren22[[#This Row],[begintijd]])-TabUren22[[#This Row],[pauze]]))","v":""},{"$f":"IF(OR(TabUren22[hoofdcategorie]=\"\",TabUren22[hoofdcategorie]=0),\"anders dan hoofdcategorie\",TabUren22[hoofdcategorie])","v":"anders dan hoofdcategorie"}]
[{"$f":"IF(TabUren22[[#This Row],[datum]]=\"\",\"\",INT((TabUren22[[#This Row],[datum]]-SUM(MOD(DATE(YEAR(TabUren22[[#This Row],[datum]]-MOD(TabUren22[[#This Row],[datum]]-2,7)+3),1,2),{1E+99;7})*{1;-1})+5) /7))","v":""},{"$f":"IF(TabUren22[[#This Row],[datum]]=\"\",\"\",TabUren22[[#This Row],[datum]])","v":""},null,null,{"$f":"IF(TabUren22[[#This Row],[datum]]=\"\",\"\",verzameldata!$C$4)","v":""},null,null,null,null,{"$f":"IF(TabUren22[[#This Row],[eindtijd]]=\"\",\"\",IF(TabUren22[[#This Row],[eindtijd]]<TabUren22[[#This Row],[begintijd]],(\"24:00\"-TabUren22[[#This Row],[begintijd]]+TabUren22[[#This Row],[eindtijd]])-TabUren22[[#This Row],[pauze]],(TabUren22[[#This Row],[eindtijd]]-TabUren22[[#This Row],[begintijd]])-TabUren22[[#This Row],[pauze]]))","v":""},{"$f":"IF(OR(TabUren22[hoofdcategorie]=\"\",TabUren22[hoofdcategorie]=0),\"anders dan hoofdcategorie\",TabUren22[hoofdcategorie])","v":"anders dan hoofdcategorie"}]
[{"$f":"IF(TabUren22[[#This Row],[datum]]=\"\",\"\",INT((TabUren22[[#This Row],[datum]]-SUM(MOD(DATE(YEAR(TabUren22[[#This Row],[datum]]-MOD(TabUren22[[#This Row],[datum]]-2,7)+3),1,2),{1E+99;7})*{1;-1})+5) /7))","v":""},{"$f":"IF(TabUren22[[#This Row],[datum]]=\"\",\"\",TabUren22[[#This Row],[datum]])","v":""},null,null,{"$f":"IF(TabUren22[[#This Row],[datum]]=\"\",\"\",verzameldata!$C$4)","v":""},null,null,null,null,{"$f":"IF(TabUren22[[#This Row],[eindtijd]]=\"\",\"\",IF(TabUren22[[#This Row],[eindtijd]]<TabUren22[[#This Row],[begintijd]],(\"24:00\"-TabUren22[[#This Row],[begintijd]]+TabUren22[[#This Row],[eindtijd]])-TabUren22[[#This Row],[pauze]],(TabUren22[[#This Row],[eindtijd]]-TabUren22[[#This Row],[begintijd]])-TabUren22[[#This Row],[pauze]]))","v":""},{"$f":"IF(OR(TabUren22[hoofdcategorie]=\"\",TabUren22[hoofdcategorie]=0),\"anders dan hoofdcategorie\",TabUren22[hoofdcategorie])","v":"anders dan hoofdcategorie"}]
[{"$f":"IF(TabUren22[[#This Row],[datum]]=\"\",\"\",INT((TabUren22[[#This Row],[datum]]-SUM(MOD(DATE(YEAR(TabUren22[[#This Row],[datum]]-MOD(TabUren22[[#This Row],[datum]]-2,7)+3),1,2),{1E+99;7})*{1;-1})+5) /7))","v":""},{"$f":"IF(TabUren22[[#This Row],[datum]]=\"\",\"\",TabUren22[[#This Row],[datum]])","v":""},null,null,{"$f":"IF(TabUren22[[#This Row],[datum]]=\"\",\"\",verzameldata!$C$4)","v":""},null,null,null,null,{"$f":"IF(TabUren22[[#This Row],[eindtijd]]=\"\",\"\",IF(TabUren22[[#This Row],[eindtijd]]<TabUren22[[#This Row],[begintijd]],(\"24:00\"-TabUren22[[#This Row],[begintijd]]+TabUren22[[#This Row],[eindtijd]])-TabUren22[[#This Row],[pauze]],(TabUren22[[#This Row],[eindtijd]]-TabUren22[[#This Row],[begintijd]])-TabUren22[[#This Row],[pauze]]))","v":""},{"$f":"IF(OR(TabUren22[hoofdcategorie]=\"\",TabUren22[hoofdcategorie]=0),\"anders dan hoofdcategorie\",TabUren22[hoofdcategorie])","v":"anders dan hoofdcategorie"}]
[{"$f":"IF(TabUren22[[#This Row],[datum]]=\"\",\"\",INT((TabUren22[[#This Row],[datum]]-SUM(MOD(DATE(YEAR(TabUren22[[#This Row],[datum]]-MOD(TabUren22[[#This Row],[datum]]-2,7)+3),1,2),{1E+99;7})*{1;-1})+5) /7))","v":""},{"$f":"IF(TabUren22[[#This Row],[datum]]=\"\",\"\",TabUren22[[#This Row],[datum]])","v":""},null,null,{"$f":"IF(TabUren22[[#This Row],[datum]]=\"\",\"\",verzameldata!$C$4)","v":""},null,null,null,null,{"$f":"IF(TabUren22[[#This Row],[eindtijd]]=\"\",\"\",IF(TabUren22[[#This Row],[eindtijd]]<TabUren22[[#This Row],[begintijd]],(\"24:00\"-TabUren22[[#This Row],[begintijd]]+TabUren22[[#This Row],[eindtijd]])-TabUren22[[#This Row],[pauze]],(TabUren22[[#This Row],[eindtijd]]-TabUren22[[#This Row],[begintijd]])-TabUren22[[#This Row],[pauze]]))","v":""},{"$f":"IF(OR(TabUren22[hoofdcategorie]=\"\",TabUren22[hoofdcategorie]=0),\"anders dan hoofdcategorie\",TabUren22[hoofdcategorie])","v":"anders dan hoofdcategorie"}]
[{"$f":"IF(TabUren22[[#This Row],[datum]]=\"\",\"\",INT((TabUren22[[#This Row],[datum]]-SUM(MOD(DATE(YEAR(TabUren22[[#This Row],[datum]]-MOD(TabUren22[[#This Row],[datum]]-2,7)+3),1,2),{1E+99;7})*{1;-1})+5) /7))","v":""},{"$f":"IF(TabUren22[[#This Row],[datum]]=\"\",\"\",TabUren22[[#This Row],[datum]])","v":""},null,null,{"$f":"IF(TabUren22[[#This Row],[datum]]=\"\",\"\",verzameldata!$C$4)","v":""},null,null,null,null,{"$f":"IF(TabUren22[[#This Row],[eindtijd]]=\"\",\"\",IF(TabUren22[[#This Row],[eindtijd]]<TabUren22[[#This Row],[begintijd]],(\"24:00\"-TabUren22[[#This Row],[begintijd]]+TabUren22[[#This Row],[eindtijd]])-TabUren22[[#This Row],[pauze]],(TabUren22[[#This Row],[eindtijd]]-TabUren22[[#This Row],[begintijd]])-TabUren22[[#This Row],[pauze]]))","v":""},{"$f":"IF(OR(TabUren22[hoofdcategorie]=\"\",TabUren22[hoofdcategorie]=0),\"anders dan hoofdcategorie\",TabUren22[hoofdcategorie])","v":"anders dan hoofdcategorie"}]
[{"$f":"IF(TabUren22[[#This Row],[datum]]=\"\",\"\",INT((TabUren22[[#This Row],[datum]]-SUM(MOD(DATE(YEAR(TabUren22[[#This Row],[datum]]-MOD(TabUren22[[#This Row],[datum]]-2,7)+3),1,2),{1E+99;7})*{1;-1})+5) /7))","v":""},{"$f":"IF(TabUren22[[#This Row],[datum]]=\"\",\"\",TabUren22[[#This Row],[datum]])","v":""},null,null,{"$f":"IF(TabUren22[[#This Row],[datum]]=\"\",\"\",verzameldata!$C$4)","v":""},null,null,null,null,{"$f":"IF(TabUren22[[#This Row],[eindtijd]]=\"\",\"\",IF(TabUren22[[#This Row],[eindtijd]]<TabUren22[[#This Row],[begintijd]],(\"24:00\"-TabUren22[[#This Row],[begintijd]]+TabUren22[[#This Row],[eindtijd]])-TabUren22[[#This Row],[pauze]],(TabUren22[[#This Row],[eindtijd]]-TabUren22[[#This Row],[begintijd]])-TabUren22[[#This Row],[pauze]]))","v":""},{"$f":"IF(OR(TabUren22[hoofdcategorie]=\"\",TabUren22[hoofdcategorie]=0),\"anders dan hoofdcategorie\",TabUren22[hoofdcategorie])","v":"anders dan hoofdcategorie"}]
[{"$f":"IF(TabUren22[[#This Row],[datum]]=\"\",\"\",INT((TabUren22[[#This Row],[datum]]-SUM(MOD(DATE(YEAR(TabUren22[[#This Row],[datum]]-MOD(TabUren22[[#This Row],[datum]]-2,7)+3),1,2),{1E+99;7})*{1;-1})+5) /7))","v":""},{"$f":"IF(TabUren22[[#This Row],[datum]]=\"\",\"\",TabUren22[[#This Row],[datum]])","v":""},null,null,{"$f":"IF(TabUren22[[#This Row],[datum]]=\"\",\"\",verzameldata!$C$4)","v":""},null,null,null,null,{"$f":"IF(TabUren22[[#This Row],[eindtijd]]=\"\",\"\",IF(TabUren22[[#This Row],[eindtijd]]<TabUren22[[#This Row],[begintijd]],(\"24:00\"-TabUren22[[#This Row],[begintijd]]+TabUren22[[#This Row],[eindtijd]])-TabUren22[[#This Row],[pauze]],(TabUren22[[#This Row],[eindtijd]]-TabUren22[[#This Row],[begintijd]])-TabUren22[[#This Row],[pauze]]))","v":""},{"$f":"IF(OR(TabUren22[hoofdcategorie]=\"\",TabUren22[hoofdcategorie]=0),\"anders dan hoofdcategorie\",TabUren22[hoofdcategorie])","v":"anders dan hoofdcategorie"}]
[{"$f":"IF(TabUren22[[#This Row],[datum]]=\"\",\"\",INT((TabUren22[[#This Row],[datum]]-SUM(MOD(DATE(YEAR(TabUren22[[#This Row],[datum]]-MOD(TabUren22[[#This Row],[datum]]-2,7)+3),1,2),{1E+99;7})*{1;-1})+5) /7))","v":""},{"$f":"IF(TabUren22[[#This Row],[datum]]=\"\",\"\",TabUren22[[#This Row],[datum]])","v":""},null,null,{"$f":"IF(TabUren22[[#This Row],[datum]]=\"\",\"\",verzameldata!$C$4)","v":""},null,null,null,null,{"$f":"IF(TabUren22[[#This Row],[eindtijd]]=\"\",\"\",IF(TabUren22[[#This Row],[eindtijd]]<TabUren22[[#This Row],[begintijd]],(\"24:00\"-TabUren22[[#This Row],[begintijd]]+TabUren22[[#This Row],[eindtijd]])-TabUren22[[#This Row],[pauze]],(TabUren22[[#This Row],[eindtijd]]-TabUren22[[#This Row],[begintijd]])-TabUren22[[#This Row],[pauze]]))","v":""},{"$f":"IF(OR(TabUren22[hoofdcategorie]=\"\",TabUren22[hoofdcategorie]=0),\"anders dan hoofdcategorie\",TabUren22[hoofdcategorie])","v":"anders dan hoofdcategorie"}]
[{"$f":"IF(TabUren22[[#This Row],[datum]]=\"\",\"\",INT((TabUren22[[#This Row],[datum]]-SUM(MOD(DATE(YEAR(TabUren22[[#This Row],[datum]]-MOD(TabUren22[[#This Row],[datum]]-2,7)+3),1,2),{1E+99;7})*{1;-1})+5) /7))","v":""},{"$f":"IF(TabUren22[[#This Row],[datum]]=\"\",\"\",TabUren22[[#This Row],[datum]])","v":""},null,null,{"$f":"IF(TabUren22[[#This Row],[datum]]=\"\",\"\",verzameldata!$C$4)","v":""},null,null,null,null,{"$f":"IF(TabUren22[[#This Row],[eindtijd]]=\"\",\"\",IF(TabUren22[[#This Row],[eindtijd]]<TabUren22[[#This Row],[begintijd]],(\"24:00\"-TabUren22[[#This Row],[begintijd]]+TabUren22[[#This Row],[eindtijd]])-TabUren22[[#This Row],[pauze]],(TabUren22[[#This Row],[eindtijd]]-TabUren22[[#This Row],[begintijd]])-TabUren22[[#This Row],[pauze]]))","v":""},{"$f":"IF(OR(TabUren22[hoofdcategorie]=\"\",TabUren22[hoofdcategorie]=0),\"anders dan hoofdcategorie\",TabUren22[hoofdcategorie])","v":"anders dan hoofdcategorie"}]
[{"$f":"IF(TabUren22[[#This Row],[datum]]=\"\",\"\",INT((TabUren22[[#This Row],[datum]]-SUM(MOD(DATE(YEAR(TabUren22[[#This Row],[datum]]-MOD(TabUren22[[#This Row],[datum]]-2,7)+3),1,2),{1E+99;7})*{1;-1})+5) /7))","v":""},{"$f":"IF(TabUren22[[#This Row],[datum]]=\"\",\"\",TabUren22[[#This Row],[datum]])","v":""},null,null,{"$f":"IF(TabUren22[[#This Row],[datum]]=\"\",\"\",verzameldata!$C$4)","v":""},null,null,null,null,{"$f":"IF(TabUren22[[#This Row],[eindtijd]]=\"\",\"\",IF(TabUren22[[#This Row],[eindtijd]]<TabUren22[[#This Row],[begintijd]],(\"24:00\"-TabUren22[[#This Row],[begintijd]]+TabUren22[[#This Row],[eindtijd]])-TabUren22[[#This Row],[pauze]],(TabUren22[[#This Row],[eindtijd]]-TabUren22[[#This Row],[begintijd]])-TabUren22[[#This Row],[pauze]]))","v":""},{"$f":"IF(OR(TabUren22[hoofdcategorie]=\"\",TabUren22[hoofdcategorie]=0),\"anders dan hoofdcategorie\",TabUren22[hoofdcategorie])","v":"anders dan hoofdcategorie"}]
[{"$f":"IF(TabUren22[[#This Row],[datum]]=\"\",\"\",INT((TabUren22[[#This Row],[datum]]-SUM(MOD(DATE(YEAR(TabUren22[[#This Row],[datum]]-MOD(TabUren22[[#This Row],[datum]]-2,7)+3),1,2),{1E+99;7})*{1;-1})+5) /7))","v":""},{"$f":"IF(TabUren22[[#This Row],[datum]]=\"\",\"\",TabUren22[[#This Row],[datum]])","v":""},null,null,{"$f":"IF(TabUren22[[#This Row],[datum]]=\"\",\"\",verzameldata!$C$4)","v":""},null,null,null,null,{"$f":"IF(TabUren22[[#This Row],[eindtijd]]=\"\",\"\",IF(TabUren22[[#This Row],[eindtijd]]<TabUren22[[#This Row],[begintijd]],(\"24:00\"-TabUren22[[#This Row],[begintijd]]+TabUren22[[#This Row],[eindtijd]])-TabUren22[[#This Row],[pauze]],(TabUren22[[#This Row],[eindtijd]]-TabUren22[[#This Row],[begintijd]])-TabUren22[[#This Row],[pauze]]))","v":""},{"$f":"IF(OR(TabUren22[hoofdcategorie]=\"\",TabUren22[hoofdcategorie]=0),\"anders dan hoofdcategorie\",TabUren22[hoofdcategorie])","v":"anders dan hoofdcategorie"}]
[{"$f":"IF(TabUren22[[#This Row],[datum]]=\"\",\"\",INT((TabUren22[[#This Row],[datum]]-SUM(MOD(DATE(YEAR(TabUren22[[#This Row],[datum]]-MOD(TabUren22[[#This Row],[datum]]-2,7)+3),1,2),{1E+99;7})*{1;-1})+5) /7))","v":""},{"$f":"IF(TabUren22[[#This Row],[datum]]=\"\",\"\",TabUren22[[#This Row],[datum]])","v":""},null,null,{"$f":"IF(TabUren22[[#This Row],[datum]]=\"\",\"\",verzameldata!$C$4)","v":""},null,null,null,null,{"$f":"IF(TabUren22[[#This Row],[eindtijd]]=\"\",\"\",IF(TabUren22[[#This Row],[eindtijd]]<TabUren22[[#This Row],[begintijd]],(\"24:00\"-TabUren22[[#This Row],[begintijd]]+TabUren22[[#This Row],[eindtijd]])-TabUren22[[#This Row],[pauze]],(TabUren22[[#This Row],[eindtijd]]-TabUren22[[#This Row],[begintijd]])-TabUren22[[#This Row],[pauze]]))","v":""},{"$f":"IF(OR(TabUren22[hoofdcategorie]=\"\",TabUren22[hoofdcategorie]=0),\"anders dan hoofdcategorie\",TabUren22[hoofdcategorie])","v":"anders dan hoofdcategorie"}]
[{"$f":"IF(TabUren22[[#This Row],[datum]]=\"\",\"\",INT((TabUren22[[#This Row],[datum]]-SUM(MOD(DATE(YEAR(TabUren22[[#This Row],[datum]]-MOD(TabUren22[[#This Row],[datum]]-2,7)+3),1,2),{1E+99;7})*{1;-1})+5) /7))","v":""},{"$f":"IF(TabUren22[[#This Row],[datum]]=\"\",\"\",TabUren22[[#This Row],[datum]])","v":""},null,null,{"$f":"IF(TabUren22[[#This Row],[datum]]=\"\",\"\",verzameldata!$C$4)","v":""},null,null,null,null,{"$f":"IF(TabUren22[[#This Row],[eindtijd]]=\"\",\"\",IF(TabUren22[[#This Row],[eindtijd]]<TabUren22[[#This Row],[begintijd]],(\"24:00\"-TabUren22[[#This Row],[begintijd]]+TabUren22[[#This Row],[eindtijd]])-TabUren22[[#This Row],[pauze]],(TabUren22[[#This Row],[eindtijd]]-TabUren22[[#This Row],[begintijd]])-TabUren22[[#This Row],[pauze]]))","v":""},{"$f":"IF(OR(TabUren22[hoofdcategorie]=\"\",TabUren22[hoofdcategorie]=0),\"anders dan hoofdcategorie\",TabUren22[hoofdcategorie])","v":"anders dan hoofdcategorie"}]
[{"$f":"IF(TabUren22[[#This Row],[datum]]=\"\",\"\",INT((TabUren22[[#This Row],[datum]]-SUM(MOD(DATE(YEAR(TabUren22[[#This Row],[datum]]-MOD(TabUren22[[#This Row],[datum]]-2,7)+3),1,2),{1E+99;7})*{1;-1})+5) /7))","v":""},{"$f":"IF(TabUren22[[#This Row],[datum]]=\"\",\"\",TabUren22[[#This Row],[datum]])","v":""},null,null,{"$f":"IF(TabUren22[[#This Row],[datum]]=\"\",\"\",verzameldata!$C$4)","v":""},null,null,null,null,{"$f":"IF(TabUren22[[#This Row],[eindtijd]]=\"\",\"\",IF(TabUren22[[#This Row],[eindtijd]]<TabUren22[[#This Row],[begintijd]],(\"24:00\"-TabUren22[[#This Row],[begintijd]]+TabUren22[[#This Row],[eindtijd]])-TabUren22[[#This Row],[pauze]],(TabUren22[[#This Row],[eindtijd]]-TabUren22[[#This Row],[begintijd]])-TabUren22[[#This Row],[pauze]]))","v":""},{"$f":"IF(OR(TabUren22[hoofdcategorie]=\"\",TabUren22[hoofdcategorie]=0),\"anders dan hoofdcategorie\",TabUren22[hoofdcategorie])","v":"anders dan hoofdcategorie"}]
[{"$f":"IF(TabUren22[[#This Row],[datum]]=\"\",\"\",INT((TabUren22[[#This Row],[datum]]-SUM(MOD(DATE(YEAR(TabUren22[[#This Row],[datum]]-MOD(TabUren22[[#This Row],[datum]]-2,7)+3),1,2),{1E+99;7})*{1;-1})+5) /7))","v":""},{"$f":"IF(TabUren22[[#This Row],[datum]]=\"\",\"\",TabUren22[[#This Row],[datum]])","v":""},null,null,{"$f":"IF(TabUren22[[#This Row],[datum]]=\"\",\"\",verzameldata!$C$4)","v":""},null,null,null,null,{"$f":"IF(TabUren22[[#This Row],[eindtijd]]=\"\",\"\",IF(TabUren22[[#This Row],[eindtijd]]<TabUren22[[#This Row],[begintijd]],(\"24:00\"-TabUren22[[#This Row],[begintijd]]+TabUren22[[#This Row],[eindtijd]])-TabUren22[[#This Row],[pauze]],(TabUren22[[#This Row],[eindtijd]]-TabUren22[[#This Row],[begintijd]])-TabUren22[[#This Row],[pauze]]))","v":""},{"$f":"IF(OR(TabUren22[hoofdcategorie]=\"\",TabUren22[hoofdcategorie]=0),\"anders dan hoofdcategorie\",TabUren22[hoofdcategorie])","v":"anders dan hoofdcategorie"}]
[{"$f":"IF(TabUren22[[#This Row],[datum]]=\"\",\"\",INT((TabUren22[[#This Row],[datum]]-SUM(MOD(DATE(YEAR(TabUren22[[#This Row],[datum]]-MOD(TabUren22[[#This Row],[datum]]-2,7)+3),1,2),{1E+99;7})*{1;-1})+5) /7))","v":""},{"$f":"IF(TabUren22[[#This Row],[datum]]=\"\",\"\",TabUren22[[#This Row],[datum]])","v":""},null,null,{"$f":"IF(TabUren22[[#This Row],[datum]]=\"\",\"\",verzameldata!$C$4)","v":""},null,null,null,null,{"$f":"IF(TabUren22[[#This Row],[eindtijd]]=\"\",\"\",IF(TabUren22[[#This Row],[eindtijd]]<TabUren22[[#This Row],[begintijd]],(\"24:00\"-TabUren22[[#This Row],[begintijd]]+TabUren22[[#This Row],[eindtijd]])-TabUren22[[#This Row],[pauze]],(TabUren22[[#This Row],[eindtijd]]-TabUren22[[#This Row],[begintijd]])-TabUren22[[#This Row],[pauze]]))","v":""},{"$f":"IF(OR(TabUren22[hoofdcategorie]=\"\",TabUren22[hoofdcategorie]=0),\"anders dan hoofdcategorie\",TabUren22[hoofdcategorie])","v":"anders dan hoofdcategorie"}]
[{"$f":"IF(TabUren22[[#This Row],[datum]]=\"\",\"\",INT((TabUren22[[#This Row],[datum]]-SUM(MOD(DATE(YEAR(TabUren22[[#This Row],[datum]]-MOD(TabUren22[[#This Row],[datum]]-2,7)+3),1,2),{1E+99;7})*{1;-1})+5) /7))","v":""},{"$f":"IF(TabUren22[[#This Row],[datum]]=\"\",\"\",TabUren22[[#This Row],[datum]])","v":""},null,null,{"$f":"IF(TabUren22[[#This Row],[datum]]=\"\",\"\",verzameldata!$C$4)","v":""},null,null,null,null,{"$f":"IF(TabUren22[[#This Row],[eindtijd]]=\"\",\"\",IF(TabUren22[[#This Row],[eindtijd]]<TabUren22[[#This Row],[begintijd]],(\"24:00\"-TabUren22[[#This Row],[begintijd]]+TabUren22[[#This Row],[eindtijd]])-TabUren22[[#This Row],[pauze]],(TabUren22[[#This Row],[eindtijd]]-TabUren22[[#This Row],[begintijd]])-TabUren22[[#This Row],[pauze]]))","v":""},{"$f":"IF(OR(TabUren22[hoofdcategorie]=\"\",TabUren22[hoofdcategorie]=0),\"anders dan hoofdcategorie\",TabUren22[hoofdcategorie])","v":"anders dan hoofdcategorie"}]
[{"$f":"IF(TabUren22[[#This Row],[datum]]=\"\",\"\",INT((TabUren22[[#This Row],[datum]]-SUM(MOD(DATE(YEAR(TabUren22[[#This Row],[datum]]-MOD(TabUren22[[#This Row],[datum]]-2,7)+3),1,2),{1E+99;7})*{1;-1})+5) /7))","v":""},{"$f":"IF(TabUren22[[#This Row],[datum]]=\"\",\"\",TabUren22[[#This Row],[datum]])","v":""},null,null,{"$f":"IF(TabUren22[[#This Row],[datum]]=\"\",\"\",verzameldata!$C$4)","v":""},null,null,null,null,{"$f":"IF(TabUren22[[#This Row],[eindtijd]]=\"\",\"\",IF(TabUren22[[#This Row],[eindtijd]]<TabUren22[[#This Row],[begintijd]],(\"24:00\"-TabUren22[[#This Row],[begintijd]]+TabUren22[[#This Row],[eindtijd]])-TabUren22[[#This Row],[pauze]],(TabUren22[[#This Row],[eindtijd]]-TabUren22[[#This Row],[begintijd]])-TabUren22[[#This Row],[pauze]]))","v":""},{"$f":"IF(OR(TabUren22[hoofdcategorie]=\"\",TabUren22[hoofdcategorie]=0),\"anders dan hoofdcategorie\",TabUren22[hoofdcategorie])","v":"anders dan hoofdcategorie"}]
[{"$f":"IF(TabUren22[[#This Row],[datum]]=\"\",\"\",INT((TabUren22[[#This Row],[datum]]-SUM(MOD(DATE(YEAR(TabUren22[[#This Row],[datum]]-MOD(TabUren22[[#This Row],[datum]]-2,7)+3),1,2),{1E+99;7})*{1;-1})+5) /7))","v":""},{"$f":"IF(TabUren22[[#This Row],[datum]]=\"\",\"\",TabUren22[[#This Row],[datum]])","v":""},null,null,{"$f":"IF(TabUren22[[#This Row],[datum]]=\"\",\"\",verzameldata!$C$4)","v":""},null,null,null,null,{"$f":"IF(TabUren22[[#This Row],[eindtijd]]=\"\",\"\",IF(TabUren22[[#This Row],[eindtijd]]<TabUren22[[#This Row],[begintijd]],(\"24:00\"-TabUren22[[#This Row],[begintijd]]+TabUren22[[#This Row],[eindtijd]])-TabUren22[[#This Row],[pauze]],(TabUren22[[#This Row],[eindtijd]]-TabUren22[[#This Row],[begintijd]])-TabUren22[[#This Row],[pauze]]))","v":""},{"$f":"IF(OR(TabUren22[hoofdcategorie]=\"\",TabUren22[hoofdcategorie]=0),\"anders dan hoofdcategorie\",TabUren22[hoofdcategorie])","v":"anders dan hoofdcategorie"}]
[{"$f":"IF(TabUren22[[#This Row],[datum]]=\"\",\"\",INT((TabUren22[[#This Row],[datum]]-SUM(MOD(DATE(YEAR(TabUren22[[#This Row],[datum]]-MOD(TabUren22[[#This Row],[datum]]-2,7)+3),1,2),{1E+99;7})*{1;-1})+5) /7))","v":""},{"$f":"IF(TabUren22[[#This Row],[datum]]=\"\",\"\",TabUren22[[#This Row],[datum]])","v":""},null,null,{"$f":"IF(TabUren22[[#This Row],[datum]]=\"\",\"\",verzameldata!$C$4)","v":""},null,null,null,null,{"$f":"IF(TabUren22[[#This Row],[eindtijd]]=\"\",\"\",IF(TabUren22[[#This Row],[eindtijd]]<TabUren22[[#This Row],[begintijd]],(\"24:00\"-TabUren22[[#This Row],[begintijd]]+TabUren22[[#This Row],[eindtijd]])-TabUren22[[#This Row],[pauze]],(TabUren22[[#This Row],[eindtijd]]-TabUren22[[#This Row],[begintijd]])-TabUren22[[#This Row],[pauze]]))","v":""},{"$f":"IF(OR(TabUren22[hoofdcategorie]=\"\",TabUren22[hoofdcategorie]=0),\"anders dan hoofdcategorie\",TabUren22[hoofdcategorie])","v":"anders dan hoofdcategorie"}]
[{"$f":"IF(TabUren22[[#This Row],[datum]]=\"\",\"\",INT((TabUren22[[#This Row],[datum]]-SUM(MOD(DATE(YEAR(TabUren22[[#This Row],[datum]]-MOD(TabUren22[[#This Row],[datum]]-2,7)+3),1,2),{1E+99;7})*{1;-1})+5) /7))","v":""},{"$f":"IF(TabUren22[[#This Row],[datum]]=\"\",\"\",TabUren22[[#This Row],[datum]])","v":""},null,null,{"$f":"IF(TabUren22[[#This Row],[datum]]=\"\",\"\",verzameldata!$C$4)","v":""},null,null,null,null,{"$f":"IF(TabUren22[[#This Row],[eindtijd]]=\"\",\"\",IF(TabUren22[[#This Row],[eindtijd]]<TabUren22[[#This Row],[begintijd]],(\"24:00\"-TabUren22[[#This Row],[begintijd]]+TabUren22[[#This Row],[eindtijd]])-TabUren22[[#This Row],[pauze]],(TabUren22[[#This Row],[eindtijd]]-TabUren22[[#This Row],[begintijd]])-TabUren22[[#This Row],[pauze]]))","v":""},{"$f":"IF(OR(TabUren22[hoofdcategorie]=\"\",TabUren22[hoofdcategorie]=0),\"anders dan hoofdcategorie\",TabUren22[hoofdcategorie])","v":"anders dan hoofdcategorie"}]
[{"$f":"IF(TabUren22[[#This Row],[datum]]=\"\",\"\",INT((TabUren22[[#This Row],[datum]]-SUM(MOD(DATE(YEAR(TabUren22[[#This Row],[datum]]-MOD(TabUren22[[#This Row],[datum]]-2,7)+3),1,2),{1E+99;7})*{1;-1})+5) /7))","v":""},{"$f":"IF(TabUren22[[#This Row],[datum]]=\"\",\"\",TabUren22[[#This Row],[datum]])","v":""},null,null,{"$f":"IF(TabUren22[[#This Row],[datum]]=\"\",\"\",verzameldata!$C$4)","v":""},null,null,null,null,{"$f":"IF(TabUren22[[#This Row],[eindtijd]]=\"\",\"\",IF(TabUren22[[#This Row],[eindtijd]]<TabUren22[[#This Row],[begintijd]],(\"24:00\"-TabUren22[[#This Row],[begintijd]]+TabUren22[[#This Row],[eindtijd]])-TabUren22[[#This Row],[pauze]],(TabUren22[[#This Row],[eindtijd]]-TabUren22[[#This Row],[begintijd]])-TabUren22[[#This Row],[pauze]]))","v":""},{"$f":"IF(OR(TabUren22[hoofdcategorie]=\"\",TabUren22[hoofdcategorie]=0),\"anders dan hoofdcategorie\",TabUren22[hoofdcategorie])","v":"anders dan hoofdcategorie"}]
[{"$f":"IF(TabUren22[[#This Row],[datum]]=\"\",\"\",INT((TabUren22[[#This Row],[datum]]-SUM(MOD(DATE(YEAR(TabUren22[[#This Row],[datum]]-MOD(TabUren22[[#This Row],[datum]]-2,7)+3),1,2),{1E+99;7})*{1;-1})+5) /7))","v":""},{"$f":"IF(TabUren22[[#This Row],[datum]]=\"\",\"\",TabUren22[[#This Row],[datum]])","v":""},null,null,{"$f":"IF(TabUren22[[#This Row],[datum]]=\"\",\"\",verzameldata!$C$4)","v":""},null,null,null,null,{"$f":"IF(TabUren22[[#This Row],[eindtijd]]=\"\",\"\",IF(TabUren22[[#This Row],[eindtijd]]<TabUren22[[#This Row],[begintijd]],(\"24:00\"-TabUren22[[#This Row],[begintijd]]+TabUren22[[#This Row],[eindtijd]])-TabUren22[[#This Row],[pauze]],(TabUren22[[#This Row],[eindtijd]]-TabUren22[[#This Row],[begintijd]])-TabUren22[[#This Row],[pauze]]))","v":""},{"$f":"IF(OR(TabUren22[hoofdcategorie]=\"\",TabUren22[hoofdcategorie]=0),\"anders dan hoofdcategorie\",TabUren22[hoofdcategorie])","v":"anders dan hoofdcategorie"}]
[{"$f":"IF(TabUren22[[#This Row],[datum]]=\"\",\"\",INT((TabUren22[[#This Row],[datum]]-SUM(MOD(DATE(YEAR(TabUren22[[#This Row],[datum]]-MOD(TabUren22[[#This Row],[datum]]-2,7)+3),1,2),{1E+99;7})*{1;-1})+5) /7))","v":""},{"$f":"IF(TabUren22[[#This Row],[datum]]=\"\",\"\",TabUren22[[#This Row],[datum]])","v":""},null,null,{"$f":"IF(TabUren22[[#This Row],[datum]]=\"\",\"\",verzameldata!$C$4)","v":""},null,null,null,null,{"$f":"IF(TabUren22[[#This Row],[eindtijd]]=\"\",\"\",IF(TabUren22[[#This Row],[eindtijd]]<TabUren22[[#This Row],[begintijd]],(\"24:00\"-TabUren22[[#This Row],[begintijd]]+TabUren22[[#This Row],[eindtijd]])-TabUren22[[#This Row],[pauze]],(TabUren22[[#This Row],[eindtijd]]-TabUren22[[#This Row],[begintijd]])-TabUren22[[#This Row],[pauze]]))","v":""},{"$f":"IF(OR(TabUren22[hoofdcategorie]=\"\",TabUren22[hoofdcategorie]=0),\"anders dan hoofdcategorie\",TabUren22[hoofdcategorie])","v":"anders dan hoofdcategorie"}]
[{"$f":"IF(TabUren22[[#This Row],[datum]]=\"\",\"\",INT((TabUren22[[#This Row],[datum]]-SUM(MOD(DATE(YEAR(TabUren22[[#This Row],[datum]]-MOD(TabUren22[[#This Row],[datum]]-2,7)+3),1,2),{1E+99;7})*{1;-1})+5) /7))","v":""},{"$f":"IF(TabUren22[[#This Row],[datum]]=\"\",\"\",TabUren22[[#This Row],[datum]])","v":""},null,null,{"$f":"IF(TabUren22[[#This Row],[datum]]=\"\",\"\",verzameldata!$C$4)","v":""},null,null,null,null,{"$f":"IF(TabUren22[[#This Row],[eindtijd]]=\"\",\"\",IF(TabUren22[[#This Row],[eindtijd]]<TabUren22[[#This Row],[begintijd]],(\"24:00\"-TabUren22[[#This Row],[begintijd]]+TabUren22[[#This Row],[eindtijd]])-TabUren22[[#This Row],[pauze]],(TabUren22[[#This Row],[eindtijd]]-TabUren22[[#This Row],[begintijd]])-TabUren22[[#This Row],[pauze]]))","v":""},{"$f":"IF(OR(TabUren22[hoofdcategorie]=\"\",TabUren22[hoofdcategorie]=0),\"anders dan hoofdcategorie\",TabUren22[hoofdcategorie])","v":"anders dan hoofdcategorie"}]
[{"$f":"IF(TabUren22[[#This Row],[datum]]=\"\",\"\",INT((TabUren22[[#This Row],[datum]]-SUM(MOD(DATE(YEAR(TabUren22[[#This Row],[datum]]-MOD(TabUren22[[#This Row],[datum]]-2,7)+3),1,2),{1E+99;7})*{1;-1})+5) /7))","v":""},{"$f":"IF(TabUren22[[#This Row],[datum]]=\"\",\"\",TabUren22[[#This Row],[datum]])","v":""},null,null,{"$f":"IF(TabUren22[[#This Row],[datum]]=\"\",\"\",verzameldata!$C$4)","v":""},null,null,null,null,{"$f":"IF(TabUren22[[#This Row],[eindtijd]]=\"\",\"\",IF(TabUren22[[#This Row],[eindtijd]]<TabUren22[[#This Row],[begintijd]],(\"24:00\"-TabUren22[[#This Row],[begintijd]]+TabUren22[[#This Row],[eindtijd]])-TabUren22[[#This Row],[pauze]],(TabUren22[[#This Row],[eindtijd]]-TabUren22[[#This Row],[begintijd]])-TabUren22[[#This Row],[pauze]]))","v":""},{"$f":"IF(OR(TabUren22[hoofdcategorie]=\"\",TabUren22[hoofdcategorie]=0),\"anders dan hoofdcategorie\",TabUren22[hoofdcategorie])","v":"anders dan hoofdcategorie"}]
[{"$f":"IF(TabUren22[[#This Row],[datum]]=\"\",\"\",INT((TabUren22[[#This Row],[datum]]-SUM(MOD(DATE(YEAR(TabUren22[[#This Row],[datum]]-MOD(TabUren22[[#This Row],[datum]]-2,7)+3),1,2),{1E+99;7})*{1;-1})+5) /7))","v":""},{"$f":"IF(TabUren22[[#This Row],[datum]]=\"\",\"\",TabUren22[[#This Row],[datum]])","v":""},null,null,{"$f":"IF(TabUren22[[#This Row],[datum]]=\"\",\"\",verzameldata!$C$4)","v":""},null,null,null,null,{"$f":"IF(TabUren22[[#This Row],[eindtijd]]=\"\",\"\",IF(TabUren22[[#This Row],[eindtijd]]<TabUren22[[#This Row],[begintijd]],(\"24:00\"-TabUren22[[#This Row],[begintijd]]+TabUren22[[#This Row],[eindtijd]])-TabUren22[[#This Row],[pauze]],(TabUren22[[#This Row],[eindtijd]]-TabUren22[[#This Row],[begintijd]])-TabUren22[[#This Row],[pauze]]))","v":""},{"$f":"IF(OR(TabUren22[hoofdcategorie]=\"\",TabUren22[hoofdcategorie]=0),\"anders dan hoofdcategorie\",TabUren22[hoofdcategorie])","v":"anders dan hoofdcategorie"}]
[{"$f":"IF(TabUren22[[#This Row],[datum]]=\"\",\"\",INT((TabUren22[[#This Row],[datum]]-SUM(MOD(DATE(YEAR(TabUren22[[#This Row],[datum]]-MOD(TabUren22[[#This Row],[datum]]-2,7)+3),1,2),{1E+99;7})*{1;-1})+5) /7))","v":""},{"$f":"IF(TabUren22[[#This Row],[datum]]=\"\",\"\",TabUren22[[#This Row],[datum]])","v":""},null,null,{"$f":"IF(TabUren22[[#This Row],[datum]]=\"\",\"\",verzameldata!$C$4)","v":""},null,null,null,null,{"$f":"IF(TabUren22[[#This Row],[eindtijd]]=\"\",\"\",IF(TabUren22[[#This Row],[eindtijd]]<TabUren22[[#This Row],[begintijd]],(\"24:00\"-TabUren22[[#This Row],[begintijd]]+TabUren22[[#This Row],[eindtijd]])-TabUren22[[#This Row],[pauze]],(TabUren22[[#This Row],[eindtijd]]-TabUren22[[#This Row],[begintijd]])-TabUren22[[#This Row],[pauze]]))","v":""},{"$f":"IF(OR(TabUren22[hoofdcategorie]=\"\",TabUren22[hoofdcategorie]=0),\"anders dan hoofdcategorie\",TabUren22[hoofdcategorie])","v":"anders dan hoofdcategorie"}]
[{"$f":"IF(TabUren22[[#This Row],[datum]]=\"\",\"\",INT((TabUren22[[#This Row],[datum]]-SUM(MOD(DATE(YEAR(TabUren22[[#This Row],[datum]]-MOD(TabUren22[[#This Row],[datum]]-2,7)+3),1,2),{1E+99;7})*{1;-1})+5) /7))","v":""},{"$f":"IF(TabUren22[[#This Row],[datum]]=\"\",\"\",TabUren22[[#This Row],[datum]])","v":""},null,null,{"$f":"IF(TabUren22[[#This Row],[datum]]=\"\",\"\",verzameldata!$C$4)","v":""},null,null,null,null,{"$f":"IF(TabUren22[[#This Row],[eindtijd]]=\"\",\"\",IF(TabUren22[[#This Row],[eindtijd]]<TabUren22[[#This Row],[begintijd]],(\"24:00\"-TabUren22[[#This Row],[begintijd]]+TabUren22[[#This Row],[eindtijd]])-TabUren22[[#This Row],[pauze]],(TabUren22[[#This Row],[eindtijd]]-TabUren22[[#This Row],[begintijd]])-TabUren22[[#This Row],[pauze]]))","v":""},{"$f":"IF(OR(TabUren22[hoofdcategorie]=\"\",TabUren22[hoofdcategorie]=0),\"anders dan hoofdcategorie\",TabUren22[hoofdcategorie])","v":"anders dan hoofdcategorie"}]
[{"$f":"IF(TabUren22[[#This Row],[datum]]=\"\",\"\",INT((TabUren22[[#This Row],[datum]]-SUM(MOD(DATE(YEAR(TabUren22[[#This Row],[datum]]-MOD(TabUren22[[#This Row],[datum]]-2,7)+3),1,2),{1E+99;7})*{1;-1})+5) /7))","v":""},{"$f":"IF(TabUren22[[#This Row],[datum]]=\"\",\"\",TabUren22[[#This Row],[datum]])","v":""},null,null,{"$f":"IF(TabUren22[[#This Row],[datum]]=\"\",\"\",verzameldata!$C$4)","v":""},null,null,null,null,{"$f":"IF(TabUren22[[#This Row],[eindtijd]]=\"\",\"\",IF(TabUren22[[#This Row],[eindtijd]]<TabUren22[[#This Row],[begintijd]],(\"24:00\"-TabUren22[[#This Row],[begintijd]]+TabUren22[[#This Row],[eindtijd]])-TabUren22[[#This Row],[pauze]],(TabUren22[[#This Row],[eindtijd]]-TabUren22[[#This Row],[begintijd]])-TabUren22[[#This Row],[pauze]]))","v":""},{"$f":"IF(OR(TabUren22[hoofdcategorie]=\"\",TabUren22[hoofdcategorie]=0),\"anders dan hoofdcategorie\",TabUren22[hoofdcategorie])","v":"anders dan hoofdcategorie"}]
[{"$f":"IF(TabUren22[[#This Row],[datum]]=\"\",\"\",INT((TabUren22[[#This Row],[datum]]-SUM(MOD(DATE(YEAR(TabUren22[[#This Row],[datum]]-MOD(TabUren22[[#This Row],[datum]]-2,7)+3),1,2),{1E+99;7})*{1;-1})+5) /7))","v":""},{"$f":"IF(TabUren22[[#This Row],[datum]]=\"\",\"\",TabUren22[[#This Row],[datum]])","v":""},null,null,{"$f":"IF(TabUren22[[#This Row],[datum]]=\"\",\"\",verzameldata!$C$4)","v":""},null,null,null,null,{"$f":"IF(TabUren22[[#This Row],[eindtijd]]=\"\",\"\",IF(TabUren22[[#This Row],[eindtijd]]<TabUren22[[#This Row],[begintijd]],(\"24:00\"-TabUren22[[#This Row],[begintijd]]+TabUren22[[#This Row],[eindtijd]])-TabUren22[[#This Row],[pauze]],(TabUren22[[#This Row],[eindtijd]]-TabUren22[[#This Row],[begintijd]])-TabUren22[[#This Row],[pauze]]))","v":""},{"$f":"IF(OR(TabUren22[hoofdcategorie]=\"\",TabUren22[hoofdcategorie]=0),\"anders dan hoofdcategorie\",TabUren22[hoofdcategorie])","v":"anders dan hoofdcategorie"}]
[{"$f":"IF(TabUren22[[#This Row],[datum]]=\"\",\"\",INT((TabUren22[[#This Row],[datum]]-SUM(MOD(DATE(YEAR(TabUren22[[#This Row],[datum]]-MOD(TabUren22[[#This Row],[datum]]-2,7)+3),1,2),{1E+99;7})*{1;-1})+5) /7))","v":""},{"$f":"IF(TabUren22[[#This Row],[datum]]=\"\",\"\",TabUren22[[#This Row],[datum]])","v":""},null,null,{"$f":"IF(TabUren22[[#This Row],[datum]]=\"\",\"\",verzameldata!$C$4)","v":""},null,null,null,null,{"$f":"IF(TabUren22[[#This Row],[eindtijd]]=\"\",\"\",IF(TabUren22[[#This Row],[eindtijd]]<TabUren22[[#This Row],[begintijd]],(\"24:00\"-TabUren22[[#This Row],[begintijd]]+TabUren22[[#This Row],[eindtijd]])-TabUren22[[#This Row],[pauze]],(TabUren22[[#This Row],[eindtijd]]-TabUren22[[#This Row],[begintijd]])-TabUren22[[#This Row],[pauze]]))","v":""},{"$f":"IF(OR(TabUren22[hoofdcategorie]=\"\",TabUren22[hoofdcategorie]=0),\"anders dan hoofdcategorie\",TabUren22[hoofdcategorie])","v":"anders dan hoofdcategorie"}]
[{"$f":"IF(TabUren22[[#This Row],[datum]]=\"\",\"\",INT((TabUren22[[#This Row],[datum]]-SUM(MOD(DATE(YEAR(TabUren22[[#This Row],[datum]]-MOD(TabUren22[[#This Row],[datum]]-2,7)+3),1,2),{1E+99;7})*{1;-1})+5) /7))","v":""},{"$f":"IF(TabUren22[[#This Row],[datum]]=\"\",\"\",TabUren22[[#This Row],[datum]])","v":""},null,null,{"$f":"IF(TabUren22[[#This Row],[datum]]=\"\",\"\",verzameldata!$C$4)","v":""},null,null,null,null,{"$f":"IF(TabUren22[[#This Row],[eindtijd]]=\"\",\"\",IF(TabUren22[[#This Row],[eindtijd]]<TabUren22[[#This Row],[begintijd]],(\"24:00\"-TabUren22[[#This Row],[begintijd]]+TabUren22[[#This Row],[eindtijd]])-TabUren22[[#This Row],[pauze]],(TabUren22[[#This Row],[eindtijd]]-TabUren22[[#This Row],[begintijd]])-TabUren22[[#This Row],[pauze]]))","v":""},{"$f":"IF(OR(TabUren22[hoofdcategorie]=\"\",TabUren22[hoofdcategorie]=0),\"anders dan hoofdcategorie\",TabUren22[hoofdcategorie])","v":"anders dan hoofdcategorie"}]
[{"$f":"IF(TabUren22[[#This Row],[datum]]=\"\",\"\",INT((TabUren22[[#This Row],[datum]]-SUM(MOD(DATE(YEAR(TabUren22[[#This Row],[datum]]-MOD(TabUren22[[#This Row],[datum]]-2,7)+3),1,2),{1E+99;7})*{1;-1})+5) /7))","v":""},{"$f":"IF(TabUren22[[#This Row],[datum]]=\"\",\"\",TabUren22[[#This Row],[datum]])","v":""},null,null,{"$f":"IF(TabUren22[[#This Row],[datum]]=\"\",\"\",verzameldata!$C$4)","v":""},null,null,null,null,{"$f":"IF(TabUren22[[#This Row],[eindtijd]]=\"\",\"\",IF(TabUren22[[#This Row],[eindtijd]]<TabUren22[[#This Row],[begintijd]],(\"24:00\"-TabUren22[[#This Row],[begintijd]]+TabUren22[[#This Row],[eindtijd]])-TabUren22[[#This Row],[pauze]],(TabUren22[[#This Row],[eindtijd]]-TabUren22[[#This Row],[begintijd]])-TabUren22[[#This Row],[pauze]]))","v":""},{"$f":"IF(OR(TabUren22[hoofdcategorie]=\"\",TabUren22[hoofdcategorie]=0),\"anders dan hoofdcategorie\",TabUren22[hoofdcategorie])","v":"anders dan hoofdcategorie"}]
[{"$f":"IF(TabUren22[[#This Row],[datum]]=\"\",\"\",INT((TabUren22[[#This Row],[datum]]-SUM(MOD(DATE(YEAR(TabUren22[[#This Row],[datum]]-MOD(TabUren22[[#This Row],[datum]]-2,7)+3),1,2),{1E+99;7})*{1;-1})+5) /7))","v":""},{"$f":"IF(TabUren22[[#This Row],[datum]]=\"\",\"\",TabUren22[[#This Row],[datum]])","v":""},null,null,{"$f":"IF(TabUren22[[#This Row],[datum]]=\"\",\"\",verzameldata!$C$4)","v":""},null,null,null,null,{"$f":"IF(TabUren22[[#This Row],[eindtijd]]=\"\",\"\",IF(TabUren22[[#This Row],[eindtijd]]<TabUren22[[#This Row],[begintijd]],(\"24:00\"-TabUren22[[#This Row],[begintijd]]+TabUren22[[#This Row],[eindtijd]])-TabUren22[[#This Row],[pauze]],(TabUren22[[#This Row],[eindtijd]]-TabUren22[[#This Row],[begintijd]])-TabUren22[[#This Row],[pauze]]))","v":""},{"$f":"IF(OR(TabUren22[hoofdcategorie]=\"\",TabUren22[hoofdcategorie]=0),\"anders dan hoofdcategorie\",TabUren22[hoofdcategorie])","v":"anders dan hoofdcategorie"}]
[{"$f":"IF(TabUren22[[#This Row],[datum]]=\"\",\"\",INT((TabUren22[[#This Row],[datum]]-SUM(MOD(DATE(YEAR(TabUren22[[#This Row],[datum]]-MOD(TabUren22[[#This Row],[datum]]-2,7)+3),1,2),{1E+99;7})*{1;-1})+5) /7))","v":""},{"$f":"IF(TabUren22[[#This Row],[datum]]=\"\",\"\",TabUren22[[#This Row],[datum]])","v":""},null,null,{"$f":"IF(TabUren22[[#This Row],[datum]]=\"\",\"\",verzameldata!$C$4)","v":""},null,null,null,null,{"$f":"IF(TabUren22[[#This Row],[eindtijd]]=\"\",\"\",IF(TabUren22[[#This Row],[eindtijd]]<TabUren22[[#This Row],[begintijd]],(\"24:00\"-TabUren22[[#This Row],[begintijd]]+TabUren22[[#This Row],[eindtijd]])-TabUren22[[#This Row],[pauze]],(TabUren22[[#This Row],[eindtijd]]-TabUren22[[#This Row],[begintijd]])-TabUren22[[#This Row],[pauze]]))","v":""},{"$f":"IF(OR(TabUren22[hoofdcategorie]=\"\",TabUren22[hoofdcategorie]=0),\"anders dan hoofdcategorie\",TabUren22[hoofdcategorie])","v":"anders dan hoofdcategorie"}]
[{"$f":"IF(TabUren22[[#This Row],[datum]]=\"\",\"\",INT((TabUren22[[#This Row],[datum]]-SUM(MOD(DATE(YEAR(TabUren22[[#This Row],[datum]]-MOD(TabUren22[[#This Row],[datum]]-2,7)+3),1,2),{1E+99;7})*{1;-1})+5) /7))","v":""},{"$f":"IF(TabUren22[[#This Row],[datum]]=\"\",\"\",TabUren22[[#This Row],[datum]])","v":""},null,null,{"$f":"IF(TabUren22[[#This Row],[datum]]=\"\",\"\",verzameldata!$C$4)","v":""},null,null,null,null,{"$f":"IF(TabUren22[[#This Row],[eindtijd]]=\"\",\"\",IF(TabUren22[[#This Row],[eindtijd]]<TabUren22[[#This Row],[begintijd]],(\"24:00\"-TabUren22[[#This Row],[begintijd]]+TabUren22[[#This Row],[eindtijd]])-TabUren22[[#This Row],[pauze]],(TabUren22[[#This Row],[eindtijd]]-TabUren22[[#This Row],[begintijd]])-TabUren22[[#This Row],[pauze]]))","v":""},{"$f":"IF(OR(TabUren22[hoofdcategorie]=\"\",TabUren22[hoofdcategorie]=0),\"anders dan hoofdcategorie\",TabUren22[hoofdcategorie])","v":"anders dan hoofdcategorie"}]

{"sheet":"Graph1","index":8,"n_rows":21,"n_cols":27,"rows_kept":21,"cut":false,"hidden":false,"merged":[[2,1,2,6],[16,1,16,2],[17,1,17,2],[3,5,3,6],[12,1,12,2],[13,1,13,2],[14,1,14,2],[15,1,15,2],[19,1,19,2],[4,1,4,2],[5,1,5,2],[6,1,6,2],[7,1,7,2],[8,1,8,2],[9,1,9,2],[10,1,10,2],[11,1,11,2],[18,1,18,2],[3,3,3,4],[3,13,3,14],[3,11,3,12],[3,9,3,10],[3,7,3,8]]}
[]
[null,null,null,null,null,null,null,null,null,null,null,null,null,null,null,null,"verzameldata!C3"]
[null,"URENOVERZICHT  (tijd in uu:mm)",null,null,null,null,null,null,null,null,null,null,null,null,null,null,null,null,null,"totaal",{"$f":"D4","v":"MAAKWERK"},{"$f":"F4","v":"LEERWERK"},{"$f":"H4","v":0},{"$f":"J4","v":0},{"$f":"L4","v":0},{"$f":"N4","v":0},"totaal"]
[null,null,null,"MAAKWERK",null,"LEERWERK",null,{"$f":"verzameldata!C5","v":0},null,{"$f":"verzameldata!C6","v":0},null,{"$f":"verzameldata!C7","v":0},null,{"$f":"verzameldata!C8","v":0}]
[null,"CATEGORIE",null,"tijd","%",{"$f":"D5","v":"tijd"},{"$f":"E5","v":"%"},"tijd","%","tijd","%","tijd","%",{"$f":"L5","v":"tijd"},{"$f":"M5","v":"%"},null,null,null,null,null,true,true,true,true,true,true,true]
[null,{"$f":"verzameldata!B11","v":"Nederlands"},null,{"$f":"SUMIFS('LOG1'!$J$5:$J$501,'LOG1'!$K$5:$K$501,Graph1!$B6)","v":"00:00:00"},{"$f":"IFERROR(D6/T6,\"\")","v":""},{"$f":"SUMIFS('LOG2'!$J$5:$J$501,'LOG2'!$K$5:$K$501,Graph1!$B6)","v":"00:00:00"},{"$f":"IFERROR(F6/T6,\"\")","v":""},null,{"$f":"IFERROR(H6/T6,\"\")","v":""},null,{"$f":"IFERROR(J6/T6,\"\")","v":""},null,{"$f":"IFERROR(L6/T6,\"\")","v":""},null,{"$f":"IFERROR(N6/T6,\"\")","v":""},null,null,null,null,{"$f":"SUM(D6,F6,H6,J6,L6,N6)","v":"00:00:00"},{"$f":"IF(U$5=TRUE,D6,\"\")","v":"00:00:00"},{"$f":"IF(V$5=TRUE,F6,\"\")","v":"00:00:00"},{"$f":"IF(W$5=TRUE,H6,\"\")","v":"00:00:00"},{"$f":"IF(X$5=TRUE,L6,\"\")","v":"00:00:00"},{"$f":"IF(Y$5=TRUE,L6,\"\")","v":"00:00:00"},{"$f":"IF(Z$5=TRUE,N6,\"\")","v":"00:00:00"},{"$f":"IF(AA$5=TRUE,T6,\"\")","v":"00:00:00"}]
[null,{"$f":"verzameldata!B12","v":"Engels"},null,{"$f":"SUMIFS('LOG1'!$J$5:$J$501,'LOG1'!$K$5:$K$501,Graph1!$B7)","v":"00:00:00"},{"$f":"IFERROR(D7/T7,\"\")","v":""},{"$f":"SUMIFS('LOG2'!$J$5:$J$501,'LOG2'!$K$5:$K$501,Graph1!$B7)","v":"00:00:00"},{"$f":"IFERROR(F7/T7,\"\")","v":""},null,{"$f":"IFERROR(H7/T7,\"\")","v":""},null,{"$f":"IFERROR(J7/T7,\"\")","v":""},null,{"$f":"IFERROR(L7/T7,\"\")","v":""},null,{"$f":"IFERROR(N7/T7,\"\")","v":""},null,null,null,null,{"$f":"SUM(D7,F7,H7,J7,L7,N7)","v":"00:00:00"},{"$f":"IF(U$5=TRUE,D7,\"\")","v":"00:00:00"},{"$f":"IF(V$5=TRUE,F7,\"\")","v":"00:00:00"},{"$f":"IF(W$5=TRUE,H7,\"\")","v":"00:00:00"},{"$f":"IF(X$5=TRUE,L7,\"\")","v":"00:00:00"},{"$f":"IF(Y$5=TRUE,L7,\"\")","v":"00:00:00"},{"$f":"IF(Z$5=TRUE,N7,\"\")","v":"00:00:00"},{"$f":"IF(AA$5=TRUE,T7,\"\")","v":"00:00:00"}]
[null,{"$f":"verzameldata!B13","v":"Frans"},null,{"$f":"SUMIFS('LOG1'!$J$5:$J$501,'LOG1'!$K$5:$K$501,Graph1!$B8)","v":"00:00:00"},"",{"$f":"SUMIFS('LOG2'!$J$5:$J$501,'LOG2'!$K$5:$K$501,Graph1!$B8)","v":"00:00:00"},"",null,"",null,"",null,"",null,"",null,null,null,null,"00:00:00","00:00:00","00:00:00","00:00:00","00:00:00","00:00:00","00:00:00","00:00:00"]
[null,{"$f":"verzameldata!B14","v":"Duits"},null,{"$f":"SUMIFS('LOG1'!$J$5:$J$501,'LOG1'!$K$5:$K$501,Graph1!$B9)","v":"00:00:00"},"",{"$f":"SUMIFS('LOG2'!$J$5:$J$501,'LOG2'!$K$5:$K$501,Graph1!$B9)","v":"00:00:00"},"",null,"",null,"",null,"",null,"",null,null,null,null,"00:00:00","00:00:00","00:00:00","00:00:00","00:00:00","00:00:00","00:00:00","00:00:00"]
[null,{"$f":"verzameldata!B15","v":"Wiskunde"},null,{"$f":"SUMIFS('LOG1'!$J$5:$J$501,'LOG1'!$K$5:$K$501,Graph1!$B10)","v":"01:00:00"},0.49999999999999983,{"$f":"SUMIFS('LOG2'!$J$5:$J$501,'LOG2'!$K$5:$K$501,Graph1!$B10)","v":"01:00:00"},0.50000000000000022,null,0,null,0,null,0,null,0,null,null,null,null,"02:00:00","01:00:00","01:00:00","00:00:00","00:00:00","00:00:00","00:00:00","02:00:00"]
[null,{"$f":"verzameldata!B16","v":"Geschiedenis"},null,{"$f":"SUMIFS('LOG1'!$J$5:$J$501,'LOG1'!$K$5:$K$501,Graph1!$B11)","v":"00:00:00"},"",{"$f":"SUMIFS('LOG2'!$J$5:$J$501,'LOG2'!$K$5:$K$501,Graph1!$B11)","v":"00:00:00"},"",null,"",null,"",null,"",null,"",null,null,null,null,"00:00:00","00:00:00","00:00:00","00:00:00","00:00:00","00:00:00","00:00:00","00:00:00"]
[null,{"$f":"verzameldata!B17","v":"Aardrijkskunde"},null,{"$f":"SUMIFS('LOG1'!$J$5:$J$501,'LOG1'!$K$5:$K$501,Graph1!$B12)","v":"00:00:00"},"",{"$f":"SUMIFS('LOG2'!$J$5:$J$501,'LOG2'!$K$5:$K$501,Graph1!$B12)","v":"00:00:00"},"",null,"",null,"",null,"",null,"",null,null,null,null,"00:00:00","00:00:00","00:00:00","00:00:00","00:00:00","00:00:00","00:00:00","00:00:00"]
[null,{"$f":"verzameldata!B18","v":"Biologie / BGM"},null,{"$f":"SUMIFS('LOG1'!$J$5:$J$501,'LOG1'!$K$5:$K$501,Graph1!$B13)","v":"00:00:00"},"",{"$f":"SUMIFS('LOG2'!$J$5:$J$501,'LOG2'!$K$5:$K$501,Graph1!$B13)","v":"00:00:00"},"",null,"",null,"",null,"",null,"",null,null,null,null,"00:00:00","00:00:00","00:00:00","00:00:00","00:00:00","00:00:00","00:00:00","00:00:00"]
[null,{"$f":"verzameldata!B19","v":"Science"},null,{"$f":"SUMIFS('LOG1'!$J$5:$J$501,'LOG1'!$K$5:$K$501,Graph1!$B14)","v":"00:00:00"},"",{"$f":"SUMIFS('LOG2'!$J$5:$J$501,'LOG2'!$K$5:$K$501,Graph1!$B14)","v":"00:00:00"},"",null,"",null,"",null,"",null,"",null,null,null,null,"00:00:00","00:00:00","00:00:00","00:00:00","00:00:00","00:00:00","00:00:00","00:00:00"]
[null,{"$f":"verzameldata!B20","v":"Handvaardigheid"},null,{"$f":"SUMIFS('LOG1'!$J$5:$J$501,'LOG1'!$K$5:$K$501,Graph1!$B15)","v":"00:00:00"},"",{"$f":"SUMIFS('LOG2'!$J$5:$J$501,'LOG2'!$K$5:$K$501,Graph1!$B15)","v":"00:00:00"},"",null,"",null,"",null,"",null,"",null,null,null,null,"00:00:00","00:00:00","00:00:00","00:00:00","00:00:00","00:00:00","00:00:00","00:00:00"]
[null,{"$f":"verzameldata!B21","v":"Drama"},null,{"$f":"SUMIFS('LOG1'!$J$5:$J$501,'LOG1'!$K$5:$K$501,Graph1!$B16)","v":"00:00:00"},"",{"$f":"SUMIFS('LOG2'!$J$5:$J$501,'LOG2'!$K$5:$K$501,Graph1!$B16)","v":"00:00:00"},"",null,"",null,"",null,"",null,"",null,null,null,null,"00:00:00","00:00:00","00:00:00","00:00:00","00:00:00","00:00:00","00:00:00","00:00:00"]
[null,{"$f":"verzameldata!B22","v":"LO"},null,{"$f":"SUMIFS('LOG1'!$J$5:$J$501,'LOG1'!$K$5:$K$501,Graph1!$B17)","v":"00:00:00"},"",{"$f":"SUMIFS('LOG2'!$J$5:$J$501,'LOG2'!$K$5:$K$501,Graph1!$B17)","v":"00:00:00"},"",null,"",null,"",null,"",null,"",null,null,null,null,"00:00:00","00:00:00","00:00:00","00:00:00","00:00:00","00:00:00","00:00:00","00:00:00"]
[null,{"$f":"verzameldata!B23","v":"O&O"},null,{"$f":"SUMIFS('LOG1'!$J$5:$J$501,'LOG1'!$K$5:$K$501,Graph1!$B18)","v":"00:00:00"},"",{"$f":"SUMIFS('LOG2'!$J$5:$J$501,'LOG2'!$K$5:$K$501,Graph1!$B18)","v":"00:00:00"},"",null,"",null,"",null,"",null,"",null,null,null,null,"00:00:00","00:00:00","00:00:00","00:00:00","00:00:00","00:00:00","00:00:00","00:00:00"]
[null,{"$f":"verzameldata!B24","v":"Overig 1"},null,{"$f":"SUMIFS('LOG1'!$J$5:$J$501,'LOG1'!$K$5:$K$501,Graph1!$B19)","v":"00:00:00"},"",{"$f":"SUMIFS('LOG2'!$J$5:$J$501,'LOG2'!$K$5:$K$501,Graph1!$B19)","v":"00:00:00"},"",null,"",null,"",null,"",null,"",null,null,null,null,"00:00:00","00:00:00","00:00:00","00:00:00","00:00:00","00:00:00","00:00:00","00:00:00"]
[null,{"$f":"verzameldata!B25","v":"Overig 2"},null,{"$f":"SUMIFS('LOG1'!$J$5:$J$501,'LOG1'!$K$5:$K$501,Graph1!$B20)","v":"00:00:00"},"",{"$f":"SUMIFS('LOG2'!$J$5:$J$501,'LOG2'!$K$5:$K$501,Graph1!$B20)","v":"00:00:00"},"",null,"",null,"",null,"",null,"",null,null,null,null,"00:00:00","00:00:00","00:00:00","00:00:00","00:00:00","00:00:00","00:00:00","00:00:00"]
[null,null,null,null,null,null,null,null,null,null,null,null,null,null,null,null,null,null,null,{"$f":"SUM(T6:T20)","v":"02:00:00"},{"$f":"SUM(U6:U20)","v":"01:00:00"},"01:00:00","00:00:00","00:00:00","00:00:00","00:00:00","02:00:00"]

{"sheet":"verzameldata","index":9,"n_rows":732,"n_cols":62,"rows_kept":732,"cut":false,"hidden":false,"merged":[[1,1,1,5]]}
[null,null,null,null,null,null,null,null,null,null,null,null,"maakwerk","leerwerk",{"$f":"C5","v":0},{"$f":"C6","v":0},{"$f":"C7","v":0},{"$f":"C8","v":0},true,true,true,true,true,true,null,null,null,null,null,null,1,2,3,4,5,6,null,null,null,null,null,null,null,null,null,null,"ALS(X$5=WAAR;L8;\"\")",null,1,2,3,4,5,6,true,true,true,true,true,true]
[null,{"$f":"inst1!B3","v":"PERSOONLIJKE GEGEVENS"},null,null,null,null,null,"klas:",{"$f":"IF(KLASGROEP!B11>1,KLASGROEP!B11,\"\")","v":"a"},null,null,"06:00:00",{"$f":"SUMPRODUCT((TabUren2[begintijd]>$L2)*(TabUren2[begintijd]<=$L3))","v":0},{"$f":"SUMPRODUCT((TabUren22[begintijd]>$L2)*(TabUren22[begintijd]<=$L3))","v":0},{"$f":"SUMPRODUCT((#REF!>$L2)*(#REF!<=$L3))","v":{"$error":"#REF!"}},{"$f":"SUMPRODUCT((#REF!>$L2)*(#REF!<=$L3))","v":{"$error":"#REF!"}},{"$f":"SUMPRODUCT((#REF!>$L2)*(#REF!<=$L3))","v":{"$error":"#REF!"}},{"$f":"SUMPRODUCT((#REF!>$L2)*(#REF!<=$L3))","v":{"$error":"#REF!"}},{"$f":"IF(S$1=TRUE,M2,\"\")","v":0},{"$f":"IF(T$1=TRUE,N2,\"\")","v":0},{"$error":"#REF!"},{"$error":"#REF!"},{"$error":"#REF!"},{"$error":"#REF!"},null,null,1,null,null,"2015-01-01",{"$f":"SUMIFS('LOG1'!$J$5:$J$501,TabUren2[datum],$AD2)","v":"00:00:00"},{"$f":"SUMIFS('LOG2'!$J$5:$J$501,TabUren22[datum],$AD2)","v":"00:00:00"},{"$f":"SUMIFS(#REF!,#REF!,$AD2)","v":{"$error":"#REF!"}},{"$f":"SUMIFS(#REF!,#REF!,$AD2)","v":{"$error":"#REF!"}},{"$f":"SUMIFS(#REF!,#REF!,$AD2)","v":{"$error":"#REF!"}},{"$f":"SUMIFS(#REF!,#REF!,$AD2)","v":{"$error":"#REF!"}},{"$f":"COUNTIF(TabUren2[datum],$AD2)","v":0},{"$f":"COUNTIF(TabUren22[datum],$AD2)","v":0},{"$f":"COUNTIF(#REF!,$AD2)","v":{"$error":"#REF!"}},{"$f":"COUNTIF(#REF!,$AD2)","v":{"$error":"#REF!"}},{"$f":"COUNTIF(#REF!,$AD2)","v":{"$error":"#REF!"}},{"$f":"COUNTIF(#REF!,$AD2)","v":{"$error":"#REF!"}},{"$f":"COUNTIF(AK2,\">0\")","v":0},{"$f":"COUNTIF(AL2,\">0\")","v":0},0,0,0,0,{"$f":"IF(AQ2=1,AE2,\"\")","v":""},{"$f":"IF(AR2=1,AF2,\"\")","v":""},"","","","",{"$f":"IF(BC$1=TRUE,AW2,\"\")","v":""},{"$f":"IF(BD$1=TRUE,AX2,\"\")","v":""},"","","","",{"$f":"COUNT(AW2:BB2)","v":0},{"$f":"IF($BI2>0,$AD2,\"\")","v":""}]
[null,"VN1",{"$f":"IF(inst1!D4>1,inst1!D4,\"\")","v":""},{"$f":"IF('LOG1'!C5>0,\"data aanwezig\",\"\")","v":"data aanwezig"},null,{"$f":"IF(C3=\"\",\"import niet mogelijk, niet bestaand teamlid\",\"\")","v":"import niet mogelijk, niet bestaand teamlid"},null,null,null,null,null,"07:00:00",{"$f":"SUMPRODUCT((TabUren2[begintijd]>$L3)*(TabUren2[begintijd]<=$L4))","v":0},{"$f":"SUMPRODUCT((TabUren22[begintijd]>$L3)*(TabUren22[begintijd]<=$L4))","v":0},{"$f":"SUMPRODUCT((#REF!>$L3)*(#REF!<=$L4))","v":{"$error":"#REF!"}},{"$f":"SUMPRODUCT((#REF!>$L3)*(#REF!<=$L4))","v":{"$error":"#REF!"}},{"$f":"SUMPRODUCT((#REF!>$L3)*(#REF!<=$L4))","v":{"$error":"#REF!"}},{"$f":"SUMPRODUCT((#REF!>$L3)*(#REF!<=$L4))","v":{"$error":"#REF!"}},{"$f":"IF(S$1=TRUE,M3,\"\")","v":0},{"$f":"IF(T$1=TRUE,N3,\"\")","v":0},{"$f":"IF(U$1=TRUE,O3,\"\")","v":{"$error":"#REF!"}},{"$f":"IF(V$1=TRUE,P3,\"\")","v":{"$error":"#REF!"}},{"$f":"IF(W$1=TRUE,Q3,\"\")","v":{"$error":"#REF!"}},{"$f":"IF(X$1=TRUE,R3,\"\")","v":{"$error":"#REF!"}},null,null,2,null,null,"2015-01-02",{"$f":"SUMIFS('LOG1'!$J$5:$J$501,TabUren2[datum],$AD3)","v":"00:00:00"},{"$f":"SUMIFS('LOG2'!$J$5:$J$501,TabUren22[datum],$AD3)","v":"00:00:00"},{"$f":"SUMIFS(#REF!,#REF!,$AD3)","v":{"$error":"#REF!"}},{"$f":"SUMIFS(#REF!,#REF!,$AD3)","v":{"$error":"#REF!"}},{"$f":"SUMIFS(#REF!,#REF!,$AD3)","v":{"$error":"#REF!"}},{"$f":"SUMIFS(#REF!,#REF!,$AD3)","v":{"$error":"#REF!"}},{"$f":"COUNTIF(TabUren2[datum],$AD3)","v":0},{"$f":"COUNTIF(TabUren22[datum],$AD3)","v":0},{"$f":"COUNTIF(#REF!,$AD3)","v":{"$error":"#REF!"}},{"$f":"COUNTIF(#REF!,$AD3)","v":{"$error":"#REF!"}},{"$f":"COUNTIF(#REF!,$AD3)","v":{"$error":"#REF!"}},{"$f":"COUNTIF(#REF!,$AD3)","v":{"$error":"#REF!"}},{"$f":"COUNTIF(AK3,\">0\")","v":0},{"$f":"COUNTIF(AL3,\">0\")","v":0},{"$f":"COUNTIF(AM3,\">0\")","v":0},{"$f":"COUNTIF(AN3,\">0\")","v":0},{"$f":"COUNTIF(AO3,\">0\")","v":0},{"$f":"COUNTIF(AP3,\">0\")","v":0},{"$f":"IF(AQ3=1,AE3,\"\")","v":""},{"$f":"IF(AR3=1,AF3,\"\")","v":""},{"$f":"IF(AS3=1,AG3,\"\")","v":""},{"$f":"IF(AT3=1,AH3,\"\")","v":""},{"$f":"IF(AU3=1,AI3,\"\")","v":""},{"$f":"IF(AV3=1,AJ3,\"\")","v":""},{"$f":"IF(BC$1=TRUE,AW3,\"\")","v":""},{"$f":"IF(BD$1=TRUE,AX3,\"\")","v":""},{"$f":"IF(BE$1=TRUE,AY3,\"\")","v":""},{"$f":"IF(BF$1=TRUE,AZ3,\"\")","v":""},{"$f":"IF(BG$1=TRUE,BA3,\"\")","v":""},{"$f":"IF(BH$1=TRUE,BB3,\"\")","v":""},{"$f":"COUNT(AW3:BB3)","v":0},{"$f":"IF(BI3>0,AD3,\"\")","v":""}]
[null,null,{"$f":"C3","v":""},null,null,null,null,"school",{"$f":"IF(KLASGROEP!B8>1,KLASGROEP!B8,\"\")","v":"a"},null,null,"08:00:00",{"$f":"SUMPRODUCT((TabUren2[begintijd]>$L4)*(TabUren2[begintijd]<=$L5))","v":0},{"$f":"SUMPRODUCT((TabUren22[begintijd]>$L4)*(TabUren22[begintijd]<=$L5))","v":0},{"$f":"SUMPRODUCT((#REF!>$L4)*(#REF!<=$L5))","v":{"$error":"#REF!"}},{"$f":"SUMPRODUCT((#REF!>$L4)*(#REF!<=$L5))","v":{"$error":"#REF!"}},{"$f":"SUMPRODUCT((#REF!>$L4)*(#REF!<=$L5))","v":{"$error":"#REF!"}},{"$f":"SUMPRODUCT((#REF!>$L4)*(#REF!<=$L5))","v":{"$error":"#REF!"}},0,0,{"$error":"#REF!"},{"$error":"#REF!"},{"$error":"#REF!"},{"$error":"#REF!"},null,null,3,null,null,"2015-01-03",{"$f":"SUMIFS('LOG1'!$J$5:$J$501,TabUren2[datum],$AD4)","v":"00:00:00"},{"$f":"SUMIFS('LOG2'!$J$5:$J$501,TabUren22[datum],$AD4)","v":"00:00:00"},{"$f":"SUMIFS(#REF!,#REF!,$AD4)","v":{"$error":"#REF!"}},{"$f":"SUMIFS(#REF!,#REF!,$AD4)","v":{"$error":"#REF!"}},{"$f":"SUMIFS(#REF!,#REF!,$AD4)","v":{"$error":"#REF!"}},{"$f":"SUMIFS(#REF!,#REF!,$AD4)","v":{"$error":"#REF!"}},{"$f":"COUNTIF(TabUren2[datum],$AD4)","v":0},{"$f":"COUNTIF(TabUren22[datum],$AD4)","v":0},{"$f":"COUNTIF(#REF!,$AD4)","v":{"$error":"#REF!"}},{"$f":"COUNTIF(#REF!,$AD4)","v":{"$error":"#REF!"}},{"$f":"COUNTIF(#REF!,$AD4)","v":{"$error":"#REF!"}},{"$f":"COUNTIF(#REF!,$AD4)","v":{"$error":"#REF!"}},0,0,0,0,0,0,"","","","","","","","","","","","",0,""]
[null,null,null,null,null,null,null,null,null,null,null,"09:00:00",{"$f":"SUMPRODUCT((TabUren2[begintijd]>$L5)*(TabUren2[begintijd]<=$L6))","v":0},{"$f":"SUMPRODUCT((TabUren22[begintijd]>$L5)*(TabUren22[begintijd]<=$L6))","v":0},{"$f":"SUMPRODUCT((#REF!>$L5)*(#REF!<=$L6))","v":{"$error":"#REF!"}},{"$f":"SUMPRODUCT((#REF!>$L5)*(#REF!<=$L6))","v":{"$error":"#REF!"}},{"$f":"SUMPRODUCT((#REF!>$L5)*(#REF!<=$L6))","v":{"$error":"#REF!"}},{"$f":"SUMPRODUCT((#REF!>$L5)*(#REF!<=$L6))","v":{"$error":"#REF!"}},0,0,{"$error":"#REF!"},{"$error":"#REF!"},{"$error":"#REF!"},{"$error":"#REF!"},null,null,4,null,null,"2015-01-04",{"$f":"SUMIFS('LOG1'!$J$5:$J$501,TabUren2[datum],$AD5)","v":"00:00:00"},{"$f":"SUMIFS('LOG2'!$J$5:$J$501,TabUren22[datum],$AD5)","v":"00:00:00"},{"$f":"SUMIFS(#REF!,#REF!,$AD5)","v":{"$error":"#REF!"}},{"$f":"SUMIFS(#REF!,#REF!,$AD5)","v":{"$error":"#REF!"}},{"$f":"SUMIFS(#REF!,#REF!,$AD5)","v":{"$error":"#REF!"}},{"$f":"SUMIFS(#REF!,#REF!,$AD5)","v":{"$error":"#REF!"}},{"$f":"COUNTIF(TabUren2[datum],$AD5)","v":0},{"$f":"COUNTIF(TabUren22[datum],$AD5)","v":0},{"$f":"COUNTIF(#REF!,$AD5)","v":{"$error":"#REF!"}},{"$f":"COUNTIF(#REF!,$AD5)","v":{"$error":"#REF!"}},{"$f":"COUNTIF(#REF!,$AD5)","v":{"$error":"#REF!"}},{"$f":"COUNTIF(#REF!,$AD5)","v":{"$error":"#REF!"}},0,0,0,0,0,0,"","","","","","","","","","","","",0,""]
[null,null,null,null,null,null,null,null,null,null,null,"10:00:00",{"$f":"SUMPRODUCT((TabUren2[begintijd]>$L6)*(TabUren2[begintijd]<=$L7))","v":0},{"$f":"SUMPRODUCT((TabUren22[begintijd]>$L6)*(TabUren22[begintijd]<=$L7))","v":0},{"$f":"SUMPRODUCT((#REF!>$L6)*(#REF!<=$L7))","v":{"$error":"#REF!"}},{"$f":"SUMPRODUCT((#REF!>$L6)*(#REF!<=$L7))","v":{"$error":"#REF!"}},{"$f":"SUMPRODUCT((#REF!>$L6)*(#REF!<=$L7))","v":{"$error":"#REF!"}},{"$f":"SUMPRODUCT((#REF!>$L6)*(#REF!<=$L7))","v":{"$error":"#REF!"}},0,0,{"$error":"#REF!"},{"$error":"#REF!"},{"$error":"#REF!"},{"$error":"#REF!"},null,null,5,null,null,"2015-01-05",{"$f":"SUMIFS('LOG1'!$J$5:$J$501,TabUren2[datum],$AD6)","v":"00:00:00"},{"$f":"SUMIFS('LOG2'!$J$5:$J$501,TabUren22[datum],$AD6)","v":"00:00:00"},{"$f":"SUMIFS(#REF!,#REF!,$AD6)","v":{"$error":"#REF!"}},{"$f":"SUMIFS(#REF!,#REF!,$AD6)","v":{"$error":"#REF!"}},{"$f":"SUMIFS(#REF!,#REF!,$AD6)","v":{"$error":"#REF!"}},{"$f":"SUMIFS(#REF!,#REF!,$AD6)","v":{"$error":"#REF!"}},{"$f":"COUNTIF(TabUren2[datum],$AD6)","v":0},{"$f":"COUNTIF(TabUren22[datum],$AD6)","v":0},{"$f":"COUNTIF(#REF!,$AD6)","v":{"$error":"#REF!"}},{"$f":"COUNTIF(#REF!,$AD6)","v":{"$error":"#REF!"}},{"$f":"COUNTIF(#REF!,$AD6)","v":{"$error":"#REF!"}},{"$f":"COUNTIF(#REF!,$AD6)","v":{"$error":"#REF!"}},0,0,0,0,0,0,"","","","","","","","","","","","",{"$f":"COUNT(AW6:BB6)","v":0},{"$f":"IF(BI6>0,AD6,\"\")","v":""}]
[null,null,null,null,null,null,null,null,null,null,null,"11:00:00",{"$f":"SUMPRODUCT((TabUren2[begintijd]>$L7)*(TabUren2[begintijd]<=$L8))","v":0},{"$f":"SUMPRODUCT((TabUren22[begintijd]>$L7)*(TabUren22[begintijd]<=$L8))","v":0},{"$f":"SUMPRODUCT((#REF!>$L7)*(#REF!<=$L8))","v":{"$error":"#REF!"}},{"$f":"SUMPRODUCT((#REF!>$L7)*(#REF!<=$L8))","v":{"$error":"#REF!"}},{"$f":"SUMPRODUCT((#REF!>$L7)*(#REF!<=$L8))","v":{"$error":"#REF!"}},{"$f":"SUMPRODUCT((#REF!>$L7)*(#REF!<=$L8))","v":{"$error":"#REF!"}},0,0,{"$error":"#REF!"},{"$error":"#REF!"},{"$error":"#REF!"},{"$error":"#REF!"},null,null,6,null,null,"2015-01-06",{"$f":"SUMIFS('LOG1'!$J$5:$J$501,TabUren2[datum],$AD7)","v":"00:00:00"},{"$f":"SUMIFS('LOG2'!$J$5:$J$501,TabUren22[datum],$AD7)","v":"00:00:00"},{"$f":"SUMIFS(#REF!,#REF!,$AD7)","v":{"$error":"#REF!"}},{"$f":"SUMIFS(#REF!,#REF!,$AD7)","v":{"$error":"#REF!"}},{"$f":"SUMIFS(#REF!,#REF!,$AD7)","v":{"$error":"#REF!"}},{"$f":"SUMIFS(#REF!,#REF!,$AD7)","v":{"$error":"#REF!"}},{"$f":"COUNTIF(TabUren2[datum],$AD7)","v":0},{"$f":"COUNTIF(TabUren22[datum],$AD7)","v":0},{"$f":"COUNTIF(#REF!,$AD7)","v":{"$error":"#REF!"}},{"$f":"COUNTIF(#REF!,$AD7)","v":{"$error":"#REF!"}},{"$f":"COUNTIF(#REF!,$AD7)","v":{"$error":"#REF!"}},{"$f":"COUNTIF(#REF!,$AD7)","v":{"$error":"#REF!"}},0,0,0,0,0,0,"","","","","","","","","","","","",0,""]
[null,null,null,null,null,null,null,null,null,null,null,"12:00:00",{"$f":"SUMPRODUCT((TabUren2[begintijd]>$L8)*(TabUren2[begintijd]<=$L9))","v":0},{"$f":"SUMPRODUCT((TabUren22[begintijd]>$L8)*(TabUren22[begintijd]<=$L9))","v":0},{"$f":"SUMPRODUCT((#REF!>$L8)*(#REF!<=$L9))","v":{"$error":"#REF!"}},{"$f":"SUMPRODUCT((#REF!>$L8)*(#REF!<=$L9))","v":{"$error":"#REF!"}},{"$f":"SUMPRODUCT((#REF!>$L8)*(#REF!<=$L9))","v":{"$error":"#REF!"}},{"$f":"SUMPRODUCT((#REF!>$L8)*(#REF!<=$L9))","v":{"$error":"#REF!"}},0,0,{"$error":"#REF!"},{"$error":"#REF!"},{"$error":"#REF!"},{"$error":"#REF!"},null,null,7,null,null,"2015-01-07",{"$f":"SUMIFS('LOG1'!$J$5:$J$501,TabUren2[datum],$AD8)","v":"00:00:00"},{"$f":"SUMIFS('LOG2'!$J$5:$J$501,TabUren22[datum],$AD8)","v":"00:00:00"},{"$f":"SUMIFS(#REF!,#REF!,$AD8)","v":{"$error":"#REF!"}},{"$f":"SUMIFS(#REF!,#REF!,$AD8)","v":{"$error":"#REF!"}},{"$f":"SUMIFS(#REF!,#REF!,$AD8)","v":{"$error":"#REF!"}},{"$f":"SUMIFS(#REF!,#REF!,$AD8)","v":{"$error":"#REF!"}},{"$f":"COUNTIF(TabUren2[datum],$AD8)","v":0},{"$f":"COUNTIF(TabUren22[datum],$AD8)","v":0},{"$f":"COUNTIF(#REF!,$AD8)","v":{"$error":"#REF!"}},{"$f":"COUNTIF(#REF!,$AD8)","v":{"$error":"#REF!"}},{"$f":"COUNTIF(#REF!,$AD8)","v":{"$error":"#REF!"}},{"$f":"COUNTIF(#REF!,$AD8)","v":{"$error":"#REF!"}},0,0,0,0,0,0,"","","","","","","","","","","","",0,""]
[null,null,null,null,null,null,null,null,null,null,null,"13:00:00",{"$f":"SUMPRODUCT((TabUren2[begintijd]>$L9)*(TabUren2[begintijd]<=$L10))","v":0},{"$f":"SUMPRODUCT((TabUren22[begintijd]>$L9)*(TabUren22[begintijd]<=$L10))","v":0},{"$f":"SUMPRODUCT((#REF!>$L9)*(#REF!<=$L10))","v":{"$error":"#REF!"}},{"$f":"SUMPRODUCT((#REF!>$L9)*(#REF!<=$L10))","v":{"$error":"#REF!"}},{"$f":"SUMPRODUCT((#REF!>$L9)*(#REF!<=$L10))","v":{"$error":"#REF!"}},{"$f":"SUMPRODUCT((#REF!>$L9)*(#REF!<=$L10))","v":{"$error":"#REF!"}},0,0,{"$error":"#REF!"},{"$error":"#REF!"},{"$error":"#REF!"},{"$error":"#REF!"},null,null,8,null,null,"2015-01-08",{"$f":"SUMIFS('LOG1'!$J$5:$J$501,TabUren2[datum],$AD9)","v":"00:00:00"},{"$f":"SUMIFS('LOG2'!$J$5:$J$501,TabUren22[datum],$AD9)","v":"00:00:00"},{"$f":"SUMIFS(#REF!,#REF!,$AD9)","v":{"$error":"#REF!"}},{"$f":"SUMIFS(#REF!,#REF!,$AD9)","v":{"$error":"#REF!"}},{"$f":"SUMIFS(#REF!,#REF!,$AD9)","v":{"$error":"#REF!"}},{"$f":"SUMIFS(#REF!,#REF!,$AD9)","v":{"$error":"#REF!"}},{"$f":"COUNTIF(TabUren2[datum],$AD9)","v":0},{"$f":"COUNTIF(TabUren22[datum],$AD9)","v":0},{"$f":"COUNTIF(#REF!,$AD9)","v":{"$error":"#REF!"}},{"$f":"COUNTIF(#REF!,$AD9)","v":{"$error":"#REF!"}},{"$f":"COUNTIF(#REF!,$AD9)","v":{"$error":"#REF!"}},{"$f":"COUNTIF(#REF!,$AD9)","v":{"$error":"#REF!"}},0,0,0,0,0,0,"","","","","","","","","","","","",0,""]
[null,{"$f":"hCATEGORIEEN!B7","v":"SCHOOLVAKKEN"},null,null,null,null,null,null,null,null,null,"14:00:00",{"$f":"SUMPRODUCT((TabUren2[begintijd]>$L10)*(TabUren2[begintijd]<=$L11))","v":1},{"$f":"SUMPRODUCT((TabUren22[begintijd]>$L10)*(TabUren22[begintijd]<=$L11))","v":0},{"$f":"SUMPRODUCT((#REF!>$L10)*(#REF!<=$L11))","v":{"$error":"#REF!"}},{"$f":"SUMPRODUCT((#REF!>$L10)*(#REF!<=$L11))","v":{"$error":"#REF!"}},{"$f":"SUMPRODUCT((#REF!>$L10)*(#REF!<=$L11))","v":{"$error":"#REF!"}},{"$f":"SUMPRODUCT((#REF!>$L10)*(#REF!<=$L11))","v":{"$error":"#REF!"}},1,0,{"$error":"#REF!"},{"$error":"#REF!"},{"$error":"#REF!"},{"$error":"#REF!"},null,null,9,null,null,"2015-01-09",{"$f":"SUMIFS('LOG1'!$J$5:$J$501,TabUren2[datum],$AD10)","v":"00:00:00"},{"$f":"SUMIFS('LOG2'!$J$5:$J$501,TabUren22[datum],$AD10)","v":"00:00:00"},{"$f":"SUMIFS(#REF!,#REF!,$AD10)","v":{"$error":"#REF!"}},{"$f":"SUMIFS(#REF!,#REF!,$AD10)","v":{"$error":"#REF!"}},{"$f":"SUMIFS(#REF!,#REF!,$AD10)","v":{"$error":"#REF!"}},{"$f":"SUMIFS(#REF!,#REF!,$AD10)","v":{"$error":"#REF!"}},{"$f":"COUNTIF(TabUren2[datum],$AD10)","v":0},{"$f":"COUNTIF(TabUren22[datum],$AD10)","v":0},{"$f":"COUNTIF(#REF!,$AD10)","v":{"$error":"#REF!"}},{"$f":"COUNTIF(#REF!,$AD10)","v":{"$error":"#REF!"}},{"$f":"COUNTIF(#REF!,$AD10)","v":{"$error":"#REF!"}},{"$f":"COUNTIF(#REF!,$AD10)","v":{"$error":"#REF!"}},0,0,0,0,0,0,"","","","","","","","","","","","",0,""]
[null,{"$f":"hCATEGORIEEN!B8","v":"Nederlands"},null,null,null,null,null,null,null,null,null,"15:00:00",{"$f":"SUMPRODUCT((TabUren2[begintijd]>$L11)*(TabUren2[begintijd]<=$L12))","v":0},{"$f":"SUMPRODUCT((TabUren22[begintijd]>$L11)*(TabUren22[begintijd]<=$L12))","v":0},{"$f":"SUMPRODUCT((#REF!>$L11)*(#REF!<=$L12))","v":{"$error":"#REF!"}},{"$f":"SUMPRODUCT((#REF!>$L11)*(#REF!<=$L12))","v":{"$error":"#REF!"}},{"$f":"SUMPRODUCT((#REF!>$L11)*(#REF!<=$L12))","v":{"$error":"#REF!"}},{"$f":"SUMPRODUCT((#REF!>$L11)*(#REF!<=$L12))","v":{"$error":"#REF!"}},0,0,{"$error":"#REF!"},{"$error":"#REF!"},{"$error":"#REF!"},{"$error":"#REF!"},null,null,10,null,null,"2015-01-10",{"$f":"SUMIFS('LOG1'!$J$5:$J$501,TabUren2[datum],$AD11)","v":"00:00:00"},{"$f":"SUMIFS('LOG2'!$J$5:$J$501,TabUren22[datum],$AD11)","v":"00:00:00"},{"$f":"SUMIFS(#REF!,#REF!,$AD11)","v":{"$error":"#REF!"}},{"$f":"SUMIFS(#REF!,#REF!,$AD11)","v":{"$error":"#REF!"}},{"$f":"SUMIFS(#REF!,#REF!,$AD11)","v":{"$error":"#REF!"}},{"$f":"SUMIFS(#REF!,#REF!,$AD11)","v":{"$error":"#REF!"}},{"$f":"COUNTIF(TabUren2[datum],$AD11)","v":0},{"$f":"COUNTIF(TabUren22[datum],$AD11)","v":0},{"$f":"COUNTIF(#REF!,$AD11)","v":{"$error":"#REF!"}},{"$f":"COUNTIF(#REF!,$AD11)","v":{"$error":"#REF!"}},{"$f":"COUNTIF(#REF!,$AD11)","v":{"$error":"#REF!"}},{"$f":"COUNTIF(#REF!,$AD11)","v":{"$error":"#REF!"}},0,0,0,0,0,0,"","","","","","","","","","","","",0,""]
[null,{"$f":"hCATEGORIEEN!B9","v":"Engels"},null,null,null,null,null,null,null,null,null,"16:00:00",{"$f":"SUMPRODUCT((TabUren2[begintijd]>$L12)*(TabUren2[begintijd]<=$L13))","v":0},{"$f":"SUMPRODUCT((TabUren22[begintijd]>$L12)*(TabUren22[begintijd]<=$L13))","v":0},{"$f":"SUMPRODUCT((#REF!>$L12)*(#REF!<=$L13))","v":{"$error":"#REF!"}},{"$f":"SUMPRODUCT((#REF!>$L12)*(#REF!<=$L13))","v":{"$error":"#REF!"}},{"$f":"SUMPRODUCT((#REF!>$L12)*(#REF!<=$L13))","v":{"$error":"#REF!"}},{"$f":"SUMPRODUCT((#REF!>$L12)*(#REF!<=$L13))","v":{"$error":"#REF!"}},0,0,{"$error":"#REF!"},{"$error":"#REF!"},{"$error":"#REF!"},{"$error":"#REF!"},null,null,11,null,null,"2015-01-11",{"$f":"SUMIFS('LOG1'!$J$5:$J$501,TabUren2[datum],$AD12)","v":"00:00:00"},{"$f":"SUMIFS('LOG2'!$J$5:$J$501,TabUren22[datum],$AD12)","v":"00:00:00"},{"$f":"SUMIFS(#REF!,#REF!,$AD12)","v":{"$error":"#REF!"}},{"$f":"SUMIFS(#REF!,#REF!,$AD12)","v":{"$error":"#REF!"}},{"$f":"SUMIFS(#REF!,#REF!,$AD12)","v":{"$error":"#REF!"}},{"$f":"SUMIFS(#REF!,#REF!,$AD12)","v":{"$error":"#REF!"}},{"$f":"COUNTIF(TabUren2[datum],$AD12)","v":0},{"$f":"COUNTIF(TabUren22[datum],$AD12)","v":0},{"$f":"COUNTIF(#REF!,$AD12)","v":{"$error":"#REF!"}},{"$f":"COUNTIF(#REF!,$AD12)","v":{"$error":"#REF!"}},{"$f":"COUNTIF(#REF!,$AD12)","v":{"$error":"#REF!"}},{"$f":"COUNTIF(#REF!,$AD12)","v":{"$error":"#REF!"}},0,0,0,0,0,0,"","","","","","","","","","","","",0,""]
[null,{"$f":"hCATEGORIEEN!B10","v":"Frans"},null,null,null,null,null,null,null,null,null,"17:00:00",{"$f":"SUMPRODUCT((TabUren2[begintijd]>$L13)*(TabUren2[begintijd]<=$L14))","v":0},{"$f":"SUMPRODUCT((TabUren22[begintijd]>$L13)*(TabUren22[begintijd]<=$L14))","v":0},{"$f":"SUMPRODUCT((#REF!>$L13)*(#REF!<=$L14))","v":{"$error":"#REF!"}},{"$f":"SUMPRODUCT((#REF!>$L13)*(#REF!<=$L14))","v":{"$error":"#REF!"}},{"$f":"SUMPRODUCT((#REF!>$L13)*(#REF!<=$L14))","v":{"$error":"#REF!"}},{"$f":"SUMPRODUCT((#REF!>$L13)*(#REF!<=$L14))","v":{"$error":"#REF!"}},0,0,{"$error":"#REF!"},{"$error":"#REF!"},{"$error":"#REF!"},{"$error":"#REF!"},null,null,12,null,null,"2015-01-12",{"$f":"SUMIFS('LOG1'!$J$5:$J$501,TabUren2[datum],$AD13)","v":"00:00:00"},{"$f":"SUMIFS('LOG2'!$J$5:$J$501,TabUren22[datum],$AD13)","v":"00:00:00"},{"$f":"SUMIFS(#REF!,#REF!,$AD13)","v":{"$error":"#REF!"}},{"$f":"SUMIFS(#REF!,#REF!,$AD13)","v":{"$error":"#REF!"}},{"$f":"SUMIFS(#REF!,#REF!,$AD13)","v":{"$error":"#REF!"}},{"$f":"SUMIFS(#REF!,#REF!,$AD13)","v":{"$error":"#REF!"}},{"$f":"COUNTIF(TabUren2[datum],$AD13)","v":0},{"$f":"COUNTIF(TabUren22[datum],$AD13)","v":0},{"$f":"COUNTIF(#REF!,$AD13)","v":{"$error":"#REF!"}},{"$f":"COUNTIF(#REF!,$AD13)","v":{"$error":"#REF!"}},{"$f":"COUNTIF(#REF!,$AD13)","v":{"$error":"#REF!"}},{"$f":"COUNTIF(#REF!,$AD13)","v":{"$error":"#REF!"}},0,0,0,0,0,0,"","","","","","","","","","","","",0,""]
[null,{"$f":"hCATEGORIEEN!B11","v":"Duits"},null,null,null,null,null,null,null,null,null,"18:00:00",{"$f":"SUMPRODUCT((TabUren2[begintijd]>$L14)*(TabUren2[begintijd]<=$L15))","v":0},{"$f":"SUMPRODUCT((TabUren22[begintijd]>$L14)*(TabUren22[begintijd]<=$L15))","v":0},{"$f":"SUMPRODUCT((#REF!>$L14)*(#REF!<=$L15))","v":{"$error":"#REF!"}},{"$f":"SUMPRODUCT((#REF!>$L14)*(#REF!<=$L15))","v":{"$error":"#REF!"}},{"$f":"SUMPRODUCT((#REF!>$L14)*(#REF!<=$L15))","v":{"$error":"#REF!"}},{"$f":"SUMPRODUCT((#REF!>$L14)*(#REF!<=$L15))","v":{"$error":"#REF!"}},0,0,{"$error":"#REF!"},{"$error":"#REF!"},{"$error":"#REF!"},{"$error":"#REF!"},null,null,13,null,null,"2015-01-13",{"$f":"SUMIFS('LOG1'!$J$5:$J$501,TabUren2[datum],$AD14)","v":"00:00:00"},{"$f":"SUMIFS('LOG2'!$J$5:$J$501,TabUren22[datum],$AD14)","v":"00:00:00"},{"$f":"SUMIFS(#REF!,#REF!,$AD14)","v":{"$error":"#REF!"}},{"$f":"SUMIFS(#REF!,#REF!,$AD14)","v":{"$error":"#REF!"}},{"$f":"SUMIFS(#REF!,#REF!,$AD14)","v":{"$error":"#REF!"}},{"$f":"SUMIFS(#REF!,#REF!,$AD14)","v":{"$error":"#REF!"}},{"$f":"COUNTIF(TabUren2[datum],$AD14)","v":0},{"$f":"COUNTIF(TabUren22[datum],$AD14)","v":0},{"$f":"COUNTIF(#REF!,$AD14)","v":{"$error":"#REF!"}},{"$f":"COUNTIF(#REF!,$AD14)","v":{"$error":"#REF!"}},{"$f":"COUNTIF(#REF!,$AD14)","v":{"$error":"#REF!"}},{"$f":"COUNTIF(#REF!,$AD14)","v":{"$error":"#REF!"}},0,0,0,0,0,0,"","","","","","","","","","","","",0,""]
[null,{"$f":"hCATEGORIEEN!B12","v":"Wiskunde"},null,null,null,null,null,null,null,null,null,"19:00:00",{"$f":"SUMPRODUCT((TabUren2[begintijd]>$L15)*(TabUren2[begintijd]<=$L16))","v":0},{"$f":"SUMPRODUCT((TabUren22[begintijd]>$L15)*(TabUren22[begintijd]<=$L16))","v":0},{"$f":"SUMPRODUCT((#REF!>$L15)*(#REF!<=$L16))","v":{"$error":"#REF!"}},{"$f":"SUMPRODUCT((#REF!>$L15)*(#REF!<=$L16))","v":{"$error":"#REF!"}},{"$f":"SUMPRODUCT((#REF!>$L15)*(#REF!<=$L16))","v":{"$error":"#REF!"}},{"$f":"SUMPRODUCT((#REF!>$L15)*(#REF!<=$L16))","v":{"$error":"#REF!"}},0,0,{"$error":"#REF!"},{"$error":"#REF!"},{"$error":"#REF!"},{"$error":"#REF!"},null,null,14,null,null,"2015-01-14",{"$f":"SUMIFS('LOG1'!$J$5:$J$501,TabUren2[datum],$AD15)","v":"00:00:00"},{"$f":"SUMIFS('LOG2'!$J$5:$J$501,TabUren22[datum],$AD15)","v":"00:00:00"},{"$f":"SUMIFS(#REF!,#REF!,$AD15)","v":{"$error":"#REF!"}},{"$f":"SUMIFS(#REF!,#REF!,$AD15)","v":{"$error":"#REF!"}},{"$f":"SUMIFS(#REF!,#REF!,$AD15)","v":{"$error":"#REF!"}},{"$f":"SUMIFS(#REF!,#REF!,$AD15)","v":{"$error":"#REF!"}},{"$f":"COUNTIF(TabUren2[datum],$AD15)","v":0},{"$f":"COUNTIF(TabUren22[datum],$AD15)","v":0},{"$f":"COUNTIF(#REF!,$AD15)","v":{"$error":"#REF!"}},{"$f":"COUNTIF(#REF!,$AD15)","v":{"$error":"#REF!"}},{"$f":"COUNTIF(#REF!,$AD15)","v":{"$error":"#REF!"}},{"$f":"COUNTIF(#REF!,$AD15)","v":{"$error":"#REF!"}},0,0,0,0,0,0,"","","","","","","","","","","","",0,""]
[null,{"$f":"hCATEGORIEEN!B13","v":"Geschiedenis"},null,null,null,null,null,null,null,null,null,"20:00:00",{"$f":"SUMPRODUCT((TabUren2[begintijd]>$L16)*(TabUren2[begintijd]<=$L17))","v":0},{"$f":"SUMPRODUCT((TabUren22[begintijd]>$L16)*(TabUren22[begintijd]<=$L17))","v":0},{"$f":"SUMPRODUCT((#REF!>$L16)*(#REF!<=$L17))","v":{"$error":"#REF!"}},{"$f":"SUMPRODUCT((#REF!>$L16)*(#REF!<=$L17))","v":{"$error":"#REF!"}},{"$f":"SUMPRODUCT((#REF!>$L16)*(#REF!<=$L17))","v":{"$error":"#REF!"}},{"$f":"SUMPRODUCT((#REF!>$L16)*(#REF!<=$L17))","v":{"$error":"#REF!"}},0,0,{"$error":"#REF!"},{"$error":"#REF!"},{"$error":"#REF!"},{"$error":"#REF!"},null,null,15,null,null,"2015-01-15",{"$f":"SUMIFS('LOG1'!$J$5:$J$501,TabUren2[datum],$AD16)","v":"00:00:00"},{"$f":"SUMIFS('LOG2'!$J$5:$J$501,TabUren22[datum],$AD16)","v":"00:00:00"},{"$f":"SUMIFS(#REF!,#REF!,$AD16)","v":{"$error":"#REF!"}},{"$f":"SUMIFS(#REF!,#REF!,$AD16)","v":{"$error":"#REF!"}},{"$f":"SUMIFS(#REF!,#REF!,$AD16)","v":{"$error":"#REF!"}},{"$f":"SUMIFS(#REF!,#REF!,$AD16)","v":{"$error":"#REF!"}},{"$f":"COUNTIF(TabUren2[datum],$AD16)","v":0},{"$f":"COUNTIF(TabUren22[datum],$AD16)","v":0},{"$f":"COUNTIF(#REF!,$AD16)","v":{"$error":"#REF!"}},{"$f":"COUNTIF(#REF!,$AD16)","v":{"$error":"#REF!"}},{"$f":"COUNTIF(#REF!,$AD16)","v":{"$error":"#REF!"}},{"$f":"COUNTIF(#REF!,$AD16)","v":{"$error":"#REF!"}},0,0,0,0,0,0,"","","","","","","","","","","","",0,""]
[null,{"$f":"hCATEGORIEEN!B14","v":"Aardrijkskunde"},null,null,null,null,null,null,null,null,null,"21:00:00",{"$f":"SUMPRODUCT((TabUren2[begintijd]>$L17)*(TabUren2[begintijd]<=$L18))","v":0},{"$f":"SUMPRODUCT((TabUren22[begintijd]>$L17)*(TabUren22[begintijd]<=$L18))","v":0},{"$f":"SUMPRODUCT((#REF!>$L17)*(#REF!<=$L18))","v":{"$error":"#REF!"}},{"$f":"SUMPRODUCT((#REF!>$L17)*(#REF!<=$L18))","v":{"$error":"#REF!"}},{"$f":"SUMPRODUCT((#REF!>$L17)*(#REF!<=$L18))","v":{"$error":"#REF!"}},{"$f":"SUMPRODUCT((#REF!>$L17)*(#REF!<=$L18))","v":{"$error":"#REF!"}},0,0,{"$error":"#REF!"},{"$error":"#REF!"},{"$error":"#REF!"},{"$error":"#REF!"},null,null,16,null,null,"2015-01-16",{"$f":"SUMIFS('LOG1'!$J$5:$J$501,TabUren2[datum],$AD17)","v":"00:00:00"},{"$f":"SUMIFS('LOG2'!$J$5:$J$501,TabUren22[datum],$AD17)","v":"00:00:00"},{"$f":"SUMIFS(#REF!,#REF!,$AD17)","v":{"$error":"#REF!"}},{"$f":"SUMIFS(#REF!,#REF!,$AD17)","v":{"$error":"#REF!"}},{"$f":"SUMIFS(#REF!,#REF!,$AD17)","v":{"$error":"#REF!"}},{"$f":"SUMIFS(#REF!,#REF!,$AD17)","v":{"$error":"#REF!"}},{"$f":"COUNTIF(TabUren2[datum],$AD17)","v":0},{"$f":"COUNTIF(TabUren22[datum],$AD17)","v":0},{"$f":"COUNTIF(#REF!,$AD17)","v":{"$error":"#REF!"}},{"$f":"COUNTIF(#REF!,$AD17)","v":{"$error":"#REF!"}},{"$f":"COUNTIF(#REF!,$AD17)","v":{"$error":"#REF!"}},{"$f":"COUNTIF(#REF!,$AD17)","v":{"$error":"#REF!"}},0,0,0,0,0,0,"","","","","","","","","","","","",0,""]
[null,{"$f":"hCATEGORIEEN!B15","v":"Biologie / BGM"},null,null,null,null,null,null,null,null,null,"22:00:00",{"$f":"SUMPRODUCT((TabUren2[begintijd]>$L18)*(TabUren2[begintijd]<=$L19))","v":0},{"$f":"SUMPRODUCT((TabUren22[begintijd]>$L18)*(TabUren22[begintijd]<=$L19))","v":0},{"$f":"SUMPRODUCT((#REF!>$L18)*(#REF!<=$L19))","v":{"$error":"#REF!"}},{"$f":"SUMPRODUCT((#REF!>$L18)*(#REF!<=$L19))","v":{"$error":"#REF!"}},{"$f":"SUMPRODUCT((#REF!>$L18)*(#REF!<=$L19))","v":{"$error":"#REF!"}},{"$f":"SUMPRODUCT((#REF!>$L18)*(#REF!<=$L19))","v":{"$error":"#REF!"}},0,0,{"$error":"#REF!"},{"$error":"#REF!"},{"$error":"#REF!"},{"$error":"#REF!"},null,null,17,null,null,"2015-01-17",{"$f":"SUMIFS('LOG1'!$J$5:$J$501,TabUren2[datum],$AD18)","v":"00:00:00"},{"$f":"SUMIFS('LOG2'!$J$5:$J$501,TabUren22[datum],$AD18)","v":"00:00:00"},{"$f":"SUMIFS(#REF!,#REF!,$AD18)","v":{"$error":"#REF!"}},{"$f":"SUMIFS(#REF!,#REF!,$AD18)","v":{"$error":"#REF!"}},{"$f":"SUMIFS(#REF!,#REF!,$AD18)","v":{"$error":"#REF!"}},{"$f":"SUMIFS(#REF!,#REF!,$AD18)","v":{"$error":"#REF!"}},{"$f":"COUNTIF(TabUren2[datum],$AD18)","v":0},{"$f":"COUNTIF(TabUren22[datum],$AD18)","v":0},{"$f":"COUNTIF(#REF!,$AD18)","v":{"$error":"#REF!"}},{"$f":"COUNTIF(#REF!,$AD18)","v":{"$error":"#REF!"}},{"$f":"COUNTIF(#REF!,$AD18)","v":{"$error":"#REF!"}},{"$f":"COUNTIF(#REF!,$AD18)","v":{"$error":"#REF!"}},0,0,0,0,0,0,"","","","","","","","","","","","",0,""]
[null,{"$f":"hCATEGORIEEN!B16","v":"Science"},null,null,null,null,null,null,null,null,null,"23:00:00",{"$f":"SUMPRODUCT((TabUren2[begintijd]>$L19)*(TabUren2[begintijd]<=$L20))","v":0},{"$f":"SUMPRODUCT((TabUren22[begintijd]>$L19)*(TabUren22[begintijd]<=$L20))","v":0},{"$f":"SUMPRODUCT((#REF!>$L19)*(#REF!<=$L20))","v":{"$error":"#REF!"}},{"$f":"SUMPRODUCT((#REF!>$L19)*(#REF!<=$L20))","v":{"$error":"#REF!"}},{"$f":"SUMPRODUCT((#REF!>$L19)*(#REF!<=$L20))","v":{"$error":"#REF!"}},{"$f":"SUMPRODUCT((#REF!>$L19)*(#REF!<=$L20))","v":{"$error":"#REF!"}},0,0,{"$error":"#REF!"},{"$error":"#REF!"},{"$error":"#REF!"},{"$error":"#REF!"},null,null,18,null,null,"2015-01-18",{"$f":"SUMIFS('LOG1'!$J$5:$J$501,TabUren2[datum],$AD19)","v":"00:00:00"},{"$f":"SUMIFS('LOG2'!$J$5:$J$501,TabUren22[datum],$AD19)","v":"00:00:00"},{"$f":"SUMIFS(#REF!,#REF!,$AD19)","v":{"$error":"#REF!"}},{"$f":"SUMIFS(#REF!,#REF!,$AD19)","v":{"$error":"#REF!"}},{"$f":"SUMIFS(#REF!,#REF!,$AD19)","v":{"$error":"#REF!"}},{"$f":"SUMIFS(#REF!,#REF!,$AD19)","v":{"$error":"#REF!"}},{"$f":"COUNTIF(TabUren2[datum],$AD19)","v":0},{"$f":"COUNTIF(TabUren22[datum],$AD19)","v":0},{"$f":"COUNTIF(#REF!,$AD19)","v":{"$error":"#REF!"}},{"$f":"COUNTIF(#REF!,$AD19)","v":{"$error":"#REF!"}},{"$f":"COUNTIF(#REF!,$AD19)","v":{"$error":"#REF!"}},{"$f":"COUNTIF(#REF!,$AD19)","v":{"$error":"#REF!"}},0,0,0,0,0,0,"","","","","","","","","","","","",0,""]
[null,{"$f":"hCATEGORIEEN!B17","v":"Handvaardigheid"},null,null,null,null,null,null,null,null,null,"00:00:00",{"$f":"SUMPRODUCT((TabUren2[begintijd]>$L20)*(TabUren2[begintijd]<=$L21))","v":0},{"$f":"SUMPRODUCT((TabUren22[begintijd]>$L20)*(TabUren22[begintijd]<=$L21))","v":1},{"$f":"SUMPRODUCT((#REF!>$L20)*(#REF!<=$L21))","v":{"$error":"#REF!"}},{"$f":"SUMPRODUCT((#REF!>$L20)*(#REF!<=$L21))","v":{"$error":"#REF!"}},{"$f":"SUMPRODUCT((#REF!>$L20)*(#REF!<=$L21))","v":{"$error":"#REF!"}},{"$f":"SUMPRODUCT((#REF!>$L20)*(#REF!<=$L21))","v":{"$error":"#REF!"}},0,1,{"$error":"#REF!"},{"$error":"#REF!"},{"$error":"#REF!"},{"$error":"#REF!"},null,null,19,null,null,"2015-01-19",{"$f":"SUMIFS('LOG1'!$J$5:$J$501,TabUren2[datum],$AD20)","v":"00:00:00"},{"$f":"SUMIFS('LOG2'!$J$5:$J$501,TabUren22[datum],$AD20)","v":"00:00:00"},{"$f":"SUMIFS(#REF!,#REF!,$AD20)","v":{"$error":"#REF!"}},{"$f":"SUMIFS(#REF!,#REF!,$AD20)","v":{"$error":"#REF!"}},{"$f":"SUMIFS(#REF!,#REF!,$AD20)","v":{"$error":"#REF!"}},{"$f":"SUMIFS(#REF!,#REF!,$AD20)","v":{"$error":"#REF!"}},{"$f":"COUNTIF(TabUren2[datum],$AD20)","v":0},{"$f":"COUNTIF(TabUren22[datum],$AD20)","v":0},{"$f":"COUNTIF(#REF!,$AD20)","v":{"$error":"#REF!"}},{"$f":"COUNTIF(#REF!,$AD20)","v":{"$error":"#REF!"}},{"$f":"COUNTIF(#REF!,$AD20)","v":{"$error":"#REF!"}},{"$f":"COUNTIF(#REF!,$AD20)","v":{"$error":"#REF!"}},0,0,0,0,0,0,"","","","","","","","","","","","",0,""]
[null,{"$f":"hCATEGORIEEN!B18","v":"Drama"},null,null,null,null,null,null,null,null,null,"01:00:00",{"$f":"SUMPRODUCT((TabUren2[begintijd]>$L21)*(TabUren2[begintijd]<=$L22))","v":0},{"$f":"SUMPRODUCT((TabUren22[begintijd]>$L21)*(TabUren22[begintijd]<=$L22))","v":0},{"$f":"SUMPRODUCT((#REF!>$L21)*(#REF!<=$L22))","v":{"$error":"#REF!"}},{"$f":"SUMPRODUCT((#REF!>$L21)*(#REF!<=$L22))","v":{"$error":"#REF!"}},{"$f":"SUMPRODUCT((#REF!>$L21)*(#REF!<=$L22))","v":{"$error":"#REF!"}},{"$f":"SUMPRODUCT((#REF!>$L21)*(#REF!<=$L22))","v":{"$error":"#REF!"}},0,0,{"$error":"#REF!"},{"$error":"#REF!"},{"$error":"#REF!"},{"$error":"#REF!"},null,null,{"$f":"AA20+1","v":20},null,null,"2015-01-20",{"$f":"SUMIFS('LOG1'!$J$5:$J$501,TabUren2[datum],$AD21)","v":"00:00:00"},{"$f":"SUMIFS('LOG2'!$J$5:$J$501,TabUren22[datum],$AD21)","v":"00:00:00"},{"$f":"SUMIFS(#REF!,#REF!,$AD21)","v":{"$error":"#REF!"}},{"$f":"SUMIFS(#REF!,#REF!,$AD21)","v":{"$error":"#REF!"}},{"$f":"SUMIFS(#REF!,#REF!,$AD21)","v":{"$error":"#REF!"}},{"$f":"SUMIFS(#REF!,#REF!,$AD21)","v":{"$error":"#REF!"}},{"$f":"COUNTIF(TabUren2[datum],$AD21)","v":0},{"$f":"COUNTIF(TabUren22[datum],$AD21)","v":0},{"$f":"COUNTIF(#REF!,$AD21)","v":{"$error":"#REF!"}},{"$f":"COUNTIF(#REF!,$AD21)","v":{"$error":"#REF!"}},{"$f":"COUNTIF(#REF!,$AD21)","v":{"$error":"#REF!"}},{"$f":"COUNTIF(#REF!,$AD21)","v":{"$error":"#REF!"}},0,0,0,0,0,0,"","","","","","","","","","","","",0,""]
[null,{"$f":"hCATEGORIEEN!B19","v":"LO"},null,null,null,null,null,null,null,null,null,"02:00:00",{"$f":"SUMPRODUCT((TabUren2[begintijd]>$L22)*(TabUren2[begintijd]<=$L23))","v":0},{"$f":"SUMPRODUCT((TabUren22[begintijd]>$L22)*(TabUren22[begintijd]<=$L23))","v":0},{"$f":"SUMPRODUCT((#REF!>$L22)*(#REF!<=$L23))","v":{"$error":"#REF!"}},{"$f":"SUMPRODUCT((#REF!>$L22)*(#REF!<=$L23))","v":{"$error":"#REF!"}},{"$f":"SUMPRODUCT((#REF!>$L22)*(#REF!<=$L23))","v":{"$error":"#REF!"}},{"$f":"SUMPRODUCT((#REF!>$L22)*(#REF!<=$L23))","v":{"$error":"#REF!"}},0,0,{"$error":"#REF!"},{"$error":"#REF!"},{"$error":"#REF!"},{"$error":"#REF!"},null,null,{"$f":"AA21+1","v":21},null,null,"2015-01-21",{"$f":"SUMIFS('LOG1'!$J$5:$J$501,TabUren2[datum],$AD22)","v":"00:00:00"},{"$f":"SUMIFS('LOG2'!$J$5:$J$501,TabUren22[datum],$AD22)","v":"00:00:00"},{"$f":"SUMIFS(#REF!,#REF!,$AD22)","v":{"$error":"#REF!"}},{"$f":"SUMIFS(#REF!,#REF!,$AD22)","v":{"$error":"#REF!"}},{"$f":"SUMIFS(#REF!,#REF!,$AD22)","v":{"$error":"#REF!"}},{"$f":"SUMIFS(#REF!,#REF!,$AD22)","v":{"$error":"#REF!"}},{"$f":"COUNTIF(TabUren2[datum],$AD22)","v":0},{"$f":"COUNTIF(TabUren22[datum],$AD22)","v":0},{"$f":"COUNTIF(#REF!,$AD22)","v":{"$error":"#REF!"}},{"$f":"COUNTIF(#REF!,$AD22)","v":{"$error":"#REF!"}},{"$f":"COUNTIF(#REF!,$AD22)","v":{"$error":"#REF!"}},{"$f":"COUNTIF(#REF!,$AD22)","v":{"$error":"#REF!"}},0,0,0,0,0,0,"","","","","","","","","","","","",0,""]
[null,{"$f":"hCATEGORIEEN!B20","v":"O&O"},null,null,null,null,null,null,null,null,null,"03:00:00",{"$f":"SUMPRODUCT((TabUren2[begintijd]>$L23)*(TabUren2[begintijd]<=$L24))","v":0},{"$f":"SUMPRODUCT((TabUren22[begintijd]>$L23)*(TabUren22[begintijd]<=$L24))","v":0},{"$f":"SUMPRODUCT((#REF!>$L23)*(#REF!<=$L24))","v":{"$error":"#REF!"}},{"$f":"SUMPRODUCT((#REF!>$L23)*(#REF!<=$L24))","v":{"$error":"#REF!"}},{"$f":"SUMPRODUCT((#REF!>$L23)*(#REF!<=$L24))","v":{"$error":"#REF!"}},{"$f":"SUMPRODUCT((#REF!>$L23)*(#REF!<=$L24))","v":{"$error":"#REF!"}},0,0,{"$error":"#REF!"},{"$error":"#REF!"},{"$error":"#REF!"},{"$error":"#REF!"},null,null,22,null,null,"2015-01-22",{"$f":"SUMIFS('LOG1'!$J$5:$J$501,TabUren2[datum],$AD23)","v":"00:00:00"},{"$f":"SUMIFS('LOG2'!$J$5:$J$501,TabUren22[datum],$AD23)","v":"00:00:00"},{"$f":"SUMIFS(#REF!,#REF!,$AD23)","v":{"$error":"#REF!"}},{"$f":"SUMIFS(#REF!,#REF!,$AD23)","v":{"$error":"#REF!"}},{"$f":"SUMIFS(#REF!,#REF!,$AD23)","v":{"$error":"#REF!"}},{"$f":"SUMIFS(#REF!,#REF!,$AD23)","v":{"$error":"#REF!"}},{"$f":"COUNTIF(TabUren2[datum],$AD23)","v":0},{"$f":"COUNTIF(TabUren22[datum],$AD23)","v":0},{"$f":"COUNTIF(#REF!,$AD23)","v":{"$error":"#REF!"}},{"$f":"COUNTIF(#REF!,$AD23)","v":{"$error":"#REF!"}},{"$f":"COUNTIF(#REF!,$AD23)","v":{"$error":"#REF!"}},{"$f":"COUNTIF(#REF!,$AD23)","v":{"$error":"#REF!"}},0,0,0,0,0,0,"","","","","","","","","","","","",0,""]
[null,{"$f":"hCATEGORIEEN!B21","v":"Overig 1"},null,null,null,null,null,null,null,null,null,"04:00:00",{"$f":"SUMPRODUCT((TabUren2[begintijd]>$L24)*(TabUren2[begintijd]<=$L25))","v":0},{"$f":"SUMPRODUCT((TabUren22[begintijd]>$L24)*(TabUren22[begintijd]<=$L25))","v":0},{"$f":"SUMPRODUCT((#REF!>$L24)*(#REF!<=$L25))","v":{"$error":"#REF!"}},{"$f":"SUMPRODUCT((#REF!>$L24)*(#REF!<=$L25))","v":{"$error":"#REF!"}},{"$f":"SUMPRODUCT((#REF!>$L24)*(#REF!<=$L25))","v":{"$error":"#REF!"}},{"$f":"SUMPRODUCT((#REF!>$L24)*(#REF!<=$L25))","v":{"$error":"#REF!"}},0,0,{"$error":"#REF!"},{"$error":"#REF!"},{"$error":"#REF!"},{"$error":"#REF!"},null,null,23,null,null,"2015-01-23",{"$f":"SUMIFS('LOG1'!$J$5:$J$501,TabUren2[datum],$AD24)","v":"00:00:00"},{"$f":"SUMIFS('LOG2'!$J$5:$J$501,TabUren22[datum],$AD24)","v":"00:00:00"},{"$f":"SUMIFS(#REF!,#REF!,$AD24)","v":{"$error":"#REF!"}},{"$f":"SUMIFS(#REF!,#REF!,$AD24)","v":{"$error":"#REF!"}},{"$f":"SUMIFS(#REF!,#REF!,$AD24)","v":{"$error":"#REF!"}},{"$f":"SUMIFS(#REF!,#REF!,$AD24)","v":{"$error":"#REF!"}},{"$f":"COUNTIF(TabUren2[datum],$AD24)","v":0},{"$f":"COUNTIF(TabUren22[datum],$AD24)","v":0},{"$f":"COUNTIF(#REF!,$AD24)","v":{"$error":"#REF!"}},{"$f":"COUNTIF(#REF!,$AD24)","v":{"$error":"#REF!"}},{"$f":"COUNTIF(#REF!,$AD24)","v":{"$error":"#REF!"}},{"$f":"COUNTIF(#REF!,$AD24)","v":{"$error":"#REF!"}},0,0,0,0,0,0,"","","","","","","","","","","","",0,""]
[null,{"$f":"hCATEGORIEEN!B22","v":"Overig 2"},null,null,null,null,null,null,null,null,null,"05:00:00",{"$f":"SUMPRODUCT((TabUren2[begintijd]>$L25)*(TabUren2[begintijd]<=L2))","v":0},{"$f":"SUMPRODUCT((TabUren22[begintijd]>$L25)*(TabUren22[begintijd]<=$L3))","v":0},{"$f":"SUMPRODUCT((#REF!>$L25)*(#REF!<=$L3))","v":{"$error":"#REF!"}},{"$f":"SUMPRODUCT((#REF!>$L25)*(#REF!<=$L3))","v":{"$error":"#REF!"}},{"$f":"SUMPRODUCT((#REF!>$L25)*(#REF!<=$L3))","v":{"$error":"#REF!"}},{"$f":"SUMPRODUCT((#REF!>$L25)*(#REF!<=$L3))","v":{"$error":"#REF!"}},0,0,{"$error":"#REF!"},{"$error":"#REF!"},{"$error":"#REF!"},{"$error":"#REF!"},null,null,24,null,null,"2015-01-24",{"$f":"SUMIFS('LOG1'!$J$5:$J$501,TabUren2[datum],$AD25)","v":"00:00:00"},{"$f":"SUMIFS('LOG2'!$J$5:$J$501,TabUren22[datum],$AD25)","v":"00:00:00"},{"$f":"SUMIFS(#REF!,#REF!,$AD25)","v":{"$error":"#REF!"}},{"$f":"SUMIFS(#REF!,#REF!,$AD25)","v":{"$error":"#REF!"}},{"$f":"SUMIFS(#REF!,#REF!,$AD25)","v":{"$error":"#REF!"}},{"$f":"SUMIFS(#REF!,#REF!,$AD25)","v":{"$error":"#REF!"}},{"$f":"COUNTIF(TabUren2[datum],$AD25)","v":0},{"$f":"COUNTIF(TabUren22[datum],$AD25)","v":0},{"$f":"COUNTIF(#REF!,$AD25)","v":{"$error":"#REF!"}},{"$f":"COUNTIF(#REF!,$AD25)","v":{"$error":"#REF!"}},{"$f":"COUNTIF(#REF!,$AD25)","v":{"$error":"#REF!"}},{"$f":"COUNTIF(#REF!,$AD25)","v":{"$error":"#REF!"}},0,0,0,0,0,0,"","","","","","","","","","","","",0,""]
[null,null,null,null,null,null,null,null,null,null,null,null,null,null,null,null,null,null,1,2,3,4,5,6,null,null,25,null,null,"2015-01-25",{"$f":"SUMIFS('LOG1'!$J$5:$J$501,TabUren2[datum],$AD26)","v":"00:00:00"},{"$f":"SUMIFS('LOG2'!$J$5:$J$501,TabUren22[datum],$AD26)","v":"00:00:00"},{"$f":"SUMIFS(#REF!,#REF!,$AD26)","v":{"$error":"#REF!"}},{"$f":"SUMIFS(#REF!,#REF!,$AD26)","v":{"$error":"#REF!"}},{"$f":"SUMIFS(#REF!,#REF!,$AD26)","v":{"$error":"#REF!"}},{"$f":"SUMIFS(#REF!,#REF!,$AD26)","v":{"$error":"#REF!"}},{"$f":"COUNTIF(TabUren2[datum],$AD26)","v":0},{"$f":"COUNTIF(TabUren22[datum],$AD26)","v":0},{"$f":"COUNTIF(#REF!,$AD26)","v":{"$error":"#REF!"}},{"$f":"COUNTIF(#REF!,$AD26)","v":{"$error":"#REF!"}},{"$f":"COUNTIF(#REF!,$AD26)","v":{"$error":"#REF!"}},{"$f":"COUNTIF(#REF!,$AD26)","v":{"$error":"#REF!"}},0,0,0,0,0,0,"","","","","","","","","","","","",0,""]
[null,null,null,null,null,null,null,null,null,null,null,null,null,null,null,null,null,null,null,null,null,null,null,null,null,null,26,null,null,"2015-01-26",{"$f":"SUMIFS('LOG1'!$J$5:$J$501,TabUren2[datum],$AD27)","v":"00:00:00"},{"$f":"SUMIFS('LOG2'!$J$5:$J$501,TabUren22[datum],$AD27)","v":"00:00:00"},{"$f":"SUMIFS(#REF!,#REF!,$AD27)","v":{"$error":"#REF!"}},{"$f":"SUMIFS(#REF!,#REF!,$AD27)","v":{"$error":"#REF!"}},{"$f":"SUMIFS(#REF!,#REF!,$AD27)","v":{"$error":"#REF!"}},{"$f":"SUMIFS(#REF!,#REF!,$AD27)","v":{"$error":"#REF!"}},{"$f":"COUNTIF(TabUren2[datum],$AD27)","v":0},{"$f":"COUNTIF(TabUren22[datum],$AD27)","v":0},{"$f":"COUNTIF(#REF!,$AD27)","v":{"$error":"#REF!"}},{"$f":"COUNTIF(#REF!,$AD27)","v":{"$error":"#REF!"}},{"$f":"COUNTIF(#REF!,$AD27)","v":{"$error":"#REF!"}},{"$f":"COUNTIF(#REF!,$AD27)","v":{"$error":"#REF!"}},0,0,0,0,0,0,"","","","","","","","","","","","",0,""]
[null,null,null,null,null,null,null,null,null,null,null,null,null,null,null,null,null,null,null,null,null,null,null,null,null,null,27,null,null,"2015-01-27",{"$f":"SUMIFS('LOG1'!$J$5:$J$501,TabUren2[datum],$AD28)","v":"00:00:00"},{"$f":"SUMIFS('LOG2'!$J$5:$J$501,TabUren22[datum],$AD28)","v":"00:00:00"},{"$f":"SUMIFS(#REF!,#REF!,$AD28)","v":{"$error":"#REF!"}},{"$f":"SUMIFS(#REF!,#REF!,$AD28)","v":{"$error":"#REF!"}},{"$f":"SUMIFS(#REF!,#REF!,$AD28)","v":{"$error":"#REF!"}},{"$f":"SUMIFS(#REF!,#REF!,$AD28)","v":{"$error":"#REF!"}},{"$f":"COUNTIF(TabUren2[datum],$AD28)","v":0},{"$f":"COUNTIF(TabUren22[datum],$AD28)","v":0},{"$f":"COUNTIF(#REF!,$AD28)","v":{"$error":"#REF!"}},{"$f":"COUNTIF(#REF!,$AD28)","v":{"$error":"#REF!"}},{"$f":"COUNTIF(#REF!,$AD28)","v":{"$error":"#REF!"}},{"$f":"COUNTIF(#REF!,$AD28)","v":{"$error":"#REF!"}},0,0,0,0,0,0,"","","","","","","","","","","","",0,""]
[null,null,null,null,null,null,null,null,null,null,null,null,null,null,null,null,null,null,null,null,null,null,null,null,null,null,28,null,null,"2015-01-28",{"$f":"SUMIFS('LOG1'!$J$5:$J$501,TabUren2[datum],$AD29)","v":"00:00:00"},{"$f":"SUMIFS('LOG2'!$J$5:$J$501,TabUren22[datum],$AD29)","v":"00:00:00"},{"$f":"SUMIFS(#REF!,#REF!,$AD29)","v":{"$error":"#REF!"}},{"$f":"SUMIFS(#REF!,#REF!,$AD29)","v":{"$error":"#REF!"}},{"$f":"SUMIFS(#REF!,#REF!,$AD29)","v":{"$error":"#REF!"}},{"$f":"SUMIFS(#REF!,#REF!,$AD29)","v":{"$error":"#REF!"}},{"$f":"COUNTIF(TabUren2[datum],$AD29)","v":0},{"$f":"COUNTIF(TabUren22[datum],$AD29)","v":0},{"$f":"COUNTIF(#REF!,$AD29)","v":{"$error":"#REF!"}},{"$f":"COUNTIF(#REF!,$AD29)","v":{"$error":"#REF!"}},{"$f":"COUNTIF(#REF!,$AD29)","v":{"$error":"#REF!"}},{"$f":"COUNTIF(#REF!,$AD29)","v":{"$error":"#REF!"}},0,0,0,0,0,0,"","","","","","","","","","","","",0,""]
[null,null,null,null,null,null,null,null,null,null,null,null,null,null,null,null,null,null,null,null,null,null,null,null,null,null,29,null,null,"2015-01-29",{"$f":"SUMIFS('LOG1'!$J$5:$J$501,TabUren2[datum],$AD30)","v":"00:00:00"},{"$f":"SUMIFS('LOG2'!$J$5:$J$501,TabUren22[datum],$AD30)","v":"00:00:00"},{"$f":"SUMIFS(#REF!,#REF!,$AD30)","v":{"$error":"#REF!"}},{"$f":"SUMIFS(#REF!,#REF!,$AD30)","v":{"$error":"#REF!"}},{"$f":"SUMIFS(#REF!,#REF!,$AD30)","v":{"$error":"#REF!"}},{"$f":"SUMIFS(#REF!,#REF!,$AD30)","v":{"$error":"#REF!"}},{"$f":"COUNTIF(TabUren2[datum],$AD30)","v":0},{"$f":"COUNTIF(TabUren22[datum],$AD30)","v":0},{"$f":"COUNTIF(#REF!,$AD30)","v":{"$error":"#REF!"}},{"$f":"COUNTIF(#REF!,$AD30)","v":{"$error":"#REF!"}},{"$f":"COUNTIF(#REF!,$AD30)","v":{"$error":"#REF!"}},{"$f":"COUNTIF(#REF!,$AD30)","v":{"$error":"#REF!"}},0,0,0,0,0,0,"","","","","","","","","","","","",0,""]
[null,null,null,null,null,null,null,null,null,null,null,null,null,null,null,null,null,null,null,null,null,null,null,null,null,null,30,null,null,"2015-01-30",{"$f":"SUMIFS('LOG1'!$J$5:$J$501,TabUren2[datum],$AD31)","v":"00:00:00"},{"$f":"SUMIFS('LOG2'!$J$5:$J$501,TabUren22[datum],$AD31)","v":"00:00:00"},{"$f":"SUMIFS(#REF!,#REF!,$AD31)","v":{"$error":"#REF!"}},{"$f":"SUMIFS(#REF!,#REF!,$AD31)","v":{"$error":"#REF!"}},{"$f":"SUMIFS(#REF!,#REF!,$AD31)","v":{"$error":"#REF!"}},{"$f":"SUMIFS(#REF!,#REF!,$AD31)","v":{"$error":"#REF!"}},{"$f":"COUNTIF(TabUren2[datum],$AD31)","v":0},{"$f":"COUNTIF(TabUren22[datum],$AD31)","v":0},{"$f":"COUNTIF(#REF!,$AD31)","v":{"$error":"#REF!"}},{"$f":"COUNTIF(#REF!,$AD31)","v":{"$error":"#REF!"}},{"$f":"COUNTIF(#REF!,$AD31)","v":{"$error":"#REF!"}},{"$f":"COUNTIF(#REF!,$AD31)","v":{"$error":"#REF!"}},0,0,0,0,0,0,"","","","","","","","","","","","",0,""]
[null,null,null,null,null,null,null,null,null,null,null,null,null,null,null,null,null,null,null,null,null,null,null,null,null,null,31,null,null,"2015-01-31",{"$f":"SUMIFS('LOG1'!$J$5:$J$501,TabUren2[datum],$AD32)","v":"00:00:00"},{"$f":"SUMIFS('LOG2'!$J$5:$J$501,TabUren22[datum],$AD32)","v":"00:00:00"},{"$f":"SUMIFS(#REF!,#REF!,$AD32)","v":{"$error":"#REF!"}},{"$f":"SUMIFS(#REF!,#REF!,$AD32)","v":{"$error":"#REF!"}},{"$f":"SUMIFS(#REF!,#REF!,$AD32)","v":{"$error":"#REF!"}},{"$f":"SUMIFS(#REF!,#REF!,$AD32)","v":{"$error":"#REF!"}},{"$f":"COUNTIF(TabUren2[datum],$AD32)","v":0},{"$f":"COUNTIF(TabUren22[datum],$AD32)","v":0},{"$f":"COUNTIF(#REF!,$AD32)","v":{"$error":"#REF!"}},{"$f":"COUNTIF(#REF!,$AD32)","v":{"$error":"#REF!"}},{"$f":"COUNTIF(#REF!,$AD32)","v":{"$error":"#REF!"}},{"$f":"COUNTIF(#REF!,$AD32)","v":{"$error":"#REF!"}},0,0,0,0,0,0,"","","","","","","","","","","","",0,""]
[null,null,null,null,null,null,null,null,null,null,null,null,null,null,null,null,null,null,null,null,null,null,null,null,null,null,32,null,null,"2015-02-01",{"$f":"SUMIFS('LOG1'!$J$5:$J$501,TabUren2[datum],$AD33)","v":"00:00:00"},{"$f":"SUMIFS('LOG2'!$J$5:$J$501,TabUren22[datum],$AD33)","v":"00:00:00"},{"$f":"SUMIFS(#REF!,#REF!,$AD33)","v":{"$error":"#REF!"}},{"$f":"SUMIFS(#REF!,#REF!,$AD33)","v":{"$error":"#REF!"}},{"$f":"SUMIFS(#REF!,#REF!,$AD33)","v":{"$error":"#REF!"}},{"$f":"SUMIFS(#REF!,#REF!,$AD33)","v":{"$error":"#REF!"}},{"$f":"COUNTIF(TabUren2[datum],$AD33)","v":0},{"$f":"COUNTIF(TabUren22[datum],$AD33)","v":0},{"$f":"COUNTIF(#REF!,$AD33)","v":{"$error":"#REF!"}},{"$f":"COUNTIF(#REF!,$AD33)","v":{"$error":"#REF!"}},{"$f":"COUNTIF(#REF!,$AD33)","v":{"$error":"#REF!"}},{"$f":"COUNTIF(#REF!,$AD33)","v":{"$error":"#REF!"}},0,0,0,0,0,0,"","","","","","","","","","","","",0,""]
[null,null,null,null,null,null,null,null,null,null,null,null,null,null,null,null,null,null,null,null,null,null,null,null,null,null,33,null,null,"2015-02-02",{"$f":"SUMIFS('LOG1'!$J$5:$J$501,TabUren2[datum],$AD34)","v":"00:00:00"},{"$f":"SUMIFS('LOG2'!$J$5:$J$501,TabUren22[datum],$AD34)","v":"00:00:00"},{"$f":"SUMIFS(#REF!,#REF!,$AD34)","v":{"$error":"#REF!"}},{"$f":"SUMIFS(#REF!,#REF!,$AD34)","v":{"$error":"#REF!"}},{"$f":"SUMIFS(#REF!,#REF!,$AD34)","v":{"$error":"#REF!"}},{"$f":"SUMIFS(#REF!,#REF!,$AD34)","v":{"$error":"#REF!"}},{"$f":"COUNTIF(TabUren2[datum],$AD34)","v":0},{"$f":"COUNTIF(TabUren22[datum],$AD34)","v":0},{"$f":"COUNTIF(#REF!,$AD34)","v":{"$error":"#REF!"}},{"$f":"COUNTIF(#REF!,$AD34)","v":{"$error":"#REF!"}},{"$f":"COUNTIF(#REF!,$AD34)","v":{"$error":"#REF!"}},{"$f":"COUNTIF(#REF!,$AD34)","v":{"$error":"#REF!"}},0,0,0,0,0,0,"","","","","","","","","","","","",0,""]
[null,null,null,null,null,null,null,null,null,null,null,null,null,null,null,null,null,null,null,null,null,null,null,null,null,null,34,null,null,"2015-02-03",{"$f":"SUMIFS('LOG1'!$J$5:$J$501,TabUren2[datum],$AD35)","v":"00:00:00"},{"$f":"SUMIFS('LOG2'!$J$5:$J$501,TabUren22[datum],$AD35)","v":"00:00:00"},{"$f":"SUMIFS(#REF!,#REF!,$AD35)","v":{"$error":"#REF!"}},{"$f":"SUMIFS(#REF!,#REF!,$AD35)","v":{"$error":"#REF!"}},{"$f":"SUMIFS(#REF!,#REF!,$AD35)","v":{"$error":"#REF!"}},{"$f":"SUMIFS(#REF!,#REF!,$AD35)","v":{"$error":"#REF!"}},{"$f":"COUNTIF(TabUren2[datum],$AD35)","v":0},{"$f":"COUNTIF(TabUren22[datum],$AD35)","v":0},{"$f":"COUNTIF(#REF!,$AD35)","v":{"$error":"#REF!"}},{"$f":"COUNTIF(#REF!,$AD35)","v":{"$error":"#REF!"}},{"$f":"COUNTIF(#REF!,$AD35)","v":{"$error":"#REF!"}},{"$f":"COUNTIF(#REF!,$AD35)","v":{"$error":"#REF!"}},0,0,0,0,0,0,"","","","","","","","","","","","",0,""]
[null,null,null,null,null,null,null,null,null,null,null,null,null,null,null,null,null,null,null,null,null,null,null,null,null,null,35,null,null,"2015-02-04",{"$f":"SUMIFS('LOG1'!$J$5:$J$501,TabUren2[datum],$AD36)","v":"00:00:00"},{"$f":"SUMIFS('LOG2'!$J$5:$J$501,TabUren22[datum],$AD36)","v":"00:00:00"},{"$f":"SUMIFS(#REF!,#REF!,$AD36)","v":{"$error":"#REF!"}},{"$f":"SUMIFS(#REF!,#REF!,$AD36)","v":{"$error":"#REF!"}},{"$f":"SUMIFS(#REF!,#REF!,$AD36)","v":{"$error":"#REF!"}},{"$f":"SUMIFS(#REF!,#REF!,$AD36)","v":{"$error":"#REF!"}},{"$f":"COUNTIF(TabUren2[datum],$AD36)","v":0},{"$f":"COUNTIF(TabUren22[datum],$AD36)","v":0},{"$f":"COUNTIF(#REF!,$AD36)","v":{"$error":"#REF!"}},{"$f":"COUNTIF(#REF!,$AD36)","v":{"$error":"#REF!"}},{"$f":"COUNTIF(#REF!,$AD36)","v":{"$error":"#REF!"}},{"$f":"COUNTIF(#REF!,$AD36)","v":{"$error":"#REF!"}},0,0,0,0,0,0,"","","","","","","","","","","","",0,""]
[null,null,null,null,null,null,null,null,null,null,null,null,null,null,null,null,null,null,null,null,null,null,null,null,null,null,36,null,null,"2015-02-05",{"$f":"SUMIFS('LOG1'!$J$5:$J$501,TabUren2[datum],$AD37)","v":"00:00:00"},{"$f":"SUMIFS('LOG2'!$J$5:$J$501,TabUren22[datum],$AD37)","v":"00:00:00"},{"$f":"SUMIFS(#REF!,#REF!,$AD37)","v":{"$error":"#REF!"}},{"$f":"SUMIFS(#REF!,#REF!,$AD37)","v":{"$error":"#REF!"}},{"$f":"SUMIFS(#REF!,#REF!,$AD37)","v":{"$error":"#REF!"}},{"$f":"SUMIFS(#REF!,#REF!,$AD37)","v":{"$error":"#REF!"}},{"$f":"COUNTIF(TabUren2[datum],$AD37)","v":0},{"$f":"COUNTIF(TabUren22[datum],$AD37)","v":0},{"$f":"COUNTIF(#REF!,$AD37)","v":{"$error":"#REF!"}},{"$f":"COUNTIF(#REF!,$AD37)","v":{"$error":"#REF!"}},{"$f":"COUNTIF(#REF!,$AD37)","v":{"$error":"#REF!"}},{"$f":"COUNTIF(#REF!,$AD37)","v":{"$error":"#REF!"}},0,0,0,0,0,0,"","","","","","","","","","","","",0,""]
[null,null,null,null,null,null,null,null,null,null,null,null,null,null,null,null,null,null,null,null,null,null,null,null,null,null,37,null,null,"2015-02-06",{"$f":"SUMIFS('LOG1'!$J$5:$J$501,TabUren2[datum],$AD38)","v":"00:00:00"},{"$f":"SUMIFS('LOG2'!$J$5:$J$501,TabUren22[datum],$AD38)","v":"00:00:00"},{"$f":"SUMIFS(#REF!,#REF!,$AD38)","v":{"$error":"#REF!"}},{"$f":"SUMIFS(#REF!,#REF!,$AD38)","v":{"$error":"#REF!"}},{"$f":"SUMIFS(#REF!,#REF!,$AD38)","v":{"$error":"#REF!"}},{"$f":"SUMIFS(#REF!,#REF!,$AD38)","v":{"$error":"#REF!"}},{"$f":"COUNTIF(TabUren2[datum],$AD38)","v":0},{"$f":"COUNTIF(TabUren22[datum],$AD38)","v":0},{"$f":"COUNTIF(#REF!,$AD38)","v":{"$error":"#REF!"}},{"$f":"COUNTIF(#REF!,$AD38)","v":{"$error":"#REF!"}},{"$f":"COUNTIF(#REF!,$AD38)","v":{"$error":"#REF!"}},{"$f":"COUNTIF(#REF!,$AD38)","v":{"$error":"#REF!"}},0,0,0,0,0,0,"","","","","","","","","","","","",0,""]
[null,null,null,null,null,null,null,null,null,null,null,null,null,null,null,null,null,null,null,null,null,null,null,null,null,null,38,null,null,"2015-02-07",{"$f":"SUMIFS('LOG1'!$J$5:$J$501,TabUren2[datum],$AD39)","v":"00:00:00"},{"$f":"SUMIFS('LOG2'!$J$5:$J$501,TabUren22[datum],$AD39)","v":"00:00:00"},{"$f":"SUMIFS(#REF!,#REF!,$AD39)","v":{"$error":"#REF!"}},{"$f":"SUMIFS(#REF!,#REF!,$AD39)","v":{"$error":"#REF!"}},{"$f":"SUMIFS(#REF!,#REF!,$AD39)","v":{"$error":"#REF!"}},{"$f":"SUMIFS(#REF!,#REF!,$AD39)","v":{"$error":"#REF!"}},{"$f":"COUNTIF(TabUren2[datum],$AD39)","v":0},{"$f":"COUNTIF(TabUren22[datum],$AD39)","v":0},{"$f":"COUNTIF(#REF!,$AD39)","v":{"$error":"#REF!"}},{"$f":"COUNTIF(#REF!,$AD39)","v":{"$error":"#REF!"}},{"$f":"COUNTIF(#REF!,$AD39)","v":{"$error":"#REF!"}},{"$f":"COUNTIF(#REF!,$AD39)","v":{"$error":"#REF!"}},0,0,0,0,0,0,"","","","","","","","","","","","",0,""]
[null,null,null,null,null,null,null,null,null,null,null,null,null,null,null,null,null,null,null,null,null,null,null,null,null,null,39,null,null,"2015-02-08",{"$f":"SUMIFS('LOG1'!$J$5:$J$501,TabUren2[datum],$AD40)","v":"00:00:00"},{"$f":"SUMIFS('LOG2'!$J$5:$J$501,TabUren22[datum],$AD40)","v":"00:00:00"},{"$f":"SUMIFS(#REF!,#REF!,$AD40)","v":{"$error":"#REF!"}},{"$f":"SUMIFS(#REF!,#REF!,$AD40)","v":{"$error":"#REF!"}},{"$f":"SUMIFS(#REF!,#REF!,$AD40)","v":{"$error":"#REF!"}},{"$f":"SUMIFS(#REF!,#REF!,$AD40)","v":{"$error":"#REF!"}},{"$f":"COUNTIF(TabUren2[datum],$AD40)","v":0},{"$f":"COUNTIF(TabUren22[datum],$AD40)","v":0},{"$f":"COUNTIF(#REF!,$AD40)","v":{"$error":"#REF!"}},{"$f":"COUNTIF(#REF!,$AD40)","v":{"$error":"#REF!"}},{"$f":"COUNTIF(#REF!,$AD40)","v":{"$error":"#REF!"}},{"$f":"COUNTIF(#REF!,$AD40)","v":{"$error":"#REF!"}},0,0,0,0,0,0,"","","","","","","","","","","","",0,""]
[null,null,null,null,null,null,null,null,null,null,null,null,null,null,null,null,null,null,null,null,null,null,null,null,null,null,40,null,null,"2015-02-09",{"$f":"SUMIFS('LOG1'!$J$5:$J$501,TabUren2[datum],$AD41)","v":"00:00:00"},{"$f":"SUMIFS('LOG2'!$J$5:$J$501,TabUren22[datum],$AD41)","v":"00:00:00"},{"$f":"SUMIFS(#REF!,#REF!,$AD41)","v":{"$error":"#REF!"}},{"$f":"SUMIFS(#REF!,#REF!,$AD41)","v":{"$error":"#REF!"}},{"$f":"SUMIFS(#REF!,#REF!,$AD41)","v":{"$error":"#REF!"}},{"$f":"SUMIFS(#REF!,#REF!,$AD41)","v":{"$error":"#REF!"}},{"$f":"COUNTIF(TabUren2[datum],$AD41)","v":0},{"$f":"COUNTIF(TabUren22[datum],$AD41)","v":0},{"$f":"COUNTIF(#REF!,$AD41)","v":{"$error":"#REF!"}},{"$f":"COUNTIF(#REF!,$AD41)","v":{"$error":"#REF!"}},{"$f":"COUNTIF(#REF!,$AD41)","v":{"$error":"#REF!"}},{"$f":"COUNTIF(#REF!,$AD41)","v":{"$error":"#REF!"}},0,0,0,0,0,0,"","","","","","","","","","","","",0,""]
[null,null,null,null,null,null,null,null,null,null,null,null,null,null,null,null,null,null,null,null,null,null,null,null,null,null,41,null,null,"2015-02-10",{"$f":"SUMIFS('LOG1'!$J$5:$J$501,TabUren2[datum],$AD42)","v":"00:00:00"},{"$f":"SUMIFS('LOG2'!$J$5:$J$501,TabUren22[datum],$AD42)","v":"00:00:00"},{"$f":"SUMIFS(#REF!,#REF!,$AD42)","v":{"$error":"#REF!"}},{"$f":"SUMIFS(#REF!,#REF!,$AD42)","v":{"$error":"#REF!"}},{"$f":"SUMIFS(#REF!,#REF!,$AD42)","v":{"$error":"#REF!"}},{"$f":"SUMIFS(#REF!,#REF!,$AD42)","v":{"$error":"#REF!"}},{"$f":"COUNTIF(TabUren2[datum],$AD42)","v":0},{"$f":"COUNTIF(TabUren22[datum],$AD42)","v":0},{"$f":"COUNTIF(#REF!,$AD42)","v":{"$error":"#REF!"}},{"$f":"COUNTIF(#REF!,$AD42)","v":{"$error":"#REF!"}},{"$f":"COUNTIF(#REF!,$AD42)","v":{"$error":"#REF!"}},{"$f":"COUNTIF(#REF!,$AD42)","v":{"$error":"#REF!"}},0,0,0,0,0,0,"","","","","","","","","","","","",0,""]
[null,null,null,null,null,null,null,null,null,null,null,null,null,null,null,null,null,null,null,null,null,null,null,null,null,null,42,null,null,"2015-02-11",{"$f":"SUMIFS('LOG1'!$J$5:$J$501,TabUren2[datum],$AD43)","v":"00:00:00"},{"$f":"SUMIFS('LOG2'!$J$5:$J$501,TabUren22[datum],$AD43)","v":"00:00:00"},{"$f":"SUMIFS(#REF!,#REF!,$AD43)","v":{"$error":"#REF!"}},{"$f":"SUMIFS(#REF!,#REF!,$AD43)","v":{"$error":"#REF!"}},{"$f":"SUMIFS(#REF!,#REF!,$AD43)","v":{"$error":"#REF!"}},{"$f":"SUMIFS(#REF!,#REF!,$AD43)","v":{"$error":"#REF!"}},{"$f":"COUNTIF(TabUren2[datum],$AD43)","v":0},{"$f":"COUNTIF(TabUren22[datum],$AD43)","v":0},{"$f":"COUNTIF(#REF!,$AD43)","v":{"$error":"#REF!"}},{"$f":"COUNTIF(#REF!,$AD43)","v":{"$error":"#REF!"}},{"$f":"COUNTIF(#REF!,$AD43)","v":{"$error":"#REF!"}},{"$f":"COUNTIF(#REF!,$AD43)","v":{"$error":"#REF!"}},0,0,0,0,0,0,"","","","","","","","","","","","",0,""]
[null,null,null,null,null,null,null,null,null,null,null,null,null,null,null,null,null,null,null,null,null,null,null,null,null,null,43,null,null,"2015-02-12",{"$f":"SUMIFS('LOG1'!$J$5:$J$501,TabUren2[datum],$AD44)","v":"00:00:00"},{"$f":"SUMIFS('LOG2'!$J$5:$J$501,TabUren22[datum],$AD44)","v":"00:00:00"},{"$f":"SUMIFS(#REF!,#REF!,$AD44)","v":{"$error":"#REF!"}},{"$f":"SUMIFS(#REF!,#REF!,$AD44)","v":{"$error":"#REF!"}},{"$f":"SUMIFS(#REF!,#REF!,$AD44)","v":{"$error":"#REF!"}},{"$f":"SUMIFS(#REF!,#REF!,$AD44)","v":{"$error":"#REF!"}},{"$f":"COUNTIF(TabUren2[datum],$AD44)","v":0},{"$f":"COUNTIF(TabUren22[datum],$AD44)","v":0},{"$f":"COUNTIF(#REF!,$AD44)","v":{"$error":"#REF!"}},{"$f":"COUNTIF(#REF!,$AD44)","v":{"$error":"#REF!"}},{"$f":"COUNTIF(#REF!,$AD44)","v":{"$error":"#REF!"}},{"$f":"COUNTIF(#REF!,$AD44)","v":{"$error":"#REF!"}},0,0,0,0,0,0,"","","","","","","","","","","","",0,""]
[null,null,null,null,null,null,null,null,null,null,null,null,null,null,null,null,null,null,null,null,null,null,null,null,null,null,44,null,null,"2015-02-13",{"$f":"SUMIFS('LOG1'!$J$5:$J$501,TabUren2[datum],$AD45)","v":"00:00:00"},{"$f":"SUMIFS('LOG2'!$J$5:$J$501,TabUren22[datum],$AD45)","v":"00:00:00"},{"$f":"SUMIFS(#REF!,#REF!,$AD45)","v":{"$error":"#REF!"}},{"$f":"SUMIFS(#REF!,#REF!,$AD45)","v":{"$error":"#REF!"}},{"$f":"SUMIFS(#REF!,#REF!,$AD45)","v":{"$error":"#REF!"}},{"$f":"SUMIFS(#REF!,#REF!,$AD45)","v":{"$error":"#REF!"}},{"$f":"COUNTIF(TabUren2[datum],$AD45)","v":0},{"$f":"COUNTIF(TabUren22[datum],$AD45)","v":0},{"$f":"COUNTIF(#REF!,$AD45)","v":{"$error":"#REF!"}},{"$f":"COUNTIF(#REF!,$AD45)","v":{"$error":"#REF!"}},{"$f":"COUNTIF(#REF!,$AD45)","v":{"$error":"#REF!"}},{"$f":"COUNTIF(#REF!,$AD45)","v":{"$error":"#REF!"}},0,0,0,0,0,0,"","","","","","","","","","","","",0,""]
[null,null,null,null,null,null,null,null,null,null,null,null,null,null,null,null,null,null,null,null,null,null,null,null,null,null,45,null,null,"2015-02-14",{"$f":"SUMIFS('LOG1'!$J$5:$J$501,TabUren2[datum],$AD46)","v":"00:00:00"},{"$f":"SUMIFS('LOG2'!$J$5:$J$501,TabUren22[datum],$AD46)","v":"00:00:00"},{"$f":"SUMIFS(#REF!,#REF!,$AD46)","v":{"$error":"#REF!"}},{"$f":"SUMIFS(#REF!,#REF!,$AD46)","v":{"$error":"#REF!"}},{"$f":"SUMIFS(#REF!,#REF!,$AD46)","v":{"$error":"#REF!"}},{"$f":"SUMIFS(#REF!,#REF!,$AD46)","v":{"$error":"#REF!"}},{"$f":"COUNTIF(TabUren2[datum],$AD46)","v":0},{"$f":"COUNTIF(TabUren22[datum],$AD46)","v":0},{"$f":"COUNTIF(#REF!,$AD46)","v":{"$error":"#REF!"}},{"$f":"COUNTIF(#REF!,$AD46)","v":{"$error":"#REF!"}},{"$f":"COUNTIF(#REF!,$AD46)","v":{"$error":"#REF!"}},{"$f":"COUNTIF(#REF!,$AD46)","v":{"$error":"#REF!"}},0,0,0,0,0,0,"","","","","","","","","","","","",0,""]
[null,null,null,null,null,null,null,null,null,null,null,null,null,null,null,null,null,null,null,null,null,null,null,null,null,null,46,null,null,"2015-02-15",{"$f":"SUMIFS('LOG1'!$J$5:$J$501,TabUren2[datum],$AD47)","v":"00:00:00"},{"$f":"SUMIFS('LOG2'!$J$5:$J$501,TabUren22[datum],$AD47)","v":"00:00:00"},{"$f":"SUMIFS(#REF!,#REF!,$AD47)","v":{"$error":"#REF!"}},{"$f":"SUMIFS(#REF!,#REF!,$AD47)","v":{"$error":"#REF!"}},{"$f":"SUMIFS(#REF!,#REF!,$AD47)","v":{"$error":"#REF!"}},{"$f":"SUMIFS(#REF!,#REF!,$AD47)","v":{"$error":"#REF!"}},{"$f":"COUNTIF(TabUren2[datum],$AD47)","v":0},{"$f":"COUNTIF(TabUren22[datum],$AD47)","v":0},{"$f":"COUNTIF(#REF!,$AD47)","v":{"$error":"#REF!"}},{"$f":"COUNTIF(#REF!,$AD47)","v":{"$error":"#REF!"}},{"$f":"COUNTIF(#REF!,$AD47)","v":{"$error":"#REF!"}},{"$f":"COUNTIF(#REF!,$AD47)","v":{"$error":"#REF!"}},0,0,0,0,0,0,"","","","","","","","","","","","",0,""]
[null,null,null,null,null,null,null,null,null,null,null,null,null,null,null,null,null,null,null,null,null,null,null,null,null,null,47,null,null,"2015-02-16",{"$f":"SUMIFS('LOG1'!$J$5:$J$501,TabUren2[datum],$AD48)","v":"00:00:00"},{"$f":"SUMIFS('LOG2'!$J$5:$J$501,TabUren22[datum],$AD48)","v":"00:00:00"},{"$f":"SUMIFS(#REF!,#REF!,$AD48)","v":{"$error":"#REF!"}},{"$f":"SUMIFS(#REF!,#REF!,$AD48)","v":{"$error":"#REF!"}},{"$f":"SUMIFS(#REF!,#REF!,$AD48)","v":{"$error":"#REF!"}},{"$f":"SUMIFS(#REF!,#REF!,$AD48)","v":{"$error":"#REF!"}},{"$f":"COUNTIF(TabUren2[datum],$AD48)","v":0},{"$f":"COUNTIF(TabUren22[datum],$AD48)","v":0},{"$f":"COUNTIF(#REF!,$AD48)","v":{"$error":"#REF!"}},{"$f":"COUNTIF(#REF!,$AD48)","v":{"$error":"#REF!"}},{"$f":"COUNTIF(#REF!,$AD48)","v":{"$error":"#REF!"}},{"$f":"COUNTIF(#REF!,$AD48)","v":{"$error":"#REF!"}},0,0,0,0,0,0,"","","","","","","","","","","","",0,""]
[null,null,null,null,null,null,null,null,null,null,null,null,null,null,null,null,null,null,null,null,null,null,null,null,null,null,48,null,null,"2015-02-17",{"$f":"SUMIFS('LOG1'!$J$5:$J$501,TabUren2[datum],$AD49)","v":"00:00:00"},{"$f":"SUMIFS('LOG2'!$J$5:$J$501,TabUren22[datum],$AD49)","v":"00:00:00"},{"$f":"SUMIFS(#REF!,#REF!,$AD49)","v":{"$error":"#REF!"}},{"$f":"SUMIFS(#REF!,#REF!,$AD49)","v":{"$error":"#REF!"}},{"$f":"SUMIFS(#REF!,#REF!,$AD49)","v":{"$error":"#REF!"}},{"$f":"SUMIFS(#REF!,#REF!,$AD49)","v":{"$error":"#REF!"}},{"$f":"COUNTIF(TabUren2[datum],$AD49)","v":0},{"$f":"COUNTIF(TabUren22[datum],$AD49)","v":0},{"$f":"COUNTIF(#REF!,$AD49)","v":{"$error":"#REF!"}},{"$f":"COUNTIF(#REF!,$AD49)","v":{"$error":"#REF!"}},{"$f":"COUNTIF(#REF!,$AD49)","v":{"$error":"#REF!"}},{"$f":"COUNTIF(#REF!,$AD49)","v":{"$error":"#REF!"}},0,0,0,0,0,0,"","","","","","","","","","","","",0,""]
[null,null,null,null,null,null,null,null,null,null,null,null,null,null,null,null,null,null,null,null,null,null,null,null,null,null,49,null,null,"2015-02-18",{"$f":"SUMIFS('LOG1'!$J$5:$J$501,TabUren2[datum],$AD50)","v":"00:00:00"},{"$f":"SUMIFS('LOG2'!$J$5:$J$501,TabUren22[datum],$AD50)","v":"00:00:00"},{"$f":"SUMIFS(#REF!,#REF!,$AD50)","v":{"$error":"#REF!"}},{"$f":"SUMIFS(#REF!,#REF!,$AD50)","v":{"$error":"#REF!"}},{"$f":"SUMIFS(#REF!,#REF!,$AD50)","v":{"$error":"#REF!"}},{"$f":"SUMIFS(#REF!,#REF!,$AD50)","v":{"$error":"#REF!"}},{"$f":"COUNTIF(TabUren2[datum],$AD50)","v":0},{"$f":"COUNTIF(TabUren22[datum],$AD50)","v":0},{"$f":"COUNTIF(#REF!,$AD50)","v":{"$error":"#REF!"}},{"$f":"COUNTIF(#REF!,$AD50)","v":{"$error":"#REF!"}},{"$f":"COUNTIF(#REF!,$AD50)","v":{"$error":"#REF!"}},{"$f":"COUNTIF(#REF!,$AD50)","v":{"$error":"#REF!"}},0,0,0,0,0,0,"","","","","","","","","","","","",0,""]
[null,null,null,null,null,null,null,null,null,null,null,null,null,null,null,null,null,null,null,null,null,null,null,null,null,null,50,null,null,"2015-02-19",{"$f":"SUMIFS('LOG1'!$J$5:$J$501,TabUren2[datum],$AD51)","v":"00:00:00"},{"$f":"SUMIFS('LOG2'!$J$5:$J$501,TabUren22[datum],$AD51)","v":"00:00:00"},{"$f":"SUMIFS(#REF!,#REF!,$AD51)","v":{"$error":"#REF!"}},{"$f":"SUMIFS(#REF!,#REF!,$AD51)","v":{"$error":"#REF!"}},{"$f":"SUMIFS(#REF!,#REF!,$AD51)","v":{"$error":"#REF!"}},{"$f":"SUMIFS(#REF!,#REF!,$AD51)","v":{"$error":"#REF!"}},{"$f":"COUNTIF(TabUren2[datum],$AD51)","v":0},{"$f":"COUNTIF(TabUren22[datum],$AD51)","v":0},{"$f":"COUNTIF(#REF!,$AD51)","v":{"$error":"#REF!"}},{"$f":"COUNTIF(#REF!,$AD51)","v":{"$error":"#REF!"}},{"$f":"COUNTIF(#REF!,$AD51)","v":{"$error":"#REF!"}},{"$f":"COUNTIF(#REF!,$AD51)","v":{"$error":"#REF!"}},0,0,0,0,0,0,"","","","","","","","","","","","",0,""]
[null,null,null,null,null,null,null,null,null,null,null,null,null,null,null,null,null,null,null,null,null,null,null,null,null,null,51,null,null,"2015-02-20",{"$f":"SUMIFS('LOG1'!$J$5:$J$501,TabUren2[datum],$AD52)","v":"00:00:00"},{"$f":"SUMIFS('LOG2'!$J$5:$J$501,TabUren22[datum],$AD52)","v":"00:00:00"},{"$f":"SUMIFS(#REF!,#REF!,$AD52)","v":{"$error":"#REF!"}},{"$f":"SUMIFS(#REF!,#REF!,$AD52)","v":{"$error":"#REF!"}},{"$f":"SUMIFS(#REF!,#REF!,$AD52)","v":{"$error":"#REF!"}},{"$f":"SUMIFS(#REF!,#REF!,$AD52)","v":{"$error":"#REF!"}},{"$f":"COUNTIF(TabUren2[datum],$AD52)","v":0},{"$f":"COUNTIF(TabUren22[datum],$AD52)","v":0},{"$f":"COUNTIF(#REF!,$AD52)","v":{"$error":"#REF!"}},{"$f":"COUNTIF(#REF!,$AD52)","v":{"$error":"#REF!"}},{"$f":"COUNTIF(#REF!,$AD52)","v":{"$error":"#REF!"}},{"$f":"COUNTIF(#REF!,$AD52)","v":{"$error":"#REF!"}},0,0,0,0,0,0,"","","","","","","","","","","","",0,""]
[null,null,null,null,null,null,null,null,null,null,null,null,null,null,null,null,null,null,null,null,null,null,null,null,null,null,52,null,null,"2015-02-21",{"$f":"SUMIFS('LOG1'!$J$5:$J$501,TabUren2[datum],$AD53)","v":"00:00:00"},{"$f":"SUMIFS('LOG2'!$J$5:$J$501,TabUren22[datum],$AD53)","v":"00:00:00"},{"$f":"SUMIFS(#REF!,#REF!,$AD53)","v":{"$error":"#REF!"}},{"$f":"SUMIFS(#REF!,#REF!,$AD53)","v":{"$error":"#REF!"}},{"$f":"SUMIFS(#REF!,#REF!,$AD53)","v":{"$error":"#REF!"}},{"$f":"SUMIFS(#REF!,#REF!,$AD53)","v":{"$error":"#REF!"}},{"$f":"COUNTIF(TabUren2[datum],$AD53)","v":0},{"$f":"COUNTIF(TabUren22[datum],$AD53)","v":0},{"$f":"COUNTIF(#REF!,$AD53)","v":{"$error":"#REF!"}},{"$f":"COUNTIF(#REF!,$AD53)","v":{"$error":"#REF!"}},{"$f":"COUNTIF(#REF!,$AD53)","v":{"$error":"#REF!"}},{"$f":"COUNTIF(#REF!,$AD53)","v":{"$error":"#REF!"}},0,0,0,0,0,0,"","","","","","","","","","","","",0,""]
[null,null,null,null,null,null,null,null,null,null,null,null,null,null,null,null,null,null,null,null,null,null,null,null,null,null,53,null,null,"2015-02-22",{"$f":"SUMIFS('LOG1'!$J$5:$J$501,TabUren2[datum],$AD54)","v":"01:00:00"},{"$f":"SUMIFS('LOG2'!$J$5:$J$501,TabUren22[datum],$AD54)","v":"01:00:00"},{"$f":"SUMIFS(#REF!,#REF!,$AD54)","v":{"$error":"#REF!"}},{"$f":"SUMIFS(#REF!,#REF!,$AD54)","v":{"$error":"#REF!"}},{"$f":"SUMIFS(#REF!,#REF!,$AD54)","v":{"$error":"#REF!"}},{"$f":"SUMIFS(#REF!,#REF!,$AD54)","v":{"$error":"#REF!"}},{"$f":"COUNTIF(TabUren2[datum],$AD54)","v":1},{"$f":"COUNTIF(TabUren22[datum],$AD54)","v":1},{"$f":"COUNTIF(#REF!,$AD54)","v":{"$error":"#REF!"}},{"$f":"COUNTIF(#REF!,$AD54)","v":{"$error":"#REF!"}},{"$f":"COUNTIF(#REF!,$AD54)","v":{"$error":"#REF!"}},{"$f":"COUNTIF(#REF!,$AD54)","v":{"$error":"#REF!"}},1,1,0,0,0,0,"01:00:00","01:00:00","","","","","01:00:00","01:00:00","","","","",2,"2015-02-22"]
[null,null,null,null,null,null,null,null,null,null,null,null,null,null,null,null,null,null,null,null,null,null,null,null,null,null,54,null,null,"2015-02-23",{"$f":"SUMIFS('LOG1'!$J$5:$J$501,TabUren2[datum],$AD55)","v":"00:00:00"},{"$f":"SUMIFS('LOG2'!$J$5:$J$501,TabUren22[datum],$AD55)","v":"00:00:00"},{"$f":"SUMIFS(#REF!,#REF!,$AD55)","v":{"$error":"#REF!"}},{"$f":"SUMIFS(#REF!,#REF!,$AD55)","v":{"$error":"#REF!"}},{"$f":"SUMIFS(#REF!,#REF!,$AD55)","v":{"$error":"#REF!"}},{"$f":"SUMIFS(#REF!,#REF!,$AD55)","v":{"$error":"#REF!"}},{"$f":"COUNTIF(TabUren2[datum],$AD55)","v":0},{"$f":"COUNTIF(TabUren22[datum],$AD55)","v":0},{"$f":"COUNTIF(#REF!,$AD55)","v":{"$error":"#REF!"}},{"$f":"COUNTIF(#REF!,$AD55)","v":{"$error":"#REF!"}},{"$f":"COUNTIF(#REF!,$AD55)","v":{"$error":"#REF!"}},{"$f":"COUNTIF(#REF!,$AD55)","v":{"$error":"#REF!"}},0,0,0,0,0,0,"","","","","","","","","","","","",0,""]
[null,null,null,null,null,null,null,null,null,null,null,null,null,null,null,null,null,null,null,null,null,null,null,null,null,null,55,null,null,"2015-02-24",{"$f":"SUMIFS('LOG1'!$J$5:$J$501,TabUren2[datum],$AD56)","v":"00:00:00"},{"$f":"SUMIFS('LOG2'!$J$5:$J$501,TabUren22[datum],$AD56)","v":"00:00:00"},{"$f":"SUMIFS(#REF!,#REF!,$AD56)","v":{"$error":"#REF!"}},{"$f":"SUMIFS(#REF!,#REF!,$AD56)","v":{"$error":"#REF!"}},{"$f":"SUMIFS(#REF!,#REF!,$AD56)","v":{"$error":"#REF!"}},{"$f":"SUMIFS(#REF!,#REF!,$AD56)","v":{"$error":"#REF!"}},{"$f":"COUNTIF(TabUren2[datum],$AD56)","v":0},{"$f":"COUNTIF(TabUren22[datum],$AD56)","v":0},{"$f":"COUNTIF(#REF!,$AD56)","v":{"$error":"#REF!"}},{"$f":"COUNTIF(#REF!,$AD56)","v":{"$error":"#REF!"}},{"$f":"COUNTIF(#REF!,$AD56)","v":{"$error":"#REF!"}},{"$f":"COUNTIF(#REF!,$AD56)","v":{"$error":"#REF!"}},0,0,0,0,0,0,"","","","","","","","","","","","",0,""]
[null,null,null,null,null,null,null,null,null,null,null,null,null,null,null,null,null,null,null,null,null,null,null,null,null,null,56,null,null,"2015-02-25",{"$f":"SUMIFS('LOG1'!$J$5:$J$501,TabUren2[datum],$AD57)","v":"00:00:00"},{"$f":"SUMIFS('LOG2'!$J$5:$J$501,TabUren22[datum],$AD57)","v":"00:00:00"},{"$f":"SUMIFS(#REF!,#REF!,$AD57)","v":{"$error":"#REF!"}},{"$f":"SUMIFS(#REF!,#REF!,$AD57)","v":{"$error":"#REF!"}},{"$f":"SUMIFS(#REF!,#REF!,$AD57)","v":{"$error":"#REF!"}},{"$f":"SUMIFS(#REF!,#REF!,$AD57)","v":{"$error":"#REF!"}},{"$f":"COUNTIF(TabUren2[datum],$AD57)","v":0},{"$f":"COUNTIF(TabUren22[datum],$AD57)","v":0},{"$f":"COUNTIF(#REF!,$AD57)","v":{"$error":"#REF!"}},{"$f":"COUNTIF(#REF!,$AD57)","v":{"$error":"#REF!"}},{"$f":"COUNTIF(#REF!,$AD57)","v":{"$error":"#REF!"}},{"$f":"COUNTIF(#REF!,$AD57)","v":{"$error":"#REF!"}},0,0,0,0,0,0,"","","","","","","","","","","","",0,""]
[null,null,null,null,null,null,null,null,null,null,null,null,null,null,null,null,null,null,null,null,null,null,null,null,null,null,57,null,null,"2015-02-26",{"$f":"SUMIFS('LOG1'!$J$5:$J$501,TabUren2[datum],$AD58)","v":"00:00:00"},{"$f":"SUMIFS('LOG2'!$J$5:$J$501,TabUren22[datum],$AD58)","v":"00:00:00"},{"$f":"SUMIFS(#REF!,#REF!,$AD58)","v":{"$error":"#REF!"}},{"$f":"SUMIFS(#REF!,#REF!,$AD58)","v":{"$error":"#REF!"}},{"$f":"SUMIFS(#REF!,#REF!,$AD58)","v":{"$error":"#REF!"}},{"$f":"SUMIFS(#REF!,#REF!,$AD58)","v":{"$error":"#REF!"}},{"$f":"COUNTIF(TabUren2[datum],$AD58)","v":0},{"$f":"COUNTIF(TabUren22[datum],$AD58)","v":0},{"$f":"COUNTIF(#REF!,$AD58)","v":{"$error":"#REF!"}},{"$f":"COUNTIF(#REF!,$AD58)","v":{"$error":"#REF!"}},{"$f":"COUNTIF(#REF!,$AD58)","v":{"$error":"#REF!"}},{"$f":"COUNTIF(#REF!,$AD58)","v":{"$error":"#REF!"}},0,0,0,0,0,0,"","","","","","","","","","","","",0,""]
[null,null,null,null,null,null,null,null,null,null,null,null,null,null,null,null,null,null,null,null,null,null,null,null,null,null,58,null,null,"2015-02-27",{"$f":"SUMIFS('LOG1'!$J$5:$J$501,TabUren2[datum],$AD59)","v":"00:00:00"},{"$f":"SUMIFS('LOG2'!$J$5:$J$501,TabUren22[datum],$AD59)","v":"00:00:00"},{"$f":"SUMIFS(#REF!,#REF!,$AD59)","v":{"$error":"#REF!"}},{"$f":"SUMIFS(#REF!,#REF!,$AD59)","v":{"$error":"#REF!"}},{"$f":"SUMIFS(#REF!,#REF!,$AD59)","v":{"$error":"#REF!"}},{"$f":"SUMIFS(#REF!,#REF!,$AD59)","v":{"$error":"#REF!"}},{"$f":"COUNTIF(TabUren2[datum],$AD59)","v":0},{"$f":"COUNTIF(TabUren22[datum],$AD59)","v":0},{"$f":"COUNTIF(#REF!,$AD59)","v":{"$error":"#REF!"}},{"$f":"COUNTIF(#REF!,$AD59)","v":{"$error":"#REF!"}},{"$f":"COUNTIF(#REF!,$AD59)","v":{"$error":"#REF!"}},{"$f":"COUNTIF(#REF!,$AD59)","v":{"$error":"#REF!"}},0,0,0,0,0,0,"","","","","","","","","","","","",0,""]
[null,null,null,null,null,null,null,null,null,null,null,null,null,null,null,null,null,null,null,null,null,null,null,null,null,null,59,null,null,"2015-02-28",{"$f":"SUMIFS('LOG1'!$J$5:$J$501,TabUren2[datum],$AD60)","v":"00:00:00"},{"$f":"SUMIFS('LOG2'!$J$5:$J$501,TabUren22[datum],$AD60)","v":"00:00:00"},{"$f":"SUMIFS(#REF!,#REF!,$AD60)","v":{"$error":"#REF!"}},{"$f":"SUMIFS(#REF!,#REF!,$AD60)","v":{"$error":"#REF!"}},{"$f":"SUMIFS(#REF!,#REF!,$AD60)","v":{"$error":"#REF!"}},{"$f":"SUMIFS(#REF!,#REF!,$AD60)","v":{"$error":"#REF!"}},{"$f":"COUNTIF(TabUren2[datum],$AD60)","v":0},{"$f":"COUNTIF(TabUren22[datum],$AD60)","v":0},{"$f":"COUNTIF(#REF!,$AD60)","v":{"$error":"#REF!"}},{"$f":"COUNTIF(#REF!,$AD60)","v":{"$error":"#REF!"}},{"$f":"COUNTIF(#REF!,$AD60)","v":{"$error":"#REF!"}},{"$f":"COUNTIF(#REF!,$AD60)","v":{"$error":"#REF!"}},0,0,0,0,0,0,"","","","","","","","","","","","",0,""]
[null,null,null,null,null,null,null,null,null,null,null,null,null,null,null,null,null,null,null,null,null,null,null,null,null,null,60,null,null,"2015-03-01",{"$f":"SUMIFS('LOG1'!$J$5:$J$501,TabUren2[datum],$AD61)","v":"00:00:00"},{"$f":"SUMIFS('LOG2'!$J$5:$J$501,TabUren22[datum],$AD61)","v":"00:00:00"},{"$f":"SUMIFS(#REF!,#REF!,$AD61)","v":{"$error":"#REF!"}},{"$f":"SUMIFS(#REF!,#REF!,$AD61)","v":{"$error":"#REF!"}},{"$f":"SUMIFS(#REF!,#REF!,$AD61)","v":{"$error":"#REF!"}},{"$f":"SUMIFS(#REF!,#REF!,$AD61)","v":{"$error":"#REF!"}},{"$f":"COUNTIF(TabUren2[datum],$AD61)","v":0},{"$f":"COUNTIF(TabUren22[datum],$AD61)","v":0},{"$f":"COUNTIF(#REF!,$AD61)","v":{"$error":"#REF!"}},{"$f":"COUNTIF(#REF!,$AD61)","v":{"$error":"#REF!"}},{"$f":"COUNTIF(#REF!,$AD61)","v":{"$error":"#REF!"}},{"$f":"COUNTIF(#REF!,$AD61)","v":{"$error":"#REF!"}},0,0,0,0,0,0,"","","","","","","","","","","","",0,""]
[null,null,null,null,null,null,null,null,null,null,null,null,null,null,null,null,null,null,null,null,null,null,null,null,null,null,61,null,null,"2015-03-02",{"$f":"SUMIFS('LOG1'!$J$5:$J$501,TabUren2[datum],$AD62)","v":"00:00:00"},{"$f":"SUMIFS('LOG2'!$J$5:$J$501,TabUren22[datum],$AD62)","v":"00:00:00"},{"$f":"SUMIFS(#REF!,#REF!,$AD62)","v":{"$error":"#REF!"}},{"$f":"SUMIFS(#REF!,#REF!,$AD62)","v":{"$error":"#REF!"}},{"$f":"SUMIFS(#REF!,#REF!,$AD62)","v":{"$error":"#REF!"}},{"$f":"SUMIFS(#REF!,#REF!,$AD62)","v":{"$error":"#REF!"}},{"$f":"COUNTIF(TabUren2[datum],$AD62)","v":0},{"$f":"COUNTIF(TabUren22[datum],$AD62)","v":0},{"$f":"COUNTIF(#REF!,$AD62)","v":{"$error":"#REF!"}},{"$f":"COUNTIF(#REF!,$AD62)","v":{"$error":"#REF!"}},{"$f":"COUNTIF(#REF!,$AD62)","v":{"$error":"#REF!"}},{"$f":"COUNTIF(#REF!,$AD62)","v":{"$error":"#REF!"}},0,0,0,0,0,0,"","","","","","","","","","","","",0,""]
[null,null,null,null,null,null,null,null,null,null,null,null,null,null,null,null,null,null,null,null,null,null,null,null,null,null,62,null,null,"2015-03-03",{"$f":"SUMIFS('LOG1'!$J$5:$J$501,TabUren2[datum],$AD63)","v":"00:00:00"},{"$f":"SUMIFS('LOG2'!$J$5:$J$501,TabUren22[datum],$AD63)","v":"00:00:00"},{"$f":"SUMIFS(#REF!,#REF!,$AD63)","v":{"$error":"#REF!"}},{"$f":"SUMIFS(#REF!,#REF!,$AD63)","v":{"$error":"#REF!"}},{"$f":"SUMIFS(#REF!,#REF!,$AD63)","v":{"$error":"#REF!"}},{"$f":"SUMIFS(#REF!,#REF!,$AD63)","v":{"$error":"#REF!"}},{"$f":"COUNTIF(TabUren2[datum],$AD63)","v":0},{"$f":"COUNTIF(TabUren22[datum],$AD63)","v":0},{"$f":"COUNTIF(#REF!,$AD63)","v":{"$error":"#REF!"}},{"$f":"COUNTIF(#REF!,$AD63)","v":{"$error":"#REF!"}},{"$f":"COUNTIF(#REF!,$AD63)","v":{"$error":"#REF!"}},{"$f":"COUNTIF(#REF!,$AD63)","v":{"$error":"#REF!"}},0,0,0,0,0,0,"","","","","","","","","","","","",0,""]
[null,null,null,null,null,null,null,null,null,null,null,null,null,null,null,null,null,null,null,null,null,null,null,null,null,null,63,null,null,"2015-03-04",{"$f":"SUMIFS('LOG1'!$J$5:$J$501,TabUren2[datum],$AD64)","v":"00:00:00"},{"$f":"SUMIFS('LOG2'!$J$5:$J$501,TabUren22[datum],$AD64)","v":"00:00:00"},{"$f":"SUMIFS(#REF!,#REF!,$AD64)","v":{"$error":"#REF!"}},{"$f":"SUMIFS(#REF!,#REF!,$AD64)","v":{"$error":"#REF!"}},{"$f":"SUMIFS(#REF!,#REF!,$AD64)","v":{"$error":"#REF!"}},{"$f":"SUMIFS(#REF!,#REF!,$AD64)","v":{"$error":"#REF!"}},{"$f":"COUNTIF(TabUren2[datum],$AD64)","v":0},{"$f":"COUNTIF(TabUren22[datum],$AD64)","v":0},{"$f":"COUNTIF(#REF!,$AD64)","v":{"$error":"#REF!"}},{"$f":"COUNTIF(#REF!,$AD64)","v":{"$error":"#REF!"}},{"$f":"COUNTIF(#REF!,$AD64)","v":{"$error":"#REF!"}},{"$f":"COUNTIF(#REF!,$AD64)","v":{"$error":"#REF!"}},0,0,0,0,0,0,"","","","","","","","","","","","",0,""]
[null,null,null,null,null,null,null,null,null,null,null,null,null,null,null,null,null,null,null,null,null,null,null,null,null,null,64,null,null,"2015-03-05",{"$f":"SUMIFS('LOG1'!$J$5:$J$501,TabUren2[datum],$AD65)","v":"00:00:00"},{"$f":"SUMIFS('LOG2'!$J$5:$J$501,TabUren22[datum],$AD65)","v":"00:00:00"},{"$f":"SUMIFS(#REF!,#REF!,$AD65)","v":{"$error":"#REF!"}},{"$f":"SUMIFS(#REF!,#REF!,$AD65)","v":{"$error":"#REF!"}},{"$f":"SUMIFS(#REF!,#REF!,$AD65)","v":{"$error":"#REF!"}},{"$f":"SUMIFS(#REF!,#REF!,$AD65)","v":{"$error":"#REF!"}},{"$f":"COUNTIF(TabUren2[datum],$AD65)","v":0},{"$f":"COUNTIF(TabUren22[datum],$AD65)","v":0},{"$f":"COUNTIF(#REF!,$AD65)","v":{"$error":"#REF!"}},{"$f":"COUNTIF(#REF!,$AD65)","v":{"$error":"#REF!"}},{"$f":"COUNTIF(#REF!,$AD65)","v":{"$error":"#REF!"}},{"$f":"COUNTIF(#REF!,$AD65)","v":{"$error":"#REF!"}},0,0,0,0,0,0,"","","","","","","","","","","","",0,""]
[null,null,null,null,null,null,null,null,null,null,null,null,null,null,null,null,null,null,null,null,null,null,null,null,null,null,65,null,null,"2015-03-06",{"$f":"SUMIFS('LOG1'!$J$5:$J$501,TabUren2[datum],$AD66)","v":"00:00:00"},{"$f":"SUMIFS('LOG2'!$J$5:$J$501,TabUren22[datum],$AD66)","v":"00:00:00"},{"$f":"SUMIFS(#REF!,#REF!,$AD66)","v":{"$error":"#REF!"}},{"$f":"SUMIFS(#REF!,#REF!,$AD66)","v":{"$error":"#REF!"}},{"$f":"SUMIFS(#REF!,#REF!,$AD66)","v":{"$error":"#REF!"}},{"$f":"SUMIFS(#REF!,#REF!,$AD66)","v":{"$error":"#REF!"}},{"$f":"COUNTIF(TabUren2[datum],$AD66)","v":0},{"$f":"COUNTIF(TabUren22[datum],$AD66)","v":0},{"$f":"COUNTIF(#REF!,$AD66)","v":{"$error":"#REF!"}},{"$f":"COUNTIF(#REF!,$AD66)","v":{"$error":"#REF!"}},{"$f":"COUNTIF(#REF!,$AD66)","v":{"$error":"#REF!"}},{"$f":"COUNTIF(#REF!,$AD66)","v":{"$error":"#REF!"}},0,0,0,0,0,0,"","","","","","","","","","","","",0,""]
[null,null,null,null,null,null,null,null,null,null,null,null,null,null,null,null,null,null,null,null,null,null,null,null,null,null,66,null,null,"2015-03-07",{"$f":"SUMIFS('LOG1'!$J$5:$J$501,TabUren2[datum],$AD67)","v":"00:00:00"},{"$f":"SUMIFS('LOG2'!$J$5:$J$501,TabUren22[datum],$AD67)","v":"00:00:00"},{"$f":"SUMIFS(#REF!,#REF!,$AD67)","v":{"$error":"#REF!"}},{"$f":"SUMIFS(#REF!,#REF!,$AD67)","v":{"$error":"#REF!"}},{"$f":"SUMIFS(#REF!,#REF!,$AD67)","v":{"$error":"#REF!"}},{"$f":"SUMIFS(#REF!,#REF!,$AD67)","v":{"$error":"#REF!"}},{"$f":"COUNTIF(TabUren2[datum],$AD67)","v":0},{"$f":"COUNTIF(TabUren22[datum],$AD67)","v":0},{"$f":"COUNTIF(#REF!,$AD67)","v":{"$error":"#REF!"}},{"$f":"COUNTIF(#REF!,$AD67)","v":{"$error":"#REF!"}},{"$f":"COUNTIF(#REF!,$AD67)","v":{"$error":"#REF!"}},{"$f":"COUNTIF(#REF!,$AD67)","v":{"$error":"#REF!"}},{"$f":"COUNTIF(AK67,\">0\")","v":0},{"$f":"COUNTIF(AL67,\">0\")","v":0},{"$f":"COUNTIF(AM67,\">0\")","v":0},{"$f":"COUNTIF(AN67,\">0\")","v":0},{"$f":"COUNTIF(AO67,\">0\")","v":0},{"$f":"COUNTIF(AP67,\">0\")","v":0},{"$f":"IF(AQ67=1,AE67,\"\")","v":""},{"$f":"IF(AR67=1,AF67,\"\")","v":""},{"$f":"IF(AS67=1,AG67,\"\")","v":""},{"$f":"IF(AT67=1,AH67,\"\")","v":""},{"$f":"IF(AU67=1,AI67,\"\")","v":""},{"$f":"IF(AV67=1,AJ67,\"\")","v":""},{"$f":"IF(BC$1=TRUE,AW67,\"\")","v":""},{"$f":"IF(BD$1=TRUE,AX67,\"\")","v":""},{"$f":"IF(BE$1=TRUE,AY67,\"\")","v":""},{"$f":"IF(BF$1=TRUE,AZ67,\"\")","v":""},{"$f":"IF(BG$1=TRUE,BA67,\"\")","v":""},{"$f":"IF(BH$1=TRUE,BB67,\"\")","v":""},0,""]
[null,null,null,null,null,null,null,null,null,null,null,null,null,null,null,null,null,null,null,null,null,null,null,null,null,null,67,null,null,"2015-03-08",{"$f":"SUMIFS('LOG1'!$J$5:$J$501,TabUren2[datum],$AD68)","v":"00:00:00"},{"$f":"SUMIFS('LOG2'!$J$5:$J$501,TabUren22[datum],$AD68)","v":"00:00:00"},{"$f":"SUMIFS(#REF!,#REF!,$AD68)","v":{"$error":"#REF!"}},{"$f":"SUMIFS(#REF!,#REF!,$AD68)","v":{"$error":"#REF!"}},{"$f":"SUMIFS(#REF!,#REF!,$AD68)","v":{"$error":"#REF!"}},{"$f":"SUMIFS(#REF!,#REF!,$AD68)","v":{"$error":"#REF!"}},{"$f":"COUNTIF(TabUren2[datum],$AD68)","v":0},{"$f":"COUNTIF(TabUren22[datum],$AD68)","v":0},{"$f":"COUNTIF(#REF!,$AD68)","v":{"$error":"#REF!"}},{"$f":"COUNTIF(#REF!,$AD68)","v":{"$error":"#REF!"}},{"$f":"COUNTIF(#REF!,$AD68)","v":{"$error":"#REF!"}},{"$f":"COUNTIF(#REF!,$AD68)","v":{"$error":"#REF!"}},0,0,0,0,0,0,"","","","","","","","","","","","",0,""]
[null,null,null,null,null,null,null,null,null,null,null,null,null,null,null,null,null,null,null,null,null,null,null,null,null,null,68,null,null,"2015-03-09",{"$f":"SUMIFS('LOG1'!$J$5:$J$501,TabUren2[datum],$AD69)","v":"00:00:00"},{"$f":"SUMIFS('LOG2'!$J$5:$J$501,TabUren22[datum],$AD69)","v":"00:00:00"},{"$f":"SUMIFS(#REF!,#REF!,$AD69)","v":{"$error":"#REF!"}},{"$f":"SUMIFS(#REF!,#REF!,$AD69)","v":{"$error":"#REF!"}},{"$f":"SUMIFS(#REF!,#REF!,$AD69)","v":{"$error":"#REF!"}},{"$f":"SUMIFS(#REF!,#REF!,$AD69)","v":{"$error":"#REF!"}},{"$f":"COUNTIF(TabUren2[datum],$AD69)","v":0},{"$f":"COUNTIF(TabUren22[datum],$AD69)","v":0},{"$f":"COUNTIF(#REF!,$AD69)","v":{"$error":"#REF!"}},{"$f":"COUNTIF(#REF!,$AD69)","v":{"$error":"#REF!"}},{"$f":"COUNTIF(#REF!,$AD69)","v":{"$error":"#REF!"}},{"$f":"COUNTIF(#REF!,$AD69)","v":{"$error":"#REF!"}},0,0,0,0,0,0,"","","","","","","","","","","","",0,""]
[null,null,null,null,null,null,null,null,null,null,null,null,null,null,null,null,null,null,null,null,null,null,null,null,null,null,69,null,null,"2015-03-10",{"$f":"SUMIFS('LOG1'!$J$5:$J$501,TabUren2[datum],$AD70)","v":"00:00:00"},{"$f":"SUMIFS('LOG2'!$J$5:$J$501,TabUren22[datum],$AD70)","v":"00:00:00"},{"$f":"SUMIFS(#REF!,#REF!,$AD70)","v":{"$error":"#REF!"}},{"$f":"SUMIFS(#REF!,#REF!,$AD70)","v":{"$error":"#REF!"}},{"$f":"SUMIFS(#REF!,#REF!,$AD70)","v":{"$error":"#REF!"}},{"$f":"SUMIFS(#REF!,#REF!,$AD70)","v":{"$error":"#REF!"}},{"$f":"COUNTIF(TabUren2[datum],$AD70)","v":0},{"$f":"COUNTIF(TabUren22[datum],$AD70)","v":0},{"$f":"COUNTIF(#REF!,$AD70)","v":{"$error":"#REF!"}},{"$f":"COUNTIF(#REF!,$AD70)","v":{"$error":"#REF!"}},{"$f":"COUNTIF(#REF!,$AD70)","v":{"$error":"#REF!"}},{"$f":"COUNTIF(#REF!,$AD70)","v":{"$error":"#REF!"}},0,0,0,0,0,0,"","","","","","","","","","","","",{"$f":"COUNT(AW70:BB70)","v":0},{"$f":"IF(BI70>0,AD70,\"\")","v":""}]
[null,null,null,null,null,null,null,null,null,null,null,null,null,null,null,null,null,null,null,null,null,null,null,null,null,null,70,null,null,"2015-03-11",{"$f":"SUMIFS('LOG1'!$J$5:$J$501,TabUren2[datum],$AD71)","v":"00:00:00"},{"$f":"SUMIFS('LOG2'!$J$5:$J$501,TabUren22[datum],$AD71)","v":"00:00:00"},{"$f":"SUMIFS(#REF!,#REF!,$AD71)","v":{"$error":"#REF!"}},{"$f":"SUMIFS(#REF!,#REF!,$AD71)","v":{"$error":"#REF!"}},{"$f":"SUMIFS(#REF!,#REF!,$AD71)","v":{"$error":"#REF!"}},{"$f":"SUMIFS(#REF!,#REF!,$AD71)","v":{"$error":"#REF!"}},{"$f":"COUNTIF(TabUren2[datum],$AD71)","v":0},{"$f":"COUNTIF(TabUren22[datum],$AD71)","v":0},{"$f":"COUNTIF(#REF!,$AD71)","v":{"$error":"#REF!"}},{"$f":"COUNTIF(#REF!,$AD71)","v":{"$error":"#REF!"}},{"$f":"COUNTIF(#REF!,$AD71)","v":{"$error":"#REF!"}},{"$f":"COUNTIF(#REF!,$AD71)","v":{"$error":"#REF!"}},0,0,0,0,0,0,"","","","","","","","","","","","",0,""]
[null,null,null,null,null,null,null,null,null,null,null,null,null,null,null,null,null,null,null,null,null,null,null,null,null,null,71,null,null,"2015-03-12",{"$f":"SUMIFS('LOG1'!$J$5:$J$501,TabUren2[datum],$AD72)","v":"00:00:00"},{"$f":"SUMIFS('LOG2'!$J$5:$J$501,TabUren22[datum],$AD72)","v":"00:00:00"},{"$f":"SUMIFS(#REF!,#REF!,$AD72)","v":{"$error":"#REF!"}},{"$f":"SUMIFS(#REF!,#REF!,$AD72)","v":{"$error":"#REF!"}},{"$f":"SUMIFS(#REF!,#REF!,$AD72)","v":{"$error":"#REF!"}},{"$f":"SUMIFS(#REF!,#REF!,$AD72)","v":{"$error":"#REF!"}},{"$f":"COUNTIF(TabUren2[datum],$AD72)","v":0},{"$f":"COUNTIF(TabUren22[datum],$AD72)","v":0},{"$f":"COUNTIF(#REF!,$AD72)","v":{"$error":"#REF!"}},{"$f":"COUNTIF(#REF!,$AD72)","v":{"$error":"#REF!"}},{"$f":"COUNTIF(#REF!,$AD72)","v":{"$error":"#REF!"}},{"$f":"COUNTIF(#REF!,$AD72)","v":{"$error":"#REF!"}},0,0,0,0,0,0,"","","","","","","","","","","","",0,""]
[null,null,null,null,null,null,null,null,null,null,null,null,null,null,null,null,null,null,null,null,null,null,null,null,null,null,72,null,null,"2015-03-13",{"$f":"SUMIFS('LOG1'!$J$5:$J$501,TabUren2[datum],$AD73)","v":"00:00:00"},{"$f":"SUMIFS('LOG2'!$J$5:$J$501,TabUren22[datum],$AD73)","v":"00:00:00"},{"$f":"SUMIFS(#REF!,#REF!,$AD73)","v":{"$error":"#REF!"}},{"$f":"SUMIFS(#REF!,#REF!,$AD73)","v":{"$error":"#REF!"}},{"$f":"SUMIFS(#REF!,#REF!,$AD73)","v":{"$error":"#REF!"}},{"$f":"SUMIFS(#REF!,#REF!,$AD73)","v":{"$error":"#REF!"}},{"$f":"COUNTIF(TabUren2[datum],$AD73)","v":0},{"$f":"COUNTIF(TabUren22[datum],$AD73)","v":0},{"$f":"COUNTIF(#REF!,$AD73)","v":{"$error":"#REF!"}},{"$f":"COUNTIF(#REF!,$AD73)","v":{"$error":"#REF!"}},{"$f":"COUNTIF(#REF!,$AD73)","v":{"$error":"#REF!"}},{"$f":"COUNTIF(#REF!,$AD73)","v":{"$error":"#REF!"}},0,0,0,0,0,0,"","","","","","","","","","","","",0,""]
[null,null,null,null,null,null,null,null,null,null,null,null,null,null,null,null,null,null,null,null,null,null,null,null,null,null,73,null,null,"2015-03-14",{"$f":"SUMIFS('LOG1'!$J$5:$J$501,TabUren2[datum],$AD74)","v":"00:00:00"},{"$f":"SUMIFS('LOG2'!$J$5:$J$501,TabUren22[datum],$AD74)","v":"00:00:00"},{"$f":"SUMIFS(#REF!,#REF!,$AD74)","v":{"$error":"#REF!"}},{"$f":"SUMIFS(#REF!,#REF!,$AD74)","v":{"$error":"#REF!"}},{"$f":"SUMIFS(#REF!,#REF!,$AD74)","v":{"$error":"#REF!"}},{"$f":"SUMIFS(#REF!,#REF!,$AD74)","v":{"$error":"#REF!"}},{"$f":"COUNTIF(TabUren2[datum],$AD74)","v":0},{"$f":"COUNTIF(TabUren22[datum],$AD74)","v":0},{"$f":"COUNTIF(#REF!,$AD74)","v":{"$error":"#REF!"}},{"$f":"COUNTIF(#REF!,$AD74)","v":{"$error":"#REF!"}},{"$f":"COUNTIF(#REF!,$AD74)","v":{"$error":"#REF!"}},{"$f":"COUNTIF(#REF!,$AD74)","v":{"$error":"#REF!"}},0,0,0,0,0,0,"","","","","","","","","","","","",0,""]
[null,null,null,null,null,null,null,null,null,null,null,null,null,null,null,null,null,null,null,null,null,null,null,null,null,null,74,null,null,"2015-03-15",{"$f":"SUMIFS('LOG1'!$J$5:$J$501,TabUren2[datum],$AD75)","v":"00:00:00"},{"$f":"SUMIFS('LOG2'!$J$5:$J$501,TabUren22[datum],$AD75)","v":"00:00:00"},{"$f":"SUMIFS(#REF!,#REF!,$AD75)","v":{"$error":"#REF!"}},{"$f":"SUMIFS(#REF!,#REF!,$AD75)","v":{"$error":"#REF!"}},{"$f":"SUMIFS(#REF!,#REF!,$AD75)","v":{"$error":"#REF!"}},{"$f":"SUMIFS(#REF!,#REF!,$AD75)","v":{"$error":"#REF!"}},{"$f":"COUNTIF(TabUren2[datum],$AD75)","v":0},{"$f":"COUNTIF(TabUren22[datum],$AD75)","v":0},{"$f":"COUNTIF(#REF!,$AD75)","v":{"$error":"#REF!"}},{"$f":"COUNTIF(#REF!,$AD75)","v":{"$error":"#REF!"}},{"$f":"COUNTIF(#REF!,$AD75)","v":{"$error":"#REF!"}},{"$f":"COUNTIF(#REF!,$AD75)","v":{"$error":"#REF!"}},0,0,0,0,0,0,"","","","","","","","","","","","",0,""]
[null,null,null,null,null,null,null,null,null,null,null,null,null,null,null,null,null,null,null,null,null,null,null,null,null,null,75,null,null,"2015-03-16",{"$f":"SUMIFS('LOG1'!$J$5:$J$501,TabUren2[datum],$AD76)","v":"00:00:00"},{"$f":"SUMIFS('LOG2'!$J$5:$J$501,TabUren22[datum],$AD76)","v":"00:00:00"},{"$f":"SUMIFS(#REF!,#REF!,$AD76)","v":{"$error":"#REF!"}},{"$f":"SUMIFS(#REF!,#REF!,$AD76)","v":{"$error":"#REF!"}},{"$f":"SUMIFS(#REF!,#REF!,$AD76)","v":{"$error":"#REF!"}},{"$f":"SUMIFS(#REF!,#REF!,$AD76)","v":{"$error":"#REF!"}},{"$f":"COUNTIF(TabUren2[datum],$AD76)","v":0},{"$f":"COUNTIF(TabUren22[datum],$AD76)","v":0},{"$f":"COUNTIF(#REF!,$AD76)","v":{"$error":"#REF!"}},{"$f":"COUNTIF(#REF!,$AD76)","v":{"$error":"#REF!"}},{"$f":"COUNTIF(#REF!,$AD76)","v":{"$error":"#REF!"}},{"$f":"COUNTIF(#REF!,$AD76)","v":{"$error":"#REF!"}},0,0,0,0,0,0,"","","","","","","","","","","","",0,""]
[null,null,null,null,null,null,null,null,null,null,null,null,null,null,null,null,null,null,null,null,null,null,null,null,null,null,76,null,null,"2015-03-17",{"$f":"SUMIFS('LOG1'!$J$5:$J$501,TabUren2[datum],$AD77)","v":"00:00:00"},{"$f":"SUMIFS('LOG2'!$J$5:$J$501,TabUren22[datum],$AD77)","v":"00:00:00"},{"$f":"SUMIFS(#REF!,#REF!,$AD77)","v":{"$error":"#REF!"}},{"$f":"SUMIFS(#REF!,#REF!,$AD77)","v":{"$error":"#REF!"}},{"$f":"SUMIFS(#REF!,#REF!,$AD77)","v":{"$error":"#REF!"}},{"$f":"SUMIFS(#REF!,#REF!,$AD77)","v":{"$error":"#REF!"}},{"$f":"COUNTIF(TabUren2[datum],$AD77)","v":0},{"$f":"COUNTIF(TabUren22[datum],$AD77)","v":0},{"$f":"COUNTIF(#REF!,$AD77)","v":{"$error":"#REF!"}},{"$f":"COUNTIF(#REF!,$AD77)","v":{"$error":"#REF!"}},{"$f":"COUNTIF(#REF!,$AD77)","v":{"$error":"#REF!"}},{"$f":"COUNTIF(#REF!,$AD77)","v":{"$error":"#REF!"}},0,0,0,0,0,0,"","","","","","","","","","","","",0,""]
[null,null,null,null,null,null,null,null,null,null,null,null,null,null,null,null,null,null,null,null,null,null,null,null,null,null,77,null,null,"2015-03-18",{"$f":"SUMIFS('LOG1'!$J$5:$J$501,TabUren2[datum],$AD78)","v":"00:00:00"},{"$f":"SUMIFS('LOG2'!$J$5:$J$501,TabUren22[datum],$AD78)","v":"00:00:00"},{"$f":"SUMIFS(#REF!,#REF!,$AD78)","v":{"$error":"#REF!"}},{"$f":"SUMIFS(#REF!,#REF!,$AD78)","v":{"$error":"#REF!"}},{"$f":"SUMIFS(#REF!,#REF!,$AD78)","v":{"$error":"#REF!"}},{"$f":"SUMIFS(#REF!,#REF!,$AD78)","v":{"$error":"#REF!"}},{"$f":"COUNTIF(TabUren2[datum],$AD78)","v":0},{"$f":"COUNTIF(TabUren22[datum],$AD78)","v":0},{"$f":"COUNTIF(#REF!,$AD78)","v":{"$error":"#REF!"}},{"$f":"COUNTIF(#REF!,$AD78)","v":{"$error":"#REF!"}},{"$f":"COUNTIF(#REF!,$AD78)","v":{"$error":"#REF!"}},{"$f":"COUNTIF(#REF!,$AD78)","v":{"$error":"#REF!"}},0,0,0,0,0,0,"","","","","","","","","","","","",0,""]
[null,null,null,null,null,null,null,null,null,null,null,null,null,null,null,null,null,null,null,null,null,null,null,null,null,null,78,null,null,"2015-03-19",{"$f":"SUMIFS('LOG1'!$J$5:$J$501,TabUren2[datum],$AD79)","v":"00:00:00"},{"$f":"SUMIFS('LOG2'!$J$5:$J$501,TabUren22[datum],$AD79)","v":"00:00:00"},{"$f":"SUMIFS(#REF!,#REF!,$AD79)","v":{"$error":"#REF!"}},{"$f":"SUMIFS(#REF!,#REF!,$AD79)","v":{"$error":"#REF!"}},{"$f":"SUMIFS(#REF!,#REF!,$AD79)","v":{"$error":"#REF!"}},{"$f":"SUMIFS(#REF!,#REF!,$AD79)","v":{"$error":"#REF!"}},{"$f":"COUNTIF(TabUren2[datum],$AD79)","v":0},{"$f":"COUNTIF(TabUren22[datum],$AD79)","v":0},{"$f":"COUNTIF(#REF!,$AD79)","v":{"$error":"#REF!"}},{"$f":"COUNTIF(#REF!,$AD79)","v":{"$error":"#REF!"}},{"$f":"COUNTIF(#REF!,$AD79)","v":{"$error":"#REF!"}},{"$f":"COUNTIF(#REF!,$AD79)","v":{"$error":"#REF!"}},0,0,0,0,0,0,"","","","","","","","","","","","",0,""]
[null,null,null,null,null,null,null,null,null,null,null,null,null,null,null,null,null,null,null,null,null,null,null,null,null,null,79,null,null,"2015-03-20",{"$f":"SUMIFS('LOG1'!$J$5:$J$501,TabUren2[datum],$AD80)","v":"00:00:00"},{"$f":"SUMIFS('LOG2'!$J$5:$J$501,TabUren22[datum],$AD80)","v":"00:00:00"},{"$f":"SUMIFS(#REF!,#REF!,$AD80)","v":{"$error":"#REF!"}},{"$f":"SUMIFS(#REF!,#REF!,$AD80)","v":{"$error":"#REF!"}},{"$f":"SUMIFS(#REF!,#REF!,$AD80)","v":{"$error":"#REF!"}},{"$f":"SUMIFS(#REF!,#REF!,$AD80)","v":{"$error":"#REF!"}},{"$f":"COUNTIF(TabUren2[datum],$AD80)","v":0},{"$f":"COUNTIF(TabUren22[datum],$AD80)","v":0},{"$f":"COUNTIF(#REF!,$AD80)","v":{"$error":"#REF!"}},{"$f":"COUNTIF(#REF!,$AD80)","v":{"$error":"#REF!"}},{"$f":"COUNTIF(#REF!,$AD80)","v":{"$error":"#REF!"}},{"$f":"COUNTIF(#REF!,$AD80)","v":{"$error":"#REF!"}},0,0,0,0,0,0,"","","","","","","","","","","","",0,""]
[null,null,null,null,null,null,null,null,null,null,null,null,null,null,null,null,null,null,null,null,null,null,null,null,null,null,80,null,null,"2015-03-21",{"$f":"SUMIFS('LOG1'!$J$5:$J$501,TabUren2[datum],$AD81)","v":"00:00:00"},{"$f":"SUMIFS('LOG2'!$J$5:$J$501,TabUren22[datum],$AD81)","v":"00:00:00"},{"$f":"SUMIFS(#REF!,#REF!,$AD81)","v":{"$error":"#REF!"}},{"$f":"SUMIFS(#REF!,#REF!,$AD81)","v":{"$error":"#REF!"}},{"$f":"SUMIFS(#REF!,#REF!,$AD81)","v":{"$error":"#REF!"}},{"$f":"SUMIFS(#REF!,#REF!,$AD81)","v":{"$error":"#REF!"}},{"$f":"COUNTIF(TabUren2[datum],$AD81)","v":0},{"$f":"COUNTIF(TabUren22[datum],$AD81)","v":0},{"$f":"COUNTIF(#REF!,$AD81)","v":{"$error":"#REF!"}},{"$f":"COUNTIF(#REF!,$AD81)","v":{"$error":"#REF!"}},{"$f":"COUNTIF(#REF!,$AD81)","v":{"$error":"#REF!"}},{"$f":"COUNTIF(#REF!,$AD81)","v":{"$error":"#REF!"}},0,0,0,0,0,0,"","","","","","","","","","","","",0,""]
[null,null,null,null,null,null,null,null,null,null,null,null,null,null,null,null,null,null,null,null,null,null,null,null,null,null,81,null,null,"2015-03-22",{"$f":"SUMIFS('LOG1'!$J$5:$J$501,TabUren2[datum],$AD82)","v":"00:00:00"},{"$f":"SUMIFS('LOG2'!$J$5:$J$501,TabUren22[datum],$AD82)","v":"00:00:00"},{"$f":"SUMIFS(#REF!,#REF!,$AD82)","v":{"$error":"#REF!"}},{"$f":"SUMIFS(#REF!,#REF!,$AD82)","v":{"$error":"#REF!"}},{"$f":"SUMIFS(#REF!,#REF!,$AD82)","v":{"$error":"#REF!"}},{"$f":"SUMIFS(#REF!,#REF!,$AD82)","v":{"$error":"#REF!"}},{"$f":"COUNTIF(TabUren2[datum],$AD82)","v":0},{"$f":"COUNTIF(TabUren22[datum],$AD82)","v":0},{"$f":"COUNTIF(#REF!,$AD82)","v":{"$error":"#REF!"}},{"$f":"COUNTIF(#REF!,$AD82)","v":{"$error":"#REF!"}},{"$f":"COUNTIF(#REF!,$AD82)","v":{"$error":"#REF!"}},{"$f":"COUNTIF(#REF!,$AD82)","v":{"$error":"#REF!"}},0,0,0,0,0,0,"","","","","","","","","","","","",0,""]
[null,null,null,null,null,null,null,null,null,null,null,null,null,null,null,null,null,null,null,null,null,null,null,null,null,null,82,null,null,"2015-03-23",{"$f":"SUMIFS('LOG1'!$J$5:$J$501,TabUren2[datum],$AD83)","v":"00:00:00"},{"$f":"SUMIFS('LOG2'!$J$5:$J$501,TabUren22[datum],$AD83)","v":"00:00:00"},{"$f":"SUMIFS(#REF!,#REF!,$AD83)","v":{"$error":"#REF!"}},{"$f":"SUMIFS(#REF!,#REF!,$AD83)","v":{"$error":"#REF!"}},{"$f":"SUMIFS(#REF!,#REF!,$AD83)","v":{"$error":"#REF!"}},{"$f":"SUMIFS(#REF!,#REF!,$AD83)","v":{"$error":"#REF!"}},{"$f":"COUNTIF(TabUren2[datum],$AD83)","v":0},{"$f":"COUNTIF(TabUren22[datum],$AD83)","v":0},{"$f":"COUNTIF(#REF!,$AD83)","v":{"$error":"#REF!"}},{"$f":"COUNTIF(#REF!,$AD83)","v":{"$error":"#REF!"}},{"$f":"COUNTIF(#REF!,$AD83)","v":{"$error":"#REF!"}},{"$f":"COUNTIF(#REF!,$AD83)","v":{"$error":"#REF!"}},0,0,0,0,0,0,"","","","","","","","","","","","",0,""]
[null,null,null,null,null,null,null,null,null,null,null,null,null,null,null,null,null,null,null,null,null,null,null,null,null,null,83,null,null,"2015-03-24",{"$f":"SUMIFS('LOG1'!$J$5:$J$501,TabUren2[datum],$AD84)","v":"00:00:00"},{"$f":"SUMIFS('LOG2'!$J$5:$J$501,TabUren22[datum],$AD84)","v":"00:00:00"},{"$f":"SUMIFS(#REF!,#REF!,$AD84)","v":{"$error":"#REF!"}},{"$f":"SUMIFS(#REF!,#REF!,$AD84)","v":{"$error":"#REF!"}},{"$f":"SUMIFS(#REF!,#REF!,$AD84)","v":{"$error":"#REF!"}},{"$f":"SUMIFS(#REF!,#REF!,$AD84)","v":{"$error":"#REF!"}},{"$f":"COUNTIF(TabUren2[datum],$AD84)","v":0},{"$f":"COUNTIF(TabUren22[datum],$AD84)","v":0},{"$f":"COUNTIF(#REF!,$AD84)","v":{"$error":"#REF!"}},{"$f":"COUNTIF(#REF!,$AD84)","v":{"$error":"#REF!"}},{"$f":"COUNTIF(#REF!,$AD84)","v":{"$error":"#REF!"}},{"$f":"COUNTIF(#REF!,$AD84)","v":{"$error":"#REF!"}},0,0,0,0,0,0,"","","","","","","","","","","","",0,""]
[null,null,null,null,null,null,null,null,null,null,null,null,null,null,null,null,null,null,null,null,null,null,null,null,null,null,84,null,null,"2015-03-25",{"$f":"SUMIFS('LOG1'!$J$5:$J$501,TabUren2[datum],$AD85)","v":"00:00:00"},{"$f":"SUMIFS('LOG2'!$J$5:$J$501,TabUren22[datum],$AD85)","v":"00:00:00"},{"$f":"SUMIFS(#REF!,#REF!,$AD85)","v":{"$error":"#REF!"}},{"$f":"SUMIFS(#REF!,#REF!,$AD85)","v":{"$error":"#REF!"}},{"$f":"SUMIFS(#REF!,#REF!,$AD85)","v":{"$error":"#REF!"}},{"$f":"SUMIFS(#REF!,#REF!,$AD85)","v":{"$error":"#REF!"}},{"$f":"COUNTIF(TabUren2[datum],$AD85)","v":0},{"$f":"COUNTIF(TabUren22[datum],$AD85)","v":0},{"$f":"COUNTIF(#REF!,$AD85)","v":{"$error":"#REF!"}},{"$f":"COUNTIF(#REF!,$AD85)","v":{"$error":"#REF!"}},{"$f":"COUNTIF(#REF!,$AD85)","v":{"$error":"#REF!"}},{"$f":"COUNTIF(#REF!,$AD85)","v":{"$error":"#REF!"}},0,0,0,0,0,0,"","","","","","","","","","","","",0,""]
[null,null,null,null,null,null,null,null,null,null,null,null,null,null,null,null,null,null,null,null,null,null,null,null,null,null,{"$f":"AA85+1","v":85},null,null,"2015-03-26",{"$f":"SUMIFS('LOG1'!$J$5:$J$501,TabUren2[datum],$AD86)","v":"00:00:00"},{"$f":"SUMIFS('LOG2'!$J$5:$J$501,TabUren22[datum],$AD86)","v":"00:00:00"},{"$f":"SUMIFS(#REF!,#REF!,$AD86)","v":{"$error":"#REF!"}},{"$f":"SUMIFS(#REF!,#REF!,$AD86)","v":{"$error":"#REF!"}},{"$f":"SUMIFS(#REF!,#REF!,$AD86)","v":{"$error":"#REF!"}},{"$f":"SUMIFS(#REF!,#REF!,$AD86)","v":{"$error":"#REF!"}},{"$f":"COUNTIF(TabUren2[datum],$AD86)","v":0},{"$f":"COUNTIF(TabUren22[datum],$AD86)","v":0},{"$f":"COUNTIF(#REF!,$AD86)","v":{"$error":"#REF!"}},{"$f":"COUNTIF(#REF!,$AD86)","v":{"$error":"#REF!"}},{"$f":"COUNTIF(#REF!,$AD86)","v":{"$error":"#REF!"}},{"$f":"COUNTIF(#REF!,$AD86)","v":{"$error":"#REF!"}},0,0,0,0,0,0,"","","","","","","","","","","","",0,""]
[null,null,null,null,null,null,null,null,null,null,null,null,null,null,null,null,null,null,null,null,null,null,null,null,null,null,86,null,null,"2015-03-27",{"$f":"SUMIFS('LOG1'!$J$5:$J$501,TabUren2[datum],$AD87)","v":"00:00:00"},{"$f":"SUMIFS('LOG2'!$J$5:$J$501,TabUren22[datum],$AD87)","v":"00:00:00"},{"$f":"SUMIFS(#REF!,#REF!,$AD87)","v":{"$error":"#REF!"}},{"$f":"SUMIFS(#REF!,#REF!,$AD87)","v":{"$error":"#REF!"}},{"$f":"SUMIFS(#REF!,#REF!,$AD87)","v":{"$error":"#REF!"}},{"$f":"SUMIFS(#REF!,#REF!,$AD87)","v":{"$error":"#REF!"}},{"$f":"COUNTIF(TabUren2[datum],$AD87)","v":0},{"$f":"COUNTIF(TabUren22[datum],$AD87)","v":0},{"$f":"COUNTIF(#REF!,$AD87)","v":{"$error":"#REF!"}},{"$f":"COUNTIF(#REF!,$AD87)","v":{"$error":"#REF!"}},{"$f":"COUNTIF(#REF!,$AD87)","v":{"$error":"#REF!"}},{"$f":"COUNTIF(#REF!,$AD87)","v":{"$error":"#REF!"}},0,0,0,0,0,0,"","","","","","","","","","","","",0,""]
[null,null,null,null,null,null,null,null,null,null,null,null,null,null,null,null,null,null,null,null,null,null,null,null,null,null,87,null,null,"2015-03-28",{"$f":"SUMIFS('LOG1'!$J$5:$J$501,TabUren2[datum],$AD88)","v":"00:00:00"},{"$f":"SUMIFS('LOG2'!$J$5:$J$501,TabUren22[datum],$AD88)","v":"00:00:00"},{"$f":"SUMIFS(#REF!,#REF!,$AD88)","v":{"$error":"#REF!"}},{"$f":"SUMIFS(#REF!,#REF!,$AD88)","v":{"$error":"#REF!"}},{"$f":"SUMIFS(#REF!,#REF!,$AD88)","v":{"$error":"#REF!"}},{"$f":"SUMIFS(#REF!,#REF!,$AD88)","v":{"$error":"#REF!"}},{"$f":"COUNTIF(TabUren2[datum],$AD88)","v":0},{"$f":"COUNTIF(TabUren22[datum],$AD88)","v":0},{"$f":"COUNTIF(#REF!,$AD88)","v":{"$error":"#REF!"}},{"$f":"COUNTIF(#REF!,$AD88)","v":{"$error":"#REF!"}},{"$f":"COUNTIF(#REF!,$AD88)","v":{"$error":"#REF!"}},{"$f":"COUNTIF(#REF!,$AD88)","v":{"$error":"#REF!"}},0,0,0,0,0,0,"","","","","","","","","","","","",0,""]
[null,null,null,null,null,null,null,null,null,null,null,null,null,null,null,null,null,null,null,null,null,null,null,null,null,null,88,null,null,"2015-03-29",{"$f":"SUMIFS('LOG1'!$J$5:$J$501,TabUren2[datum],$AD89)","v":"00:00:00"},{"$f":"SUMIFS('LOG2'!$J$5:$J$501,TabUren22[datum],$AD89)","v":"00:00:00"},{"$f":"SUMIFS(#REF!,#REF!,$AD89)","v":{"$error":"#REF!"}},{"$f":"SUMIFS(#REF!,#REF!,$AD89)","v":{"$error":"#REF!"}},{"$f":"SUMIFS(#REF!,#REF!,$AD89)","v":{"$error":"#REF!"}},{"$f":"SUMIFS(#REF!,#REF!,$AD89)","v":{"$error":"#REF!"}},{"$f":"COUNTIF(TabUren2[datum],$AD89)","v":0},{"$f":"COUNTIF(TabUren22[datum],$AD89)","v":0},{"$f":"COUNTIF(#REF!,$AD89)","v":{"$error":"#REF!"}},{"$f":"COUNTIF(#REF!,$AD89)","v":{"$error":"#REF!"}},{"$f":"COUNTIF(#REF!,$AD89)","v":{"$error":"#REF!"}},{"$f":"COUNTIF(#REF!,$AD89)","v":{"$error":"#REF!"}},0,0,0,0,0,0,"","","","","","","","","","","","",0,""]
[null,null,null,null,null,null,null,null,null,null,null,null,null,null,null,null,null,null,null,null,null,null,null,null,null,null,89,null,null,"2015-03-30",{"$f":"SUMIFS('LOG1'!$J$5:$J$501,TabUren2[datum],$AD90)","v":"00:00:00"},{"$f":"SUMIFS('LOG2'!$J$5:$J$501,TabUren22[datum],$AD90)","v":"00:00:00"},{"$f":"SUMIFS(#REF!,#REF!,$AD90)","v":{"$error":"#REF!"}},{"$f":"SUMIFS(#REF!,#REF!,$AD90)","v":{"$error":"#REF!"}},{"$f":"SUMIFS(#REF!,#REF!,$AD90)","v":{"$error":"#REF!"}},{"$f":"SUMIFS(#REF!,#REF!,$AD90)","v":{"$error":"#REF!"}},{"$f":"COUNTIF(TabUren2[datum],$AD90)","v":0},{"$f":"COUNTIF(TabUren22[datum],$AD90)","v":0},{"$f":"COUNTIF(#REF!,$AD90)","v":{"$error":"#REF!"}},{"$f":"COUNTIF(#REF!,$AD90)","v":{"$error":"#REF!"}},{"$f":"COUNTIF(#REF!,$AD90)","v":{"$error":"#REF!"}},{"$f":"COUNTIF(#REF!,$AD90)","v":{"$error":"#REF!"}},0,0,0,0,0,0,"","","","","","","","","","","","",0,""]
[null,null,null,null,null,null,null,null,null,null,null,null,null,null,null,null,null,null,null,null,null,null,null,null,null,null,90,null,null,"2015-03-31",{"$f":"SUMIFS('LOG1'!$J$5:$J$501,TabUren2[datum],$AD91)","v":"00:00:00"},{"$f":"SUMIFS('LOG2'!$J$5:$J$501,TabUren22[datum],$AD91)","v":"00:00:00"},{"$f":"SUMIFS(#REF!,#REF!,$AD91)","v":{"$error":"#REF!"}},{"$f":"SUMIFS(#REF!,#REF!,$AD91)","v":{"$error":"#REF!"}},{"$f":"SUMIFS(#REF!,#REF!,$AD91)","v":{"$error":"#REF!"}},{"$f":"SUMIFS(#REF!,#REF!,$AD91)","v":{"$error":"#REF!"}},{"$f":"COUNTIF(TabUren2[datum],$AD91)","v":0},{"$f":"COUNTIF(TabUren22[datum],$AD91)","v":0},{"$f":"COUNTIF(#REF!,$AD91)","v":{"$error":"#REF!"}},{"$f":"COUNTIF(#REF!,$AD91)","v":{"$error":"#REF!"}},{"$f":"COUNTIF(#REF!,$AD91)","v":{"$error":"#REF!"}},{"$f":"COUNTIF(#REF!,$AD91)","v":{"$error":"#REF!"}},0,0,0,0,0,0,"","","","","","","","","","","","",0,""]
[null,null,null,null,null,null,null,null,null,null,null,null,null,null,null,null,null,null,null,null,null,null,null,null,null,null,91,null,null,"2015-04-01",{"$f":"SUMIFS('LOG1'!$J$5:$J$501,TabUren2[datum],$AD92)","v":"00:00:00"},{"$f":"SUMIFS('LOG2'!$J$5:$J$501,TabUren22[datum],$AD92)","v":"00:00:00"},{"$f":"SUMIFS(#REF!,#REF!,$AD92)","v":{"$error":"#REF!"}},{"$f":"SUMIFS(#REF!,#REF!,$AD92)","v":{"$error":"#REF!"}},{"$f":"SUMIFS(#REF!,#REF!,$AD92)","v":{"$error":"#REF!"}},{"$f":"SUMIFS(#REF!,#REF!,$AD92)","v":{"$error":"#REF!"}},{"$f":"COUNTIF(TabUren2[datum],$AD92)","v":0},{"$f":"COUNTIF(TabUren22[datum],$AD92)","v":0},{"$f":"COUNTIF(#REF!,$AD92)","v":{"$error":"#REF!"}},{"$f":"COUNTIF(#REF!,$AD92)","v":{"$error":"#REF!"}},{"$f":"COUNTIF(#REF!,$AD92)","v":{"$error":"#REF!"}},{"$f":"COUNTIF(#REF!,$AD92)","v":{"$error":"#REF!"}},0,0,0,0,0,0,"","","","","","","","","","","","",0,""]
[null,null,null,null,null,null,null,null,null,null,null,null,null,null,null,null,null,null,null,null,null,null,null,null,null,null,92,null,null,"2015-04-02",{"$f":"SUMIFS('LOG1'!$J$5:$J$501,TabUren2[datum],$AD93)","v":"00:00:00"},{"$f":"SUMIFS('LOG2'!$J$5:$J$501,TabUren22[datum],$AD93)","v":"00:00:00"},{"$f":"SUMIFS(#REF!,#REF!,$AD93)","v":{"$error":"#REF!"}},{"$f":"SUMIFS(#REF!,#REF!,$AD93)","v":{"$error":"#REF!"}},{"$f":"SUMIFS(#REF!,#REF!,$AD93)","v":{"$error":"#REF!"}},{"$f":"SUMIFS(#REF!,#REF!,$AD93)","v":{"$error":"#REF!"}},{"$f":"COUNTIF(TabUren2[datum],$AD93)","v":0},{"$f":"COUNTIF(TabUren22[datum],$AD93)","v":0},{"$f":"COUNTIF(#REF!,$AD93)","v":{"$error":"#REF!"}},{"$f":"COUNTIF(#REF!,$AD93)","v":{"$error":"#REF!"}},{"$f":"COUNTIF(#REF!,$AD93)","v":{"$error":"#REF!"}},{"$f":"COUNTIF(#REF!,$AD93)","v":{"$error":"#REF!"}},0,0,0,0,0,0,"","","","","","","","","","","","",0,""]
[null,null,null,null,null,null,null,null,null,null,null,null,null,null,null,null,null,null,null,null,null,null,null,null,null,null,93,null,null,"2015-04-03",{"$f":"SUMIFS('LOG1'!$J$5:$J$501,TabUren2[datum],$AD94)","v":"00:00:00"},{"$f":"SUMIFS('LOG2'!$J$5:$J$501,TabUren22[datum],$AD94)","v":"00:00:00"},{"$f":"SUMIFS(#REF!,#REF!,$AD94)","v":{"$error":"#REF!"}},{"$f":"SUMIFS(#REF!,#REF!,$AD94)","v":{"$error":"#REF!"}},{"$f":"SUMIFS(#REF!,#REF!,$AD94)","v":{"$error":"#REF!"}},{"$f":"SUMIFS(#REF!,#REF!,$AD94)","v":{"$error":"#REF!"}},{"$f":"COUNTIF(TabUren2[datum],$AD94)","v":0},{"$f":"COUNTIF(TabUren22[datum],$AD94)","v":0},{"$f":"COUNTIF(#REF!,$AD94)","v":{"$error":"#REF!"}},{"$f":"COUNTIF(#REF!,$AD94)","v":{"$error":"#REF!"}},{"$f":"COUNTIF(#REF!,$AD94)","v":{"$error":"#REF!"}},{"$f":"COUNTIF(#REF!,$AD94)","v":{"$error":"#REF!"}},0,0,0,0,0,0,"","","","","","","","","","","","",0,""]
[null,null,null,null,null,null,null,null,null,null,null,null,null,null,null,null,null,null,null,null,null,null,null,null,null,null,94,null,null,"2015-04-04",{"$f":"SUMIFS('LOG1'!$J$5:$J$501,TabUren2[datum],$AD95)","v":"00:00:00"},{"$f":"SUMIFS('LOG2'!$J$5:$J$501,TabUren22[datum],$AD95)","v":"00:00:00"},{"$f":"SUMIFS(#REF!,#REF!,$AD95)","v":{"$error":"#REF!"}},{"$f":"SUMIFS(#REF!,#REF!,$AD95)","v":{"$error":"#REF!"}},{"$f":"SUMIFS(#REF!,#REF!,$AD95)","v":{"$error":"#REF!"}},{"$f":"SUMIFS(#REF!,#REF!,$AD95)","v":{"$error":"#REF!"}},{"$f":"COUNTIF(TabUren2[datum],$AD95)","v":0},{"$f":"COUNTIF(TabUren22[datum],$AD95)","v":0},{"$f":"COUNTIF(#REF!,$AD95)","v":{"$error":"#REF!"}},{"$f":"COUNTIF(#REF!,$AD95)","v":{"$error":"#REF!"}},{"$f":"COUNTIF(#REF!,$AD95)","v":{"$error":"#REF!"}},{"$f":"COUNTIF(#REF!,$AD95)","v":{"$error":"#REF!"}},0,0,0,0,0,0,"","","","","","","","","","","","",0,""]
[null,null,null,null,null,null,null,null,null,null,null,null,null,null,null,null,null,null,null,null,null,null,null,null,null,null,95,null,null,"2015-04-05",{"$f":"SUMIFS('LOG1'!$J$5:$J$501,TabUren2[datum],$AD96)","v":"00:00:00"},{"$f":"SUMIFS('LOG2'!$J$5:$J$501,TabUren22[datum],$AD96)","v":"00:00:00"},{"$f":"SUMIFS(#REF!,#REF!,$AD96)","v":{"$error":"#REF!"}},{"$f":"SUMIFS(#REF!,#REF!,$AD96)","v":{"$error":"#REF!"}},{"$f":"SUMIFS(#REF!,#REF!,$AD96)","v":{"$error":"#REF!"}},{"$f":"SUMIFS(#REF!,#REF!,$AD96)","v":{"$error":"#REF!"}},{"$f":"COUNTIF(TabUren2[datum],$AD96)","v":0},{"$f":"COUNTIF(TabUren22[datum],$AD96)","v":0},{"$f":"COUNTIF(#REF!,$AD96)","v":{"$error":"#REF!"}},{"$f":"COUNTIF(#REF!,$AD96)","v":{"$error":"#REF!"}},{"$f":"COUNTIF(#REF!,$AD96)","v":{"$error":"#REF!"}},{"$f":"COUNTIF(#REF!,$AD96)","v":{"$error":"#REF!"}},0,0,0,0,0,0,"","","","","","","","","","","","",0,""]
[null,null,null,null,null,null,null,null,null,null,null,null,null,null,null,null,null,null,null,null,null,null,null,null,null,null,96,null,null,"2015-04-06",{"$f":"SUMIFS('LOG1'!$J$5:$J$501,TabUren2[datum],$AD97)","v":"00:00:00"},{"$f":"SUMIFS('LOG2'!$J$5:$J$501,TabUren22[datum],$AD97)","v":"00:00:00"},{"$f":"SUMIFS(#REF!,#REF!,$AD97)","v":{"$error":"#REF!"}},{"$f":"SUMIFS(#REF!,#REF!,$AD97)","v":{"$error":"#REF!"}},{"$f":"SUMIFS(#REF!,#REF!,$AD97)","v":{"$error":"#REF!"}},{"$f":"SUMIFS(#REF!,#REF!,$AD97)","v":{"$error":"#REF!"}},{"$f":"COUNTIF(TabUren2[datum],$AD97)","v":0},{"$f":"COUNTIF(TabUren22[datum],$AD97)","v":0},{"$f":"COUNTIF(#REF!,$AD97)","v":{"$error":"#REF!"}},{"$f":"COUNTIF(#REF!,$AD97)","v":{"$error":"#REF!"}},{"$f":"COUNTIF(#REF!,$AD97)","v":{"$error":"#REF!"}},{"$f":"COUNTIF(#REF!,$AD97)","v":{"$error":"#REF!"}},0,0,0,0,0,0,"","","","","","","","","","","","",0,""]
[null,null,null,null,null,null,null,null,null,null,null,null,null,null,null,null,null,null,null,null,null,null,null,null,null,null,97,null,null,"2015-04-07",{"$f":"SUMIFS('LOG1'!$J$5:$J$501,TabUren2[datum],$AD98)","v":"00:00:00"},{"$f":"SUMIFS('LOG2'!$J$5:$J$501,TabUren22[datum],$AD98)","v":"00:00:00"},{"$f":"SUMIFS(#REF!,#REF!,$AD98)","v":{"$error":"#REF!"}},{"$f":"SUMIFS(#REF!,#REF!,$AD98)","v":{"$error":"#REF!"}},{"$f":"SUMIFS(#REF!,#REF!,$AD98)","v":{"$error":"#REF!"}},{"$f":"SUMIFS(#REF!,#REF!,$AD98)","v":{"$error":"#REF!"}},{"$f":"COUNTIF(TabUren2[datum],$AD98)","v":0},{"$f":"COUNTIF(TabUren22[datum],$AD98)","v":0},{"$f":"COUNTIF(#REF!,$AD98)","v":{"$error":"#REF!"}},{"$f":"COUNTIF(#REF!,$AD98)","v":{"$error":"#REF!"}},{"$f":"COUNTIF(#REF!,$AD98)","v":{"$error":"#REF!"}},{"$f":"COUNTIF(#REF!,$AD98)","v":{"$error":"#REF!"}},0,0,0,0,0,0,"","","","","","","","","","","","",0,""]
[null,null,null,null,null,null,null,null,null,null,null,null,null,null,null,null,null,null,null,null,null,null,null,null,null,null,98,null,null,"2015-04-08",{"$f":"SUMIFS('LOG1'!$J$5:$J$501,TabUren2[datum],$AD99)","v":"00:00:00"},{"$f":"SUMIFS('LOG2'!$J$5:$J$501,TabUren22[datum],$AD99)","v":"00:00:00"},{"$f":"SUMIFS(#REF!,#REF!,$AD99)","v":{"$error":"#REF!"}},{"$f":"SUMIFS(#REF!,#REF!,$AD99)","v":{"$error":"#REF!"}},{"$f":"SUMIFS(#REF!,#REF!,$AD99)","v":{"$error":"#REF!"}},{"$f":"SUMIFS(#REF!,#REF!,$AD99)","v":{"$error":"#REF!"}},{"$f":"COUNTIF(TabUren2[datum],$AD99)","v":0},{"$f":"COUNTIF(TabUren22[datum],$AD99)","v":0},{"$f":"COUNTIF(#REF!,$AD99)","v":{"$error":"#REF!"}},{"$f":"COUNTIF(#REF!,$AD99)","v":{"$error":"#REF!"}},{"$f":"COUNTIF(#REF!,$AD99)","v":{"$error":"#REF!"}},{"$f":"COUNTIF(#REF!,$AD99)","v":{"$error":"#REF!"}},0,0,0,0,0,0,"","","","","","","","","","","","",0,""]
[null,null,null,null,null,null,null,null,null,null,null,null,null,null,null,null,null,null,null,null,null,null,null,null,null,null,99,null,null,"2015-04-09",{"$f":"SUMIFS('LOG1'!$J$5:$J$501,TabUren2[datum],$AD100)","v":"00:00:00"},{"$f":"SUMIFS('LOG2'!$J$5:$J$501,TabUren22[datum],$AD100)","v":"00:00:00"},{"$f":"SUMIFS(#REF!,#REF!,$AD100)","v":{"$error":"#REF!"}},{"$f":"SUMIFS(#REF!,#REF!,$AD100)","v":{"$error":"#REF!"}},{"$f":"SUMIFS(#REF!,#REF!,$AD100)","v":{"$error":"#REF!"}},{"$f":"SUMIFS(#REF!,#REF!,$AD100)","v":{"$error":"#REF!"}},{"$f":"COUNTIF(TabUren2[datum],$AD100)","v":0},{"$f":"COUNTIF(TabUren22[datum],$AD100)","v":0},{"$f":"COUNTIF(#REF!,$AD100)","v":{"$error":"#REF!"}},{"$f":"COUNTIF(#REF!,$AD100)","v":{"$error":"#REF!"}},{"$f":"COUNTIF(#REF!,$AD100)","v":{"$error":"#REF!"}},{"$f":"COUNTIF(#REF!,$AD100)","v":{"$error":"#REF!"}},0,0,0,0,0,0,"","","","","","","","","","","","",0,""]
[null,null,null,null,null,null,null,null,null,null,null,null,null,null,null,null,null,null,null,null,null,null,null,null,null,null,100,null,null,"2015-04-10",{"$f":"SUMIFS('LOG1'!$J$5:$J$501,TabUren2[datum],$AD101)","v":"00:00:00"},{"$f":"SUMIFS('LOG2'!$J$5:$J$501,TabUren22[datum],$AD101)","v":"00:00:00"},{"$f":"SUMIFS(#REF!,#REF!,$AD101)","v":{"$error":"#REF!"}},{"$f":"SUMIFS(#REF!,#REF!,$AD101)","v":{"$error":"#REF!"}},{"$f":"SUMIFS(#REF!,#REF!,$AD101)","v":{"$error":"#REF!"}},{"$f":"SUMIFS(#REF!,#REF!,$AD101)","v":{"$error":"#REF!"}},{"$f":"COUNTIF(TabUren2[datum],$AD101)","v":0},{"$f":"COUNTIF(TabUren22[datum],$AD101)","v":0},{"$f":"COUNTIF(#REF!,$AD101)","v":{"$error":"#REF!"}},{"$f":"COUNTIF(#REF!,$AD101)","v":{"$error":"#REF!"}},{"$f":"COUNTIF(#REF!,$AD101)","v":{"$error":"#REF!"}},{"$f":"COUNTIF(#REF!,$AD101)","v":{"$error":"#REF!"}},0,0,0,0,0,0,"","","","","","","","","","","","",0,""]
[null,null,null,null,null,null,null,null,null,null,null,null,null,null,null,null,null,null,null,null,null,null,null,null,null,null,101,null,null,"2015-04-11",{"$f":"SUMIFS('LOG1'!$J$5:$J$501,TabUren2[datum],$AD102)","v":"00:00:00"},{"$f":"SUMIFS('LOG2'!$J$5:$J$501,TabUren22[datum],$AD102)","v":"00:00:00"},{"$f":"SUMIFS(#REF!,#REF!,$AD102)","v":{"$error":"#REF!"}},{"$f":"SUMIFS(#REF!,#REF!,$AD102)","v":{"$error":"#REF!"}},{"$f":"SUMIFS(#REF!,#REF!,$AD102)","v":{"$error":"#REF!"}},{"$f":"SUMIFS(#REF!,#REF!,$AD102)","v":{"$error":"#REF!"}},{"$f":"COUNTIF(TabUren2[datum],$AD102)","v":0},{"$f":"COUNTIF(TabUren22[datum],$AD102)","v":0},{"$f":"COUNTIF(#REF!,$AD102)","v":{"$error":"#REF!"}},{"$f":"COUNTIF(#REF!,$AD102)","v":{"$error":"#REF!"}},{"$f":"COUNTIF(#REF!,$AD102)","v":{"$error":"#REF!"}},{"$f":"COUNTIF(#REF!,$AD102)","v":{"$error":"#REF!"}},0,0,0,0,0,0,"","","","","","","","","","","","",0,""]
[null,null,null,null,null,null,null,null,null,null,null,null,null,null,null,null,null,null,null,null,null,null,null,null,null,null,102,null,null,"2015-04-12",{"$f":"SUMIFS('LOG1'!$J$5:$J$501,TabUren2[datum],$AD103)","v":"00:00:00"},{"$f":"SUMIFS('LOG2'!$J$5:$J$501,TabUren22[datum],$AD103)","v":"00:00:00"},{"$f":"SUMIFS(#REF!,#REF!,$AD103)","v":{"$error":"#REF!"}},{"$f":"SUMIFS(#REF!,#REF!,$AD103)","v":{"$error":"#REF!"}},{"$f":"SUMIFS(#REF!,#REF!,$AD103)","v":{"$error":"#REF!"}},{"$f":"SUMIFS(#REF!,#REF!,$AD103)","v":{"$error":"#REF!"}},{"$f":"COUNTIF(TabUren2[datum],$AD103)","v":0},{"$f":"COUNTIF(TabUren22[datum],$AD103)","v":0},{"$f":"COUNTIF(#REF!,$AD103)","v":{"$error":"#REF!"}},{"$f":"COUNTIF(#REF!,$AD103)","v":{"$error":"#REF!"}},{"$f":"COUNTIF(#REF!,$AD103)","v":{"$error":"#REF!"}},{"$f":"COUNTIF(#REF!,$AD103)","v":{"$error":"#REF!"}},0,0,0,0,0,0,"","","","","","","","","","","","",0,""]
[null,null,null,null,null,null,null,null,null,null,null,null,null,null,null,null,null,null,null,null,null,null,null,null,null,null,103,null,null,"2015-04-13",{"$f":"SUMIFS('LOG1'!$J$5:$J$501,TabUren2[datum],$AD104)","v":"00:00:00"},{"$f":"SUMIFS('LOG2'!$J$5:$J$501,TabUren22[datum],$AD104)","v":"00:00:00"},{"$f":"SUMIFS(#REF!,#REF!,$AD104)","v":{"$error":"#REF!"}},{"$f":"SUMIFS(#REF!,#REF!,$AD104)","v":{"$error":"#REF!"}},{"$f":"SUMIFS(#REF!,#REF!,$AD104)","v":{"$error":"#REF!"}},{"$f":"SUMIFS(#REF!,#REF!,$AD104)","v":{"$error":"#REF!"}},{"$f":"COUNTIF(TabUren2[datum],$AD104)","v":0},{"$f":"COUNTIF(TabUren22[datum],$AD104)","v":0},{"$f":"COUNTIF(#REF!,$AD104)","v":{"$error":"#REF!"}},{"$f":"COUNTIF(#REF!,$AD104)","v":{"$error":"#REF!"}},{"$f":"COUNTIF(#REF!,$AD104)","v":{"$error":"#REF!"}},{"$f":"COUNTIF(#REF!,$AD104)","v":{"$error":"#REF!"}},0,0,0,0,0,0,"","","","","","","","","","","","",0,""]
[null,null,null,null,null,null,null,null,null,null,null,null,null,null,null,null,null,null,null,null,null,null,null,null,null,null,104,null,null,"2015-04-14",{"$f":"SUMIFS('LOG1'!$J$5:$J$501,TabUren2[datum],$AD105)","v":"00:00:00"},{"$f":"SUMIFS('LOG2'!$J$5:$J$501,TabUren22[datum],$AD105)","v":"00:00:00"},{"$f":"SUMIFS(#REF!,#REF!,$AD105)","v":{"$error":"#REF!"}},{"$f":"SUMIFS(#REF!,#REF!,$AD105)","v":{"$error":"#REF!"}},{"$f":"SUMIFS(#REF!,#REF!,$AD105)","v":{"$error":"#REF!"}},{"$f":"SUMIFS(#REF!,#REF!,$AD105)","v":{"$error":"#REF!"}},{"$f":"COUNTIF(TabUren2[datum],$AD105)","v":0},{"$f":"COUNTIF(TabUren22[datum],$AD105)","v":0},{"$f":"COUNTIF(#REF!,$AD105)","v":{"$error":"#REF!"}},{"$f":"COUNTIF(#REF!,$AD105)","v":{"$error":"#REF!"}},{"$f":"COUNTIF(#REF!,$AD105)","v":{"$error":"#REF!"}},{"$f":"COUNTIF(#REF!,$AD105)","v":{"$error":"#REF!"}},0,0,0,0,0,0,"","","","","","","","","","","","",0,""]
[null,null,null,null,null,null,null,null,null,null,null,null,null,null,null,null,null,null,null,null,null,null,null,null,null,null,105,null,null,"2015-04-15",{"$f":"SUMIFS('LOG1'!$J$5:$J$501,TabUren2[datum],$AD106)","v":"00:00:00"},{"$f":"SUMIFS('LOG2'!$J$5:$J$501,TabUren22[datum],$AD106)","v":"00:00:00"},{"$f":"SUMIFS(#REF!,#REF!,$AD106)","v":{"$error":"#REF!"}},{"$f":"SUMIFS(#REF!,#REF!,$AD106)","v":{"$error":"#REF!"}},{"$f":"SUMIFS(#REF!,#REF!,$AD106)","v":{"$error":"#REF!"}},{"$f":"SUMIFS(#REF!,#REF!,$AD106)","v":{"$error":"#REF!"}},{"$f":"COUNTIF(TabUren2[datum],$AD106)","v":0},{"$f":"COUNTIF(TabUren22[datum],$AD106)","v":0},{"$f":"COUNTIF(#REF!,$AD106)","v":{"$error":"#REF!"}},{"$f":"COUNTIF(#REF!,$AD106)","v":{"$error":"#REF!"}},{"$f":"COUNTIF(#REF!,$AD106)","v":{"$error":"#REF!"}},{"$f":"COUNTIF(#REF!,$AD106)","v":{"$error":"#REF!"}},0,0,0,0,0,0,"","","","","","","","","","","","",0,""]
[null,null,null,null,null,null,null,null,null,null,null,null,null,null,null,null,null,null,null,null,null,null,null,null,null,null,106,null,null,"2015-04-16",{"$f":"SUMIFS('LOG1'!$J$5:$J$501,TabUren2[datum],$AD107)","v":"00:00:00"},{"$f":"SUMIFS('LOG2'!$J$5:$J$501,TabUren22[datum],$AD107)","v":"00:00:00"},{"$f":"SUMIFS(#REF!,#REF!,$AD107)","v":{"$error":"#REF!"}},{"$f":"SUMIFS(#REF!,#REF!,$AD107)","v":{"$error":"#REF!"}},{"$f":"SUMIFS(#REF!,#REF!,$AD107)","v":{"$error":"#REF!"}},{"$f":"SUMIFS(#REF!,#REF!,$AD107)","v":{"$error":"#REF!"}},{"$f":"COUNTIF(TabUren2[datum],$AD107)","v":0},{"$f":"COUNTIF(TabUren22[datum],$AD107)","v":0},{"$f":"COUNTIF(#REF!,$AD107)","v":{"$error":"#REF!"}},{"$f":"COUNTIF(#REF!,$AD107)","v":{"$error":"#REF!"}},{"$f":"COUNTIF(#REF!,$AD107)","v":{"$error":"#REF!"}},{"$f":"COUNTIF(#REF!,$AD107)","v":{"$error":"#REF!"}},0,0,0,0,0,0,"","","","","","","","","","","","",0,""]
[null,null,null,null,null,null,null,null,null,null,null,null,null,null,null,null,null,null,null,null,null,null,null,null,null,null,107,null,null,"2015-04-17",{"$f":"SUMIFS('LOG1'!$J$5:$J$501,TabUren2[datum],$AD108)","v":"00:00:00"},{"$f":"SUMIFS('LOG2'!$J$5:$J$501,TabUren22[datum],$AD108)","v":"00:00:00"},{"$f":"SUMIFS(#REF!,#REF!,$AD108)","v":{"$error":"#REF!"}},{"$f":"SUMIFS(#REF!,#REF!,$AD108)","v":{"$error":"#REF!"}},{"$f":"SUMIFS(#REF!,#REF!,$AD108)","v":{"$error":"#REF!"}},{"$f":"SUMIFS(#REF!,#REF!,$AD108)","v":{"$error":"#REF!"}},{"$f":"COUNTIF(TabUren2[datum],$AD108)","v":0},{"$f":"COUNTIF(TabUren22[datum],$AD108)","v":0},{"$f":"COUNTIF(#REF!,$AD108)","v":{"$error":"#REF!"}},{"$f":"COUNTIF(#REF!,$AD108)","v":{"$error":"#REF!"}},{"$f":"COUNTIF(#REF!,$AD108)","v":{"$error":"#REF!"}},{"$f":"COUNTIF(#REF!,$AD108)","v":{"$error":"#REF!"}},0,0,0,0,0,0,"","","","","","","","","","","","",0,""]
[null,null,null,null,null,null,null,null,null,null,null,null,null,null,null,null,null,null,null,null,null,null,null,null,null,null,108,null,null,"2015-04-18",{"$f":"SUMIFS('LOG1'!$J$5:$J$501,TabUren2[datum],$AD109)","v":"00:00:00"},{"$f":"SUMIFS('LOG2'!$J$5:$J$501,TabUren22[datum],$AD109)","v":"00:00:00"},{"$f":"SUMIFS(#REF!,#REF!,$AD109)","v":{"$error":"#REF!"}},{"$f":"SUMIFS(#REF!,#REF!,$AD109)","v":{"$error":"#REF!"}},{"$f":"SUMIFS(#REF!,#REF!,$AD109)","v":{"$error":"#REF!"}},{"$f":"SUMIFS(#REF!,#REF!,$AD109)","v":{"$error":"#REF!"}},{"$f":"COUNTIF(TabUren2[datum],$AD109)","v":0},{"$f":"COUNTIF(TabUren22[datum],$AD109)","v":0},{"$f":"COUNTIF(#REF!,$AD109)","v":{"$error":"#REF!"}},{"$f":"COUNTIF(#REF!,$AD109)","v":{"$error":"#REF!"}},{"$f":"COUNTIF(#REF!,$AD109)","v":{"$error":"#REF!"}},{"$f":"COUNTIF(#REF!,$AD109)","v":{"$error":"#REF!"}},0,0,0,0,0,0,"","","","","","","","","","","","",0,""]
[null,null,null,null,null,null,null,null,null,null,null,null,null,null,null,null,null,null,null,null,null,null,null,null,null,null,109,null,null,"2015-04-19",{"$f":"SUMIFS('LOG1'!$J$5:$J$501,TabUren2[datum],$AD110)","v":"00:00:00"},{"$f":"SUMIFS('LOG2'!$J$5:$J$501,TabUren22[datum],$AD110)","v":"00:00:00"},{"$f":"SUMIFS(#REF!,#REF!,$AD110)","v":{"$error":"#REF!"}},{"$f":"SUMIFS(#REF!,#REF!,$AD110)","v":{"$error":"#REF!"}},{"$f":"SUMIFS(#REF!,#REF!,$AD110)","v":{"$error":"#REF!"}},{"$f":"SUMIFS(#REF!,#REF!,$AD110)","v":{"$error":"#REF!"}},{"$f":"COUNTIF(TabUren2[datum],$AD110)","v":0},{"$f":"COUNTIF(TabUren22[datum],$AD110)","v":0},{"$f":"COUNTIF(#REF!,$AD110)","v":{"$error":"#REF!"}},{"$f":"COUNTIF(#REF!,$AD110)","v":{"$error":"#REF!"}},{"$f":"COUNTIF(#REF!,$AD110)","v":{"$error":"#REF!"}},{"$f":"COUNTIF(#REF!,$AD110)","v":{"$error":"#REF!"}},0,0,0,0,0,0,"","","","","","","","","","","","",0,""]
[null,null,null,null,null,null,null,null,null,null,null,null,null,null,null,null,null,null,null,null,null,null,null,null,null,null,110,null,null,"2015-04-20",{"$f":"SUMIFS('LOG1'!$J$5:$J$501,TabUren2[datum],$AD111)","v":"00:00:00"},{"$f":"SUMIFS('LOG2'!$J$5:$J$501,TabUren22[datum],$AD111)","v":"00:00:00"},{"$f":"SUMIFS(#REF!,#REF!,$AD111)","v":{"$error":"#REF!"}},{"$f":"SUMIFS(#REF!,#REF!,$AD111)","v":{"$error":"#REF!"}},{"$f":"SUMIFS(#REF!,#REF!,$AD111)","v":{"$error":"#REF!"}},{"$f":"SUMIFS(#REF!,#REF!,$AD111)","v":{"$error":"#REF!"}},{"$f":"COUNTIF(TabUren2[datum],$AD111)","v":0},{"$f":"COUNTIF(TabUren22[datum],$AD111)","v":0},{"$f":"COUNTIF(#REF!,$AD111)","v":{"$error":"#REF!"}},{"$f":"COUNTIF(#REF!,$AD111)","v":{"$error":"#REF!"}},{"$f":"COUNTIF(#REF!,$AD111)","v":{"$error":"#REF!"}},{"$f":"COUNTIF(#REF!,$AD111)","v":{"$error":"#REF!"}},0,0,0,0,0,0,"","","","","","","","","","","","",0,""]
[null,null,null,null,null,null,null,null,null,null,null,null,null,null,null,null,null,null,null,null,null,null,null,null,null,null,111,null,null,"2015-04-21",{"$f":"SUMIFS('LOG1'!$J$5:$J$501,TabUren2[datum],$AD112)","v":"00:00:00"},{"$f":"SUMIFS('LOG2'!$J$5:$J$501,TabUren22[datum],$AD112)","v":"00:00:00"},{"$f":"SUMIFS(#REF!,#REF!,$AD112)","v":{"$error":"#REF!"}},{"$f":"SUMIFS(#REF!,#REF!,$AD112)","v":{"$error":"#REF!"}},{"$f":"SUMIFS(#REF!,#REF!,$AD112)","v":{"$error":"#REF!"}},{"$f":"SUMIFS(#REF!,#REF!,$AD112)","v":{"$error":"#REF!"}},{"$f":"COUNTIF(TabUren2[datum],$AD112)","v":0},{"$f":"COUNTIF(TabUren22[datum],$AD112)","v":0},{"$f":"COUNTIF(#REF!,$AD112)","v":{"$error":"#REF!"}},{"$f":"COUNTIF(#REF!,$AD112)","v":{"$error":"#REF!"}},{"$f":"COUNTIF(#REF!,$AD112)","v":{"$error":"#REF!"}},{"$f":"COUNTIF(#REF!,$AD112)","v":{"$error":"#REF!"}},0,0,0,0,0,0,"","","","","","","","","","","","",0,""]
[null,null,null,null,null,null,null,null,null,null,null,null,null,null,null,null,null,null,null,null,null,null,null,null,null,null,112,null,null,"2015-04-22",{"$f":"SUMIFS('LOG1'!$J$5:$J$501,TabUren2[datum],$AD113)","v":"00:00:00"},{"$f":"SUMIFS('LOG2'!$J$5:$J$501,TabUren22[datum],$AD113)","v":"00:00:00"},{"$f":"SUMIFS(#REF!,#REF!,$AD113)","v":{"$error":"#REF!"}},{"$f":"SUMIFS(#REF!,#REF!,$AD113)","v":{"$error":"#REF!"}},{"$f":"SUMIFS(#REF!,#REF!,$AD113)","v":{"$error":"#REF!"}},{"$f":"SUMIFS(#REF!,#REF!,$AD113)","v":{"$error":"#REF!"}},{"$f":"COUNTIF(TabUren2[datum],$AD113)","v":0},{"$f":"COUNTIF(TabUren22[datum],$AD113)","v":0},{"$f":"COUNTIF(#REF!,$AD113)","v":{"$error":"#REF!"}},{"$f":"COUNTIF(#REF!,$AD113)","v":{"$error":"#REF!"}},{"$f":"COUNTIF(#REF!,$AD113)","v":{"$error":"#REF!"}},{"$f":"COUNTIF(#REF!,$AD113)","v":{"$error":"#REF!"}},0,0,0,0,0,0,"","","","","","","","","","","","",0,""]
[null,null,null,null,null,null,null,null,null,null,null,null,null,null,null,null,null,null,null,null,null,null,null,null,null,null,113,null,null,"2015-04-23",{"$f":"SUMIFS('LOG1'!$J$5:$J$501,TabUren2[datum],$AD114)","v":"00:00:00"},{"$f":"SUMIFS('LOG2'!$J$5:$J$501,TabUren22[datum],$AD114)","v":"00:00:00"},{"$f":"SUMIFS(#REF!,#REF!,$AD114)","v":{"$error":"#REF!"}},{"$f":"SUMIFS(#REF!,#REF!,$AD114)","v":{"$error":"#REF!"}},{"$f":"SUMIFS(#REF!,#REF!,$AD114)","v":{"$error":"#REF!"}},{"$f":"SUMIFS(#REF!,#REF!,$AD114)","v":{"$error":"#REF!"}},{"$f":"COUNTIF(TabUren2[datum],$AD114)","v":0},{"$f":"COUNTIF(TabUren22[datum],$AD114)","v":0},{"$f":"COUNTIF(#REF!,$AD114)","v":{"$error":"#REF!"}},{"$f":"COUNTIF(#REF!,$AD114)","v":{"$error":"#REF!"}},{"$f":"COUNTIF(#REF!,$AD114)","v":{"$error":"#REF!"}},{"$f":"COUNTIF(#REF!,$AD114)","v":{"$error":"#REF!"}},0,0,0,0,0,0,"","","","","","","","","","","","",0,""]
[null,null,null,null,null,null,null,null,null,null,null,null,null,null,null,null,null,null,null,null,null,null,null,null,null,null,114,null,null,"2015-04-24",{"$f":"SUMIFS('LOG1'!$J$5:$J$501,TabUren2[datum],$AD115)","v":"00:00:00"},{"$f":"SUMIFS('LOG2'!$J$5:$J$501,TabUren22[datum],$AD115)","v":"00:00:00"},{"$f":"SUMIFS(#REF!,#REF!,$AD115)","v":{"$error":"#REF!"}},{"$f":"SUMIFS(#REF!,#REF!,$AD115)","v":{"$error":"#REF!"}},{"$f":"SUMIFS(#REF!,#REF!,$AD115)","v":{"$error":"#REF!"}},{"$f":"SUMIFS(#REF!,#REF!,$AD115)","v":{"$error":"#REF!"}},{"$f":"COUNTIF(TabUren2[datum],$AD115)","v":0},{"$f":"COUNTIF(TabUren22[datum],$AD115)","v":0},{"$f":"COUNTIF(#REF!,$AD115)","v":{"$error":"#REF!"}},{"$f":"COUNTIF(#REF!,$AD115)","v":{"$error":"#REF!"}},{"$f":"COUNTIF(#REF!,$AD115)","v":{"$error":"#REF!"}},{"$f":"COUNTIF(#REF!,$AD115)","v":{"$error":"#REF!"}},0,0,0,0,0,0,"","","","","","","","","","","","",0,""]
[null,null,null,null,null,null,null,null,null,null,null,null,null,null,null,null,null,null,null,null,null,null,null,null,null,null,115,null,null,"2015-04-25",{"$f":"SUMIFS('LOG1'!$J$5:$J$501,TabUren2[datum],$AD116)","v":"00:00:00"},{"$f":"SUMIFS('LOG2'!$J$5:$J$501,TabUren22[datum],$AD116)","v":"00:00:00"},{"$f":"SUMIFS(#REF!,#REF!,$AD116)","v":{"$error":"#REF!"}},{"$f":"SUMIFS(#REF!,#REF!,$AD116)","v":{"$error":"#REF!"}},{"$f":"SUMIFS(#REF!,#REF!,$AD116)","v":{"$error":"#REF!"}},{"$f":"SUMIFS(#REF!,#REF!,$AD116)","v":{"$error":"#REF!"}},{"$f":"COUNTIF(TabUren2[datum],$AD116)","v":0},{"$f":"COUNTIF(TabUren22[datum],$AD116)","v":0},{"$f":"COUNTIF(#REF!,$AD116)","v":{"$error":"#REF!"}},{"$f":"COUNTIF(#REF!,$AD116)","v":{"$error":"#REF!"}},{"$f":"COUNTIF(#REF!,$AD116)","v":{"$error":"#REF!"}},{"$f":"COUNTIF(#REF!,$AD116)","v":{"$error":"#REF!"}},0,0,0,0,0,0,"","","","","","","","","","","","",0,""]
[null,null,null,null,null,null,null,null,null,null,null,null,null,null,null,null,null,null,null,null,null,null,null,null,null,null,116,null,null,"2015-04-26",{"$f":"SUMIFS('LOG1'!$J$5:$J$501,TabUren2[datum],$AD117)","v":"00:00:00"},{"$f":"SUMIFS('LOG2'!$J$5:$J$501,TabUren22[datum],$AD117)","v":"00:00:00"},{"$f":"SUMIFS(#REF!,#REF!,$AD117)","v":{"$error":"#REF!"}},{"$f":"SUMIFS(#REF!,#REF!,$AD117)","v":{"$error":"#REF!"}},{"$f":"SUMIFS(#REF!,#REF!,$AD117)","v":{"$error":"#REF!"}},{"$f":"SUMIFS(#REF!,#REF!,$AD117)","v":{"$error":"#REF!"}},{"$f":"COUNTIF(TabUren2[datum],$AD117)","v":0},{"$f":"COUNTIF(TabUren22[datum],$AD117)","v":0},{"$f":"COUNTIF(#REF!,$AD117)","v":{"$error":"#REF!"}},{"$f":"COUNTIF(#REF!,$AD117)","v":{"$error":"#REF!"}},{"$f":"COUNTIF(#REF!,$AD117)","v":{"$error":"#REF!"}},{"$f":"COUNTIF(#REF!,$AD117)","v":{"$error":"#REF!"}},0,0,0,0,0,0,"","","","","","","","","","","","",0,""]
[null,null,null,null,null,null,null,null,null,null,null,null,null,null,null,null,null,null,null,null,null,null,null,null,null,null,117,null,null,"2015-04-27",{"$f":"SUMIFS('LOG1'!$J$5:$J$501,TabUren2[datum],$AD118)","v":"00:00:00"},{"$f":"SUMIFS('LOG2'!$J$5:$J$501,TabUren22[datum],$AD118)","v":"00:00:00"},{"$f":"SUMIFS(#REF!,#REF!,$AD118)","v":{"$error":"#REF!"}},{"$f":"SUMIFS(#REF!,#REF!,$AD118)","v":{"$error":"#REF!"}},{"$f":"SUMIFS(#REF!,#REF!,$AD118)","v":{"$error":"#REF!"}},{"$f":"SUMIFS(#REF!,#REF!,$AD118)","v":{"$error":"#REF!"}},{"$f":"COUNTIF(TabUren2[datum],$AD118)","v":0},{"$f":"COUNTIF(TabUren22[datum],$AD118)","v":0},{"$f":"COUNTIF(#REF!,$AD118)","v":{"$error":"#REF!"}},{"$f":"COUNTIF(#REF!,$AD118)","v":{"$error":"#REF!"}},{"$f":"COUNTIF(#REF!,$AD118)","v":{"$error":"#REF!"}},{"$f":"COUNTIF(#REF!,$AD118)","v":{"$error":"#REF!"}},0,0,0,0,0,0,"","","","","","","","","","","","",0,""]
[null,null,null,null,null,null,null,null,null,null,null,null,null,null,null,null,null,null,null,null,null,null,null,null,null,null,118,null,null,"2015-04-28",{"$f":"SUMIFS('LOG1'!$J$5:$J$501,TabUren2[datum],$AD119)","v":"00:00:00"},{"$f":"SUMIFS('LOG2'!$J$5:$J$501,TabUren22[datum],$AD119)","v":"00:00:00"},{"$f":"SUMIFS(#REF!,#REF!,$AD119)","v":{"$error":"#REF!"}},{"$f":"SUMIFS(#REF!,#REF!,$AD119)","v":{"$error":"#REF!"}},{"$f":"SUMIFS(#REF!,#REF!,$AD119)","v":{"$error":"#REF!"}},{"$f":"SUMIFS(#REF!,#REF!,$AD119)","v":{"$error":"#REF!"}},{"$f":"COUNTIF(TabUren2[datum],$AD119)","v":0},{"$f":"COUNTIF(TabUren22[datum],$AD119)","v":0},{"$f":"COUNTIF(#REF!,$AD119)","v":{"$error":"#REF!"}},{"$f":"COUNTIF(#REF!,$AD119)","v":{"$error":"#REF!"}},{"$f":"COUNTIF(#REF!,$AD119)","v":{"$error":"#REF!"}},{"$f":"COUNTIF(#REF!,$AD119)","v":{"$error":"#REF!"}},0,0,0,0,0,0,"","","","","","","","","","","","",0,""]
[null,null,null,null,null,null,null,null,null,null,null,null,null,null,null,null,null,null,null,null,null,null,null,null,null,null,119,null,null,"2015-04-29",{"$f":"SUMIFS('LOG1'!$J$5:$J$501,TabUren2[datum],$AD120)","v":"00:00:00"},{"$f":"SUMIFS('LOG2'!$J$5:$J$501,TabUren22[datum],$AD120)","v":"00:00:00"},{"$f":"SUMIFS(#REF!,#REF!,$AD120)","v":{"$error":"#REF!"}},{"$f":"SUMIFS(#REF!,#REF!,$AD120)","v":{"$error":"#REF!"}},{"$f":"SUMIFS(#REF!,#REF!,$AD120)","v":{"$error":"#REF!"}},{"$f":"SUMIFS(#REF!,#REF!,$AD120)","v":{"$error":"#REF!"}},{"$f":"COUNTIF(TabUren2[datum],$AD120)","v":0},{"$f":"COUNTIF(TabUren22[datum],$AD120)","v":0},{"$f":"COUNTIF(#REF!,$AD120)","v":{"$error":"#REF!"}},{"$f":"COUNTIF(#REF!,$AD120)","v":{"$error":"#REF!"}},{"$f":"COUNTIF(#REF!,$AD120)","v":{"$error":"#REF!"}},{"$f":"COUNTIF(#REF!,$AD120)","v":{"$error":"#REF!"}},0,0,0,0,0,0,"","","","","","","","","","","","",0,""]
[null,null,null,null,null,null,null,null,null,null,null,null,null,null,null,null,null,null,null,null,null,null,null,null,null,null,120,null,null,"2015-04-30",{"$f":"SUMIFS('LOG1'!$J$5:$J$501,TabUren2[datum],$AD121)","v":"00:00:00"},{"$f":"SUMIFS('LOG2'!$J$5:$J$501,TabUren22[datum],$AD121)","v":"00:00:00"},{"$f":"SUMIFS(#REF!,#REF!,$AD121)","v":{"$error":"#REF!"}},{"$f":"SUMIFS(#REF!,#REF!,$AD121)","v":{"$error":"#REF!"}},{"$f":"SUMIFS(#REF!,#REF!,$AD121)","v":{"$error":"#REF!"}},{"$f":"SUMIFS(#REF!,#REF!,$AD121)","v":{"$error":"#REF!"}},{"$f":"COUNTIF(TabUren2[datum],$AD121)","v":0},{"$f":"COUNTIF(TabUren22[datum],$AD121)","v":0},{"$f":"COUNTIF(#REF!,$AD121)","v":{"$error":"#REF!"}},{"$f":"COUNTIF(#REF!,$AD121)","v":{"$error":"#REF!"}},{"$f":"COUNTIF(#REF!,$AD121)","v":{"$error":"#REF!"}},{"$f":"COUNTIF(#REF!,$AD121)","v":{"$error":"#REF!"}},0,0,0,0,0,0,"","","","","","","","","","","","",0,""]
[null,null,null,null,null,null,null,null,null,null,null,null,null,null,null,null,null,null,null,null,null,null,null,null,null,null,121,null,null,"2015-05-01",{"$f":"SUMIFS('LOG1'!$J$5:$J$501,TabUren2[datum],$AD122)","v":"00:00:00"},{"$f":"SUMIFS('LOG2'!$J$5:$J$501,TabUren22[datum],$AD122)","v":"00:00:00"},{"$f":"SUMIFS(#REF!,#REF!,$AD122)","v":{"$error":"#REF!"}},{"$f":"SUMIFS(#REF!,#REF!,$AD122)","v":{"$error":"#REF!"}},{"$f":"SUMIFS(#REF!,#REF!,$AD122)","v":{"$error":"#REF!"}},{"$f":"SUMIFS(#REF!,#REF!,$AD122)","v":{"$error":"#REF!"}},{"$f":"COUNTIF(TabUren2[datum],$AD122)","v":0},{"$f":"COUNTIF(TabUren22[datum],$AD122)","v":0},{"$f":"COUNTIF(#REF!,$AD122)","v":{"$error":"#REF!"}},{"$f":"COUNTIF(#REF!,$AD122)","v":{"$error":"#REF!"}},{"$f":"COUNTIF(#REF!,$AD122)","v":{"$error":"#REF!"}},{"$f":"COUNTIF(#REF!,$AD122)","v":{"$error":"#REF!"}},0,0,0,0,0,0,"","","","","","","","","","","","",0,""]
[null,null,null,null,null,null,null,null,null,null,null,null,null,null,null,null,null,null,null,null,null,null,null,null,null,null,122,null,null,"2015-05-02",{"$f":"SUMIFS('LOG1'!$J$5:$J$501,TabUren2[datum],$AD123)","v":"00:00:00"},{"$f":"SUMIFS('LOG2'!$J$5:$J$501,TabUren22[datum],$AD123)","v":"00:00:00"},{"$f":"SUMIFS(#REF!,#REF!,$AD123)","v":{"$error":"#REF!"}},{"$f":"SUMIFS(#REF!,#REF!,$AD123)","v":{"$error":"#REF!"}},{"$f":"SUMIFS(#REF!,#REF!,$AD123)","v":{"$error":"#REF!"}},{"$f":"SUMIFS(#REF!,#REF!,$AD123)","v":{"$error":"#REF!"}},{"$f":"COUNTIF(TabUren2[datum],$AD123)","v":0},{"$f":"COUNTIF(TabUren22[datum],$AD123)","v":0},{"$f":"COUNTIF(#REF!,$AD123)","v":{"$error":"#REF!"}},{"$f":"COUNTIF(#REF!,$AD123)","v":{"$error":"#REF!"}},{"$f":"COUNTIF(#REF!,$AD123)","v":{"$error":"#REF!"}},{"$f":"COUNTIF(#REF!,$AD123)","v":{"$error":"#REF!"}},0,0,0,0,0,0,"","","","","","","","","","","","",0,""]
[null,null,null,null,null,null,null,null,null,null,null,null,null,null,null,null,null,null,null,null,null,null,null,null,null,null,123,null,null,"2015-05-03",{"$f":"SUMIFS('LOG1'!$J$5:$J$501,TabUren2[datum],$AD124)","v":"00:00:00"},{"$f":"SUMIFS('LOG2'!$J$5:$J$501,TabUren22[datum],$AD124)","v":"00:00:00"},{"$f":"SUMIFS(#REF!,#REF!,$AD124)","v":{"$error":"#REF!"}},{"$f":"SUMIFS(#REF!,#REF!,$AD124)","v":{"$error":"#REF!"}},{"$f":"SUMIFS(#REF!,#REF!,$AD124)","v":{"$error":"#REF!"}},{"$f":"SUMIFS(#REF!,#REF!,$AD124)","v":{"$error":"#REF!"}},{"$f":"COUNTIF(TabUren2[datum],$AD124)","v":0},{"$f":"COUNTIF(TabUren22[datum],$AD124)","v":0},{"$f":"COUNTIF(#REF!,$AD124)","v":{"$error":"#REF!"}},{"$f":"COUNTIF(#REF!,$AD124)","v":{"$error":"#REF!"}},{"$f":"COUNTIF(#REF!,$AD124)","v":{"$error":"#REF!"}},{"$f":"COUNTIF(#REF!,$AD124)","v":{"$error":"#REF!"}},0,0,0,0,0,0,"","","","","","","","","","","","",0,""]
[null,null,null,null,null,null,null,null,null,null,null,null,null,null,null,null,null,null,null,null,null,null,null,null,null,null,124,null,null,"2015-05-04",{"$f":"SUMIFS('LOG1'!$J$5:$J$501,TabUren2[datum],$AD125)","v":"00:00:00"},{"$f":"SUMIFS('LOG2'!$J$5:$J$501,TabUren22[datum],$AD125)","v":"00:00:00"},{"$f":"SUMIFS(#REF!,#REF!,$AD125)","v":{"$error":"#REF!"}},{"$f":"SUMIFS(#REF!,#REF!,$AD125)","v":{"$error":"#REF!"}},{"$f":"SUMIFS(#REF!,#REF!,$AD125)","v":{"$error":"#REF!"}},{"$f":"SUMIFS(#REF!,#REF!,$AD125)","v":{"$error":"#REF!"}},{"$f":"COUNTIF(TabUren2[datum],$AD125)","v":0},{"$f":"COUNTIF(TabUren22[datum],$AD125)","v":0},{"$f":"COUNTIF(#REF!,$AD125)","v":{"$error":"#REF!"}},{"$f":"COUNTIF(#REF!,$AD125)","v":{"$error":"#REF!"}},{"$f":"COUNTIF(#REF!,$AD125)","v":{"$error":"#REF!"}},{"$f":"COUNTIF(#REF!,$AD125)","v":{"$error":"#REF!"}},0,0,0,0,0,0,"","","","","","","","","","","","",0,""]
[null,null,null,null,null,null,null,null,null,null,null,null,null,null,null,null,null,null,null,null,null,null,null,null,null,null,125,null,null,"2015-05-05",{"$f":"SUMIFS('LOG1'!$J$5:$J$501,TabUren2[datum],$AD126)","v":"00:00:00"},{"$f":"SUMIFS('LOG2'!$J$5:$J$501,TabUren22[datum],$AD126)","v":"00:00:00"},{"$f":"SUMIFS(#REF!,#REF!,$AD126)","v":{"$error":"#REF!"}},{"$f":"SUMIFS(#REF!,#REF!,$AD126)","v":{"$error":"#REF!"}},{"$f":"SUMIFS(#REF!,#REF!,$AD126)","v":{"$error":"#REF!"}},{"$f":"SUMIFS(#REF!,#REF!,$AD126)","v":{"$error":"#REF!"}},{"$f":"COUNTIF(TabUren2[datum],$AD126)","v":0},{"$f":"COUNTIF(TabUren22[datum],$AD126)","v":0},{"$f":"COUNTIF(#REF!,$AD126)","v":{"$error":"#REF!"}},{"$f":"COUNTIF(#REF!,$AD126)","v":{"$error":"#REF!"}},{"$f":"COUNTIF(#REF!,$AD126)","v":{"$error":"#REF!"}},{"$f":"COUNTIF(#REF!,$AD126)","v":{"$error":"#REF!"}},0,0,0,0,0,0,"","","","","","","","","","","","",0,""]
[null,null,null,null,null,null,null,null,null,null,null,null,null,null,null,null,null,null,null,null,null,null,null,null,null,null,126,null,null,"2015-05-06",{"$f":"SUMIFS('LOG1'!$J$5:$J$501,TabUren2[datum],$AD127)","v":"00:00:00"},{"$f":"SUMIFS('LOG2'!$J$5:$J$501,TabUren22[datum],$AD127)","v":"00:00:00"},{"$f":"SUMIFS(#REF!,#REF!,$AD127)","v":{"$error":"#REF!"}},{"$f":"SUMIFS(#REF!,#REF!,$AD127)","v":{"$error":"#REF!"}},{"$f":"SUMIFS(#REF!,#REF!,$AD127)","v":{"$error":"#REF!"}},{"$f":"SUMIFS(#REF!,#REF!,$AD127)","v":{"$error":"#REF!"}},{"$f":"COUNTIF(TabUren2[datum],$AD127)","v":0},{"$f":"COUNTIF(TabUren22[datum],$AD127)","v":0},{"$f":"COUNTIF(#REF!,$AD127)","v":{"$error":"#REF!"}},{"$f":"COUNTIF(#REF!,$AD127)","v":{"$error":"#REF!"}},{"$f":"COUNTIF(#REF!,$AD127)","v":{"$error":"#REF!"}},{"$f":"COUNTIF(#REF!,$AD127)","v":{"$error":"#REF!"}},0,0,0,0,0,0,"","","","","","","","","","","","",0,""]
[null,null,null,null,null,null,null,null,null,null,null,null,null,null,null,null,null,null,null,null,null,null,null,null,null,null,127,null,null,"2015-05-07",{"$f":"SUMIFS('LOG1'!$J$5:$J$501,TabUren2[datum],$AD128)","v":"00:00:00"},{"$f":"SUMIFS('LOG2'!$J$5:$J$501,TabUren22[datum],$AD128)","v":"00:00:00"},{"$f":"SUMIFS(#REF!,#REF!,$AD128)","v":{"$error":"#REF!"}},{"$f":"SUMIFS(#REF!,#REF!,$AD128)","v":{"$error":"#REF!"}},{"$f":"SUMIFS(#REF!,#REF!,$AD128)","v":{"$error":"#REF!"}},{"$f":"SUMIFS(#REF!,#REF!,$AD128)","v":{"$error":"#REF!"}},{"$f":"COUNTIF(TabUren2[datum],$AD128)","v":0},{"$f":"COUNTIF(TabUren22[datum],$AD128)","v":0},{"$f":"COUNTIF(#REF!,$AD128)","v":{"$error":"#REF!"}},{"$f":"COUNTIF(#REF!,$AD128)","v":{"$error":"#REF!"}},{"$f":"COUNTIF(#REF!,$AD128)","v":{"$error":"#REF!"}},{"$f":"COUNTIF(#REF!,$AD128)","v":{"$error":"#REF!"}},0,0,0,0,0,0,"","","","","","","","","","","","",0,""]
[null,null,null,null,null,null,null,null,null,null,null,null,null,null,null,null,null,null,null,null,null,null,null,null,null,null,128,null,null,"2015-05-08",{"$f":"SUMIFS('LOG1'!$J$5:$J$501,TabUren2[datum],$AD129)","v":"00:00:00"},{"$f":"SUMIFS('LOG2'!$J$5:$J$501,TabUren22[datum],$AD129)","v":"00:00:00"},{"$f":"SUMIFS(#REF!,#REF!,$AD129)","v":{"$error":"#REF!"}},{"$f":"SUMIFS(#REF!,#REF!,$AD129)","v":{"$error":"#REF!"}},{"$f":"SUMIFS(#REF!,#REF!,$AD129)","v":{"$error":"#REF!"}},{"$f":"SUMIFS(#REF!,#REF!,$AD129)","v":{"$error":"#REF!"}},{"$f":"COUNTIF(TabUren2[datum],$AD129)","v":0},{"$f":"COUNTIF(TabUren22[datum],$AD129)","v":0},{"$f":"COUNTIF(#REF!,$AD129)","v":{"$error":"#REF!"}},{"$f":"COUNTIF(#REF!,$AD129)","v":{"$error":"#REF!"}},{"$f":"COUNTIF(#REF!,$AD129)","v":{"$error":"#REF!"}},{"$f":"COUNTIF(#REF!,$AD129)","v":{"$error":"#REF!"}},0,0,0,0,0,0,"","","","","","","","","","","","",0,""]
[null,null,null,null,null,null,null,null,null,null,null,null,null,null,null,null,null,null,null,null,null,null,null,null,null,null,129,null,null,"2015-05-09",{"$f":"SUMIFS('LOG1'!$J$5:$J$501,TabUren2[datum],$AD130)","v":"00:00:00"},{"$f":"SUMIFS('LOG2'!$J$5:$J$501,TabUren22[datum],$AD130)","v":"00:00:00"},{"$f":"SUMIFS(#REF!,#REF!,$AD130)","v":{"$error":"#REF!"}},{"$f":"SUMIFS(#REF!,#REF!,$AD130)","v":{"$error":"#REF!"}},{"$f":"SUMIFS(#REF!,#REF!,$AD130)","v":{"$error":"#REF!"}},{"$f":"SUMIFS(#REF!,#REF!,$AD130)","v":{"$error":"#REF!"}},{"$f":"COUNTIF(TabUren2[datum],$AD130)","v":0},{"$f":"COUNTIF(TabUren22[datum],$AD130)","v":0},{"$f":"COUNTIF(#REF!,$AD130)","v":{"$error":"#REF!"}},{"$f":"COUNTIF(#REF!,$AD130)","v":{"$error":"#REF!"}},{"$f":"COUNTIF(#REF!,$AD130)","v":{"$error":"#REF!"}},{"$f":"COUNTIF(#REF!,$AD130)","v":{"$error":"#REF!"}},0,0,0,0,0,0,"","","","","","","","","","","","",0,""]
[null,null,null,null,null,null,null,null,null,null,null,null,null,null,null,null,null,null,null,null,null,null,null,null,null,null,130,null,null,"2015-05-10",{"$f":"SUMIFS('LOG1'!$J$5:$J$501,TabUren2[datum],$AD131)","v":"00:00:00"},{"$f":"SUMIFS('LOG2'!$J$5:$J$501,TabUren22[datum],$AD131)","v":"00:00:00"},{"$f":"SUMIFS(#REF!,#REF!,$AD131)","v":{"$error":"#REF!"}},{"$f":"SUMIFS(#REF!,#REF!,$AD131)","v":{"$error":"#REF!"}},{"$f":"SUMIFS(#REF!,#REF!,$AD131)","v":{"$error":"#REF!"}},{"$f":"SUMIFS(#REF!,#REF!,$AD131)","v":{"$error":"#REF!"}},{"$f":"COUNTIF(TabUren2[datum],$AD131)","v":0},{"$f":"COUNTIF(TabUren22[datum],$AD131)","v":0},{"$f":"COUNTIF(#REF!,$AD131)","v":{"$error":"#REF!"}},{"$f":"COUNTIF(#REF!,$AD131)","v":{"$error":"#REF!"}},{"$f":"COUNTIF(#REF!,$AD131)","v":{"$error":"#REF!"}},{"$f":"COUNTIF(#REF!,$AD131)","v":{"$error":"#REF!"}},{"$f":"COUNTIF(AK131,\">0\")","v":0},{"$f":"COUNTIF(AL131,\">0\")","v":0},{"$f":"COUNTIF(AM131,\">0\")","v":0},{"$f":"COUNTIF(AN131,\">0\")","v":0},{"$f":"COUNTIF(AO131,\">0\")","v":0},{"$f":"COUNTIF(AP131,\">0\")","v":0},{"$f":"IF(AQ131=1,AE131,\"\")","v":""},{"$f":"IF(AR131=1,AF131,\"\")","v":""},{"$f":"IF(AS131=1,AG131,\"\")","v":""},{"$f":"IF(AT131=1,AH131,\"\")","v":""},{"$f":"IF(AU131=1,AI131,\"\")","v":""},{"$f":"IF(AV131=1,AJ131,\"\")","v":""},{"$f":"IF(BC$1=TRUE,AW131,\"\")","v":""},{"$f":"IF(BD$1=TRUE,AX131,\"\")","v":""},{"$f":"IF(BE$1=TRUE,AY131,\"\")","v":""},{"$f":"IF(BF$1=TRUE,AZ131,\"\")","v":""},{"$f":"IF(BG$1=TRUE,BA131,\"\")","v":""},{"$f":"IF(BH$1=TRUE,BB131,\"\")","v":""},0,""]
[null,null,null,null,null,null,null,null,null,null,null,null,null,null,null,null,null,null,null,null,null,null,null,null,null,null,131,null,null,"2015-05-11",{"$f":"SUMIFS('LOG1'!$J$5:$J$501,TabUren2[datum],$AD132)","v":"00:00:00"},{"$f":"SUMIFS('LOG2'!$J$5:$J$501,TabUren22[datum],$AD132)","v":"00:00:00"},{"$f":"SUMIFS(#REF!,#REF!,$AD132)","v":{"$error":"#REF!"}},{"$f":"SUMIFS(#REF!,#REF!,$AD132)","v":{"$error":"#REF!"}},{"$f":"SUMIFS(#REF!,#REF!,$AD132)","v":{"$error":"#REF!"}},{"$f":"SUMIFS(#REF!,#REF!,$AD132)","v":{"$error":"#REF!"}},{"$f":"COUNTIF(TabUren2[datum],$AD132)","v":0},{"$f":"COUNTIF(TabUren22[datum],$AD132)","v":0},{"$f":"COUNTIF(#REF!,$AD132)","v":{"$error":"#REF!"}},{"$f":"COUNTIF(#REF!,$AD132)","v":{"$error":"#REF!"}},{"$f":"COUNTIF(#REF!,$AD132)","v":{"$error":"#REF!"}},{"$f":"COUNTIF(#REF!,$AD132)","v":{"$error":"#REF!"}},0,0,0,0,0,0,"","","","","","","","","","","","",0,""]
[null,null,null,null,null,null,null,null,null,null,null,null,null,null,null,null,null,null,null,null,null,null,null,null,null,null,132,null,null,"2015-05-12",{"$f":"SUMIFS('LOG1'!$J$5:$J$501,TabUren2[datum],$AD133)","v":"00:00:00"},{"$f":"SUMIFS('LOG2'!$J$5:$J$501,TabUren22[datum],$AD133)","v":"00:00:00"},{"$f":"SUMIFS(#REF!,#REF!,$AD133)","v":{"$error":"#REF!"}},{"$f":"SUMIFS(#REF!,#REF!,$AD133)","v":{"$error":"#REF!"}},{"$f":"SUMIFS(#REF!,#REF!,$AD133)","v":{"$error":"#REF!"}},{"$f":"SUMIFS(#REF!,#REF!,$AD133)","v":{"$error":"#REF!"}},{"$f":"COUNTIF(TabUren2[datum],$AD133)","v":0},{"$f":"COUNTIF(TabUren22[datum],$AD133)","v":0},{"$f":"COUNTIF(#REF!,$AD133)","v":{"$error":"#REF!"}},{"$f":"COUNTIF(#REF!,$AD133)","v":{"$error":"#REF!"}},{"$f":"COUNTIF(#REF!,$AD133)","v":{"$error":"#REF!"}},{"$f":"COUNTIF(#REF!,$AD133)","v":{"$error":"#REF!"}},0,0,0,0,0,0,"","","","","","","","","","","","",0,""]
[null,null,null,null,null,null,null,null,null,null,null,null,null,null,null,null,null,null,null,null,null,null,null,null,null,null,133,null,null,"2015-05-13",{"$f":"SUMIFS('LOG1'!$J$5:$J$501,TabUren2[datum],$AD134)","v":"00:00:00"},{"$f":"SUMIFS('LOG2'!$J$5:$J$501,TabUren22[datum],$AD134)","v":"00:00:00"},{"$f":"SUMIFS(#REF!,#REF!,$AD134)","v":{"$error":"#REF!"}},{"$f":"SUMIFS(#REF!,#REF!,$AD134)","v":{"$error":"#REF!"}},{"$f":"SUMIFS(#REF!,#REF!,$AD134)","v":{"$error":"#REF!"}},{"$f":"SUMIFS(#REF!,#REF!,$AD134)","v":{"$error":"#REF!"}},{"$f":"COUNTIF(TabUren2[datum],$AD134)","v":0},{"$f":"COUNTIF(TabUren22[datum],$AD134)","v":0},{"$f":"COUNTIF(#REF!,$AD134)","v":{"$error":"#REF!"}},{"$f":"COUNTIF(#REF!,$AD134)","v":{"$error":"#REF!"}},{"$f":"COUNTIF(#REF!,$AD134)","v":{"$error":"#REF!"}},{"$f":"COUNTIF(#REF!,$AD134)","v":{"$error":"#REF!"}},0,0,0,0,0,0,"","","","","","","","","","","","",{"$f":"COUNT(AW134:BB134)","v":0},{"$f":"IF(BI134>0,AD134,\"\")","v":""}]
[null,null,null,null,null,null,null,null,null,null,null,null,null,null,null,null,null,null,null,null,null,null,null,null,null,null,134,null,null,"2015-05-14",{"$f":"SUMIFS('LOG1'!$J$5:$J$501,TabUren2[datum],$AD135)","v":"00:00:00"},{"$f":"SUMIFS('LOG2'!$J$5:$J$501,TabUren22[datum],$AD135)","v":"00:00:00"},{"$f":"SUMIFS(#REF!,#REF!,$AD135)","v":{"$error":"#REF!"}},{"$f":"SUMIFS(#REF!,#REF!,$AD135)","v":{"$error":"#REF!"}},{"$f":"SUMIFS(#REF!,#REF!,$AD135)","v":{"$error":"#REF!"}},{"$f":"SUMIFS(#REF!,#REF!,$AD135)","v":{"$error":"#REF!"}},{"$f":"COUNTIF(TabUren2[datum],$AD135)","v":0},{"$f":"COUNTIF(TabUren22[datum],$AD135)","v":0},{"$f":"COUNTIF(#REF!,$AD135)","v":{"$error":"#REF!"}},{"$f":"COUNTIF(#REF!,$AD135)","v":{"$error":"#REF!"}},{"$f":"COUNTIF(#REF!,$AD135)","v":{"$error":"#REF!"}},{"$f":"COUNTIF(#REF!,$AD135)","v":{"$error":"#REF!"}},0,0,0,0,0,0,"","","","","","","","","","","","",0,""]
[null,null,null,null,null,null,null,null,null,null,null,null,null,null,null,null,null,null,null,null,null,null,null,null,null,null,135,null,null,"2015-05-15",{"$f":"SUMIFS('LOG1'!$J$5:$J$501,TabUren2[datum],$AD136)","v":"00:00:00"},{"$f":"SUMIFS('LOG2'!$J$5:$J$501,TabUren22[datum],$AD136)","v":"00:00:00"},{"$f":"SUMIFS(#REF!,#REF!,$AD136)","v":{"$error":"#REF!"}},{"$f":"SUMIFS(#REF!,#REF!,$AD136)","v":{"$error":"#REF!"}},{"$f":"SUMIFS(#REF!,#REF!,$AD136)","v":{"$error":"#REF!"}},{"$f":"SUMIFS(#REF!,#REF!,$AD136)","v":{"$error":"#REF!"}},{"$f":"COUNTIF(TabUren2[datum],$AD136)","v":0},{"$f":"COUNTIF(TabUren22[datum],$AD136)","v":0},{"$f":"COUNTIF(#REF!,$AD136)","v":{"$error":"#REF!"}},{"$f":"COUNTIF(#REF!,$AD136)","v":{"$error":"#REF!"}},{"$f":"COUNTIF(#REF!,$AD136)","v":{"$error":"#REF!"}},{"$f":"COUNTIF(#REF!,$AD136)","v":{"$error":"#REF!"}},0,0,0,0,0,0,"","","","","","","","","","","","",0,""]
[null,null,null,null,null,null,null,null,null,null,null,null,null,null,null,null,null,null,null,null,null,null,null,null,null,null,136,null,null,"2015-05-16",{"$f":"SUMIFS('LOG1'!$J$5:$J$501,TabUren2[datum],$AD137)","v":"00:00:00"},{"$f":"SUMIFS('LOG2'!$J$5:$J$501,TabUren22[datum],$AD137)","v":"00:00:00"},{"$f":"SUMIFS(#REF!,#REF!,$AD137)","v":{"$error":"#REF!"}},{"$f":"SUMIFS(#REF!,#REF!,$AD137)","v":{"$error":"#REF!"}},{"$f":"SUMIFS(#REF!,#REF!,$AD137)","v":{"$error":"#REF!"}},{"$f":"SUMIFS(#REF!,#REF!,$AD137)","v":{"$error":"#REF!"}},{"$f":"COUNTIF(TabUren2[datum],$AD137)","v":0},{"$f":"COUNTIF(TabUren22[datum],$AD137)","v":0},{"$f":"COUNTIF(#REF!,$AD137)","v":{"$error":"#REF!"}},{"$f":"COUNTIF(#REF!,$AD137)","v":{"$error":"#REF!"}},{"$f":"COUNTIF(#REF!,$AD137)","v":{"$error":"#REF!"}},{"$f":"COUNTIF(#REF!,$AD137)","v":{"$error":"#REF!"}},0,0,0,0,0,0,"","","","","","","","","","","","",0,""]
[null,null,null,null,null,null,null,null,null,null,null,null,null,null,null,null,null,null,null,null,null,null,null,null,null,null,137,null,null,"2015-05-17",{"$f":"SUMIFS('LOG1'!$J$5:$J$501,TabUren2[datum],$AD138)","v":"00:00:00"},{"$f":"SUMIFS('LOG2'!$J$5:$J$501,TabUren22[datum],$AD138)","v":"00:00:00"},{"$f":"SUMIFS(#REF!,#REF!,$AD138)","v":{"$error":"#REF!"}},{"$f":"SUMIFS(#REF!,#REF!,$AD138)","v":{"$error":"#REF!"}},{"$f":"SUMIFS(#REF!,#REF!,$AD138)","v":{"$error":"#REF!"}},{"$f":"SUMIFS(#REF!,#REF!,$AD138)","v":{"$error":"#REF!"}},{"$f":"COUNTIF(TabUren2[datum],$AD138)","v":0},{"$f":"COUNTIF(TabUren22[datum],$AD138)","v":0},{"$f":"COUNTIF(#REF!,$AD138)","v":{"$error":"#REF!"}},{"$f":"COUNTIF(#REF!,$AD138)","v":{"$error":"#REF!"}},{"$f":"COUNTIF(#REF!,$AD138)","v":{"$error":"#REF!"}},{"$f":"COUNTIF(#REF!,$AD138)","v":{"$error":"#REF!"}},0,0,0,0,0,0,"","","","","","","","","","","","",0,""]
[null,null,null,null,null,null,null,null,null,null,null,null,null,null,null,null,null,null,null,null,null,null,null,null,null,null,138,null,null,"2015-05-18",{"$f":"SUMIFS('LOG1'!$J$5:$J$501,TabUren2[datum],$AD139)","v":"00:00:00"},{"$f":"SUMIFS('LOG2'!$J$5:$J$501,TabUren22[datum],$AD139)","v":"00:00:00"},{"$f":"SUMIFS(#REF!,#REF!,$AD139)","v":{"$error":"#REF!"}},{"$f":"SUMIFS(#REF!,#REF!,$AD139)","v":{"$error":"#REF!"}},{"$f":"SUMIFS(#REF!,#REF!,$AD139)","v":{"$error":"#REF!"}},{"$f":"SUMIFS(#REF!,#REF!,$AD139)","v":{"$error":"#REF!"}},{"$f":"COUNTIF(TabUren2[datum],$AD139)","v":0},{"$f":"COUNTIF(TabUren22[datum],$AD139)","v":0},{"$f":"COUNTIF(#REF!,$AD139)","v":{"$error":"#REF!"}},{"$f":"COUNTIF(#REF!,$AD139)","v":{"$error":"#REF!"}},{"$f":"COUNTIF(#REF!,$AD139)","v":{"$error":"#REF!"}},{"$f":"COUNTIF(#REF!,$AD139)","v":{"$error":"#REF!"}},0,0,0,0,0,0,"","","","","","","","","","","","",0,""]
[null,null,null,null,null,null,null,null,null,null,null,null,null,null,null,null,null,null,null,null,null,null,null,null,null,null,139,null,null,"2015-05-19",{"$f":"SUMIFS('LOG1'!$J$5:$J$501,TabUren2[datum],$AD140)","v":"00:00:00"},{"$f":"SUMIFS('LOG2'!$J$5:$J$501,TabUren22[datum],$AD140)","v":"00:00:00"},{"$f":"SUMIFS(#REF!,#REF!,$AD140)","v":{"$error":"#REF!"}},{"$f":"SUMIFS(#REF!,#REF!,$AD140)","v":{"$error":"#REF!"}},{"$f":"SUMIFS(#REF!,#REF!,$AD140)","v":{"$error":"#REF!"}},{"$f":"SUMIFS(#REF!,#REF!,$AD140)","v":{"$error":"#REF!"}},{"$f":"COUNTIF(TabUren2[datum],$AD140)","v":0},{"$f":"COUNTIF(TabUren22[datum],$AD140)","v":0},{"$f":"COUNTIF(#REF!,$AD140)","v":{"$error":"#REF!"}},{"$f":"COUNTIF(#REF!,$AD140)","v":{"$error":"#REF!"}},{"$f":"COUNTIF(#REF!,$AD140)","v":{"$error":"#REF!"}},{"$f":"COUNTIF(#REF!,$AD140)","v":{"$error":"#REF!"}},0,0,0,0,0,0,"","","","","","","","","","","","",0,""]
[null,null,null,null,null,null,null,null,null,null,null,null,null,null,null,null,null,null,null,null,null,null,null,null,null,null,140,null,null,"2015-05-20",{"$f":"SUMIFS('LOG1'!$J$5:$J$501,TabUren2[datum],$AD141)","v":"00:00:00"},{"$f":"SUMIFS('LOG2'!$J$5:$J$501,TabUren22[datum],$AD141)","v":"00:00:00"},{"$f":"SUMIFS(#REF!,#REF!,$AD141)","v":{"$error":"#REF!"}},{"$f":"SUMIFS(#REF!,#REF!,$AD141)","v":{"$error":"#REF!"}},{"$f":"SUMIFS(#REF!,#REF!,$AD141)","v":{"$error":"#REF!"}},{"$f":"SUMIFS(#REF!,#REF!,$AD141)","v":{"$error":"#REF!"}},{"$f":"COUNTIF(TabUren2[datum],$AD141)","v":0},{"$f":"COUNTIF(TabUren22[datum],$AD141)","v":0},{"$f":"COUNTIF(#REF!,$AD141)","v":{"$error":"#REF!"}},{"$f":"COUNTIF(#REF!,$AD141)","v":{"$error":"#REF!"}},{"$f":"COUNTIF(#REF!,$AD141)","v":{"$error":"#REF!"}},{"$f":"COUNTIF(#REF!,$AD141)","v":{"$error":"#REF!"}},0,0,0,0,0,0,"","","","","","","","","","","","",0,""]
[null,null,null,null,null,null,null,null,null,null,null,null,null,null,null,null,null,null,null,null,null,null,null,null,null,null,141,null,null,"2015-05-21",{"$f":"SUMIFS('LOG1'!$J$5:$J$501,TabUren2[datum],$AD142)","v":"00:00:00"},{"$f":"SUMIFS('LOG2'!$J$5:$J$501,TabUren22[datum],$AD142)","v":"00:00:00"},{"$f":"SUMIFS(#REF!,#REF!,$AD142)","v":{"$error":"#REF!"}},{"$f":"SUMIFS(#REF!,#REF!,$AD142)","v":{"$error":"#REF!"}},{"$f":"SUMIFS(#REF!,#REF!,$AD142)","v":{"$error":"#REF!"}},{"$f":"SUMIFS(#REF!,#REF!,$AD142)","v":{"$error":"#REF!"}},{"$f":"COUNTIF(TabUren2[datum],$AD142)","v":0},{"$f":"COUNTIF(TabUren22[datum],$AD142)","v":0},{"$f":"COUNTIF(#REF!,$AD142)","v":{"$error":"#REF!"}},{"$f":"COUNTIF(#REF!,$AD142)","v":{"$error":"#REF!"}},{"$f":"COUNTIF(#REF!,$AD142)","v":{"$error":"#REF!"}},{"$f":"COUNTIF(#REF!,$AD142)","v":{"$error":"#REF!"}},0,0,0,0,0,0,"","","","","","","","","","","","",0,""]
[null,null,null,null,null,null,null,null,null,null,null,null,null,null,null,null,null,null,null,null,null,null,null,null,null,null,142,null,null,"2015-05-22",{"$f":"SUMIFS('LOG1'!$J$5:$J$501,TabUren2[datum],$AD143)","v":"00:00:00"},{"$f":"SUMIFS('LOG2'!$J$5:$J$501,TabUren22[datum],$AD143)","v":"00:00:00"},{"$f":"SUMIFS(#REF!,#REF!,$AD143)","v":{"$error":"#REF!"}},{"$f":"SUMIFS(#REF!,#REF!,$AD143)","v":{"$error":"#REF!"}},{"$f":"SUMIFS(#REF!,#REF!,$AD143)","v":{"$error":"#REF!"}},{"$f":"SUMIFS(#REF!,#REF!,$AD143)","v":{"$error":"#REF!"}},{"$f":"COUNTIF(TabUren2[datum],$AD143)","v":0},{"$f":"COUNTIF(TabUren22[datum],$AD143)","v":0},{"$f":"COUNTIF(#REF!,$AD143)","v":{"$error":"#REF!"}},{"$f":"COUNTIF(#REF!,$AD143)","v":{"$error":"#REF!"}},{"$f":"COUNTIF(#REF!,$AD143)","v":{"$error":"#REF!"}},{"$f":"COUNTIF(#REF!,$AD143)","v":{"$error":"#REF!"}},0,0,0,0,0,0,"","","","","","","","","","","","",0,""]
[null,null,null,null,null,null,null,null,null,null,null,null,null,null,null,null,null,null,null,null,null,null,null,null,null,null,143,null,null,"2015-05-23",{"$f":"SUMIFS('LOG1'!$J$5:$J$501,TabUren2[datum],$AD144)","v":"00:00:00"},{"$f":"SUMIFS('LOG2'!$J$5:$J$501,TabUren22[datum],$AD144)","v":"00:00:00"},{"$f":"SUMIFS(#REF!,#REF!,$AD144)","v":{"$error":"#REF!"}},{"$f":"SUMIFS(#REF!,#REF!,$AD144)","v":{"$error":"#REF!"}},{"$f":"SUMIFS(#REF!,#REF!,$AD144)","v":{"$error":"#REF!"}},{"$f":"SUMIFS(#REF!,#REF!,$AD144)","v":{"$error":"#REF!"}},{"$f":"COUNTIF(TabUren2[datum],$AD144)","v":0},{"$f":"COUNTIF(TabUren22[datum],$AD144)","v":0},{"$f":"COUNTIF(#REF!,$AD144)","v":{"$error":"#REF!"}},{"$f":"COUNTIF(#REF!,$AD144)","v":{"$error":"#REF!"}},{"$f":"COUNTIF(#REF!,$AD144)","v":{"$error":"#REF!"}},{"$f":"COUNTIF(#REF!,$AD144)","v":{"$error":"#REF!"}},0,0,0,0,0,0,"","","","","","","","","","","","",0,""]
[null,null,null,null,null,null,null,null,null,null,null,null,null,null,null,null,null,null,null,null,null,null,null,null,null,null,144,null,null,"2015-05-24",{"$f":"SUMIFS('LOG1'!$J$5:$J$501,TabUren2[datum],$AD145)","v":"00:00:00"},{"$f":"SUMIFS('LOG2'!$J$5:$J$501,TabUren22[datum],$AD145)","v":"00:00:00"},{"$f":"SUMIFS(#REF!,#REF!,$AD145)","v":{"$error":"#REF!"}},{"$f":"SUMIFS(#REF!,#REF!,$AD145)","v":{"$error":"#REF!"}},{"$f":"SUMIFS(#REF!,#REF!,$AD145)","v":{"$error":"#REF!"}},{"$f":"SUMIFS(#REF!,#REF!,$AD145)","v":{"$error":"#REF!"}},{"$f":"COUNTIF(TabUren2[datum],$AD145)","v":0},{"$f":"COUNTIF(TabUren22[datum],$AD145)","v":0},{"$f":"COUNTIF(#REF!,$AD145)","v":{"$error":"#REF!"}},{"$f":"COUNTIF(#REF!,$AD145)","v":{"$error":"#REF!"}},{"$f":"COUNTIF(#REF!,$AD145)","v":{"$error":"#REF!"}},{"$f":"COUNTIF(#REF!,$AD145)","v":{"$error":"#REF!"}},0,0,0,0,0,0,"","","","","","","","","","","","",0,""]
[null,null,null,null,null,null,null,null,null,null,null,null,null,null,null,null,null,null,null,null,null,null,null,null,null,null,145,null,null,"2015-05-25",{"$f":"SUMIFS('LOG1'!$J$5:$J$501,TabUren2[datum],$AD146)","v":"00:00:00"},{"$f":"SUMIFS('LOG2'!$J$5:$J$501,TabUren22[datum],$AD146)","v":"00:00:00"},{"$f":"SUMIFS(#REF!,#REF!,$AD146)","v":{"$error":"#REF!"}},{"$f":"SUMIFS(#REF!,#REF!,$AD146)","v":{"$error":"#REF!"}},{"$f":"SUMIFS(#REF!,#REF!,$AD146)","v":{"$error":"#REF!"}},{"$f":"SUMIFS(#REF!,#REF!,$AD146)","v":{"$error":"#REF!"}},{"$f":"COUNTIF(TabUren2[datum],$AD146)","v":0},{"$f":"COUNTIF(TabUren22[datum],$AD146)","v":0},{"$f":"COUNTIF(#REF!,$AD146)","v":{"$error":"#REF!"}},{"$f":"COUNTIF(#REF!,$AD146)","v":{"$error":"#REF!"}},{"$f":"COUNTIF(#REF!,$AD146)","v":{"$error":"#REF!"}},{"$f":"COUNTIF(#REF!,$AD146)","v":{"$error":"#REF!"}},0,0,0,0,0,0,"","","","","","","","","","","","",0,""]
[null,null,null,null,null,null,null,null,null,null,null,null,null,null,null,null,null,null,null,null,null,null,null,null,null,null,146,null,null,"2015-05-26",{"$f":"SUMIFS('LOG1'!$J$5:$J$501,TabUren2[datum],$AD147)","v":"00:00:00"},{"$f":"SUMIFS('LOG2'!$J$5:$J$501,TabUren22[datum],$AD147)","v":"00:00:00"},{"$f":"SUMIFS(#REF!,#REF!,$AD147)","v":{"$error":"#REF!"}},{"$f":"SUMIFS(#REF!,#REF!,$AD147)","v":{"$error":"#REF!"}},{"$f":"SUMIFS(#REF!,#REF!,$AD147)","v":{"$error":"#REF!"}},{"$f":"SUMIFS(#REF!,#REF!,$AD147)","v":{"$error":"#REF!"}},{"$f":"COUNTIF(TabUren2[datum],$AD147)","v":0},{"$f":"COUNTIF(TabUren22[datum],$AD147)","v":0},{"$f":"COUNTIF(#REF!,$AD147)","v":{"$error":"#REF!"}},{"$f":"COUNTIF(#REF!,$AD147)","v":{"$error":"#REF!"}},{"$f":"COUNTIF(#REF!,$AD147)","v":{"$error":"#REF!"}},{"$f":"COUNTIF(#REF!,$AD147)","v":{"$error":"#REF!"}},0,0,0,0,0,0,"","","","","","","","","","","","",0,""]
[null,null,null,null,null,null,null,null,null,null,null,null,null,null,null,null,null,null,null,null,null,null,null,null,null,null,147,null,null,"2015-05-27",{"$f":"SUMIFS('LOG1'!$J$5:$J$501,TabUren2[datum],$AD148)","v":"00:00:00"},{"$f":"SUMIFS('LOG2'!$J$5:$J$501,TabUren22[datum],$AD148)","v":"00:00:00"},{"$f":"SUMIFS(#REF!,#REF!,$AD148)","v":{"$error":"#REF!"}},{"$f":"SUMIFS(#REF!,#REF!,$AD148)","v":{"$error":"#REF!"}},{"$f":"SUMIFS(#REF!,#REF!,$AD148)","v":{"$error":"#REF!"}},{"$f":"SUMIFS(#REF!,#REF!,$AD148)","v":{"$error":"#REF!"}},{"$f":"COUNTIF(TabUren2[datum],$AD148)","v":0},{"$f":"COUNTIF(TabUren22[datum],$AD148)","v":0},{"$f":"COUNTIF(#REF!,$AD148)","v":{"$error":"#REF!"}},{"$f":"COUNTIF(#REF!,$AD148)","v":{"$error":"#REF!"}},{"$f":"COUNTIF(#REF!,$AD148)","v":{"$error":"#REF!"}},{"$f":"COUNTIF(#REF!,$AD148)","v":{"$error":"#REF!"}},0,0,0,0,0,0,"","","","","","","","","","","","",0,""]
[null,null,null,null,null,null,null,null,null,null,null,null,null,null,null,null,null,null,null,null,null,null,null,null,null,null,148,null,null,"2015-05-28",{"$f":"SUMIFS('LOG1'!$J$5:$J$501,TabUren2[datum],$AD149)","v":"00:00:00"},{"$f":"SUMIFS('LOG2'!$J$5:$J$501,TabUren22[datum],$AD149)","v":"00:00:00"},{"$f":"SUMIFS(#REF!,#REF!,$AD149)","v":{"$error":"#REF!"}},{"$f":"SUMIFS(#REF!,#REF!,$AD149)","v":{"$error":"#REF!"}},{"$f":"SUMIFS(#REF!,#REF!,$AD149)","v":{"$error":"#REF!"}},{"$f":"SUMIFS(#REF!,#REF!,$AD149)","v":{"$error":"#REF!"}},{"$f":"COUNTIF(TabUren2[datum],$AD149)","v":0},{"$f":"COUNTIF(TabUren22[datum],$AD149)","v":0},{"$f":"COUNTIF(#REF!,$AD149)","v":{"$error":"#REF!"}},{"$f":"COUNTIF(#REF!,$AD149)","v":{"$error":"#REF!"}},{"$f":"COUNTIF(#REF!,$AD149)","v":{"$error":"#REF!"}},{"$f":"COUNTIF(#REF!,$AD149)","v":{"$error":"#REF!"}},0,0,0,0,0,0,"","","","","","","","","","","","",0,""]
[null,null,null,null,null,null,null,null,null,null,null,null,null,null,null,null,null,null,null,null,null,null,null,null,null,null,{"$f":"AA149+1","v":149},null,null,"2015-05-29",{"$f":"SUMIFS('LOG1'!$J$5:$J$501,TabUren2[datum],$AD150)","v":"00:00:00"},{"$f":"SUMIFS('LOG2'!$J$5:$J$501,TabUren22[datum],$AD150)","v":"00:00:00"},{"$f":"SUMIFS(#REF!,#REF!,$AD150)","v":{"$error":"#REF!"}},{"$f":"SUMIFS(#REF!,#REF!,$AD150)","v":{"$error":"#REF!"}},{"$f":"SUMIFS(#REF!,#REF!,$AD150)","v":{"$error":"#REF!"}},{"$f":"SUMIFS(#REF!,#REF!,$AD150)","v":{"$error":"#REF!"}},{"$f":"COUNTIF(TabUren2[datum],$AD150)","v":0},{"$f":"COUNTIF(TabUren22[datum],$AD150)","v":0},{"$f":"COUNTIF(#REF!,$AD150)","v":{"$error":"#REF!"}},{"$f":"COUNTIF(#REF!,$AD150)","v":{"$error":"#REF!"}},{"$f":"COUNTIF(#REF!,$AD150)","v":{"$error":"#REF!"}},{"$f":"COUNTIF(#REF!,$AD150)","v":{"$error":"#REF!"}},0,0,0,0,0,0,"","","","","","","","","","","","",0,""]
[null,null,null,null,null,null,null,null,null,null,null,null,null,null,null,null,null,null,null,null,null,null,null,null,null,null,150,null,null,"2015-05-30",{"$f":"SUMIFS('LOG1'!$J$5:$J$501,TabUren2[datum],$AD151)","v":"00:00:00"},{"$f":"SUMIFS('LOG2'!$J$5:$J$501,TabUren22[datum],$AD151)","v":"00:00:00"},{"$f":"SUMIFS(#REF!,#REF!,$AD151)","v":{"$error":"#REF!"}},{"$f":"SUMIFS(#REF!,#REF!,$AD151)","v":{"$error":"#REF!"}},{"$f":"SUMIFS(#REF!,#REF!,$AD151)","v":{"$error":"#REF!"}},{"$f":"SUMIFS(#REF!,#REF!,$AD151)","v":{"$error":"#REF!"}},{"$f":"COUNTIF(TabUren2[datum],$AD151)","v":0},{"$f":"COUNTIF(TabUren22[datum],$AD151)","v":0},{"$f":"COUNTIF(#REF!,$AD151)","v":{"$error":"#REF!"}},{"$f":"COUNTIF(#REF!,$AD151)","v":{"$error":"#REF!"}},{"$f":"COUNTIF(#REF!,$AD151)","v":{"$error":"#REF!"}},{"$f":"COUNTIF(#REF!,$AD151)","v":{"$error":"#REF!"}},0,0,0,0,0,0,"","","","","","","","","","","","",0,""]
[null,null,null,null,null,null,null,null,null,null,null,null,null,null,null,null,null,null,null,null,null,null,null,null,null,null,151,null,null,"2015-05-31",{"$f":"SUMIFS('LOG1'!$J$5:$J$501,TabUren2[datum],$AD152)","v":"00:00:00"},{"$f":"SUMIFS('LOG2'!$J$5:$J$501,TabUren22[datum],$AD152)","v":"00:00:00"},{"$f":"SUMIFS(#REF!,#REF!,$AD152)","v":{"$error":"#REF!"}},{"$f":"SUMIFS(#REF!,#REF!,$AD152)","v":{"$error":"#REF!"}},{"$f":"SUMIFS(#REF!,#REF!,$AD152)","v":{"$error":"#REF!"}},{"$f":"SUMIFS(#REF!,#REF!,$AD152)","v":{"$error":"#REF!"}},{"$f":"COUNTIF(TabUren2[datum],$AD152)","v":0},{"$f":"COUNTIF(TabUren22[datum],$AD152)","v":0},{"$f":"COUNTIF(#REF!,$AD152)","v":{"$error":"#REF!"}},{"$f":"COUNTIF(#REF!,$AD152)","v":{"$error":"#REF!"}},{"$f":"COUNTIF(#REF!,$AD152)","v":{"$error":"#REF!"}},{"$f":"COUNTIF(#REF!,$AD152)","v":{"$error":"#REF!"}},0,0,0,0,0,0,"","","","","","","","","","","","",0,""]
[null,null,null,null,null,null,null,null,null,null,null,null,null,null,null,null,null,null,null,null,null,null,null,null,null,null,152,null,null,"2015-06-01",{"$f":"SUMIFS('LOG1'!$J$5:$J$501,TabUren2[datum],$AD153)","v":"00:00:00"},{"$f":"SUMIFS('LOG2'!$J$5:$J$501,TabUren22[datum],$AD153)","v":"00:00:00"},{"$f":"SUMIFS(#REF!,#REF!,$AD153)","v":{"$error":"#REF!"}},{"$f":"SUMIFS(#REF!,#REF!,$AD153)","v":{"$error":"#REF!"}},{"$f":"SUMIFS(#REF!,#REF!,$AD153)","v":{"$error":"#REF!"}},{"$f":"SUMIFS(#REF!,#REF!,$AD153)","v":{"$error":"#REF!"}},{"$f":"COUNTIF(TabUren2[datum],$AD153)","v":0},{"$f":"COUNTIF(TabUren22[datum],$AD153)","v":0},{"$f":"COUNTIF(#REF!,$AD153)","v":{"$error":"#REF!"}},{"$f":"COUNTIF(#REF!,$AD153)","v":{"$error":"#REF!"}},{"$f":"COUNTIF(#REF!,$AD153)","v":{"$error":"#REF!"}},{"$f":"COUNTIF(#REF!,$AD153)","v":{"$error":"#REF!"}},0,0,0,0,0,0,"","","","","","","","","","","","",0,""]
[null,null,null,null,null,null,null,null,null,null,null,null,null,null,null,null,null,null,null,null,null,null,null,null,null,null,153,null,null,"2015-06-02",{"$f":"SUMIFS('LOG1'!$J$5:$J$501,TabUren2[datum],$AD154)","v":"00:00:00"},{"$f":"SUMIFS('LOG2'!$J$5:$J$501,TabUren22[datum],$AD154)","v":"00:00:00"},{"$f":"SUMIFS(#REF!,#REF!,$AD154)","v":{"$error":"#REF!"}},{"$f":"SUMIFS(#REF!,#REF!,$AD154)","v":{"$error":"#REF!"}},{"$f":"SUMIFS(#REF!,#REF!,$AD154)","v":{"$error":"#REF!"}},{"$f":"SUMIFS(#REF!,#REF!,$AD154)","v":{"$error":"#REF!"}},{"$f":"COUNTIF(TabUren2[datum],$AD154)","v":0},{"$f":"COUNTIF(TabUren22[datum],$AD154)","v":0},{"$f":"COUNTIF(#REF!,$AD154)","v":{"$error":"#REF!"}},{"$f":"COUNTIF(#REF!,$AD154)","v":{"$error":"#REF!"}},{"$f":"COUNTIF(#REF!,$AD154)","v":{"$error":"#REF!"}},{"$f":"COUNTIF(#REF!,$AD154)","v":{"$error":"#REF!"}},0,0,0,0,0,0,"","","","","","","","","","","","",0,""]
[null,null,null,null,null,null,null,null,null,null,null,null,null,null,null,null,null,null,null,null,null,null,null,null,null,null,154,null,null,"2015-06-03",{"$f":"SUMIFS('LOG1'!$J$5:$J$501,TabUren2[datum],$AD155)","v":"00:00:00"},{"$f":"SUMIFS('LOG2'!$J$5:$J$501,TabUren22[datum],$AD155)","v":"00:00:00"},{"$f":"SUMIFS(#REF!,#REF!,$AD155)","v":{"$error":"#REF!"}},{"$f":"SUMIFS(#REF!,#REF!,$AD155)","v":{"$error":"#REF!"}},{"$f":"SUMIFS(#REF!,#REF!,$AD155)","v":{"$error":"#REF!"}},{"$f":"SUMIFS(#REF!,#REF!,$AD155)","v":{"$error":"#REF!"}},{"$f":"COUNTIF(TabUren2[datum],$AD155)","v":0},{"$f":"COUNTIF(TabUren22[datum],$AD155)","v":0},{"$f":"COUNTIF(#REF!,$AD155)","v":{"$error":"#REF!"}},{"$f":"COUNTIF(#REF!,$AD155)","v":{"$error":"#REF!"}},{"$f":"COUNTIF(#REF!,$AD155)","v":{"$error":"#REF!"}},{"$f":"COUNTIF(#REF!,$AD155)","v":{"$error":"#REF!"}},0,0,0,0,0,0,"","","","","","","","","","","","",0,""]
[null,null,null,null,null,null,null,null,null,null,null,null,null,null,null,null,null,null,null,null,null,null,null,null,null,null,155,null,null,"2015-06-04",{"$f":"SUMIFS('LOG1'!$J$5:$J$501,TabUren2[datum],$AD156)","v":"00:00:00"},{"$f":"SUMIFS('LOG2'!$J$5:$J$501,TabUren22[datum],$AD156)","v":"00:00:00"},{"$f":"SUMIFS(#REF!,#REF!,$AD156)","v":{"$error":"#REF!"}},{"$f":"SUMIFS(#REF!,#REF!,$AD156)","v":{"$error":"#REF!"}},{"$f":"SUMIFS(#REF!,#REF!,$AD156)","v":{"$error":"#REF!"}},{"$f":"SUMIFS(#REF!,#REF!,$AD156)","v":{"$error":"#REF!"}},{"$f":"COUNTIF(TabUren2[datum],$AD156)","v":0},{"$f":"COUNTIF(TabUren22[datum],$AD156)","v":0},{"$f":"COUNTIF(#REF!,$AD156)","v":{"$error":"#REF!"}},{"$f":"COUNTIF(#REF!,$AD156)","v":{"$error":"#REF!"}},{"$f":"COUNTIF(#REF!,$AD156)","v":{"$error":"#REF!"}},{"$f":"COUNTIF(#REF!,$AD156)","v":{"$error":"#REF!"}},0,0,0,0,0,0,"","","","","","","","","","","","",0,""]
[null,null,null,null,null,null,null,null,null,null,null,null,null,null,null,null,null,null,null,null,null,null,null,null,null,null,156,null,null,"2015-06-05",{"$f":"SUMIFS('LOG1'!$J$5:$J$501,TabUren2[datum],$AD157)","v":"00:00:00"},{"$f":"SUMIFS('LOG2'!$J$5:$J$501,TabUren22[datum],$AD157)","v":"00:00:00"},{"$f":"SUMIFS(#REF!,#REF!,$AD157)","v":{"$error":"#REF!"}},{"$f":"SUMIFS(#REF!,#REF!,$AD157)","v":{"$error":"#REF!"}},{"$f":"SUMIFS(#REF!,#REF!,$AD157)","v":{"$error":"#REF!"}},{"$f":"SUMIFS(#REF!,#REF!,$AD157)","v":{"$error":"#REF!"}},{"$f":"COUNTIF(TabUren2[datum],$AD157)","v":0},{"$f":"COUNTIF(TabUren22[datum],$AD157)","v":0},{"$f":"COUNTIF(#REF!,$AD157)","v":{"$error":"#REF!"}},{"$f":"COUNTIF(#REF!,$AD157)","v":{"$error":"#REF!"}},{"$f":"COUNTIF(#REF!,$AD157)","v":{"$error":"#REF!"}},{"$f":"COUNTIF(#REF!,$AD157)","v":{"$error":"#REF!"}},0,0,0,0,0,0,"","","","","","","","","","","","",0,""]
[null,null,null,null,null,null,null,null,null,null,null,null,null,null,null,null,null,null,null,null,null,null,null,null,null,null,157,null,null,"2015-06-06",{"$f":"SUMIFS('LOG1'!$J$5:$J$501,TabUren2[datum],$AD158)","v":"00:00:00"},{"$f":"SUMIFS('LOG2'!$J$5:$J$501,TabUren22[datum],$AD158)","v":"00:00:00"},{"$f":"SUMIFS(#REF!,#REF!,$AD158)","v":{"$error":"#REF!"}},{"$f":"SUMIFS(#REF!,#REF!,$AD158)","v":{"$error":"#REF!"}},{"$f":"SUMIFS(#REF!,#REF!,$AD158)","v":{"$error":"#REF!"}},{"$f":"SUMIFS(#REF!,#REF!,$AD158)","v":{"$error":"#REF!"}},{"$f":"COUNTIF(TabUren2[datum],$AD158)","v":0},{"$f":"COUNTIF(TabUren22[datum],$AD158)","v":0},{"$f":"COUNTIF(#REF!,$AD158)","v":{"$error":"#REF!"}},{"$f":"COUNTIF(#REF!,$AD158)","v":{"$error":"#REF!"}},{"$f":"COUNTIF(#REF!,$AD158)","v":{"$error":"#REF!"}},{"$f":"COUNTIF(#REF!,$AD158)","v":{"$error":"#REF!"}},0,0,0,0,0,0,"","","","","","","","","","","","",0,""]
[null,null,null,null,null,null,null,null,null,null,null,null,null,null,null,null,null,null,null,null,null,null,null,null,null,null,158,null,null,"2015-06-07",{"$f":"SUMIFS('LOG1'!$J$5:$J$501,TabUren2[datum],$AD159)","v":"00:00:00"},{"$f":"SUMIFS('LOG2'!$J$5:$J$501,TabUren22[datum],$AD159)","v":"00:00:00"},{"$f":"SUMIFS(#REF!,#REF!,$AD159)","v":{"$error":"#REF!"}},{"$f":"SUMIFS(#REF!,#REF!,$AD159)","v":{"$error":"#REF!"}},{"$f":"SUMIFS(#REF!,#REF!,$AD159)","v":{"$error":"#REF!"}},{"$f":"SUMIFS(#REF!,#REF!,$AD159)","v":{"$error":"#REF!"}},{"$f":"COUNTIF(TabUren2[datum],$AD159)","v":0},{"$f":"COUNTIF(TabUren22[datum],$AD159)","v":0},{"$f":"COUNTIF(#REF!,$AD159)","v":{"$error":"#REF!"}},{"$f":"COUNTIF(#REF!,$AD159)","v":{"$error":"#REF!"}},{"$f":"COUNTIF(#REF!,$AD159)","v":{"$error":"#REF!"}},{"$f":"COUNTIF(#REF!,$AD159)","v":{"$error":"#REF!"}},0,0,0,0,0,0,"","","","","","","","","","","","",0,""]
[null,null,null,null,null,null,null,null,null,null,null,null,null,null,null,null,null,null,null,null,null,null,null,null,null,null,159,null,null,"2015-06-08",{"$f":"SUMIFS('LOG1'!$J$5:$J$501,TabUren2[datum],$AD160)","v":"00:00:00"},{"$f":"SUMIFS('LOG2'!$J$5:$J$501,TabUren22[datum],$AD160)","v":"00:00:00"},{"$f":"SUMIFS(#REF!,#REF!,$AD160)","v":{"$error":"#REF!"}},{"$f":"SUMIFS(#REF!,#REF!,$AD160)","v":{"$error":"#REF!"}},{"$f":"SUMIFS(#REF!,#REF!,$AD160)","v":{"$error":"#REF!"}},{"$f":"SUMIFS(#REF!,#REF!,$AD160)","v":{"$error":"#REF!"}},{"$f":"COUNTIF(TabUren2[datum],$AD160)","v":0},{"$f":"COUNTIF(TabUren22[datum],$AD160)","v":0},{"$f":"COUNTIF(#REF!,$AD160)","v":{"$error":"#REF!"}},{"$f":"COUNTIF(#REF!,$AD160)","v":{"$error":"#REF!"}},{"$f":"COUNTIF(#REF!,$AD160)","v":{"$error":"#REF!"}},{"$f":"COUNTIF(#REF!,$AD160)","v":{"$error":"#REF!"}},0,0,0,0,0,0,"","","","","","","","","","","","",0,""]
[null,null,null,null,null,null,null,null,null,null,null,null,null,null,null,null,null,null,null,null,null,null,null,null,null,null,160,null,null,"2015-06-09",{"$f":"SUMIFS('LOG1'!$J$5:$J$501,TabUren2[datum],$AD161)","v":"00:00:00"},{"$f":"SUMIFS('LOG2'!$J$5:$J$501,TabUren22[datum],$AD161)","v":"00:00:00"},{"$f":"SUMIFS(#REF!,#REF!,$AD161)","v":{"$error":"#REF!"}},{"$f":"SUMIFS(#REF!,#REF!,$AD161)","v":{"$error":"#REF!"}},{"$f":"SUMIFS(#REF!,#REF!,$AD161)","v":{"$error":"#REF!"}},{"$f":"SUMIFS(#REF!,#REF!,$AD161)","v":{"$error":"#REF!"}},{"$f":"COUNTIF(TabUren2[datum],$AD161)","v":0},{"$f":"COUNTIF(TabUren22[datum],$AD161)","v":0},{"$f":"COUNTIF(#REF!,$AD161)","v":{"$error":"#REF!"}},{"$f":"COUNTIF(#REF!,$AD161)","v":{"$error":"#REF!"}},{"$f":"COUNTIF(#REF!,$AD161)","v":{"$error":"#REF!"}},{"$f":"COUNTIF(#REF!,$AD161)","v":{"$error":"#REF!"}},0,0,0,0,0,0,"","","","","","","","","","","","",0,""]
[null,null,null,null,null,null,null,null,null,null,null,null,null,null,null,null,null,null,null,null,null,null,null,null,null,null,161,null,null,"2015-06-10",{"$f":"SUMIFS('LOG1'!$J$5:$J$501,TabUren2[datum],$AD162)","v":"00:00:00"},{"$f":"SUMIFS('LOG2'!$J$5:$J$501,TabUren22[datum],$AD162)","v":"00:00:00"},{"$f":"SUMIFS(#REF!,#REF!,$AD162)","v":{"$error":"#REF!"}},{"$f":"SUMIFS(#REF!,#REF!,$AD162)","v":{"$error":"#REF!"}},{"$f":"SUMIFS(#REF!,#REF!,$AD162)","v":{"$error":"#REF!"}},{"$f":"SUMIFS(#REF!,#REF!,$AD162)","v":{"$error":"#REF!"}},{"$f":"COUNTIF(TabUren2[datum],$AD162)","v":0},{"$f":"COUNTIF(TabUren22[datum],$AD162)","v":0},{"$f":"COUNTIF(#REF!,$AD162)","v":{"$error":"#REF!"}},{"$f":"COUNTIF(#REF!,$AD162)","v":{"$error":"#REF!"}},{"$f":"COUNTIF(#REF!,$AD162)","v":{"$error":"#REF!"}},{"$f":"COUNTIF(#REF!,$AD162)","v":{"$error":"#REF!"}},0,0,0,0,0,0,"","","","","","","","","","","","",0,""]
[null,null,null,null,null,null,null,null,null,null,null,null,null,null,null,null,null,null,null,null,null,null,null,null,null,null,162,null,null,"2015-06-11",{"$f":"SUMIFS('LOG1'!$J$5:$J$501,TabUren2[datum],$AD163)","v":"00:00:00"},{"$f":"SUMIFS('LOG2'!$J$5:$J$501,TabUren22[datum],$AD163)","v":"00:00:00"},{"$f":"SUMIFS(#REF!,#REF!,$AD163)","v":{"$error":"#REF!"}},{"$f":"SUMIFS(#REF!,#REF!,$AD163)","v":{"$error":"#REF!"}},{"$f":"SUMIFS(#REF!,#REF!,$AD163)","v":{"$error":"#REF!"}},{"$f":"SUMIFS(#REF!,#REF!,$AD163)","v":{"$error":"#REF!"}},{"$f":"COUNTIF(TabUren2[datum],$AD163)","v":0},{"$f":"COUNTIF(TabUren22[datum],$AD163)","v":0},{"$f":"COUNTIF(#REF!,$AD163)","v":{"$error":"#REF!"}},{"$f":"COUNTIF(#REF!,$AD163)","v":{"$error":"#REF!"}},{"$f":"COUNTIF(#REF!,$AD163)","v":{"$error":"#REF!"}},{"$f":"COUNTIF(#REF!,$AD163)","v":{"$error":"#REF!"}},0,0,0,0,0,0,"","","","","","","","","","","","",0,""]
[null,null,null,null,null,null,null,null,null,null,null,null,null,null,null,null,null,null,null,null,null,null,null,null,null,null,163,null,null,"2015-06-12",{"$f":"SUMIFS('LOG1'!$J$5:$J$501,TabUren2[datum],$AD164)","v":"00:00:00"},{"$f":"SUMIFS('LOG2'!$J$5:$J$501,TabUren22[datum],$AD164)","v":"00:00:00"},{"$f":"SUMIFS(#REF!,#REF!,$AD164)","v":{"$error":"#REF!"}},{"$f":"SUMIFS(#REF!,#REF!,$AD164)","v":{"$error":"#REF!"}},{"$f":"SUMIFS(#REF!,#REF!,$AD164)","v":{"$error":"#REF!"}},{"$f":"SUMIFS(#REF!,#REF!,$AD164)","v":{"$error":"#REF!"}},{"$f":"COUNTIF(TabUren2[datum],$AD164)","v":0},{"$f":"COUNTIF(TabUren22[datum],$AD164)","v":0},{"$f":"COUNTIF(#REF!,$AD164)","v":{"$error":"#REF!"}},{"$f":"COUNTIF(#REF!,$AD164)","v":{"$error":"#REF!"}},{"$f":"COUNTIF(#REF!,$AD164)","v":{"$error":"#REF!"}},{"$f":"COUNTIF(#REF!,$AD164)","v":{"$error":"#REF!"}},0,0,0,0,0,0,"","","","","","","","","","","","",0,""]
[null,null,null,null,null,null,null,null,null,null,null,null,null,null,null,null,null,null,null,null,null,null,null,null,null,null,164,null,null,"2015-06-13",{"$f":"SUMIFS('LOG1'!$J$5:$J$501,TabUren2[datum],$AD165)","v":"00:00:00"},{"$f":"SUMIFS('LOG2'!$J$5:$J$501,TabUren22[datum],$AD165)","v":"00:00:00"},{"$f":"SUMIFS(#REF!,#REF!,$AD165)","v":{"$error":"#REF!"}},{"$f":"SUMIFS(#REF!,#REF!,$AD165)","v":{"$error":"#REF!"}},{"$f":"SUMIFS(#REF!,#REF!,$AD165)","v":{"$error":"#REF!"}},{"$f":"SUMIFS(#REF!,#REF!,$AD165)","v":{"$error":"#REF!"}},{"$f":"COUNTIF(TabUren2[datum],$AD165)","v":0},{"$f":"COUNTIF(TabUren22[datum],$AD165)","v":0},{"$f":"COUNTIF(#REF!,$AD165)","v":{"$error":"#REF!"}},{"$f":"COUNTIF(#REF!,$AD165)","v":{"$error":"#REF!"}},{"$f":"COUNTIF(#REF!,$AD165)","v":{"$error":"#REF!"}},{"$f":"COUNTIF(#REF!,$AD165)","v":{"$error":"#REF!"}},0,0,0,0,0,0,"","","","","","","","","","","","",0,""]
[null,null,null,null,null,null,null,null,null,null,null,null,null,null,null,null,null,null,null,null,null,null,null,null,null,null,165,null,null,"2015-06-14",{"$f":"SUMIFS('LOG1'!$J$5:$J$501,TabUren2[datum],$AD166)","v":"00:00:00"},{"$f":"SUMIFS('LOG2'!$J$5:$J$501,TabUren22[datum],$AD166)","v":"00:00:00"},{"$f":"SUMIFS(#REF!,#REF!,$AD166)","v":{"$error":"#REF!"}},{"$f":"SUMIFS(#REF!,#REF!,$AD166)","v":{"$error":"#REF!"}},{"$f":"SUMIFS(#REF!,#REF!,$AD166)","v":{"$error":"#REF!"}},{"$f":"SUMIFS(#REF!,#REF!,$AD166)","v":{"$error":"#REF!"}},{"$f":"COUNTIF(TabUren2[datum],$AD166)","v":0},{"$f":"COUNTIF(TabUren22[datum],$AD166)","v":0},{"$f":"COUNTIF(#REF!,$AD166)","v":{"$error":"#REF!"}},{"$f":"COUNTIF(#REF!,$AD166)","v":{"$error":"#REF!"}},{"$f":"COUNTIF(#REF!,$AD166)","v":{"$error":"#REF!"}},{"$f":"COUNTIF(#REF!,$AD166)","v":{"$error":"#REF!"}},0,0,0,0,0,0,"","","","","","","","","","","","",0,""]
[null,null,null,null,null,null,null,null,null,null,null,null,null,null,null,null,null,null,null,null,null,null,null,null,null,null,166,null,null,"2015-06-15",{"$f":"SUMIFS('LOG1'!$J$5:$J$501,TabUren2[datum],$AD167)","v":"00:00:00"},{"$f":"SUMIFS('LOG2'!$J$5:$J$501,TabUren22[datum],$AD167)","v":"00:00:00"},{"$f":"SUMIFS(#REF!,#REF!,$AD167)","v":{"$error":"#REF!"}},{"$f":"SUMIFS(#REF!,#REF!,$AD167)","v":{"$error":"#REF!"}},{"$f":"SUMIFS(#REF!,#REF!,$AD167)","v":{"$error":"#REF!"}},{"$f":"SUMIFS(#REF!,#REF!,$AD167)","v":{"$error":"#REF!"}},{"$f":"COUNTIF(TabUren2[datum],$AD167)","v":0},{"$f":"COUNTIF(TabUren22[datum],$AD167)","v":0},{"$f":"COUNTIF(#REF!,$AD167)","v":{"$error":"#REF!"}},{"$f":"COUNTIF(#REF!,$AD167)","v":{"$error":"#REF!"}},{"$f":"COUNTIF(#REF!,$AD167)","v":{"$error":"#REF!"}},{"$f":"COUNTIF(#REF!,$AD167)","v":{"$error":"#REF!"}},0,0,0,0,0,0,"","","","","","","","","","","","",0,""]
[null,null,null,null,null,null,null,null,null,null,null,null,null,null,null,null,null,null,null,null,null,null,null,null,null,null,167,null,null,"2015-06-16",{"$f":"SUMIFS('LOG1'!$J$5:$J$501,TabUren2[datum],$AD168)","v":"00:00:00"},{"$f":"SUMIFS('LOG2'!$J$5:$J$501,TabUren22[datum],$AD168)","v":"00:00:00"},{"$f":"SUMIFS(#REF!,#REF!,$AD168)","v":{"$error":"#REF!"}},{"$f":"SUMIFS(#REF!,#REF!,$AD168)","v":{"$error":"#REF!"}},{"$f":"SUMIFS(#REF!,#REF!,$AD168)","v":{"$error":"#REF!"}},{"$f":"SUMIFS(#REF!,#REF!,$AD168)","v":{"$error":"#REF!"}},{"$f":"COUNTIF(TabUren2[datum],$AD168)","v":0},{"$f":"COUNTIF(TabUren22[datum],$AD168)","v":0},{"$f":"COUNTIF(#REF!,$AD168)","v":{"$error":"#REF!"}},{"$f":"COUNTIF(#REF!,$AD168)","v":{"$error":"#REF!"}},{"$f":"COUNTIF(#REF!,$AD168)","v":{"$error":"#REF!"}},{"$f":"COUNTIF(#REF!,$AD168)","v":{"$error":"#REF!"}},0,0,0,0,0,0,"","","","","","","","","","","","",0,""]
[null,null,null,null,null,null,null,null,null,null,null,null,null,null,null,null,null,null,null,null,null,null,null,null,null,null,168,null,null,"2015-06-17",{"$f":"SUMIFS('LOG1'!$J$5:$J$501,TabUren2[datum],$AD169)","v":"00:00:00"},{"$f":"SUMIFS('LOG2'!$J$5:$J$501,TabUren22[datum],$AD169)","v":"00:00:00"},{"$f":"SUMIFS(#REF!,#REF!,$AD169)","v":{"$error":"#REF!"}},{"$f":"SUMIFS(#REF!,#REF!,$AD169)","v":{"$error":"#REF!"}},{"$f":"SUMIFS(#REF!,#REF!,$AD169)","v":{"$error":"#REF!"}},{"$f":"SUMIFS(#REF!,#REF!,$AD169)","v":{"$error":"#REF!"}},{"$f":"COUNTIF(TabUren2[datum],$AD169)","v":0},{"$f":"COUNTIF(TabUren22[datum],$AD169)","v":0},{"$f":"COUNTIF(#REF!,$AD169)","v":{"$error":"#REF!"}},{"$f":"COUNTIF(#REF!,$AD169)","v":{"$error":"#REF!"}},{"$f":"COUNTIF(#REF!,$AD169)","v":{"$error":"#REF!"}},{"$f":"COUNTIF(#REF!,$AD169)","v":{"$error":"#REF!"}},0,0,0,0,0,0,"","","","","","","","","","","","",0,""]
[null,null,null,null,null,null,null,null,null,null,null,null,null,null,null,null,null,null,null,null,null,null,null,null,null,null,169,null,null,"2015-06-18",{"$f":"SUMIFS('LOG1'!$J$5:$J$501,TabUren2[datum],$AD170)","v":"00:00:00"},{"$f":"SUMIFS('LOG2'!$J$5:$J$501,TabUren22[datum],$AD170)","v":"00:00:00"},{"$f":"SUMIFS(#REF!,#REF!,$AD170)","v":{"$error":"#REF!"}},{"$f":"SUMIFS(#REF!,#REF!,$AD170)","v":{"$error":"#REF!"}},{"$f":"SUMIFS(#REF!,#REF!,$AD170)","v":{"$error":"#REF!"}},{"$f":"SUMIFS(#REF!,#REF!,$AD170)","v":{"$error":"#REF!"}},{"$f":"COUNTIF(TabUren2[datum],$AD170)","v":0},{"$f":"COUNTIF(TabUren22[datum],$AD170)","v":0},{"$f":"COUNTIF(#REF!,$AD170)","v":{"$error":"#REF!"}},{"$f":"COUNTIF(#REF!,$AD170)","v":{"$error":"#REF!"}},{"$f":"COUNTIF(#REF!,$AD170)","v":{"$error":"#REF!"}},{"$f":"COUNTIF(#REF!,$AD170)","v":{"$error":"#REF!"}},0,0,0,0,0,0,"","","","","","","","","","","","",0,""]
[null,null,null,null,null,null,null,null,null,null,null,null,null,null,null,null,null,null,null,null,null,null,null,null,null,null,170,null,null,"2015-06-19",{"$f":"SUMIFS('LOG1'!$J$5:$J$501,TabUren2[datum],$AD171)","v":"00:00:00"},{"$f":"SUMIFS('LOG2'!$J$5:$J$501,TabUren22[datum],$AD171)","v":"00:00:00"},{"$f":"SUMIFS(#REF!,#REF!,$AD171)","v":{"$error":"#REF!"}},{"$f":"SUMIFS(#REF!,#REF!,$AD171)","v":{"$error":"#REF!"}},{"$f":"SUMIFS(#REF!,#REF!,$AD171)","v":{"$error":"#REF!"}},{"$f":"SUMIFS(#REF!,#REF!,$AD171)","v":{"$error":"#REF!"}},{"$f":"COUNTIF(TabUren2[datum],$AD171)","v":0},{"$f":"COUNTIF(TabUren22[datum],$AD171)","v":0},{"$f":"COUNTIF(#REF!,$AD171)","v":{"$error":"#REF!"}},{"$f":"COUNTIF(#REF!,$AD171)","v":{"$error":"#REF!"}},{"$f":"COUNTIF(#REF!,$AD171)","v":{"$error":"#REF!"}},{"$f":"COUNTIF(#REF!,$AD171)","v":{"$error":"#REF!"}},0,0,0,0,0,0,"","","","","","","","","","","","",0,""]
[null,null,null,null,null,null,null,null,null,null,null,null,null,null,null,null,null,null,null,null,null,null,null,null,null,null,171,null,null,"2015-06-20",{"$f":"SUMIFS('LOG1'!$J$5:$J$501,TabUren2[datum],$AD172)","v":"00:00:00"},{"$f":"SUMIFS('LOG2'!$J$5:$J$501,TabUren22[datum],$AD172)","v":"00:00:00"},{"$f":"SUMIFS(#REF!,#REF!,$AD172)","v":{"$error":"#REF!"}},{"$f":"SUMIFS(#REF!,#REF!,$AD172)","v":{"$error":"#REF!"}},{"$f":"SUMIFS(#REF!,#REF!,$AD172)","v":{"$error":"#REF!"}},{"$f":"SUMIFS(#REF!,#REF!,$AD172)","v":{"$error":"#REF!"}},{"$f":"COUNTIF(TabUren2[datum],$AD172)","v":0},{"$f":"COUNTIF(TabUren22[datum],$AD172)","v":0},{"$f":"COUNTIF(#REF!,$AD172)","v":{"$error":"#REF!"}},{"$f":"COUNTIF(#REF!,$AD172)","v":{"$error":"#REF!"}},{"$f":"COUNTIF(#REF!,$AD172)","v":{"$error":"#REF!"}},{"$f":"COUNTIF(#REF!,$AD172)","v":{"$error":"#REF!"}},0,0,0,0,0,0,"","","","","","","","","","","","",0,""]
[null,null,null,null,null,null,null,null,null,null,null,null,null,null,null,null,null,null,null,null,null,null,null,null,null,null,172,null,null,"2015-06-21",{"$f":"SUMIFS('LOG1'!$J$5:$J$501,TabUren2[datum],$AD173)","v":"00:00:00"},{"$f":"SUMIFS('LOG2'!$J$5:$J$501,TabUren22[datum],$AD173)","v":"00:00:00"},{"$f":"SUMIFS(#REF!,#REF!,$AD173)","v":{"$error":"#REF!"}},{"$f":"SUMIFS(#REF!,#REF!,$AD173)","v":{"$error":"#REF!"}},{"$f":"SUMIFS(#REF!,#REF!,$AD173)","v":{"$error":"#REF!"}},{"$f":"SUMIFS(#REF!,#REF!,$AD173)","v":{"$error":"#REF!"}},{"$f":"COUNTIF(TabUren2[datum],$AD173)","v":0},{"$f":"COUNTIF(TabUren22[datum],$AD173)","v":0},{"$f":"COUNTIF(#REF!,$AD173)","v":{"$error":"#REF!"}},{"$f":"COUNTIF(#REF!,$AD173)","v":{"$error":"#REF!"}},{"$f":"COUNTIF(#REF!,$AD173)","v":{"$error":"#REF!"}},{"$f":"COUNTIF(#REF!,$AD173)","v":{"$error":"#REF!"}},0,0,0,0,0,0,"","","","","","","","","","","","",0,""]
[null,null,null,null,null,null,null,null,null,null,null,null,null,null,null,null,null,null,null,null,null,null,null,null,null,null,173,null,null,"2015-06-22",{"$f":"SUMIFS('LOG1'!$J$5:$J$501,TabUren2[datum],$AD174)","v":"00:00:00"},{"$f":"SUMIFS('LOG2'!$J$5:$J$501,TabUren22[datum],$AD174)","v":"00:00:00"},{"$f":"SUMIFS(#REF!,#REF!,$AD174)","v":{"$error":"#REF!"}},{"$f":"SUMIFS(#REF!,#REF!,$AD174)","v":{"$error":"#REF!"}},{"$f":"SUMIFS(#REF!,#REF!,$AD174)","v":{"$error":"#REF!"}},{"$f":"SUMIFS(#REF!,#REF!,$AD174)","v":{"$error":"#REF!"}},{"$f":"COUNTIF(TabUren2[datum],$AD174)","v":0},{"$f":"COUNTIF(TabUren22[datum],$AD174)","v":0},{"$f":"COUNTIF(#REF!,$AD174)","v":{"$error":"#REF!"}},{"$f":"COUNTIF(#REF!,$AD174)","v":{"$error":"#REF!"}},{"$f":"COUNTIF(#REF!,$AD174)","v":{"$error":"#REF!"}},{"$f":"COUNTIF(#REF!,$AD174)","v":{"$error":"#REF!"}},0,0,0,0,0,0,"","","","","","","","","","","","",0,""]
[null,null,null,null,null,null,null,null,null,null,null,null,null,null,null,null,null,null,null,null,null,null,null,null,null,null,174,null,null,"2015-06-23",{"$f":"SUMIFS('LOG1'!$J$5:$J$501,TabUren2[datum],$AD175)","v":"00:00:00"},{"$f":"SUMIFS('LOG2'!$J$5:$J$501,TabUren22[datum],$AD175)","v":"00:00:00"},{"$f":"SUMIFS(#REF!,#REF!,$AD175)","v":{"$error":"#REF!"}},{"$f":"SUMIFS(#REF!,#REF!,$AD175)","v":{"$error":"#REF!"}},{"$f":"SUMIFS(#REF!,#REF!,$AD175)","v":{"$error":"#REF!"}},{"$f":"SUMIFS(#REF!,#REF!,$AD175)","v":{"$error":"#REF!"}},{"$f":"COUNTIF(TabUren2[datum],$AD175)","v":0},{"$f":"COUNTIF(TabUren22[datum],$AD175)","v":0},{"$f":"COUNTIF(#REF!,$AD175)","v":{"$error":"#REF!"}},{"$f":"COUNTIF(#REF!,$AD175)","v":{"$error":"#REF!"}},{"$f":"COUNTIF(#REF!,$AD175)","v":{"$error":"#REF!"}},{"$f":"COUNTIF(#REF!,$AD175)","v":{"$error":"#REF!"}},0,0,0,0,0,0,"","","","","","","","","","","","",0,""]
[null,null,null,null,null,null,null,null,null,null,null,null,null,null,null,null,null,null,null,null,null,null,null,null,null,null,175,null,null,"2015-06-24",{"$f":"SUMIFS('LOG1'!$J$5:$J$501,TabUren2[datum],$AD176)","v":"00:00:00"},{"$f":"SUMIFS('LOG2'!$J$5:$J$501,TabUren22[datum],$AD176)","v":"00:00:00"},{"$f":"SUMIFS(#REF!,#REF!,$AD176)","v":{"$error":"#REF!"}},{"$f":"SUMIFS(#REF!,#REF!,$AD176)","v":{"$error":"#REF!"}},{"$f":"SUMIFS(#REF!,#REF!,$AD176)","v":{"$error":"#REF!"}},{"$f":"SUMIFS(#REF!,#REF!,$AD176)","v":{"$error":"#REF!"}},{"$f":"COUNTIF(TabUren2[datum],$AD176)","v":0},{"$f":"COUNTIF(TabUren22[datum],$AD176)","v":0},{"$f":"COUNTIF(#REF!,$AD176)","v":{"$error":"#REF!"}},{"$f":"COUNTIF(#REF!,$AD176)","v":{"$error":"#REF!"}},{"$f":"COUNTIF(#REF!,$AD176)","v":{"$error":"#REF!"}},{"$f":"COUNTIF(#REF!,$AD176)","v":{"$error":"#REF!"}},0,0,0,0,0,0,"","","","","","","","","","","","",0,""]
[null,null,null,null,null,null,null,null,null,null,null,null,null,null,null,null,null,null,null,null,null,null,null,null,null,null,176,null,null,"2015-06-25",{"$f":"SUMIFS('LOG1'!$J$5:$J$501,TabUren2[datum],$AD177)","v":"00:00:00"},{"$f":"SUMIFS('LOG2'!$J$5:$J$501,TabUren22[datum],$AD177)","v":"00:00:00"},{"$f":"SUMIFS(#REF!,#REF!,$AD177)","v":{"$error":"#REF!"}},{"$f":"SUMIFS(#REF!,#REF!,$AD177)","v":{"$error":"#REF!"}},{"$f":"SUMIFS(#REF!,#REF!,$AD177)","v":{"$error":"#REF!"}},{"$f":"SUMIFS(#REF!,#REF!,$AD177)","v":{"$error":"#REF!"}},{"$f":"COUNTIF(TabUren2[datum],$AD177)","v":0},{"$f":"COUNTIF(TabUren22[datum],$AD177)","v":0},{"$f":"COUNTIF(#REF!,$AD177)","v":{"$error":"#REF!"}},{"$f":"COUNTIF(#REF!,$AD177)","v":{"$error":"#REF!"}},{"$f":"COUNTIF(#REF!,$AD177)","v":{"$error":"#REF!"}},{"$f":"COUNTIF(#REF!,$AD177)","v":{"$error":"#REF!"}},0,0,0,0,0,0,"","","","","","","","","","","","",0,""]
[null,null,null,null,null,null,null,null,null,null,null,null,null,null,null,null,null,null,null,null,null,null,null,null,null,null,177,null,null,"2015-06-26",{"$f":"SUMIFS('LOG1'!$J$5:$J$501,TabUren2[datum],$AD178)","v":"00:00:00"},{"$f":"SUMIFS('LOG2'!$J$5:$J$501,TabUren22[datum],$AD178)","v":"00:00:00"},{"$f":"SUMIFS(#REF!,#REF!,$AD178)","v":{"$error":"#REF!"}},{"$f":"SUMIFS(#REF!,#REF!,$AD178)","v":{"$error":"#REF!"}},{"$f":"SUMIFS(#REF!,#REF!,$AD178)","v":{"$error":"#REF!"}},{"$f":"SUMIFS(#REF!,#REF!,$AD178)","v":{"$error":"#REF!"}},{"$f":"COUNTIF(TabUren2[datum],$AD178)","v":0},{"$f":"COUNTIF(TabUren22[datum],$AD178)","v":0},{"$f":"COUNTIF(#REF!,$AD178)","v":{"$error":"#REF!"}},{"$f":"COUNTIF(#REF!,$AD178)","v":{"$error":"#REF!"}},{"$f":"COUNTIF(#REF!,$AD178)","v":{"$error":"#REF!"}},{"$f":"COUNTIF(#REF!,$AD178)","v":{"$error":"#REF!"}},0,0,0,0,0,0,"","","","","","","","","","","","",0,""]
[null,null,null,null,null,null,null,null,null,null,null,null,null,null,null,null,null,null,null,null,null,null,null,null,null,null,178,null,null,"2015-06-27",{"$f":"SUMIFS('LOG1'!$J$5:$J$501,TabUren2[datum],$AD179)","v":"00:00:00"},{"$f":"SUMIFS('LOG2'!$J$5:$J$501,TabUren22[datum],$AD179)","v":"00:00:00"},{"$f":"SUMIFS(#REF!,#REF!,$AD179)","v":{"$error":"#REF!"}},{"$f":"SUMIFS(#REF!,#REF!,$AD179)","v":{"$error":"#REF!"}},{"$f":"SUMIFS(#REF!,#REF!,$AD179)","v":{"$error":"#REF!"}},{"$f":"SUMIFS(#REF!,#REF!,$AD179)","v":{"$error":"#REF!"}},{"$f":"COUNTIF(TabUren2[datum],$AD179)","v":0},{"$f":"COUNTIF(TabUren22[datum],$AD179)","v":0},{"$f":"COUNTIF(#REF!,$AD179)","v":{"$error":"#REF!"}},{"$f":"COUNTIF(#REF!,$AD179)","v":{"$error":"#REF!"}},{"$f":"COUNTIF(#REF!,$AD179)","v":{"$error":"#REF!"}},{"$f":"COUNTIF(#REF!,$AD179)","v":{"$error":"#REF!"}},0,0,0,0,0,0,"","","","","","","","","","","","",0,""]
[null,null,null,null,null,null,null,null,null,null,null,null,null,null,null,null,null,null,null,null,null,null,null,null,null,null,179,null,null,"2015-06-28",{"$f":"SUMIFS('LOG1'!$J$5:$J$501,TabUren2[datum],$AD180)","v":"00:00:00"},{"$f":"SUMIFS('LOG2'!$J$5:$J$501,TabUren22[datum],$AD180)","v":"00:00:00"},{"$f":"SUMIFS(#REF!,#REF!,$AD180)","v":{"$error":"#REF!"}},{"$f":"SUMIFS(#REF!,#REF!,$AD180)","v":{"$error":"#REF!"}},{"$f":"SUMIFS(#REF!,#REF!,$AD180)","v":{"$error":"#REF!"}},{"$f":"SUMIFS(#REF!,#REF!,$AD180)","v":{"$error":"#REF!"}},{"$f":"COUNTIF(TabUren2[datum],$AD180)","v":0},{"$f":"COUNTIF(TabUren22[datum],$AD180)","v":0},{"$f":"COUNTIF(#REF!,$AD180)","v":{"$error":"#REF!"}},{"$f":"COUNTIF(#REF!,$AD180)","v":{"$error":"#REF!"}},{"$f":"COUNTIF(#REF!,$AD180)","v":{"$error":"#REF!"}},{"$f":"COUNTIF(#REF!,$AD180)","v":{"$error":"#REF!"}},0,0,0,0,0,0,"","","","","","","","","","","","",0,""]
[null,null,null,null,null,null,null,null,null,null,null,null,null,null,null,null,null,null,null,null,null,null,null,null,null,null,180,null,null,"2015-06-29",{"$f":"SUMIFS('LOG1'!$J$5:$J$501,TabUren2[datum],$AD181)","v":"00:00:00"},{"$f":"SUMIFS('LOG2'!$J$5:$J$501,TabUren22[datum],$AD181)","v":"00:00:00"},{"$f":"SUMIFS(#REF!,#REF!,$AD181)","v":{"$error":"#REF!"}},{"$f":"SUMIFS(#REF!,#REF!,$AD181)","v":{"$error":"#REF!"}},{"$f":"SUMIFS(#REF!,#REF!,$AD181)","v":{"$error":"#REF!"}},{"$f":"SUMIFS(#REF!,#REF!,$AD181)","v":{"$error":"#REF!"}},{"$f":"COUNTIF(TabUren2[datum],$AD181)","v":0},{"$f":"COUNTIF(TabUren22[datum],$AD181)","v":0},{"$f":"COUNTIF(#REF!,$AD181)","v":{"$error":"#REF!"}},{"$f":"COUNTIF(#REF!,$AD181)","v":{"$error":"#REF!"}},{"$f":"COUNTIF(#REF!,$AD181)","v":{"$error":"#REF!"}},{"$f":"COUNTIF(#REF!,$AD181)","v":{"$error":"#REF!"}},0,0,0,0,0,0,"","","","","","","","","","","","",0,""]
[null,null,null,null,null,null,null,null,null,null,null,null,null,null,null,null,null,null,null,null,null,null,null,null,null,null,181,null,null,"2015-06-30",{"$f":"SUMIFS('LOG1'!$J$5:$J$501,TabUren2[datum],$AD182)","v":"00:00:00"},{"$f":"SUMIFS('LOG2'!$J$5:$J$501,TabUren22[datum],$AD182)","v":"00:00:00"},{"$f":"SUMIFS(#REF!,#REF!,$AD182)","v":{"$error":"#REF!"}},{"$f":"SUMIFS(#REF!,#REF!,$AD182)","v":{"$error":"#REF!"}},{"$f":"SUMIFS(#REF!,#REF!,$AD182)","v":{"$error":"#REF!"}},{"$f":"SUMIFS(#REF!,#REF!,$AD182)","v":{"$error":"#REF!"}},{"$f":"COUNTIF(TabUren2[datum],$AD182)","v":0},{"$f":"COUNTIF(TabUren22[datum],$AD182)","v":0},{"$f":"COUNTIF(#REF!,$AD182)","v":{"$error":"#REF!"}},{"$f":"COUNTIF(#REF!,$AD182)","v":{"$error":"#REF!"}},{"$f":"COUNTIF(#REF!,$AD182)","v":{"$error":"#REF!"}},{"$f":"COUNTIF(#REF!,$AD182)","v":{"$error":"#REF!"}},0,0,0,0,0,0,"","","","","","","","","","","","",0,""]
[null,null,null,null,null,null,null,null,null,null,null,null,null,null,null,null,null,null,null,null,null,null,null,null,null,null,182,null,null,"2015-07-01",{"$f":"SUMIFS('LOG1'!$J$5:$J$501,TabUren2[datum],$AD183)","v":"00:00:00"},{"$f":"SUMIFS('LOG2'!$J$5:$J$501,TabUren22[datum],$AD183)","v":"00:00:00"},{"$f":"SUMIFS(#REF!,#REF!,$AD183)","v":{"$error":"#REF!"}},{"$f":"SUMIFS(#REF!,#REF!,$AD183)","v":{"$error":"#REF!"}},{"$f":"SUMIFS(#REF!,#REF!,$AD183)","v":{"$error":"#REF!"}},{"$f":"SUMIFS(#REF!,#REF!,$AD183)","v":{"$error":"#REF!"}},{"$f":"COUNTIF(TabUren2[datum],$AD183)","v":0},{"$f":"COUNTIF(TabUren22[datum],$AD183)","v":0},{"$f":"COUNTIF(#REF!,$AD183)","v":{"$error":"#REF!"}},{"$f":"COUNTIF(#REF!,$AD183)","v":{"$error":"#REF!"}},{"$f":"COUNTIF(#REF!,$AD183)","v":{"$error":"#REF!"}},{"$f":"COUNTIF(#REF!,$AD183)","v":{"$error":"#REF!"}},0,0,0,0,0,0,"","","","","","","","","","","","",0,""]
[null,null,null,null,null,null,null,null,null,null,null,null,null,null,null,null,null,null,null,null,null,null,null,null,null,null,183,null,null,"2015-07-02",{"$f":"SUMIFS('LOG1'!$J$5:$J$501,TabUren2[datum],$AD184)","v":"00:00:00"},{"$f":"SUMIFS('LOG2'!$J$5:$J$501,TabUren22[datum],$AD184)","v":"00:00:00"},{"$f":"SUMIFS(#REF!,#REF!,$AD184)","v":{"$error":"#REF!"}},{"$f":"SUMIFS(#REF!,#REF!,$AD184)","v":{"$error":"#REF!"}},{"$f":"SUMIFS(#REF!,#REF!,$AD184)","v":{"$error":"#REF!"}},{"$f":"SUMIFS(#REF!,#REF!,$AD184)","v":{"$error":"#REF!"}},{"$f":"COUNTIF(TabUren2[datum],$AD184)","v":0},{"$f":"COUNTIF(TabUren22[datum],$AD184)","v":0},{"$f":"COUNTIF(#REF!,$AD184)","v":{"$error":"#REF!"}},{"$f":"COUNTIF(#REF!,$AD184)","v":{"$error":"#REF!"}},{"$f":"COUNTIF(#REF!,$AD184)","v":{"$error":"#REF!"}},{"$f":"COUNTIF(#REF!,$AD184)","v":{"$error":"#REF!"}},0,0,0,0,0,0,"","","","","","","","","","","","",0,""]
[null,null,null,null,null,null,null,null,null,null,null,null,null,null,null,null,null,null,null,null,null,null,null,null,null,null,184,null,null,"2015-07-03",{"$f":"SUMIFS('LOG1'!$J$5:$J$501,TabUren2[datum],$AD185)","v":"00:00:00"},{"$f":"SUMIFS('LOG2'!$J$5:$J$501,TabUren22[datum],$AD185)","v":"00:00:00"},{"$f":"SUMIFS(#REF!,#REF!,$AD185)","v":{"$error":"#REF!"}},{"$f":"SUMIFS(#REF!,#REF!,$AD185)","v":{"$error":"#REF!"}},{"$f":"SUMIFS(#REF!,#REF!,$AD185)","v":{"$error":"#REF!"}},{"$f":"SUMIFS(#REF!,#REF!,$AD185)","v":{"$error":"#REF!"}},{"$f":"COUNTIF(TabUren2[datum],$AD185)","v":0},{"$f":"COUNTIF(TabUren22[datum],$AD185)","v":0},{"$f":"COUNTIF(#REF!,$AD185)","v":{"$error":"#REF!"}},{"$f":"COUNTIF(#REF!,$AD185)","v":{"$error":"#REF!"}},{"$f":"COUNTIF(#REF!,$AD185)","v":{"$error":"#REF!"}},{"$f":"COUNTIF(#REF!,$AD185)","v":{"$error":"#REF!"}},0,0,0,0,0,0,"","","","","","","","","","","","",0,""]
[null,null,null,null,null,null,null,null,null,null,null,null,null,null,null,null,null,null,null,null,null,null,null,null,null,null,185,null,null,"2015-07-04",{"$f":"SUMIFS('LOG1'!$J$5:$J$501,TabUren2[datum],$AD186)","v":"00:00:00"},{"$f":"SUMIFS('LOG2'!$J$5:$J$501,TabUren22[datum],$AD186)","v":"00:00:00"},{"$f":"SUMIFS(#REF!,#REF!,$AD186)","v":{"$error":"#REF!"}},{"$f":"SUMIFS(#REF!,#REF!,$AD186)","v":{"$error":"#REF!"}},{"$f":"SUMIFS(#REF!,#REF!,$AD186)","v":{"$error":"#REF!"}},{"$f":"SUMIFS(#REF!,#REF!,$AD186)","v":{"$error":"#REF!"}},{"$f":"COUNTIF(TabUren2[datum],$AD186)","v":0},{"$f":"COUNTIF(TabUren22[datum],$AD186)","v":0},{"$f":"COUNTIF(#REF!,$AD186)","v":{"$error":"#REF!"}},{"$f":"COUNTIF(#REF!,$AD186)","v":{"$error":"#REF!"}},{"$f":"COUNTIF(#REF!,$AD186)","v":{"$error":"#REF!"}},{"$f":"COUNTIF(#REF!,$AD186)","v":{"$error":"#REF!"}},0,0,0,0,0,0,"","","","","","","","","","","","",0,""]
[null,null,null,null,null,null,null,null,null,null,null,null,null,null,null,null,null,null,null,null,null,null,null,null,null,null,186,null,null,"2015-07-05",{"$f":"SUMIFS('LOG1'!$J$5:$J$501,TabUren2[datum],$AD187)","v":"00:00:00"},{"$f":"SUMIFS('LOG2'!$J$5:$J$501,TabUren22[datum],$AD187)","v":"00:00:00"},{"$f":"SUMIFS(#REF!,#REF!,$AD187)","v":{"$error":"#REF!"}},{"$f":"SUMIFS(#REF!,#REF!,$AD187)","v":{"$error":"#REF!"}},{"$f":"SUMIFS(#REF!,#REF!,$AD187)","v":{"$error":"#REF!"}},{"$f":"SUMIFS(#REF!,#REF!,$AD187)","v":{"$error":"#REF!"}},{"$f":"COUNTIF(TabUren2[datum],$AD187)","v":0},{"$f":"COUNTIF(TabUren22[datum],$AD187)","v":0},{"$f":"COUNTIF(#REF!,$AD187)","v":{"$error":"#REF!"}},{"$f":"COUNTIF(#REF!,$AD187)","v":{"$error":"#REF!"}},{"$f":"COUNTIF(#REF!,$AD187)","v":{"$error":"#REF!"}},{"$f":"COUNTIF(#REF!,$AD187)","v":{"$error":"#REF!"}},0,0,0,0,0,0,"","","","","","","","","","","","",0,""]
[null,null,null,null,null,null,null,null,null,null,null,null,null,null,null,null,null,null,null,null,null,null,null,null,null,null,187,null,null,"2015-07-06",{"$f":"SUMIFS('LOG1'!$J$5:$J$501,TabUren2[datum],$AD188)","v":"00:00:00"},{"$f":"SUMIFS('LOG2'!$J$5:$J$501,TabUren22[datum],$AD188)","v":"00:00:00"},{"$f":"SUMIFS(#REF!,#REF!,$AD188)","v":{"$error":"#REF!"}},{"$f":"SUMIFS(#REF!,#REF!,$AD188)","v":{"$error":"#REF!"}},{"$f":"SUMIFS(#REF!,#REF!,$AD188)","v":{"$error":"#REF!"}},{"$f":"SUMIFS(#REF!,#REF!,$AD188)","v":{"$error":"#REF!"}},{"$f":"COUNTIF(TabUren2[datum],$AD188)","v":0},{"$f":"COUNTIF(TabUren22[datum],$AD188)","v":0},{"$f":"COUNTIF(#REF!,$AD188)","v":{"$error":"#REF!"}},{"$f":"COUNTIF(#REF!,$AD188)","v":{"$error":"#REF!"}},{"$f":"COUNTIF(#REF!,$AD188)","v":{"$error":"#REF!"}},{"$f":"COUNTIF(#REF!,$AD188)","v":{"$error":"#REF!"}},0,0,0,0,0,0,"","","","","","","","","","","","",0,""]
[null,null,null,null,null,null,null,null,null,null,null,null,null,null,null,null,null,null,null,null,null,null,null,null,null,null,188,null,null,"2015-07-07",{"$f":"SUMIFS('LOG1'!$J$5:$J$501,TabUren2[datum],$AD189)","v":"00:00:00"},{"$f":"SUMIFS('LOG2'!$J$5:$J$501,TabUren22[datum],$AD189)","v":"00:00:00"},{"$f":"SUMIFS(#REF!,#REF!,$AD189)","v":{"$error":"#REF!"}},{"$f":"SUMIFS(#REF!,#REF!,$AD189)","v":{"$error":"#REF!"}},{"$f":"SUMIFS(#REF!,#REF!,$AD189)","v":{"$error":"#REF!"}},{"$f":"SUMIFS(#REF!,#REF!,$AD189)","v":{"$error":"#REF!"}},{"$f":"COUNTIF(TabUren2[datum],$AD189)","v":0},{"$f":"COUNTIF(TabUren22[datum],$AD189)","v":0},{"$f":"COUNTIF(#REF!,$AD189)","v":{"$error":"#REF!"}},{"$f":"COUNTIF(#REF!,$AD189)","v":{"$error":"#REF!"}},{"$f":"COUNTIF(#REF!,$AD189)","v":{"$error":"#REF!"}},{"$f":"COUNTIF(#REF!,$AD189)","v":{"$error":"#REF!"}},0,0,0,0,0,0,"","","","","","","","","","","","",0,""]
[null,null,null,null,null,null,null,null,null,null,null,null,null,null,null,null,null,null,null,null,null,null,null,null,null,null,189,null,null,"2015-07-08",{"$f":"SUMIFS('LOG1'!$J$5:$J$501,TabUren2[datum],$AD190)","v":"00:00:00"},{"$f":"SUMIFS('LOG2'!$J$5:$J$501,TabUren22[datum],$AD190)","v":"00:00:00"},{"$f":"SUMIFS(#REF!,#REF!,$AD190)","v":{"$error":"#REF!"}},{"$f":"SUMIFS(#REF!,#REF!,$AD190)","v":{"$error":"#REF!"}},{"$f":"SUMIFS(#REF!,#REF!,$AD190)","v":{"$error":"#REF!"}},{"$f":"SUMIFS(#REF!,#REF!,$AD190)","v":{"$error":"#REF!"}},{"$f":"COUNTIF(TabUren2[datum],$AD190)","v":0},{"$f":"COUNTIF(TabUren22[datum],$AD190)","v":0},{"$f":"COUNTIF(#REF!,$AD190)","v":{"$error":"#REF!"}},{"$f":"COUNTIF(#REF!,$AD190)","v":{"$error":"#REF!"}},{"$f":"COUNTIF(#REF!,$AD190)","v":{"$error":"#REF!"}},{"$f":"COUNTIF(#REF!,$AD190)","v":{"$error":"#REF!"}},0,0,0,0,0,0,"","","","","","","","","","","","",0,""]
[null,null,null,null,null,null,null,null,null,null,null,null,null,null,null,null,null,null,null,null,null,null,null,null,null,null,190,null,null,"2015-07-09",{"$f":"SUMIFS('LOG1'!$J$5:$J$501,TabUren2[datum],$AD191)","v":"00:00:00"},{"$f":"SUMIFS('LOG2'!$J$5:$J$501,TabUren22[datum],$AD191)","v":"00:00:00"},{"$f":"SUMIFS(#REF!,#REF!,$AD191)","v":{"$error":"#REF!"}},{"$f":"SUMIFS(#REF!,#REF!,$AD191)","v":{"$error":"#REF!"}},{"$f":"SUMIFS(#REF!,#REF!,$AD191)","v":{"$error":"#REF!"}},{"$f":"SUMIFS(#REF!,#REF!,$AD191)","v":{"$error":"#REF!"}},{"$f":"COUNTIF(TabUren2[datum],$AD191)","v":0},{"$f":"COUNTIF(TabUren22[datum],$AD191)","v":0},{"$f":"COUNTIF(#REF!,$AD191)","v":{"$error":"#REF!"}},{"$f":"COUNTIF(#REF!,$AD191)","v":{"$error":"#REF!"}},{"$f":"COUNTIF(#REF!,$AD191)","v":{"$error":"#REF!"}},{"$f":"COUNTIF(#REF!,$AD191)","v":{"$error":"#REF!"}},0,0,0,0,0,0,"","","","","","","","","","","","",0,""]
[null,null,null,null,null,null,null,null,null,null,null,null,null,null,null,null,null,null,null,null,null,null,null,null,null,null,191,null,null,"2015-07-10",{"$f":"SUMIFS('LOG1'!$J$5:$J$501,TabUren2[datum],$AD192)","v":"00:00:00"},{"$f":"SUMIFS('LOG2'!$J$5:$J$501,TabUren22[datum],$AD192)","v":"00:00:00"},{"$f":"SUMIFS(#REF!,#REF!,$AD192)","v":{"$error":"#REF!"}},{"$f":"SUMIFS(#REF!,#REF!,$AD192)","v":{"$error":"#REF!"}},{"$f":"SUMIFS(#REF!,#REF!,$AD192)","v":{"$error":"#REF!"}},{"$f":"SUMIFS(#REF!,#REF!,$AD192)","v":{"$error":"#REF!"}},{"$f":"COUNTIF(TabUren2[datum],$AD192)","v":0},{"$f":"COUNTIF(TabUren22[datum],$AD192)","v":0},{"$f":"COUNTIF(#REF!,$AD192)","v":{"$error":"#REF!"}},{"$f":"COUNTIF(#REF!,$AD192)","v":{"$error":"#REF!"}},{"$f":"COUNTIF(#REF!,$AD192)","v":{"$error":"#REF!"}},{"$f":"COUNTIF(#REF!,$AD192)","v":{"$error":"#REF!"}},0,0,0,0,0,0,"","","","","","","","","","","","",0,""]
[null,null,null,null,null,null,null,null,null,null,null,null,null,null,null,null,null,null,null,null,null,null,null,null,null,null,192,null,null,"2015-07-11",{"$f":"SUMIFS('LOG1'!$J$5:$J$501,TabUren2[datum],$AD193)","v":"00:00:00"},{"$f":"SUMIFS('LOG2'!$J$5:$J$501,TabUren22[datum],$AD193)","v":"00:00:00"},{"$f":"SUMIFS(#REF!,#REF!,$AD193)","v":{"$error":"#REF!"}},{"$f":"SUMIFS(#REF!,#REF!,$AD193)","v":{"$error":"#REF!"}},{"$f":"SUMIFS(#REF!,#REF!,$AD193)","v":{"$error":"#REF!"}},{"$f":"SUMIFS(#REF!,#REF!,$AD193)","v":{"$error":"#REF!"}},{"$f":"COUNTIF(TabUren2[datum],$AD193)","v":0},{"$f":"COUNTIF(TabUren22[datum],$AD193)","v":0},{"$f":"COUNTIF(#REF!,$AD193)","v":{"$error":"#REF!"}},{"$f":"COUNTIF(#REF!,$AD193)","v":{"$error":"#REF!"}},{"$f":"COUNTIF(#REF!,$AD193)","v":{"$error":"#REF!"}},{"$f":"COUNTIF(#REF!,$AD193)","v":{"$error":"#REF!"}},0,0,0,0,0,0,"","","","","","","","","","","","",0,""]
[null,null,null,null,null,null,null,null,null,null,null,null,null,null,null,null,null,null,null,null,null,null,null,null,null,null,193,null,null,"2015-07-12",{"$f":"SUMIFS('LOG1'!$J$5:$J$501,TabUren2[datum],$AD194)","v":"00:00:00"},{"$f":"SUMIFS('LOG2'!$J$5:$J$501,TabUren22[datum],$AD194)","v":"00:00:00"},{"$f":"SUMIFS(#REF!,#REF!,$AD194)","v":{"$error":"#REF!"}},{"$f":"SUMIFS(#REF!,#REF!,$AD194)","v":{"$error":"#REF!"}},{"$f":"SUMIFS(#REF!,#REF!,$AD194)","v":{"$error":"#REF!"}},{"$f":"SUMIFS(#REF!,#REF!,$AD194)","v":{"$error":"#REF!"}},{"$f":"COUNTIF(TabUren2[datum],$AD194)","v":0},{"$f":"COUNTIF(TabUren22[datum],$AD194)","v":0},{"$f":"COUNTIF(#REF!,$AD194)","v":{"$error":"#REF!"}},{"$f":"COUNTIF(#REF!,$AD194)","v":{"$error":"#REF!"}},{"$f":"COUNTIF(#REF!,$AD194)","v":{"$error":"#REF!"}},{"$f":"COUNTIF(#REF!,$AD194)","v":{"$error":"#REF!"}},0,0,0,0,0,0,"","","","","","","","","","","","",0,""]
[null,null,null,null,null,null,null,null,null,null,null,null,null,null,null,null,null,null,null,null,null,null,null,null,null,null,194,null,null,"2015-07-13",{"$f":"SUMIFS('LOG1'!$J$5:$J$501,TabUren2[datum],$AD195)","v":"00:00:00"},{"$f":"SUMIFS('LOG2'!$J$5:$J$501,TabUren22[datum],$AD195)","v":"00:00:00"},{"$f":"SUMIFS(#REF!,#REF!,$AD195)","v":{"$error":"#REF!"}},{"$f":"SUMIFS(#REF!,#REF!,$AD195)","v":{"$error":"#REF!"}},{"$f":"SUMIFS(#REF!,#REF!,$AD195)","v":{"$error":"#REF!"}},{"$f":"SUMIFS(#REF!,#REF!,$AD195)","v":{"$error":"#REF!"}},{"$f":"COUNTIF(TabUren2[datum],$AD195)","v":0},{"$f":"COUNTIF(TabUren22[datum],$AD195)","v":0},{"$f":"COUNTIF(#REF!,$AD195)","v":{"$error":"#REF!"}},{"$f":"COUNTIF(#REF!,$AD195)","v":{"$error":"#REF!"}},{"$f":"COUNTIF(#REF!,$AD195)","v":{"$error":"#REF!"}},{"$f":"COUNTIF(#REF!,$AD195)","v":{"$error":"#REF!"}},{"$f":"COUNTIF(AK195,\">0\")","v":0},{"$f":"COUNTIF(AL195,\">0\")","v":0},{"$f":"COUNTIF(AM195,\">0\")","v":0},{"$f":"COUNTIF(AN195,\">0\")","v":0},{"$f":"COUNTIF(AO195,\">0\")","v":0},{"$f":"COUNTIF(AP195,\">0\")","v":0},{"$f":"IF(AQ195=1,AE195,\"\")","v":""},{"$f":"IF(AR195=1,AF195,\"\")","v":""},{"$f":"IF(AS195=1,AG195,\"\")","v":""},{"$f":"IF(AT195=1,AH195,\"\")","v":""},{"$f":"IF(AU195=1,AI195,\"\")","v":""},{"$f":"IF(AV195=1,AJ195,\"\")","v":""},{"$f":"IF(BC$1=TRUE,AW195,\"\")","v":""},{"$f":"IF(BD$1=TRUE,AX195,\"\")","v":""},{"$f":"IF(BE$1=TRUE,AY195,\"\")","v":""},{"$f":"IF(BF$1=TRUE,AZ195,\"\")","v":""},{"$f":"IF(BG$1=TRUE,BA195,\"\")","v":""},{"$f":"IF(BH$1=TRUE,BB195,\"\")","v":""},0,""]
[null,null,null,null,null,null,null,null,null,null,null,null,null,null,null,null,null,null,null,null,null,null,null,null,null,null,195,null,null,"2015-07-14",{"$f":"SUMIFS('LOG1'!$J$5:$J$501,TabUren2[datum],$AD196)","v":"00:00:00"},{"$f":"SUMIFS('LOG2'!$J$5:$J$501,TabUren22[datum],$AD196)","v":"00:00:00"},{"$f":"SUMIFS(#REF!,#REF!,$AD196)","v":{"$error":"#REF!"}},{"$f":"SUMIFS(#REF!,#REF!,$AD196)","v":{"$error":"#REF!"}},{"$f":"SUMIFS(#REF!,#REF!,$AD196)","v":{"$error":"#REF!"}},{"$f":"SUMIFS(#REF!,#REF!,$AD196)","v":{"$error":"#REF!"}},{"$f":"COUNTIF(TabUren2[datum],$AD196)","v":0},{"$f":"COUNTIF(TabUren22[datum],$AD196)","v":0},{"$f":"COUNTIF(#REF!,$AD196)","v":{"$error":"#REF!"}},{"$f":"COUNTIF(#REF!,$AD196)","v":{"$error":"#REF!"}},{"$f":"COUNTIF(#REF!,$AD196)","v":{"$error":"#REF!"}},{"$f":"COUNTIF(#REF!,$AD196)","v":{"$error":"#REF!"}},0,0,0,0,0,0,"","","","","","","","","","","","",0,""]
[null,null,null,null,null,null,null,null,null,null,null,null,null,null,null,null,null,null,null,null,null,null,null,null,null,null,196,null,null,"2015-07-15",{"$f":"SUMIFS('LOG1'!$J$5:$J$501,TabUren2[datum],$AD197)","v":"00:00:00"},{"$f":"SUMIFS('LOG2'!$J$5:$J$501,TabUren22[datum],$AD197)","v":"00:00:00"},{"$f":"SUMIFS(#REF!,#REF!,$AD197)","v":{"$error":"#REF!"}},{"$f":"SUMIFS(#REF!,#REF!,$AD197)","v":{"$error":"#REF!"}},{"$f":"SUMIFS(#REF!,#REF!,$AD197)","v":{"$error":"#REF!"}},{"$f":"SUMIFS(#REF!,#REF!,$AD197)","v":{"$error":"#REF!"}},{"$f":"COUNTIF(TabUren2[datum],$AD197)","v":0},{"$f":"COUNTIF(TabUren22[datum],$AD197)","v":0},{"$f":"COUNTIF(#REF!,$AD197)","v":{"$error":"#REF!"}},{"$f":"COUNTIF(#REF!,$AD197)","v":{"$error":"#REF!"}},{"$f":"COUNTIF(#REF!,$AD197)","v":{"$error":"#REF!"}},{"$f":"COUNTIF(#REF!,$AD197)","v":{"$error":"#REF!"}},0,0,0,0,0,0,"","","","","","","","","","","","",0,""]
[null,null,null,null,null,null,null,null,null,null,null,null,null,null,null,null,null,null,null,null,null,null,null,null,null,null,197,null,null,"2015-07-16",{"$f":"SUMIFS('LOG1'!$J$5:$J$501,TabUren2[datum],$AD198)","v":"00:00:00"},{"$f":"SUMIFS('LOG2'!$J$5:$J$501,TabUren22[datum],$AD198)","v":"00:00:00"},{"$f":"SUMIFS(#REF!,#REF!,$AD198)","v":{"$error":"#REF!"}},{"$f":"SUMIFS(#REF!,#REF!,$AD198)","v":{"$error":"#REF!"}},{"$f":"SUMIFS(#REF!,#REF!,$AD198)","v":{"$error":"#REF!"}},{"$f":"SUMIFS(#REF!,#REF!,$AD198)","v":{"$error":"#REF!"}},{"$f":"COUNTIF(TabUren2[datum],$AD198)","v":0},{"$f":"COUNTIF(TabUren22[datum],$AD198)","v":0},{"$f":"COUNTIF(#REF!,$AD198)","v":{"$error":"#REF!"}},{"$f":"COUNTIF(#REF!,$AD198)","v":{"$error":"#REF!"}},{"$f":"COUNTIF(#REF!,$AD198)","v":{"$error":"#REF!"}},{"$f":"COUNTIF(#REF!,$AD198)","v":{"$error":"#REF!"}},0,0,0,0,0,0,"","","","","","","","","","","","",{"$f":"COUNT(AW198:BB198)","v":0},{"$f":"IF(BI198>0,AD198,\"\")","v":""}]
[null,null,null,null,null,null,null,null,null,null,null,null,null,null,null,null,null,null,null,null,null,null,null,null,null,null,198,null,null,"2015-07-17",{"$f":"SUMIFS('LOG1'!$J$5:$J$501,TabUren2[datum],$AD199)","v":"00:00:00"},{"$f":"SUMIFS('LOG2'!$J$5:$J$501,TabUren22[datum],$AD199)","v":"00:00:00"},{"$f":"SUMIFS(#REF!,#REF!,$AD199)","v":{"$error":"#REF!"}},{"$f":"SUMIFS(#REF!,#REF!,$AD199)","v":{"$error":"#REF!"}},{"$f":"SUMIFS(#REF!,#REF!,$AD199)","v":{"$error":"#REF!"}},{"$f":"SUMIFS(#REF!,#REF!,$AD199)","v":{"$error":"#REF!"}},{"$f":"COUNTIF(TabUren2[datum],$AD199)","v":0},{"$f":"COUNTIF(TabUren22[datum],$AD199)","v":0},{"$f":"COUNTIF(#REF!,$AD199)","v":{"$error":"#REF!"}},{"$f":"COUNTIF(#REF!,$AD199)","v":{"$error":"#REF!"}},{"$f":"COUNTIF(#REF!,$AD199)","v":{"$error":"#REF!"}},{"$f":"COUNTIF(#REF!,$AD199)","v":{"$error":"#REF!"}},0,0,0,0,0,0,"","","","","","","","","","","","",0,""]
[null,null,null,null,null,null,null,null,null,null,null,null,null,null,null,null,null,null,null,null,null,null,null,null,null,null,199,null,null,"2015-07-18",{"$f":"SUMIFS('LOG1'!$J$5:$J$501,TabUren2[datum],$AD200)","v":"00:00:00"},{"$f":"SUMIFS('LOG2'!$J$5:$J$501,TabUren22[datum],$AD200)","v":"00:00:00"},{"$f":"SUMIFS(#REF!,#REF!,$AD200)","v":{"$error":"#REF!"}},{"$f":"SUMIFS(#REF!,#REF!,$AD200)","v":{"$error":"#REF!"}},{"$f":"SUMIFS(#REF!,#REF!,$AD200)","v":{"$error":"#REF!"}},{"$f":"SUMIFS(#REF!,#REF!,$AD200)","v":{"$error":"#REF!"}},{"$f":"COUNTIF(TabUren2[datum],$AD200)","v":0},{"$f":"COUNTIF(TabUren22[datum],$AD200)","v":0},{"$f":"COUNTIF(#REF!,$AD200)","v":{"$error":"#REF!"}},{"$f":"COUNTIF(#REF!,$AD200)","v":{"$error":"#REF!"}},{"$f":"COUNTIF(#REF!,$AD200)","v":{"$error":"#REF!"}},{"$f":"COUNTIF(#REF!,$AD200)","v":{"$error":"#REF!"}},0,0,0,0,0,0,"","","","","","","","","","","","",0,""]
[null,null,null,null,null,null,null,null,null,null,null,null,null,null,null,null,null,null,null,null,null,null,null,null,null,null,200,null,null,"2015-07-19",{"$f":"SUMIFS('LOG1'!$J$5:$J$501,TabUren2[datum],$AD201)","v":"00:00:00"},{"$f":"SUMIFS('LOG2'!$J$5:$J$501,TabUren22[datum],$AD201)","v":"00:00:00"},{"$f":"SUMIFS(#REF!,#REF!,$AD201)","v":{"$error":"#REF!"}},{"$f":"SUMIFS(#REF!,#REF!,$AD201)","v":{"$error":"#REF!"}},{"$f":"SUMIFS(#REF!,#REF!,$AD201)","v":{"$error":"#REF!"}},{"$f":"SUMIFS(#REF!,#REF!,$AD201)","v":{"$error":"#REF!"}},{"$f":"COUNTIF(TabUren2[datum],$AD201)","v":0},{"$f":"COUNTIF(TabUren22[datum],$AD201)","v":0},{"$f":"COUNTIF(#REF!,$AD201)","v":{"$error":"#REF!"}},{"$f":"COUNTIF(#REF!,$AD201)","v":{"$error":"#REF!"}},{"$f":"COUNTIF(#REF!,$AD201)","v":{"$error":"#REF!"}},{"$f":"COUNTIF(#REF!,$AD201)","v":{"$error":"#REF!"}},0,0,0,0,0,0,"","","","","","","","","","","","",0,""]
[null,null,null,null,null,null,null,null,null,null,null,null,null,null,null,null,null,null,null,null,null,null,null,null,null,null,201,null,null,"2015-07-20",{"$f":"SUMIFS('LOG1'!$J$5:$J$501,TabUren2[datum],$AD202)","v":"00:00:00"},{"$f":"SUMIFS('LOG2'!$J$5:$J$501,TabUren22[datum],$AD202)","v":"00:00:00"},{"$f":"SUMIFS(#REF!,#REF!,$AD202)","v":{"$error":"#REF!"}},{"$f":"SUMIFS(#REF!,#REF!,$AD202)","v":{"$error":"#REF!"}},{"$f":"SUMIFS(#REF!,#REF!,$AD202)","v":{"$error":"#REF!"}},{"$f":"SUMIFS(#REF!,#REF!,$AD202)","v":{"$error":"#REF!"}},{"$f":"COUNTIF(TabUren2[datum],$AD202)","v":0},{"$f":"COUNTIF(TabUren22[datum],$AD202)","v":0},{"$f":"COUNTIF(#REF!,$AD202)","v":{"$error":"#REF!"}},{"$f":"COUNTIF(#REF!,$AD202)","v":{"$error":"#REF!"}},{"$f":"COUNTIF(#REF!,$AD202)","v":{"$error":"#REF!"}},{"$f":"COUNTIF(#REF!,$AD202)","v":{"$error":"#REF!"}},0,0,0,0,0,0,"","","","","","","","","","","","",0,""]
[null,null,null,null,null,null,null,null,null,null,null,null,null,null,null,null,null,null,null,null,null,null,null,null,null,null,202,null,null,"2015-07-21",{"$f":"SUMIFS('LOG1'!$J$5:$J$501,TabUren2[datum],$AD203)","v":"00:00:00"},{"$f":"SUMIFS('LOG2'!$J$5:$J$501,TabUren22[datum],$AD203)","v":"00:00:00"},{"$f":"SUMIFS(#REF!,#REF!,$AD203)","v":{"$error":"#REF!"}},{"$f":"SUMIFS(#REF!,#REF!,$AD203)","v":{"$error":"#REF!"}},{"$f":"SUMIFS(#REF!,#REF!,$AD203)","v":{"$error":"#REF!"}},{"$f":"SUMIFS(#REF!,#REF!,$AD203)","v":{"$error":"#REF!"}},{"$f":"COUNTIF(TabUren2[datum],$AD203)","v":0},{"$f":"COUNTIF(TabUren22[datum],$AD203)","v":0},{"$f":"COUNTIF(#REF!,$AD203)","v":{"$error":"#REF!"}},{"$f":"COUNTIF(#REF!,$AD203)","v":{"$error":"#REF!"}},{"$f":"COUNTIF(#REF!,$AD203)","v":{"$error":"#REF!"}},{"$f":"COUNTIF(#REF!,$AD203)","v":{"$error":"#REF!"}},0,0,0,0,0,0,"","","","","","","","","","","","",0,""]
[null,null,null,null,null,null,null,null,null,null,null,null,null,null,null,null,null,null,null,null,null,null,null,null,null,null,203,null,null,"2015-07-22",{"$f":"SUMIFS('LOG1'!$J$5:$J$501,TabUren2[datum],$AD204)","v":"00:00:00"},{"$f":"SUMIFS('LOG2'!$J$5:$J$501,TabUren22[datum],$AD204)","v":"00:00:00"},{"$f":"SUMIFS(#REF!,#REF!,$AD204)","v":{"$error":"#REF!"}},{"$f":"SUMIFS(#REF!,#REF!,$AD204)","v":{"$error":"#REF!"}},{"$f":"SUMIFS(#REF!,#REF!,$AD204)","v":{"$error":"#REF!"}},{"$f":"SUMIFS(#REF!,#REF!,$AD204)","v":{"$error":"#REF!"}},{"$f":"COUNTIF(TabUren2[datum],$AD204)","v":0},{"$f":"COUNTIF(TabUren22[datum],$AD204)","v":0},{"$f":"COUNTIF(#REF!,$AD204)","v":{"$error":"#REF!"}},{"$f":"COUNTIF(#REF!,$AD204)","v":{"$error":"#REF!"}},{"$f":"COUNTIF(#REF!,$AD204)","v":{"$error":"#REF!"}},{"$f":"COUNTIF(#REF!,$AD204)","v":{"$error":"#REF!"}},0,0,0,0,0,0,"","","","","","","","","","","","",0,""]
[null,null,null,null,null,null,null,null,null,null,null,null,null,null,null,null,null,null,null,null,null,null,null,null,null,null,204,null,null,"2015-07-23",{"$f":"SUMIFS('LOG1'!$J$5:$J$501,TabUren2[datum],$AD205)","v":"00:00:00"},{"$f":"SUMIFS('LOG2'!$J$5:$J$501,TabUren22[datum],$AD205)","v":"00:00:00"},{"$f":"SUMIFS(#REF!,#REF!,$AD205)","v":{"$error":"#REF!"}},{"$f":"SUMIFS(#REF!,#REF!,$AD205)","v":{"$error":"#REF!"}},{"$f":"SUMIFS(#REF!,#REF!,$AD205)","v":{"$error":"#REF!"}},{"$f":"SUMIFS(#REF!,#REF!,$AD205)","v":{"$error":"#REF!"}},{"$f":"COUNTIF(TabUren2[datum],$AD205)","v":0},{"$f":"COUNTIF(TabUren22[datum],$AD205)","v":0},{"$f":"COUNTIF(#REF!,$AD205)","v":{"$error":"#REF!"}},{"$f":"COUNTIF(#REF!,$AD205)","v":{"$error":"#REF!"}},{"$f":"COUNTIF(#REF!,$AD205)","v":{"$error":"#REF!"}},{"$f":"COUNTIF(#REF!,$AD205)","v":{"$error":"#REF!"}},0,0,0,0,0,0,"","","","","","","","","","","","",0,""]
[null,null,null,null,null,null,null,null,null,null,null,null,null,null,null,null,null,null,null,null,null,null,null,null,null,null,205,null,null,"2015-07-24",{"$f":"SUMIFS('LOG1'!$J$5:$J$501,TabUren2[datum],$AD206)","v":"00:00:00"},{"$f":"SUMIFS('LOG2'!$J$5:$J$501,TabUren22[datum],$AD206)","v":"00:00:00"},{"$f":"SUMIFS(#REF!,#REF!,$AD206)","v":{"$error":"#REF!"}},{"$f":"SUMIFS(#REF!,#REF!,$AD206)","v":{"$error":"#REF!"}},{"$f":"SUMIFS(#REF!,#REF!,$AD206)","v":{"$error":"#REF!"}},{"$f":"SUMIFS(#REF!,#REF!,$AD206)","v":{"$error":"#REF!"}},{"$f":"COUNTIF(TabUren2[datum],$AD206)","v":0},{"$f":"COUNTIF(TabUren22[datum],$AD206)","v":0},{"$f":"COUNTIF(#REF!,$AD206)","v":{"$error":"#REF!"}},{"$f":"COUNTIF(#REF!,$AD206)","v":{"$error":"#REF!"}},{"$f":"COUNTIF(#REF!,$AD206)","v":{"$error":"#REF!"}},{"$f":"COUNTIF(#REF!,$AD206)","v":{"$error":"#REF!"}},0,0,0,0,0,0,"","","","","","","","","","","","",0,""]
[null,null,null,null,null,null,null,null,null,null,null,null,null,null,null,null,null,null,null,null,null,null,null,null,null,null,206,null,null,"2015-07-25",{"$f":"SUMIFS('LOG1'!$J$5:$J$501,TabUren2[datum],$AD207)","v":"00:00:00"},{"$f":"SUMIFS('LOG2'!$J$5:$J$501,TabUren22[datum],$AD207)","v":"00:00:00"},{"$f":"SUMIFS(#REF!,#REF!,$AD207)","v":{"$error":"#REF!"}},{"$f":"SUMIFS(#REF!,#REF!,$AD207)","v":{"$error":"#REF!"}},{"$f":"SUMIFS(#REF!,#REF!,$AD207)","v":{"$error":"#REF!"}},{"$f":"SUMIFS(#REF!,#REF!,$AD207)","v":{"$error":"#REF!"}},{"$f":"COUNTIF(TabUren2[datum],$AD207)","v":0},{"$f":"COUNTIF(TabUren22[datum],$AD207)","v":0},{"$f":"COUNTIF(#REF!,$AD207)","v":{"$error":"#REF!"}},{"$f":"COUNTIF(#REF!,$AD207)","v":{"$error":"#REF!"}},{"$f":"COUNTIF(#REF!,$AD207)","v":{"$error":"#REF!"}},{"$f":"COUNTIF(#REF!,$AD207)","v":{"$error":"#REF!"}},0,0,0,0,0,0,"","","","","","","","","","","","",0,""]
[null,null,null,null,null,null,null,null,null,null,null,null,null,null,null,null,null,null,null,null,null,null,null,null,null,null,207,null,null,"2015-07-26",{"$f":"SUMIFS('LOG1'!$J$5:$J$501,TabUren2[datum],$AD208)","v":"00:00:00"},{"$f":"SUMIFS('LOG2'!$J$5:$J$501,TabUren22[datum],$AD208)","v":"00:00:00"},{"$f":"SUMIFS(#REF!,#REF!,$AD208)","v":{"$error":"#REF!"}},{"$f":"SUMIFS(#REF!,#REF!,$AD208)","v":{"$error":"#REF!"}},{"$f":"SUMIFS(#REF!,#REF!,$AD208)","v":{"$error":"#REF!"}},{"$f":"SUMIFS(#REF!,#REF!,$AD208)","v":{"$error":"#REF!"}},{"$f":"COUNTIF(TabUren2[datum],$AD208)","v":0},{"$f":"COUNTIF(TabUren22[datum],$AD208)","v":0},{"$f":"COUNTIF(#REF!,$AD208)","v":{"$error":"#REF!"}},{"$f":"COUNTIF(#REF!,$AD208)","v":{"$error":"#REF!"}},{"$f":"COUNTIF(#REF!,$AD208)","v":{"$error":"#REF!"}},{"$f":"COUNTIF(#REF!,$AD208)","v":{"$error":"#REF!"}},0,0,0,0,0,0,"","","","","","","","","","","","",0,""]
[null,null,null,null,null,null,null,null,null,null,null,null,null,null,null,null,null,null,null,null,null,null,null,null,null,null,208,null,null,"2015-07-27",{"$f":"SUMIFS('LOG1'!$J$5:$J$501,TabUren2[datum],$AD209)","v":"00:00:00"},{"$f":"SUMIFS('LOG2'!$J$5:$J$501,TabUren22[datum],$AD209)","v":"00:00:00"},{"$f":"SUMIFS(#REF!,#REF!,$AD209)","v":{"$error":"#REF!"}},{"$f":"SUMIFS(#REF!,#REF!,$AD209)","v":{"$error":"#REF!"}},{"$f":"SUMIFS(#REF!,#REF!,$AD209)","v":{"$error":"#REF!"}},{"$f":"SUMIFS(#REF!,#REF!,$AD209)","v":{"$error":"#REF!"}},{"$f":"COUNTIF(TabUren2[datum],$AD209)","v":0},{"$f":"COUNTIF(TabUren22[datum],$AD209)","v":0},{"$f":"COUNTIF(#REF!,$AD209)","v":{"$error":"#REF!"}},{"$f":"COUNTIF(#REF!,$AD209)","v":{"$error":"#REF!"}},{"$f":"COUNTIF(#REF!,$AD209)","v":{"$error":"#REF!"}},{"$f":"COUNTIF(#REF!,$AD209)","v":{"$error":"#REF!"}},0,0,0,0,0,0,"","","","","","","","","","","","",0,""]
[null,null,null,null,null,null,null,null,null,null,null,null,null,null,null,null,null,null,null,null,null,null,null,null,null,null,209,null,null,"2015-07-28",{"$f":"SUMIFS('LOG1'!$J$5:$J$501,TabUren2[datum],$AD210)","v":"00:00:00"},{"$f":"SUMIFS('LOG2'!$J$5:$J$501,TabUren22[datum],$AD210)","v":"00:00:00"},{"$f":"SUMIFS(#REF!,#REF!,$AD210)","v":{"$error":"#REF!"}},{"$f":"SUMIFS(#REF!,#REF!,$AD210)","v":{"$error":"#REF!"}},{"$f":"SUMIFS(#REF!,#REF!,$AD210)","v":{"$error":"#REF!"}},{"$f":"SUMIFS(#REF!,#REF!,$AD210)","v":{"$error":"#REF!"}},{"$f":"COUNTIF(TabUren2[datum],$AD210)","v":0},{"$f":"COUNTIF(TabUren22[datum],$AD210)","v":0},{"$f":"COUNTIF(#REF!,$AD210)","v":{"$error":"#REF!"}},{"$f":"COUNTIF(#REF!,$AD210)","v":{"$error":"#REF!"}},{"$f":"COUNTIF(#REF!,$AD210)","v":{"$error":"#REF!"}},{"$f":"COUNTIF(#REF!,$AD210)","v":{"$error":"#REF!"}},0,0,0,0,0,0,"","","","","","","","","","","","",0,""]
[null,null,null,null,null,null,null,null,null,null,null,null,null,null,null,null,null,null,null,null,null,null,null,null,null,null,210,null,null,"2015-07-29",{"$f":"SUMIFS('LOG1'!$J$5:$J$501,TabUren2[datum],$AD211)","v":"00:00:00"},{"$f":"SUMIFS('LOG2'!$J$5:$J$501,TabUren22[datum],$AD211)","v":"00:00:00"},{"$f":"SUMIFS(#REF!,#REF!,$AD211)","v":{"$error":"#REF!"}},{"$f":"SUMIFS(#REF!,#REF!,$AD211)","v":{"$error":"#REF!"}},{"$f":"SUMIFS(#REF!,#REF!,$AD211)","v":{"$error":"#REF!"}},{"$f":"SUMIFS(#REF!,#REF!,$AD211)","v":{"$error":"#REF!"}},{"$f":"COUNTIF(TabUren2[datum],$AD211)","v":0},{"$f":"COUNTIF(TabUren22[datum],$AD211)","v":0},{"$f":"COUNTIF(#REF!,$AD211)","v":{"$error":"#REF!"}},{"$f":"COUNTIF(#REF!,$AD211)","v":{"$error":"#REF!"}},{"$f":"COUNTIF(#REF!,$AD211)","v":{"$error":"#REF!"}},{"$f":"COUNTIF(#REF!,$AD211)","v":{"$error":"#REF!"}},0,0,0,0,0,0,"","","","","","","","","","","","",0,""]
[null,null,null,null,null,null,null,null,null,null,null,null,null,null,null,null,null,null,null,null,null,null,null,null,null,null,211,null,null,"2015-07-30",{"$f":"SUMIFS('LOG1'!$J$5:$J$501,TabUren2[datum],$AD212)","v":"00:00:00"},{"$f":"SUMIFS('LOG2'!$J$5:$J$501,TabUren22[datum],$AD212)","v":"00:00:00"},{"$f":"SUMIFS(#REF!,#REF!,$AD212)","v":{"$error":"#REF!"}},{"$f":"SUMIFS(#REF!,#REF!,$AD212)","v":{"$error":"#REF!"}},{"$f":"SUMIFS(#REF!,#REF!,$AD212)","v":{"$error":"#REF!"}},{"$f":"SUMIFS(#REF!,#REF!,$AD212)","v":{"$error":"#REF!"}},{"$f":"COUNTIF(TabUren2[datum],$AD212)","v":0},{"$f":"COUNTIF(TabUren22[datum],$AD212)","v":0},{"$f":"COUNTIF(#REF!,$AD212)","v":{"$error":"#REF!"}},{"$f":"COUNTIF(#REF!,$AD212)","v":{"$error":"#REF!"}},{"$f":"COUNTIF(#REF!,$AD212)","v":{"$error":"#REF!"}},{"$f":"COUNTIF(#REF!,$AD212)","v":{"$error":"#REF!"}},0,0,0,0,0,0,"","","","","","","","","","","","",0,""]
[null,null,null,null,null,null,null,null,null,null,null,null,null,null,null,null,null,null,null,null,null,null,null,null,null,null,212,null,null,"2015-07-31",{"$f":"SUMIFS('LOG1'!$J$5:$J$501,TabUren2[datum],$AD213)","v":"00:00:00"},{"$f":"SUMIFS('LOG2'!$J$5:$J$501,TabUren22[datum],$AD213)","v":"00:00:00"},{"$f":"SUMIFS(#REF!,#REF!,$AD213)","v":{"$error":"#REF!"}},{"$f":"SUMIFS(#REF!,#REF!,$AD213)","v":{"$error":"#REF!"}},{"$f":"SUMIFS(#REF!,#REF!,$AD213)","v":{"$error":"#REF!"}},{"$f":"SUMIFS(#REF!,#REF!,$AD213)","v":{"$error":"#REF!"}},{"$f":"COUNTIF(TabUren2[datum],$AD213)","v":0},{"$f":"COUNTIF(TabUren22[datum],$AD213)","v":0},{"$f":"COUNTIF(#REF!,$AD213)","v":{"$error":"#REF!"}},{"$f":"COUNTIF(#REF!,$AD213)","v":{"$error":"#REF!"}},{"$f":"COUNTIF(#REF!,$AD213)","v":{"$error":"#REF!"}},{"$f":"COUNTIF(#REF!,$AD213)","v":{"$error":"#REF!"}},0,0,0,0,0,0,"","","","","","","","","","","","",0,""]
[null,null,null,null,null,null,null,null,null,null,null,null,null,null,null,null,null,null,null,null,null,null,null,null,null,null,{"$f":"AA213+1","v":213},null,null,"2015-08-01",{"$f":"SUMIFS('LOG1'!$J$5:$J$501,TabUren2[datum],$AD214)","v":"00:00:00"},{"$f":"SUMIFS('LOG2'!$J$5:$J$501,TabUren22[datum],$AD214)","v":"00:00:00"},{"$f":"SUMIFS(#REF!,#REF!,$AD214)","v":{"$error":"#REF!"}},{"$f":"SUMIFS(#REF!,#REF!,$AD214)","v":{"$error":"#REF!"}},{"$f":"SUMIFS(#REF!,#REF!,$AD214)","v":{"$error":"#REF!"}},{"$f":"SUMIFS(#REF!,#REF!,$AD214)","v":{"$error":"#REF!"}},{"$f":"COUNTIF(TabUren2[datum],$AD214)","v":0},{"$f":"COUNTIF(TabUren22[datum],$AD214)","v":0},{"$f":"COUNTIF(#REF!,$AD214)","v":{"$error":"#REF!"}},{"$f":"COUNTIF(#REF!,$AD214)","v":{"$error":"#REF!"}},{"$f":"COUNTIF(#REF!,$AD214)","v":{"$error":"#REF!"}},{"$f":"COUNTIF(#REF!,$AD214)","v":{"$error":"#REF!"}},0,0,0,0,0,0,"","","","","","","","","","","","",0,""]
[null,null,null,null,null,null,null,null,null,null,null,null,null,null,null,null,null,null,null,null,null,null,null,null,null,null,214,null,null,"2015-08-02",{"$f":"SUMIFS('LOG1'!$J$5:$J$501,TabUren2[datum],$AD215)","v":"00:00:00"},{"$f":"SUMIFS('LOG2'!$J$5:$J$501,TabUren22[datum],$AD215)","v":"00:00:00"},{"$f":"SUMIFS(#REF!,#REF!,$AD215)","v":{"$error":"#REF!"}},{"$f":"SUMIFS(#REF!,#REF!,$AD215)","v":{"$error":"#REF!"}},{"$f":"SUMIFS(#REF!,#REF!,$AD215)","v":{"$error":"#REF!"}},{"$f":"SUMIFS(#REF!,#REF!,$AD215)","v":{"$error":"#REF!"}},{"$f":"COUNTIF(TabUren2[datum],$AD215)","v":0},{"$f":"COUNTIF(TabUren22[datum],$AD215)","v":0},{"$f":"COUNTIF(#REF!,$AD215)","v":{"$error":"#REF!"}},{"$f":"COUNTIF(#REF!,$AD215)","v":{"$error":"#REF!"}},{"$f":"COUNTIF(#REF!,$AD215)","v":{"$error":"#REF!"}},{"$f":"COUNTIF(#REF!,$AD215)","v":{"$error":"#REF!"}},0,0,0,0,0,0,"","","","","","","","","","","","",0,""]
[null,null,null,null,null,null,null,null,null,null,null,null,null,null,null,null,null,null,null,null,null,null,null,null,null,null,215,null,null,"2015-08-03",{"$f":"SUMIFS('LOG1'!$J$5:$J$501,TabUren2[datum],$AD216)","v":"00:00:00"},{"$f":"SUMIFS('LOG2'!$J$5:$J$501,TabUren22[datum],$AD216)","v":"00:00:00"},{"$f":"SUMIFS(#REF!,#REF!,$AD216)","v":{"$error":"#REF!"}},{"$f":"SUMIFS(#REF!,#REF!,$AD216)","v":{"$error":"#REF!"}},{"$f":"SUMIFS(#REF!,#REF!,$AD216)","v":{"$error":"#REF!"}},{"$f":"SUMIFS(#REF!,#REF!,$AD216)","v":{"$error":"#REF!"}},{"$f":"COUNTIF(TabUren2[datum],$AD216)","v":0},{"$f":"COUNTIF(TabUren22[datum],$AD216)","v":0},{"$f":"COUNTIF(#REF!,$AD216)","v":{"$error":"#REF!"}},{"$f":"COUNTIF(#REF!,$AD216)","v":{"$error":"#REF!"}},{"$f":"COUNTIF(#REF!,$AD216)","v":{"$error":"#REF!"}},{"$f":"COUNTIF(#REF!,$AD216)","v":{"$error":"#REF!"}},0,0,0,0,0,0,"","","","","","","","","","","","",0,""]
[null,null,null,null,null,null,null,null,null,null,null,null,null,null,null,null,null,null,null,null,null,null,null,null,null,null,216,null,null,"2015-08-04",{"$f":"SUMIFS('LOG1'!$J$5:$J$501,TabUren2[datum],$AD217)","v":"00:00:00"},{"$f":"SUMIFS('LOG2'!$J$5:$J$501,TabUren22[datum],$AD217)","v":"00:00:00"},{"$f":"SUMIFS(#REF!,#REF!,$AD217)","v":{"$error":"#REF!"}},{"$f":"SUMIFS(#REF!,#REF!,$AD217)","v":{"$error":"#REF!"}},{"$f":"SUMIFS(#REF!,#REF!,$AD217)","v":{"$error":"#REF!"}},{"$f":"SUMIFS(#REF!,#REF!,$AD217)","v":{"$error":"#REF!"}},{"$f":"COUNTIF(TabUren2[datum],$AD217)","v":0},{"$f":"COUNTIF(TabUren22[datum],$AD217)","v":0},{"$f":"COUNTIF(#REF!,$AD217)","v":{"$error":"#REF!"}},{"$f":"COUNTIF(#REF!,$AD217)","v":{"$error":"#REF!"}},{"$f":"COUNTIF(#REF!,$AD217)","v":{"$error":"#REF!"}},{"$f":"COUNTIF(#REF!,$AD217)","v":{"$error":"#REF!"}},0,0,0,0,0,0,"","","","","","","","","","","","",0,""]
[null,null,null,null,null,null,null,null,null,null,null,null,null,null,null,null,null,null,null,null,null,null,null,null,null,null,217,null,null,"2015-08-05",{"$f":"SUMIFS('LOG1'!$J$5:$J$501,TabUren2[datum],$AD218)","v":"00:00:00"},{"$f":"SUMIFS('LOG2'!$J$5:$J$501,TabUren22[datum],$AD218)","v":"00:00:00"},{"$f":"SUMIFS(#REF!,#REF!,$AD218)","v":{"$error":"#REF!"}},{"$f":"SUMIFS(#REF!,#REF!,$AD218)","v":{"$error":"#REF!"}},{"$f":"SUMIFS(#REF!,#REF!,$AD218)","v":{"$error":"#REF!"}},{"$f":"SUMIFS(#REF!,#REF!,$AD218)","v":{"$error":"#REF!"}},{"$f":"COUNTIF(TabUren2[datum],$AD218)","v":0},{"$f":"COUNTIF(TabUren22[datum],$AD218)","v":0},{"$f":"COUNTIF(#REF!,$AD218)","v":{"$error":"#REF!"}},{"$f":"COUNTIF(#REF!,$AD218)","v":{"$error":"#REF!"}},{"$f":"COUNTIF(#REF!,$AD218)","v":{"$error":"#REF!"}},{"$f":"COUNTIF(#REF!,$AD218)","v":{"$error":"#REF!"}},0,0,0,0,0,0,"","","","","","","","","","","","",0,""]
[null,null,null,null,null,null,null,null,null,null,null,null,null,null,null,null,null,null,null,null,null,null,null,null,null,null,218,null,null,"2015-08-06",{"$f":"SUMIFS('LOG1'!$J$5:$J$501,TabUren2[datum],$AD219)","v":"00:00:00"},{"$f":"SUMIFS('LOG2'!$J$5:$J$501,TabUren22[datum],$AD219)","v":"00:00:00"},{"$f":"SUMIFS(#REF!,#REF!,$AD219)","v":{"$error":"#REF!"}},{"$f":"SUMIFS(#REF!,#REF!,$AD219)","v":{"$error":"#REF!"}},{"$f":"SUMIFS(#REF!,#REF!,$AD219)","v":{"$error":"#REF!"}},{"$f":"SUMIFS(#REF!,#REF!,$AD219)","v":{"$error":"#REF!"}},{"$f":"COUNTIF(TabUren2[datum],$AD219)","v":0},{"$f":"COUNTIF(TabUren22[datum],$AD219)","v":0},{"$f":"COUNTIF(#REF!,$AD219)","v":{"$error":"#REF!"}},{"$f":"COUNTIF(#REF!,$AD219)","v":{"$error":"#REF!"}},{"$f":"COUNTIF(#REF!,$AD219)","v":{"$error":"#REF!"}},{"$f":"COUNTIF(#REF!,$AD219)","v":{"$error":"#REF!"}},0,0,0,0,0,0,"","","","","","","","","","","","",0,""]
[null,null,null,null,null,null,null,null,null,null,null,null,null,null,null,null,null,null,null,null,null,null,null,null,null,null,219,null,null,"2015-08-07",{"$f":"SUMIFS('LOG1'!$J$5:$J$501,TabUren2[datum],$AD220)","v":"00:00:00"},{"$f":"SUMIFS('LOG2'!$J$5:$J$501,TabUren22[datum],$AD220)","v":"00:00:00"},{"$f":"SUMIFS(#REF!,#REF!,$AD220)","v":{"$error":"#REF!"}},{"$f":"SUMIFS(#REF!,#REF!,$AD220)","v":{"$error":"#REF!"}},{"$f":"SUMIFS(#REF!,#REF!,$AD220)","v":{"$error":"#REF!"}},{"$f":"SUMIFS(#REF!,#REF!,$AD220)","v":{"$error":"#REF!"}},{"$f":"COUNTIF(TabUren2[datum],$AD220)","v":0},{"$f":"COUNTIF(TabUren22[datum],$AD220)","v":0},{"$f":"COUNTIF(#REF!,$AD220)","v":{"$error":"#REF!"}},{"$f":"COUNTIF(#REF!,$AD220)","v":{"$error":"#REF!"}},{"$f":"COUNTIF(#REF!,$AD220)","v":{"$error":"#REF!"}},{"$f":"COUNTIF(#REF!,$AD220)","v":{"$error":"#REF!"}},0,0,0,0,0,0,"","","","","","","","","","","","",0,""]
[null,null,null,null,null,null,null,null,null,null,null,null,null,null,null,null,null,null,null,null,null,null,null,null,null,null,220,null,null,"2015-08-08",{"$f":"SUMIFS('LOG1'!$J$5:$J$501,TabUren2[datum],$AD221)","v":"00:00:00"},{"$f":"SUMIFS('LOG2'!$J$5:$J$501,TabUren22[datum],$AD221)","v":"00:00:00"},{"$f":"SUMIFS(#REF!,#REF!,$AD221)","v":{"$error":"#REF!"}},{"$f":"SUMIFS(#REF!,#REF!,$AD221)","v":{"$error":"#REF!"}},{"$f":"SUMIFS(#REF!,#REF!,$AD221)","v":{"$error":"#REF!"}},{"$f":"SUMIFS(#REF!,#REF!,$AD221)","v":{"$error":"#REF!"}},{"$f":"COUNTIF(TabUren2[datum],$AD221)","v":0},{"$f":"COUNTIF(TabUren22[datum],$AD221)","v":0},{"$f":"COUNTIF(#REF!,$AD221)","v":{"$error":"#REF!"}},{"$f":"COUNTIF(#REF!,$AD221)","v":{"$error":"#REF!"}},{"$f":"COUNTIF(#REF!,$AD221)","v":{"$error":"#REF!"}},{"$f":"COUNTIF(#REF!,$AD221)","v":{"$error":"#REF!"}},0,0,0,0,0,0,"","","","","","","","","","","","",0,""]
[null,null,null,null,null,null,null,null,null,null,null,null,null,null,null,null,null,null,null,null,null,null,null,null,null,null,221,null,null,"2015-08-09",{"$f":"SUMIFS('LOG1'!$J$5:$J$501,TabUren2[datum],$AD222)","v":"00:00:00"},{"$f":"SUMIFS('LOG2'!$J$5:$J$501,TabUren22[datum],$AD222)","v":"00:00:00"},{"$f":"SUMIFS(#REF!,#REF!,$AD222)","v":{"$error":"#REF!"}},{"$f":"SUMIFS(#REF!,#REF!,$AD222)","v":{"$error":"#REF!"}},{"$f":"SUMIFS(#REF!,#REF!,$AD222)","v":{"$error":"#REF!"}},{"$f":"SUMIFS(#REF!,#REF!,$AD222)","v":{"$error":"#REF!"}},{"$f":"COUNTIF(TabUren2[datum],$AD222)","v":0},{"$f":"COUNTIF(TabUren22[datum],$AD222)","v":0},{"$f":"COUNTIF(#REF!,$AD222)","v":{"$error":"#REF!"}},{"$f":"COUNTIF(#REF!,$AD222)","v":{"$error":"#REF!"}},{"$f":"COUNTIF(#REF!,$AD222)","v":{"$error":"#REF!"}},{"$f":"COUNTIF(#REF!,$AD222)","v":{"$error":"#REF!"}},0,0,0,0,0,0,"","","","","","","","","","","","",0,""]
[null,null,null,null,null,null,null,null,null,null,null,null,null,null,null,null,null,null,null,null,null,null,null,null,null,null,222,null,null,"2015-08-10",{"$f":"SUMIFS('LOG1'!$J$5:$J$501,TabUren2[datum],$AD223)","v":"00:00:00"},{"$f":"SUMIFS('LOG2'!$J$5:$J$501,TabUren22[datum],$AD223)","v":"00:00:00"},{"$f":"SUMIFS(#REF!,#REF!,$AD223)","v":{"$error":"#REF!"}},{"$f":"SUMIFS(#REF!,#REF!,$AD223)","v":{"$error":"#REF!"}},{"$f":"SUMIFS(#REF!,#REF!,$AD223)","v":{"$error":"#REF!"}},{"$f":"SUMIFS(#REF!,#REF!,$AD223)","v":{"$error":"#REF!"}},{"$f":"COUNTIF(TabUren2[datum],$AD223)","v":0},{"$f":"COUNTIF(TabUren22[datum],$AD223)","v":0},{"$f":"COUNTIF(#REF!,$AD223)","v":{"$error":"#REF!"}},{"$f":"COUNTIF(#REF!,$AD223)","v":{"$error":"#REF!"}},{"$f":"COUNTIF(#REF!,$AD223)","v":{"$error":"#REF!"}},{"$f":"COUNTIF(#REF!,$AD223)","v":{"$error":"#REF!"}},0,0,0,0,0,0,"","","","","","","","","","","","",0,""]
[null,null,null,null,null,null,null,null,null,null,null,null,null,null,null,null,null,null,null,null,null,null,null,null,null,null,223,null,null,"2015-08-11",{"$f":"SUMIFS('LOG1'!$J$5:$J$501,TabUren2[datum],$AD224)","v":"00:00:00"},{"$f":"SUMIFS('LOG2'!$J$5:$J$501,TabUren22[datum],$AD224)","v":"00:00:00"},{"$f":"SUMIFS(#REF!,#REF!,$AD224)","v":{"$error":"#REF!"}},{"$f":"SUMIFS(#REF!,#REF!,$AD224)","v":{"$error":"#REF!"}},{"$f":"SUMIFS(#REF!,#REF!,$AD224)","v":{"$error":"#REF!"}},{"$f":"SUMIFS(#REF!,#REF!,$AD224)","v":{"$error":"#REF!"}},{"$f":"COUNTIF(TabUren2[datum],$AD224)","v":0},{"$f":"COUNTIF(TabUren22[datum],$AD224)","v":0},{"$f":"COUNTIF(#REF!,$AD224)","v":{"$error":"#REF!"}},{"$f":"COUNTIF(#REF!,$AD224)","v":{"$error":"#REF!"}},{"$f":"COUNTIF(#REF!,$AD224)","v":{"$error":"#REF!"}},{"$f":"COUNTIF(#REF!,$AD224)","v":{"$error":"#REF!"}},0,0,0,0,0,0,"","","","","","","","","","","","",0,""]
[null,null,null,null,null,null,null,null,null,null,null,null,null,null,null,null,null,null,null,null,null,null,null,null,null,null,224,null,null,"2015-08-12",{"$f":"SUMIFS('LOG1'!$J$5:$J$501,TabUren2[datum],$AD225)","v":"00:00:00"},{"$f":"SUMIFS('LOG2'!$J$5:$J$501,TabUren22[datum],$AD225)","v":"00:00:00"},{"$f":"SUMIFS(#REF!,#REF!,$AD225)","v":{"$error":"#REF!"}},{"$f":"SUMIFS(#REF!,#REF!,$AD225)","v":{"$error":"#REF!"}},{"$f":"SUMIFS(#REF!,#REF!,$AD225)","v":{"$error":"#REF!"}},{"$f":"SUMIFS(#REF!,#REF!,$AD225)","v":{"$error":"#REF!"}},{"$f":"COUNTIF(TabUren2[datum],$AD225)","v":0},{"$f":"COUNTIF(TabUren22[datum],$AD225)","v":0},{"$f":"COUNTIF(#REF!,$AD225)","v":{"$error":"#REF!"}},{"$f":"COUNTIF(#REF!,$AD225)","v":{"$error":"#REF!"}},{"$f":"COUNTIF(#REF!,$AD225)","v":{"$error":"#REF!"}},{"$f":"COUNTIF(#REF!,$AD225)","v":{"$error":"#REF!"}},0,0,0,0,0,0,"","","","","","","","","","","","",0,""]
[null,null,null,null,null,null,null,null,null,null,null,null,null,null,null,null,null,null,null,null,null,null,null,null,null,null,225,null,null,"2015-08-13",{"$f":"SUMIFS('LOG1'!$J$5:$J$501,TabUren2[datum],$AD226)","v":"00:00:00"},{"$f":"SUMIFS('LOG2'!$J$5:$J$501,TabUren22[datum],$AD226)","v":"00:00:00"},{"$f":"SUMIFS(#REF!,#REF!,$AD226)","v":{"$error":"#REF!"}},{"$f":"SUMIFS(#REF!,#REF!,$AD226)","v":{"$error":"#REF!"}},{"$f":"SUMIFS(#REF!,#REF!,$AD226)","v":{"$error":"#REF!"}},{"$f":"SUMIFS(#REF!,#REF!,$AD226)","v":{"$error":"#REF!"}},{"$f":"COUNTIF(TabUren2[datum],$AD226)","v":0},{"$f":"COUNTIF(TabUren22[datum],$AD226)","v":0},{"$f":"COUNTIF(#REF!,$AD226)","v":{"$error":"#REF!"}},{"$f":"COUNTIF(#REF!,$AD226)","v":{"$error":"#REF!"}},{"$f":"COUNTIF(#REF!,$AD226)","v":{"$error":"#REF!"}},{"$f":"COUNTIF(#REF!,$AD226)","v":{"$error":"#REF!"}},0,0,0,0,0,0,"","","","","","","","","","","","",0,""]
[null,null,null,null,null,null,null,null,null,null,null,null,null,null,null,null,null,null,null,null,null,null,null,null,null,null,226,null,null,"2015-08-14",{"$f":"SUMIFS('LOG1'!$J$5:$J$501,TabUren2[datum],$AD227)","v":"00:00:00"},{"$f":"SUMIFS('LOG2'!$J$5:$J$501,TabUren22[datum],$AD227)","v":"00:00:00"},{"$f":"SUMIFS(#REF!,#REF!,$AD227)","v":{"$error":"#REF!"}},{"$f":"SUMIFS(#REF!,#REF!,$AD227)","v":{"$error":"#REF!"}},{"$f":"SUMIFS(#REF!,#REF!,$AD227)","v":{"$error":"#REF!"}},{"$f":"SUMIFS(#REF!,#REF!,$AD227)","v":{"$error":"#REF!"}},{"$f":"COUNTIF(TabUren2[datum],$AD227)","v":0},{"$f":"COUNTIF(TabUren22[datum],$AD227)","v":0},{"$f":"COUNTIF(#REF!,$AD227)","v":{"$error":"#REF!"}},{"$f":"COUNTIF(#REF!,$AD227)","v":{"$error":"#REF!"}},{"$f":"COUNTIF(#REF!,$AD227)","v":{"$error":"#REF!"}},{"$f":"COUNTIF(#REF!,$AD227)","v":{"$error":"#REF!"}},0,0,0,0,0,0,"","","","","","","","","","","","",0,""]
[null,null,null,null,null,null,null,null,null,null,null,null,null,null,null,null,null,null,null,null,null,null,null,null,null,null,227,null,null,"2015-08-15",{"$f":"SUMIFS('LOG1'!$J$5:$J$501,TabUren2[datum],$AD228)","v":"00:00:00"},{"$f":"SUMIFS('LOG2'!$J$5:$J$501,TabUren22[datum],$AD228)","v":"00:00:00"},{"$f":"SUMIFS(#REF!,#REF!,$AD228)","v":{"$error":"#REF!"}},{"$f":"SUMIFS(#REF!,#REF!,$AD228)","v":{"$error":"#REF!"}},{"$f":"SUMIFS(#REF!,#REF!,$AD228)","v":{"$error":"#REF!"}},{"$f":"SUMIFS(#REF!,#REF!,$AD228)","v":{"$error":"#REF!"}},{"$f":"COUNTIF(TabUren2[datum],$AD228)","v":0},{"$f":"COUNTIF(TabUren22[datum],$AD228)","v":0},{"$f":"COUNTIF(#REF!,$AD228)","v":{"$error":"#REF!"}},{"$f":"COUNTIF(#REF!,$AD228)","v":{"$error":"#REF!"}},{"$f":"COUNTIF(#REF!,$AD228)","v":{"$error":"#REF!"}},{"$f":"COUNTIF(#REF!,$AD228)","v":{"$error":"#REF!"}},0,0,0,0,0,0,"","","","","","","","","","","","",0,""]
[null,null,null,null,null,null,null,null,null,null,null,null,null,null,null,null,null,null,null,null,null,null,null,null,null,null,228,null,null,"2015-08-16",{"$f":"SUMIFS('LOG1'!$J$5:$J$501,TabUren2[datum],$AD229)","v":"00:00:00"},{"$f":"SUMIFS('LOG2'!$J$5:$J$501,TabUren22[datum],$AD229)","v":"00:00:00"},{"$f":"SUMIFS(#REF!,#REF!,$AD229)","v":{"$error":"#REF!"}},{"$f":"SUMIFS(#REF!,#REF!,$AD229)","v":{"$error":"#REF!"}},{"$f":"SUMIFS(#REF!,#REF!,$AD229)","v":{"$error":"#REF!"}},{"$f":"SUMIFS(#REF!,#REF!,$AD229)","v":{"$error":"#REF!"}},{"$f":"COUNTIF(TabUren2[datum],$AD229)","v":0},{"$f":"COUNTIF(TabUren22[datum],$AD229)","v":0},{"$f":"COUNTIF(#REF!,$AD229)","v":{"$error":"#REF!"}},{"$f":"COUNTIF(#REF!,$AD229)","v":{"$error":"#REF!"}},{"$f":"COUNTIF(#REF!,$AD229)","v":{"$error":"#REF!"}},{"$f":"COUNTIF(#REF!,$AD229)","v":{"$error":"#REF!"}},0,0,0,0,0,0,"","","","","","","","","","","","",0,""]
[null,null,null,null,null,null,null,null,null,null,null,null,null,null,null,null,null,null,null,null,null,null,null,null,null,null,229,null,null,"2015-08-17",{"$f":"SUMIFS('LOG1'!$J$5:$J$501,TabUren2[datum],$AD230)","v":"00:00:00"},{"$f":"SUMIFS('LOG2'!$J$5:$J$501,TabUren22[datum],$AD230)","v":"00:00:00"},{"$f":"SUMIFS(#REF!,#REF!,$AD230)","v":{"$error":"#REF!"}},{"$f":"SUMIFS(#REF!,#REF!,$AD230)","v":{"$error":"#REF!"}},{"$f":"SUMIFS(#REF!,#REF!,$AD230)","v":{"$error":"#REF!"}},{"$f":"SUMIFS(#REF!,#REF!,$AD230)","v":{"$error":"#REF!"}},{"$f":"COUNTIF(TabUren2[datum],$AD230)","v":0},{"$f":"COUNTIF(TabUren22[datum],$AD230)","v":0},{"$f":"COUNTIF(#REF!,$AD230)","v":{"$error":"#REF!"}},{"$f":"COUNTIF(#REF!,$AD230)","v":{"$error":"#REF!"}},{"$f":"COUNTIF(#REF!,$AD230)","v":{"$error":"#REF!"}},{"$f":"COUNTIF(#REF!,$AD230)","v":{"$error":"#REF!"}},0,0,0,0,0,0,"","","","","","","","","","","","",0,""]
[null,null,null,null,null,null,null,null,null,null,null,null,null,null,null,null,null,null,null,null,null,null,null,null,null,null,230,null,null,"2015-08-18",{"$f":"SUMIFS('LOG1'!$J$5:$J$501,TabUren2[datum],$AD231)","v":"00:00:00"},{"$f":"SUMIFS('LOG2'!$J$5:$J$501,TabUren22[datum],$AD231)","v":"00:00:00"},{"$f":"SUMIFS(#REF!,#REF!,$AD231)","v":{"$error":"#REF!"}},{"$f":"SUMIFS(#REF!,#REF!,$AD231)","v":{"$error":"#REF!"}},{"$f":"SUMIFS(#REF!,#REF!,$AD231)","v":{"$error":"#REF!"}},{"$f":"SUMIFS(#REF!,#REF!,$AD231)","v":{"$error":"#REF!"}},{"$f":"COUNTIF(TabUren2[datum],$AD231)","v":0},{"$f":"COUNTIF(TabUren22[datum],$AD231)","v":0},{"$f":"COUNTIF(#REF!,$AD231)","v":{"$error":"#REF!"}},{"$f":"COUNTIF(#REF!,$AD231)","v":{"$error":"#REF!"}},{"$f":"COUNTIF(#REF!,$AD231)","v":{"$error":"#REF!"}},{"$f":"COUNTIF(#REF!,$AD231)","v":{"$error":"#REF!"}},0,0,0,0,0,0,"","","","","","","","","","","","",0,""]
[null,null,null,null,null,null,null,null,null,null,null,null,null,null,null,null,null,null,null,null,null,null,null,null,null,null,231,null,null,"2015-08-19",{"$f":"SUMIFS('LOG1'!$J$5:$J$501,TabUren2[datum],$AD232)","v":"00:00:00"},{"$f":"SUMIFS('LOG2'!$J$5:$J$501,TabUren22[datum],$AD232)","v":"00:00:00"},{"$f":"SUMIFS(#REF!,#REF!,$AD232)","v":{"$error":"#REF!"}},{"$f":"SUMIFS(#REF!,#REF!,$AD232)","v":{"$error":"#REF!"}},{"$f":"SUMIFS(#REF!,#REF!,$AD232)","v":{"$error":"#REF!"}},{"$f":"SUMIFS(#REF!,#REF!,$AD232)","v":{"$error":"#REF!"}},{"$f":"COUNTIF(TabUren2[datum],$AD232)","v":0},{"$f":"COUNTIF(TabUren22[datum],$AD232)","v":0},{"$f":"COUNTIF(#REF!,$AD232)","v":{"$error":"#REF!"}},{"$f":"COUNTIF(#REF!,$AD232)","v":{"$error":"#REF!"}},{"$f":"COUNTIF(#REF!,$AD232)","v":{"$error":"#REF!"}},{"$f":"COUNTIF(#REF!,$AD232)","v":{"$error":"#REF!"}},0,0,0,0,0,0,"","","","","","","","","","","","",0,""]
[null,null,null,null,null,null,null,null,null,null,null,null,null,null,null,null,null,null,null,null,null,null,null,null,null,null,232,null,null,"2015-08-20",{"$f":"SUMIFS('LOG1'!$J$5:$J$501,TabUren2[datum],$AD233)","v":"00:00:00"},{"$f":"SUMIFS('LOG2'!$J$5:$J$501,TabUren22[datum],$AD233)","v":"00:00:00"},{"$f":"SUMIFS(#REF!,#REF!,$AD233)","v":{"$error":"#REF!"}},{"$f":"SUMIFS(#REF!,#REF!,$AD233)","v":{"$error":"#REF!"}},{"$f":"SUMIFS(#REF!,#REF!,$AD233)","v":{"$error":"#REF!"}},{"$f":"SUMIFS(#REF!,#REF!,$AD233)","v":{"$error":"#REF!"}},{"$f":"COUNTIF(TabUren2[datum],$AD233)","v":0},{"$f":"COUNTIF(TabUren22[datum],$AD233)","v":0},{"$f":"COUNTIF(#REF!,$AD233)","v":{"$error":"#REF!"}},{"$f":"COUNTIF(#REF!,$AD233)","v":{"$error":"#REF!"}},{"$f":"COUNTIF(#REF!,$AD233)","v":{"$error":"#REF!"}},{"$f":"COUNTIF(#REF!,$AD233)","v":{"$error":"#REF!"}},0,0,0,0,0,0,"","","","","","","","","","","","",0,""]
[null,null,null,null,null,null,null,null,null,null,null,null,null,null,null,null,null,null,null,null,null,null,null,null,null,null,233,null,null,"2015-08-21",{"$f":"SUMIFS('LOG1'!$J$5:$J$501,TabUren2[datum],$AD234)","v":"00:00:00"},{"$f":"SUMIFS('LOG2'!$J$5:$J$501,TabUren22[datum],$AD234)","v":"00:00:00"},{"$f":"SUMIFS(#REF!,#REF!,$AD234)","v":{"$error":"#REF!"}},{"$f":"SUMIFS(#REF!,#REF!,$AD234)","v":{"$error":"#REF!"}},{"$f":"SUMIFS(#REF!,#REF!,$AD234)","v":{"$error":"#REF!"}},{"$f":"SUMIFS(#REF!,#REF!,$AD234)","v":{"$error":"#REF!"}},{"$f":"COUNTIF(TabUren2[datum],$AD234)","v":0},{"$f":"COUNTIF(TabUren22[datum],$AD234)","v":0},{"$f":"COUNTIF(#REF!,$AD234)","v":{"$error":"#REF!"}},{"$f":"COUNTIF(#REF!,$AD234)","v":{"$error":"#REF!"}},{"$f":"COUNTIF(#REF!,$AD234)","v":{"$error":"#REF!"}},{"$f":"COUNTIF(#REF!,$AD234)","v":{"$error":"#REF!"}},0,0,0,0,0,0,"","","","","","","","","","","","",0,""]
[null,null,null,null,null,null,null,null,null,null,null,null,null,null,null,null,null,null,null,null,null,null,null,null,null,null,234,null,null,"2015-08-22",{"$f":"SUMIFS('LOG1'!$J$5:$J$501,TabUren2[datum],$AD235)","v":"00:00:00"},{"$f":"SUMIFS('LOG2'!$J$5:$J$501,TabUren22[datum],$AD235)","v":"00:00:00"},{"$f":"SUMIFS(#REF!,#REF!,$AD235)","v":{"$error":"#REF!"}},{"$f":"SUMIFS(#REF!,#REF!,$AD235)","v":{"$error":"#REF!"}},{"$f":"SUMIFS(#REF!,#REF!,$AD235)","v":{"$error":"#REF!"}},{"$f":"SUMIFS(#REF!,#REF!,$AD235)","v":{"$error":"#REF!"}},{"$f":"COUNTIF(TabUren2[datum],$AD235)","v":0},{"$f":"COUNTIF(TabUren22[datum],$AD235)","v":0},{"$f":"COUNTIF(#REF!,$AD235)","v":{"$error":"#REF!"}},{"$f":"COUNTIF(#REF!,$AD235)","v":{"$error":"#REF!"}},{"$f":"COUNTIF(#REF!,$AD235)","v":{"$error":"#REF!"}},{"$f":"COUNTIF(#REF!,$AD235)","v":{"$error":"#REF!"}},0,0,0,0,0,0,"","","","","","","","","","","","",0,""]
[null,null,null,null,null,null,null,null,null,null,null,null,null,null,null,null,null,null,null,null,null,null,null,null,null,null,235,null,null,"2015-08-23",{"$f":"SUMIFS('LOG1'!$J$5:$J$501,TabUren2[datum],$AD236)","v":"00:00:00"},{"$f":"SUMIFS('LOG2'!$J$5:$J$501,TabUren22[datum],$AD236)","v":"00:00:00"},{"$f":"SUMIFS(#REF!,#REF!,$AD236)","v":{"$error":"#REF!"}},{"$f":"SUMIFS(#REF!,#REF!,$AD236)","v":{"$error":"#REF!"}},{"$f":"SUMIFS(#REF!,#REF!,$AD236)","v":{"$error":"#REF!"}},{"$f":"SUMIFS(#REF!,#REF!,$AD236)","v":{"$error":"#REF!"}},{"$f":"COUNTIF(TabUren2[datum],$AD236)","v":0},{"$f":"COUNTIF(TabUren22[datum],$AD236)","v":0},{"$f":"COUNTIF(#REF!,$AD236)","v":{"$error":"#REF!"}},{"$f":"COUNTIF(#REF!,$AD236)","v":{"$error":"#REF!"}},{"$f":"COUNTIF(#REF!,$AD236)","v":{"$error":"#REF!"}},{"$f":"COUNTIF(#REF!,$AD236)","v":{"$error":"#REF!"}},0,0,0,0,0,0,"","","","","","","","","","","","",0,""]
[null,null,null,null,null,null,null,null,null,null,null,null,null,null,null,null,null,null,null,null,null,null,null,null,null,null,236,null,null,"2015-08-24",{"$f":"SUMIFS('LOG1'!$J$5:$J$501,TabUren2[datum],$AD237)","v":"00:00:00"},{"$f":"SUMIFS('LOG2'!$J$5:$J$501,TabUren22[datum],$AD237)","v":"00:00:00"},{"$f":"SUMIFS(#REF!,#REF!,$AD237)","v":{"$error":"#REF!"}},{"$f":"SUMIFS(#REF!,#REF!,$AD237)","v":{"$error":"#REF!"}},{"$f":"SUMIFS(#REF!,#REF!,$AD237)","v":{"$error":"#REF!"}},{"$f":"SUMIFS(#REF!,#REF!,$AD237)","v":{"$error":"#REF!"}},{"$f":"COUNTIF(TabUren2[datum],$AD237)","v":0},{"$f":"COUNTIF(TabUren22[datum],$AD237)","v":0},{"$f":"COUNTIF(#REF!,$AD237)","v":{"$error":"#REF!"}},{"$f":"COUNTIF(#REF!,$AD237)","v":{"$error":"#REF!"}},{"$f":"COUNTIF(#REF!,$AD237)","v":{"$error":"#REF!"}},{"$f":"COUNTIF(#REF!,$AD237)","v":{"$error":"#REF!"}},0,0,0,0,0,0,"","","","","","","","","","","","",0,""]
[null,null,null,null,null,null,null,null,null,null,null,null,null,null,null,null,null,null,null,null,null,null,null,null,null,null,237,null,null,"2015-08-25",{"$f":"SUMIFS('LOG1'!$J$5:$J$501,TabUren2[datum],$AD238)","v":"00:00:00"},{"$f":"SUMIFS('LOG2'!$J$5:$J$501,TabUren22[datum],$AD238)","v":"00:00:00"},{"$f":"SUMIFS(#REF!,#REF!,$AD238)","v":{"$error":"#REF!"}},{"$f":"SUMIFS(#REF!,#REF!,$AD238)","v":{"$error":"#REF!"}},{"$f":"SUMIFS(#REF!,#REF!,$AD238)","v":{"$error":"#REF!"}},{"$f":"SUMIFS(#REF!,#REF!,$AD238)","v":{"$error":"#REF!"}},{"$f":"COUNTIF(TabUren2[datum],$AD238)","v":0},{"$f":"COUNTIF(TabUren22[datum],$AD238)","v":0},{"$f":"COUNTIF(#REF!,$AD238)","v":{"$error":"#REF!"}},{"$f":"COUNTIF(#REF!,$AD238)","v":{"$error":"#REF!"}},{"$f":"COUNTIF(#REF!,$AD238)","v":{"$error":"#REF!"}},{"$f":"COUNTIF(#REF!,$AD238)","v":{"$error":"#REF!"}},0,0,0,0,0,0,"","","","","","","","","","","","",0,""]
[null,null,null,null,null,null,null,null,null,null,null,null,null,null,null,null,null,null,null,null,null,null,null,null,null,null,238,null,null,"2015-08-26",{"$f":"SUMIFS('LOG1'!$J$5:$J$501,TabUren2[datum],$AD239)","v":"00:00:00"},{"$f":"SUMIFS('LOG2'!$J$5:$J$501,TabUren22[datum],$AD239)","v":"00:00:00"},{"$f":"SUMIFS(#REF!,#REF!,$AD239)","v":{"$error":"#REF!"}},{"$f":"SUMIFS(#REF!,#REF!,$AD239)","v":{"$error":"#REF!"}},{"$f":"SUMIFS(#REF!,#REF!,$AD239)","v":{"$error":"#REF!"}},{"$f":"SUMIFS(#REF!,#REF!,$AD239)","v":{"$error":"#REF!"}},{"$f":"COUNTIF(TabUren2[datum],$AD239)","v":0},{"$f":"COUNTIF(TabUren22[datum],$AD239)","v":0},{"$f":"COUNTIF(#REF!,$AD239)","v":{"$error":"#REF!"}},{"$f":"COUNTIF(#REF!,$AD239)","v":{"$error":"#REF!"}},{"$f":"COUNTIF(#REF!,$AD239)","v":{"$error":"#REF!"}},{"$f":"COUNTIF(#REF!,$AD239)","v":{"$error":"#REF!"}},0,0,0,0,0,0,"","","","","","","","","","","","",0,""]
[null,null,null,null,null,null,null,null,null,null,null,null,null,null,null,null,null,null,null,null,null,null,null,null,null,null,239,null,null,"2015-08-27",{"$f":"SUMIFS('LOG1'!$J$5:$J$501,TabUren2[datum],$AD240)","v":"00:00:00"},{"$f":"SUMIFS('LOG2'!$J$5:$J$501,TabUren22[datum],$AD240)","v":"00:00:00"},{"$f":"SUMIFS(#REF!,#REF!,$AD240)","v":{"$error":"#REF!"}},{"$f":"SUMIFS(#REF!,#REF!,$AD240)","v":{"$error":"#REF!"}},{"$f":"SUMIFS(#REF!,#REF!,$AD240)","v":{"$error":"#REF!"}},{"$f":"SUMIFS(#REF!,#REF!,$AD240)","v":{"$error":"#REF!"}},{"$f":"COUNTIF(TabUren2[datum],$AD240)","v":0},{"$f":"COUNTIF(TabUren22[datum],$AD240)","v":0},{"$f":"COUNTIF(#REF!,$AD240)","v":{"$error":"#REF!"}},{"$f":"COUNTIF(#REF!,$AD240)","v":{"$error":"#REF!"}},{"$f":"COUNTIF(#REF!,$AD240)","v":{"$error":"#REF!"}},{"$f":"COUNTIF(#REF!,$AD240)","v":{"$error":"#REF!"}},0,0,0,0,0,0,"","","","","","","","","","","","",0,""]
[null,null,null,null,null,null,null,null,null,null,null,null,null,null,null,null,null,null,null,null,null,null,null,null,null,null,240,null,null,"2015-08-28",{"$f":"SUMIFS('LOG1'!$J$5:$J$501,TabUren2[datum],$AD241)","v":"00:00:00"},{"$f":"SUMIFS('LOG2'!$J$5:$J$501,TabUren22[datum],$AD241)","v":"00:00:00"},{"$f":"SUMIFS(#REF!,#REF!,$AD241)","v":{"$error":"#REF!"}},{"$f":"SUMIFS(#REF!,#REF!,$AD241)","v":{"$error":"#REF!"}},{"$f":"SUMIFS(#REF!,#REF!,$AD241)","v":{"$error":"#REF!"}},{"$f":"SUMIFS(#REF!,#REF!,$AD241)","v":{"$error":"#REF!"}},{"$f":"COUNTIF(TabUren2[datum],$AD241)","v":0},{"$f":"COUNTIF(TabUren22[datum],$AD241)","v":0},{"$f":"COUNTIF(#REF!,$AD241)","v":{"$error":"#REF!"}},{"$f":"COUNTIF(#REF!,$AD241)","v":{"$error":"#REF!"}},{"$f":"COUNTIF(#REF!,$AD241)","v":{"$error":"#REF!"}},{"$f":"COUNTIF(#REF!,$AD241)","v":{"$error":"#REF!"}},0,0,0,0,0,0,"","","","","","","","","","","","",0,""]
[null,null,null,null,null,null,null,null,null,null,null,null,null,null,null,null,null,null,null,null,null,null,null,null,null,null,241,null,null,"2015-08-29",{"$f":"SUMIFS('LOG1'!$J$5:$J$501,TabUren2[datum],$AD242)","v":"00:00:00"},{"$f":"SUMIFS('LOG2'!$J$5:$J$501,TabUren22[datum],$AD242)","v":"00:00:00"},{"$f":"SUMIFS(#REF!,#REF!,$AD242)","v":{"$error":"#REF!"}},{"$f":"SUMIFS(#REF!,#REF!,$AD242)","v":{"$error":"#REF!"}},{"$f":"SUMIFS(#REF!,#REF!,$AD242)","v":{"$error":"#REF!"}},{"$f":"SUMIFS(#REF!,#REF!,$AD242)","v":{"$error":"#REF!"}},{"$f":"COUNTIF(TabUren2[datum],$AD242)","v":0},{"$f":"COUNTIF(TabUren22[datum],$AD242)","v":0},{"$f":"COUNTIF(#REF!,$AD242)","v":{"$error":"#REF!"}},{"$f":"COUNTIF(#REF!,$AD242)","v":{"$error":"#REF!"}},{"$f":"COUNTIF(#REF!,$AD242)","v":{"$error":"#REF!"}},{"$f":"COUNTIF(#REF!,$AD242)","v":{"$error":"#REF!"}},0,0,0,0,0,0,"","","","","","","","","","","","",0,""]
[null,null,null,null,null,null,null,null,null,null,null,null,null,null,null,null,null,null,null,null,null,null,null,null,null,null,242,null,null,"2015-08-30",{"$f":"SUMIFS('LOG1'!$J$5:$J$501,TabUren2[datum],$AD243)","v":"00:00:00"},{"$f":"SUMIFS('LOG2'!$J$5:$J$501,TabUren22[datum],$AD243)","v":"00:00:00"},{"$f":"SUMIFS(#REF!,#REF!,$AD243)","v":{"$error":"#REF!"}},{"$f":"SUMIFS(#REF!,#REF!,$AD243)","v":{"$error":"#REF!"}},{"$f":"SUMIFS(#REF!,#REF!,$AD243)","v":{"$error":"#REF!"}},{"$f":"SUMIFS(#REF!,#REF!,$AD243)","v":{"$error":"#REF!"}},{"$f":"COUNTIF(TabUren2[datum],$AD243)","v":0},{"$f":"COUNTIF(TabUren22[datum],$AD243)","v":0},{"$f":"COUNTIF(#REF!,$AD243)","v":{"$error":"#REF!"}},{"$f":"COUNTIF(#REF!,$AD243)","v":{"$error":"#REF!"}},{"$f":"COUNTIF(#REF!,$AD243)","v":{"$error":"#REF!"}},{"$f":"COUNTIF(#REF!,$AD243)","v":{"$error":"#REF!"}},0,0,0,0,0,0,"","","","","","","","","","","","",0,""]
[null,null,null,null,null,null,null,null,null,null,null,null,null,null,null,null,null,null,null,null,null,null,null,null,null,null,243,null,null,"2015-08-31",{"$f":"SUMIFS('LOG1'!$J$5:$J$501,TabUren2[datum],$AD244)","v":"00:00:00"},{"$f":"SUMIFS('LOG2'!$J$5:$J$501,TabUren22[datum],$AD244)","v":"00:00:00"},{"$f":"SUMIFS(#REF!,#REF!,$AD244)","v":{"$error":"#REF!"}},{"$f":"SUMIFS(#REF!,#REF!,$AD244)","v":{"$error":"#REF!"}},{"$f":"SUMIFS(#REF!,#REF!,$AD244)","v":{"$error":"#REF!"}},{"$f":"SUMIFS(#REF!,#REF!,$AD244)","v":{"$error":"#REF!"}},{"$f":"COUNTIF(TabUren2[datum],$AD244)","v":0},{"$f":"COUNTIF(TabUren22[datum],$AD244)","v":0},{"$f":"COUNTIF(#REF!,$AD244)","v":{"$error":"#REF!"}},{"$f":"COUNTIF(#REF!,$AD244)","v":{"$error":"#REF!"}},{"$f":"COUNTIF(#REF!,$AD244)","v":{"$error":"#REF!"}},{"$f":"COUNTIF(#REF!,$AD244)","v":{"$error":"#REF!"}},0,0,0,0,0,0,"","","","","","","","","","","","",0,""]
[null,null,null,null,null,null,null,null,null,null,null,null,null,null,null,null,null,null,null,null,null,null,null,null,null,null,244,null,null,"2015-09-01",{"$f":"SUMIFS('LOG1'!$J$5:$J$501,TabUren2[datum],$AD245)","v":"00:00:00"},{"$f":"SUMIFS('LOG2'!$J$5:$J$501,TabUren22[datum],$AD245)","v":"00:00:00"},{"$f":"SUMIFS(#REF!,#REF!,$AD245)","v":{"$error":"#REF!"}},{"$f":"SUMIFS(#REF!,#REF!,$AD245)","v":{"$error":"#REF!"}},{"$f":"SUMIFS(#REF!,#REF!,$AD245)","v":{"$error":"#REF!"}},{"$f":"SUMIFS(#REF!,#REF!,$AD245)","v":{"$error":"#REF!"}},{"$f":"COUNTIF(TabUren2[datum],$AD245)","v":0},{"$f":"COUNTIF(TabUren22[datum],$AD245)","v":0},{"$f":"COUNTIF(#REF!,$AD245)","v":{"$error":"#REF!"}},{"$f":"COUNTIF(#REF!,$AD245)","v":{"$error":"#REF!"}},{"$f":"COUNTIF(#REF!,$AD245)","v":{"$error":"#REF!"}},{"$f":"COUNTIF(#REF!,$AD245)","v":{"$error":"#REF!"}},0,0,0,0,0,0,"","","","","","","","","","","","",0,""]
[null,null,null,null,null,null,null,null,null,null,null,null,null,null,null,null,null,null,null,null,null,null,null,null,null,null,245,null,null,"2015-09-02",{"$f":"SUMIFS('LOG1'!$J$5:$J$501,TabUren2[datum],$AD246)","v":"00:00:00"},{"$f":"SUMIFS('LOG2'!$J$5:$J$501,TabUren22[datum],$AD246)","v":"00:00:00"},{"$f":"SUMIFS(#REF!,#REF!,$AD246)","v":{"$error":"#REF!"}},{"$f":"SUMIFS(#REF!,#REF!,$AD246)","v":{"$error":"#REF!"}},{"$f":"SUMIFS(#REF!,#REF!,$AD246)","v":{"$error":"#REF!"}},{"$f":"SUMIFS(#REF!,#REF!,$AD246)","v":{"$error":"#REF!"}},{"$f":"COUNTIF(TabUren2[datum],$AD246)","v":0},{"$f":"COUNTIF(TabUren22[datum],$AD246)","v":0},{"$f":"COUNTIF(#REF!,$AD246)","v":{"$error":"#REF!"}},{"$f":"COUNTIF(#REF!,$AD246)","v":{"$error":"#REF!"}},{"$f":"COUNTIF(#REF!,$AD246)","v":{"$error":"#REF!"}},{"$f":"COUNTIF(#REF!,$AD246)","v":{"$error":"#REF!"}},0,0,0,0,0,0,"","","","","","","","","","","","",0,""]
[null,null,null,null,null,null,null,null,null,null,null,null,null,null,null,null,null,null,null,null,null,null,null,null,null,null,246,null,null,"2015-09-03",{"$f":"SUMIFS('LOG1'!$J$5:$J$501,TabUren2[datum],$AD247)","v":"00:00:00"},{"$f":"SUMIFS('LOG2'!$J$5:$J$501,TabUren22[datum],$AD247)","v":"00:00:00"},{"$f":"SUMIFS(#REF!,#REF!,$AD247)","v":{"$error":"#REF!"}},{"$f":"SUMIFS(#REF!,#REF!,$AD247)","v":{"$error":"#REF!"}},{"$f":"SUMIFS(#REF!,#REF!,$AD247)","v":{"$error":"#REF!"}},{"$f":"SUMIFS(#REF!,#REF!,$AD247)","v":{"$error":"#REF!"}},{"$f":"COUNTIF(TabUren2[datum],$AD247)","v":0},{"$f":"COUNTIF(TabUren22[datum],$AD247)","v":0},{"$f":"COUNTIF(#REF!,$AD247)","v":{"$error":"#REF!"}},{"$f":"COUNTIF(#REF!,$AD247)","v":{"$error":"#REF!"}},{"$f":"COUNTIF(#REF!,$AD247)","v":{"$error":"#REF!"}},{"$f":"COUNTIF(#REF!,$AD247)","v":{"$error":"#REF!"}},0,0,0,0,0,0,"","","","","","","","","","","","",0,""]
[null,null,null,null,null,null,null,null,null,null,null,null,null,null,null,null,null,null,null,null,null,null,null,null,null,null,247,null,null,"2015-09-04",{"$f":"SUMIFS('LOG1'!$J$5:$J$501,TabUren2[datum],$AD248)","v":"00:00:00"},{"$f":"SUMIFS('LOG2'!$J$5:$J$501,TabUren22[datum],$AD248)","v":"00:00:00"},{"$f":"SUMIFS(#REF!,#REF!,$AD248)","v":{"$error":"#REF!"}},{"$f":"SUMIFS(#REF!,#REF!,$AD248)","v":{"$error":"#REF!"}},{"$f":"SUMIFS(#REF!,#REF!,$AD248)","v":{"$error":"#REF!"}},{"$f":"SUMIFS(#REF!,#REF!,$AD248)","v":{"$error":"#REF!"}},{"$f":"COUNTIF(TabUren2[datum],$AD248)","v":0},{"$f":"COUNTIF(TabUren22[datum],$AD248)","v":0},{"$f":"COUNTIF(#REF!,$AD248)","v":{"$error":"#REF!"}},{"$f":"COUNTIF(#REF!,$AD248)","v":{"$error":"#REF!"}},{"$f":"COUNTIF(#REF!,$AD248)","v":{"$error":"#REF!"}},{"$f":"COUNTIF(#REF!,$AD248)","v":{"$error":"#REF!"}},0,0,0,0,0,0,"","","","","","","","","","","","",0,""]
[null,null,null,null,null,null,null,null,null,null,null,null,null,null,null,null,null,null,null,null,null,null,null,null,null,null,248,null,null,"2015-09-05",{"$f":"SUMIFS('LOG1'!$J$5:$J$501,TabUren2[datum],$AD249)","v":"00:00:00"},{"$f":"SUMIFS('LOG2'!$J$5:$J$501,TabUren22[datum],$AD249)","v":"00:00:00"},{"$f":"SUMIFS(#REF!,#REF!,$AD249)","v":{"$error":"#REF!"}},{"$f":"SUMIFS(#REF!,#REF!,$AD249)","v":{"$error":"#REF!"}},{"$f":"SUMIFS(#REF!,#REF!,$AD249)","v":{"$error":"#REF!"}},{"$f":"SUMIFS(#REF!,#REF!,$AD249)","v":{"$error":"#REF!"}},{"$f":"COUNTIF(TabUren2[datum],$AD249)","v":0},{"$f":"COUNTIF(TabUren22[datum],$AD249)","v":0},{"$f":"COUNTIF(#REF!,$AD249)","v":{"$error":"#REF!"}},{"$f":"COUNTIF(#REF!,$AD249)","v":{"$error":"#REF!"}},{"$f":"COUNTIF(#REF!,$AD249)","v":{"$error":"#REF!"}},{"$f":"COUNTIF(#REF!,$AD249)","v":{"$error":"#REF!"}},0,0,0,0,0,0,"","","","","","","","","","","","",0,""]
[null,null,null,null,null,null,null,null,null,null,null,null,null,null,null,null,null,null,null,null,null,null,null,null,null,null,249,null,null,"2015-09-06",{"$f":"SUMIFS('LOG1'!$J$5:$J$501,TabUren2[datum],$AD250)","v":"00:00:00"},{"$f":"SUMIFS('LOG2'!$J$5:$J$501,TabUren22[datum],$AD250)","v":"00:00:00"},{"$f":"SUMIFS(#REF!,#REF!,$AD250)","v":{"$error":"#REF!"}},{"$f":"SUMIFS(#REF!,#REF!,$AD250)","v":{"$error":"#REF!"}},{"$f":"SUMIFS(#REF!,#REF!,$AD250)","v":{"$error":"#REF!"}},{"$f":"SUMIFS(#REF!,#REF!,$AD250)","v":{"$error":"#REF!"}},{"$f":"COUNTIF(TabUren2[datum],$AD250)","v":0},{"$f":"COUNTIF(TabUren22[datum],$AD250)","v":0},{"$f":"COUNTIF(#REF!,$AD250)","v":{"$error":"#REF!"}},{"$f":"COUNTIF(#REF!,$AD250)","v":{"$error":"#REF!"}},{"$f":"COUNTIF(#REF!,$AD250)","v":{"$error":"#REF!"}},{"$f":"COUNTIF(#REF!,$AD250)","v":{"$error":"#REF!"}},0,0,0,0,0,0,"","","","","","","","","","","","",0,""]
[null,null,null,null,null,null,null,null,null,null,null,null,null,null,null,null,null,null,null,null,null,null,null,null,null,null,250,null,null,"2015-09-07",{"$f":"SUMIFS('LOG1'!$J$5:$J$501,TabUren2[datum],$AD251)","v":"00:00:00"},{"$f":"SUMIFS('LOG2'!$J$5:$J$501,TabUren22[datum],$AD251)","v":"00:00:00"},{"$f":"SUMIFS(#REF!,#REF!,$AD251)","v":{"$error":"#REF!"}},{"$f":"SUMIFS(#REF!,#REF!,$AD251)","v":{"$error":"#REF!"}},{"$f":"SUMIFS(#REF!,#REF!,$AD251)","v":{"$error":"#REF!"}},{"$f":"SUMIFS(#REF!,#REF!,$AD251)","v":{"$error":"#REF!"}},{"$f":"COUNTIF(TabUren2[datum],$AD251)","v":0},{"$f":"COUNTIF(TabUren22[datum],$AD251)","v":0},{"$f":"COUNTIF(#REF!,$AD251)","v":{"$error":"#REF!"}},{"$f":"COUNTIF(#REF!,$AD251)","v":{"$error":"#REF!"}},{"$f":"COUNTIF(#REF!,$AD251)","v":{"$error":"#REF!"}},{"$f":"COUNTIF(#REF!,$AD251)","v":{"$error":"#REF!"}},0,0,0,0,0,0,"","","","","","","","","","","","",0,""]
[null,null,null,null,null,null,null,null,null,null,null,null,null,null,null,null,null,null,null,null,null,null,null,null,null,null,251,null,null,"2015-09-08",{"$f":"SUMIFS('LOG1'!$J$5:$J$501,TabUren2[datum],$AD252)","v":"00:00:00"},{"$f":"SUMIFS('LOG2'!$J$5:$J$501,TabUren22[datum],$AD252)","v":"00:00:00"},{"$f":"SUMIFS(#REF!,#REF!,$AD252)","v":{"$error":"#REF!"}},{"$f":"SUMIFS(#REF!,#REF!,$AD252)","v":{"$error":"#REF!"}},{"$f":"SUMIFS(#REF!,#REF!,$AD252)","v":{"$error":"#REF!"}},{"$f":"SUMIFS(#REF!,#REF!,$AD252)","v":{"$error":"#REF!"}},{"$f":"COUNTIF(TabUren2[datum],$AD252)","v":0},{"$f":"COUNTIF(TabUren22[datum],$AD252)","v":0},{"$f":"COUNTIF(#REF!,$AD252)","v":{"$error":"#REF!"}},{"$f":"COUNTIF(#REF!,$AD252)","v":{"$error":"#REF!"}},{"$f":"COUNTIF(#REF!,$AD252)","v":{"$error":"#REF!"}},{"$f":"COUNTIF(#REF!,$AD252)","v":{"$error":"#REF!"}},0,0,0,0,0,0,"","","","","","","","","","","","",0,""]
[null,null,null,null,null,null,null,null,null,null,null,null,null,null,null,null,null,null,null,null,null,null,null,null,null,null,252,null,null,"2015-09-09",{"$f":"SUMIFS('LOG1'!$J$5:$J$501,TabUren2[datum],$AD253)","v":"00:00:00"},{"$f":"SUMIFS('LOG2'!$J$5:$J$501,TabUren22[datum],$AD253)","v":"00:00:00"},{"$f":"SUMIFS(#REF!,#REF!,$AD253)","v":{"$error":"#REF!"}},{"$f":"SUMIFS(#REF!,#REF!,$AD253)","v":{"$error":"#REF!"}},{"$f":"SUMIFS(#REF!,#REF!,$AD253)","v":{"$error":"#REF!"}},{"$f":"SUMIFS(#REF!,#REF!,$AD253)","v":{"$error":"#REF!"}},{"$f":"COUNTIF(TabUren2[datum],$AD253)","v":0},{"$f":"COUNTIF(TabUren22[datum],$AD253)","v":0},{"$f":"COUNTIF(#REF!,$AD253)","v":{"$error":"#REF!"}},{"$f":"COUNTIF(#REF!,$AD253)","v":{"$error":"#REF!"}},{"$f":"COUNTIF(#REF!,$AD253)","v":{"$error":"#REF!"}},{"$f":"COUNTIF(#REF!,$AD253)","v":{"$error":"#REF!"}},0,0,0,0,0,0,"","","","","","","","","","","","",0,""]
[null,null,null,null,null,null,null,null,null,null,null,null,null,null,null,null,null,null,null,null,null,null,null,null,null,null,253,null,null,"2015-09-10",{"$f":"SUMIFS('LOG1'!$J$5:$J$501,TabUren2[datum],$AD254)","v":"00:00:00"},{"$f":"SUMIFS('LOG2'!$J$5:$J$501,TabUren22[datum],$AD254)","v":"00:00:00"},{"$f":"SUMIFS(#REF!,#REF!,$AD254)","v":{"$error":"#REF!"}},{"$f":"SUMIFS(#REF!,#REF!,$AD254)","v":{"$error":"#REF!"}},{"$f":"SUMIFS(#REF!,#REF!,$AD254)","v":{"$error":"#REF!"}},{"$f":"SUMIFS(#REF!,#REF!,$AD254)","v":{"$error":"#REF!"}},{"$f":"COUNTIF(TabUren2[datum],$AD254)","v":0},{"$f":"COUNTIF(TabUren22[datum],$AD254)","v":0},{"$f":"COUNTIF(#REF!,$AD254)","v":{"$error":"#REF!"}},{"$f":"COUNTIF(#REF!,$AD254)","v":{"$error":"#REF!"}},{"$f":"COUNTIF(#REF!,$AD254)","v":{"$error":"#REF!"}},{"$f":"COUNTIF(#REF!,$AD254)","v":{"$error":"#REF!"}},0,0,0,0,0,0,"","","","","","","","","","","","",0,""]
[null,null,null,null,null,null,null,null,null,null,null,null,null,null,null,null,null,null,null,null,null,null,null,null,null,null,254,null,null,"2015-09-11",{"$f":"SUMIFS('LOG1'!$J$5:$J$501,TabUren2[datum],$AD255)","v":"00:00:00"},{"$f":"SUMIFS('LOG2'!$J$5:$J$501,TabUren22[datum],$AD255)","v":"00:00:00"},{"$f":"SUMIFS(#REF!,#REF!,$AD255)","v":{"$error":"#REF!"}},{"$f":"SUMIFS(#REF!,#REF!,$AD255)","v":{"$error":"#REF!"}},{"$f":"SUMIFS(#REF!,#REF!,$AD255)","v":{"$error":"#REF!"}},{"$f":"SUMIFS(#REF!,#REF!,$AD255)","v":{"$error":"#REF!"}},{"$f":"COUNTIF(TabUren2[datum],$AD255)","v":0},{"$f":"COUNTIF(TabUren22[datum],$AD255)","v":0},{"$f":"COUNTIF(#REF!,$AD255)","v":{"$error":"#REF!"}},{"$f":"COUNTIF(#REF!,$AD255)","v":{"$error":"#REF!"}},{"$f":"COUNTIF(#REF!,$AD255)","v":{"$error":"#REF!"}},{"$f":"COUNTIF(#REF!,$AD255)","v":{"$error":"#REF!"}},0,0,0,0,0,0,"","","","","","","","","","","","",0,""]
[null,null,null,null,null,null,null,null,null,null,null,null,null,null,null,null,null,null,null,null,null,null,null,null,null,null,255,null,null,"2015-09-12",{"$f":"SUMIFS('LOG1'!$J$5:$J$501,TabUren2[datum],$AD256)","v":"00:00:00"},{"$f":"SUMIFS('LOG2'!$J$5:$J$501,TabUren22[datum],$AD256)","v":"00:00:00"},{"$f":"SUMIFS(#REF!,#REF!,$AD256)","v":{"$error":"#REF!"}},{"$f":"SUMIFS(#REF!,#REF!,$AD256)","v":{"$error":"#REF!"}},{"$f":"SUMIFS(#REF!,#REF!,$AD256)","v":{"$error":"#REF!"}},{"$f":"SUMIFS(#REF!,#REF!,$AD256)","v":{"$error":"#REF!"}},{"$f":"COUNTIF(TabUren2[datum],$AD256)","v":0},{"$f":"COUNTIF(TabUren22[datum],$AD256)","v":0},{"$f":"COUNTIF(#REF!,$AD256)","v":{"$error":"#REF!"}},{"$f":"COUNTIF(#REF!,$AD256)","v":{"$error":"#REF!"}},{"$f":"COUNTIF(#REF!,$AD256)","v":{"$error":"#REF!"}},{"$f":"COUNTIF(#REF!,$AD256)","v":{"$error":"#REF!"}},0,0,0,0,0,0,"","","","","","","","","","","","",0,""]
[null,null,null,null,null,null,null,null,null,null,null,null,null,null,null,null,null,null,null,null,null,null,null,null,null,null,256,null,null,"2015-09-13",{"$f":"SUMIFS('LOG1'!$J$5:$J$501,TabUren2[datum],$AD257)","v":"00:00:00"},{"$f":"SUMIFS('LOG2'!$J$5:$J$501,TabUren22[datum],$AD257)","v":"00:00:00"},{"$f":"SUMIFS(#REF!,#REF!,$AD257)","v":{"$error":"#REF!"}},{"$f":"SUMIFS(#REF!,#REF!,$AD257)","v":{"$error":"#REF!"}},{"$f":"SUMIFS(#REF!,#REF!,$AD257)","v":{"$error":"#REF!"}},{"$f":"SUMIFS(#REF!,#REF!,$AD257)","v":{"$error":"#REF!"}},{"$f":"COUNTIF(TabUren2[datum],$AD257)","v":0},{"$f":"COUNTIF(TabUren22[datum],$AD257)","v":0},{"$f":"COUNTIF(#REF!,$AD257)","v":{"$error":"#REF!"}},{"$f":"COUNTIF(#REF!,$AD257)","v":{"$error":"#REF!"}},{"$f":"COUNTIF(#REF!,$AD257)","v":{"$error":"#REF!"}},{"$f":"COUNTIF(#REF!,$AD257)","v":{"$error":"#REF!"}},0,0,0,0,0,0,"","","","","","","","","","","","",0,""]
[null,null,null,null,null,null,null,null,null,null,null,null,null,null,null,null,null,null,null,null,null,null,null,null,null,null,257,null,null,"2015-09-14",{"$f":"SUMIFS('LOG1'!$J$5:$J$501,TabUren2[datum],$AD258)","v":"00:00:00"},{"$f":"SUMIFS('LOG2'!$J$5:$J$501,TabUren22[datum],$AD258)","v":"00:00:00"},{"$f":"SUMIFS(#REF!,#REF!,$AD258)","v":{"$error":"#REF!"}},{"$f":"SUMIFS(#REF!,#REF!,$AD258)","v":{"$error":"#REF!"}},{"$f":"SUMIFS(#REF!,#REF!,$AD258)","v":{"$error":"#REF!"}},{"$f":"SUMIFS(#REF!,#REF!,$AD258)","v":{"$error":"#REF!"}},{"$f":"COUNTIF(TabUren2[datum],$AD258)","v":0},{"$f":"COUNTIF(TabUren22[datum],$AD258)","v":0},{"$f":"COUNTIF(#REF!,$AD258)","v":{"$error":"#REF!"}},{"$f":"COUNTIF(#REF!,$AD258)","v":{"$error":"#REF!"}},{"$f":"COUNTIF(#REF!,$AD258)","v":{"$error":"#REF!"}},{"$f":"COUNTIF(#REF!,$AD258)","v":{"$error":"#REF!"}},0,0,0,0,0,0,"","","","","","","","","","","","",0,""]
[null,null,null,null,null,null,null,null,null,null,null,null,null,null,null,null,null,null,null,null,null,null,null,null,null,null,258,null,null,"2015-09-15",{"$f":"SUMIFS('LOG1'!$J$5:$J$501,TabUren2[datum],$AD259)","v":"00:00:00"},{"$f":"SUMIFS('LOG2'!$J$5:$J$501,TabUren22[datum],$AD259)","v":"00:00:00"},{"$f":"SUMIFS(#REF!,#REF!,$AD259)","v":{"$error":"#REF!"}},{"$f":"SUMIFS(#REF!,#REF!,$AD259)","v":{"$error":"#REF!"}},{"$f":"SUMIFS(#REF!,#REF!,$AD259)","v":{"$error":"#REF!"}},{"$f":"SUMIFS(#REF!,#REF!,$AD259)","v":{"$error":"#REF!"}},{"$f":"COUNTIF(TabUren2[datum],$AD259)","v":0},{"$f":"COUNTIF(TabUren22[datum],$AD259)","v":0},{"$f":"COUNTIF(#REF!,$AD259)","v":{"$error":"#REF!"}},{"$f":"COUNTIF(#REF!,$AD259)","v":{"$error":"#REF!"}},{"$f":"COUNTIF(#REF!,$AD259)","v":{"$error":"#REF!"}},{"$f":"COUNTIF(#REF!,$AD259)","v":{"$error":"#REF!"}},{"$f":"COUNTIF(AK259,\">0\")","v":0},{"$f":"COUNTIF(AL259,\">0\")","v":0},{"$f":"COUNTIF(AM259,\">0\")","v":0},{"$f":"COUNTIF(AN259,\">0\")","v":0},{"$f":"COUNTIF(AO259,\">0\")","v":0},{"$f":"COUNTIF(AP259,\">0\")","v":0},{"$f":"IF(AQ259=1,AE259,\"\")","v":""},{"$f":"IF(AR259=1,AF259,\"\")","v":""},{"$f":"IF(AS259=1,AG259,\"\")","v":""},{"$f":"IF(AT259=1,AH259,\"\")","v":""},{"$f":"IF(AU259=1,AI259,\"\")","v":""},{"$f":"IF(AV259=1,AJ259,\"\")","v":""},{"$f":"IF(BC$1=TRUE,AW259,\"\")","v":""},{"$f":"IF(BD$1=TRUE,AX259,\"\")","v":""},{"$f":"IF(BE$1=TRUE,AY259,\"\")","v":""},{"$f":"IF(BF$1=TRUE,AZ259,\"\")","v":""},{"$f":"IF(BG$1=TRUE,BA259,\"\")","v":""},{"$f":"IF(BH$1=TRUE,BB259,\"\")","v":""},0,""]
[null,null,null,null,null,null,null,null,null,null,null,null,null,null,null,null,null,null,null,null,null,null,null,null,null,null,259,null,null,"2015-09-16",{"$f":"SUMIFS('LOG1'!$J$5:$J$501,TabUren2[datum],$AD260)","v":"00:00:00"},{"$f":"SUMIFS('LOG2'!$J$5:$J$501,TabUren22[datum],$AD260)","v":"00:00:00"},{"$f":"SUMIFS(#REF!,#REF!,$AD260)","v":{"$error":"#REF!"}},{"$f":"SUMIFS(#REF!,#REF!,$AD260)","v":{"$error":"#REF!"}},{"$f":"SUMIFS(#REF!,#REF!,$AD260)","v":{"$error":"#REF!"}},{"$f":"SUMIFS(#REF!,#REF!,$AD260)","v":{"$error":"#REF!"}},{"$f":"COUNTIF(TabUren2[datum],$AD260)","v":0},{"$f":"COUNTIF(TabUren22[datum],$AD260)","v":0},{"$f":"COUNTIF(#REF!,$AD260)","v":{"$error":"#REF!"}},{"$f":"COUNTIF(#REF!,$AD260)","v":{"$error":"#REF!"}},{"$f":"COUNTIF(#REF!,$AD260)","v":{"$error":"#REF!"}},{"$f":"COUNTIF(#REF!,$AD260)","v":{"$error":"#REF!"}},0,0,0,0,0,0,"","","","","","","","","","","","",0,""]
[null,null,null,null,null,null,null,null,null,null,null,null,null,null,null,null,null,null,null,null,null,null,null,null,null,null,260,null,null,"2015-09-17",{"$f":"SUMIFS('LOG1'!$J$5:$J$501,TabUren2[datum],$AD261)","v":"00:00:00"},{"$f":"SUMIFS('LOG2'!$J$5:$J$501,TabUren22[datum],$AD261)","v":"00:00:00"},{"$f":"SUMIFS(#REF!,#REF!,$AD261)","v":{"$error":"#REF!"}},{"$f":"SUMIFS(#REF!,#REF!,$AD261)","v":{"$error":"#REF!"}},{"$f":"SUMIFS(#REF!,#REF!,$AD261)","v":{"$error":"#REF!"}},{"$f":"SUMIFS(#REF!,#REF!,$AD261)","v":{"$error":"#REF!"}},{"$f":"COUNTIF(TabUren2[datum],$AD261)","v":0},{"$f":"COUNTIF(TabUren22[datum],$AD261)","v":0},{"$f":"COUNTIF(#REF!,$AD261)","v":{"$error":"#REF!"}},{"$f":"COUNTIF(#REF!,$AD261)","v":{"$error":"#REF!"}},{"$f":"COUNTIF(#REF!,$AD261)","v":{"$error":"#REF!"}},{"$f":"COUNTIF(#REF!,$AD261)","v":{"$error":"#REF!"}},0,0,0,0,0,0,"","","","","","","","","","","","",0,""]
[null,null,null,null,null,null,null,null,null,null,null,null,null,null,null,null,null,null,null,null,null,null,null,null,null,null,261,null,null,"2015-09-18",{"$f":"SUMIFS('LOG1'!$J$5:$J$501,TabUren2[datum],$AD262)","v":"00:00:00"},{"$f":"SUMIFS('LOG2'!$J$5:$J$501,TabUren22[datum],$AD262)","v":"00:00:00"},{"$f":"SUMIFS(#REF!,#REF!,$AD262)","v":{"$error":"#REF!"}},{"$f":"SUMIFS(#REF!,#REF!,$AD262)","v":{"$error":"#REF!"}},{"$f":"SUMIFS(#REF!,#REF!,$AD262)","v":{"$error":"#REF!"}},{"$f":"SUMIFS(#REF!,#REF!,$AD262)","v":{"$error":"#REF!"}},{"$f":"COUNTIF(TabUren2[datum],$AD262)","v":0},{"$f":"COUNTIF(TabUren22[datum],$AD262)","v":0},{"$f":"COUNTIF(#REF!,$AD262)","v":{"$error":"#REF!"}},{"$f":"COUNTIF(#REF!,$AD262)","v":{"$error":"#REF!"}},{"$f":"COUNTIF(#REF!,$AD262)","v":{"$error":"#REF!"}},{"$f":"COUNTIF(#REF!,$AD262)","v":{"$error":"#REF!"}},0,0,0,0,0,0,"","","","","","","","","","","","",{"$f":"COUNT(AW262:BB262)","v":0},{"$f":"IF(BI262>0,AD262,\"\")","v":""}]
[null,null,null,null,null,null,null,null,null,null,null,null,null,null,null,null,null,null,null,null,null,null,null,null,null,null,262,null,null,"2015-09-19",{"$f":"SUMIFS('LOG1'!$J$5:$J$501,TabUren2[datum],$AD263)","v":"00:00:00"},{"$f":"SUMIFS('LOG2'!$J$5:$J$501,TabUren22[datum],$AD263)","v":"00:00:00"},{"$f":"SUMIFS(#REF!,#REF!,$AD263)","v":{"$error":"#REF!"}},{"$f":"SUMIFS(#REF!,#REF!,$AD263)","v":{"$error":"#REF!"}},{"$f":"SUMIFS(#REF!,#REF!,$AD263)","v":{"$error":"#REF!"}},{"$f":"SUMIFS(#REF!,#REF!,$AD263)","v":{"$error":"#REF!"}},{"$f":"COUNTIF(TabUren2[datum],$AD263)","v":0},{"$f":"COUNTIF(TabUren22[datum],$AD263)","v":0},{"$f":"COUNTIF(#REF!,$AD263)","v":{"$error":"#REF!"}},{"$f":"COUNTIF(#REF!,$AD263)","v":{"$error":"#REF!"}},{"$f":"COUNTIF(#REF!,$AD263)","v":{"$error":"#REF!"}},{"$f":"COUNTIF(#REF!,$AD263)","v":{"$error":"#REF!"}},0,0,0,0,0,0,"","","","","","","","","","","","",0,""]
[null,null,null,null,null,null,null,null,null,null,null,null,null,null,null,null,null,null,null,null,null,null,null,null,null,null,null,null,null,"2015-09-20",{"$f":"SUMIFS('LOG1'!$J$5:$J$501,TabUren2[datum],$AD264)","v":"00:00:00"},{"$f":"SUMIFS('LOG2'!$J$5:$J$501,TabUren22[datum],$AD264)","v":"00:00:00"},{"$f":"SUMIFS(#REF!,#REF!,$AD264)","v":{"$error":"#REF!"}},{"$f":"SUMIFS(#REF!,#REF!,$AD264)","v":{"$error":"#REF!"}},{"$f":"SUMIFS(#REF!,#REF!,$AD264)","v":{"$error":"#REF!"}},{"$f":"SUMIFS(#REF!,#REF!,$AD264)","v":{"$error":"#REF!"}},{"$f":"COUNTIF(TabUren2[datum],$AD264)","v":0},{"$f":"COUNTIF(TabUren22[datum],$AD264)","v":0},{"$f":"COUNTIF(#REF!,$AD264)","v":{"$error":"#REF!"}},{"$f":"COUNTIF(#REF!,$AD264)","v":{"$error":"#REF!"}},{"$f":"COUNTIF(#REF!,$AD264)","v":{"$error":"#REF!"}},{"$f":"COUNTIF(#REF!,$AD264)","v":{"$error":"#REF!"}},0,0,0,0,0,0,"","","","","","","","","","","","",0,""]
[null,null,null,null,null,null,null,null,null,null,null,null,null,null,null,null,null,null,null,null,null,null,null,null,null,null,null,null,null,"2015-09-21",{"$f":"SUMIFS('LOG1'!$J$5:$J$501,TabUren2[datum],$AD265)","v":"00:00:00"},{"$f":"SUMIFS('LOG2'!$J$5:$J$501,TabUren22[datum],$AD265)","v":"00:00:00"},{"$f":"SUMIFS(#REF!,#REF!,$AD265)","v":{"$error":"#REF!"}},{"$f":"SUMIFS(#REF!,#REF!,$AD265)","v":{"$error":"#REF!"}},{"$f":"SUMIFS(#REF!,#REF!,$AD265)","v":{"$error":"#REF!"}},{"$f":"SUMIFS(#REF!,#REF!,$AD265)","v":{"$error":"#REF!"}},{"$f":"COUNTIF(TabUren2[datum],$AD265)","v":0},{"$f":"COUNTIF(TabUren22[datum],$AD265)","v":0},{"$f":"COUNTIF(#REF!,$AD265)","v":{"$error":"#REF!"}},{"$f":"COUNTIF(#REF!,$AD265)","v":{"$error":"#REF!"}},{"$f":"COUNTIF(#REF!,$AD265)","v":{"$error":"#REF!"}},{"$f":"COUNTIF(#REF!,$AD265)","v":{"$error":"#REF!"}},0,0,0,0,0,0,"","","","","","","","","","","","",0,""]
[null,null,null,null,null,null,null,null,null,null,null,null,null,null,null,null,null,null,null,null,null,null,null,null,null,null,null,null,null,"2015-09-22",{"$f":"SUMIFS('LOG1'!$J$5:$J$501,TabUren2[datum],$AD266)","v":"00:00:00"},{"$f":"SUMIFS('LOG2'!$J$5:$J$501,TabUren22[datum],$AD266)","v":"00:00:00"},{"$f":"SUMIFS(#REF!,#REF!,$AD266)","v":{"$error":"#REF!"}},{"$f":"SUMIFS(#REF!,#REF!,$AD266)","v":{"$error":"#REF!"}},{"$f":"SUMIFS(#REF!,#REF!,$AD266)","v":{"$error":"#REF!"}},{"$f":"SUMIFS(#REF!,#REF!,$AD266)","v":{"$error":"#REF!"}},{"$f":"COUNTIF(TabUren2[datum],$AD266)","v":0},{"$f":"COUNTIF(TabUren22[datum],$AD266)","v":0},{"$f":"COUNTIF(#REF!,$AD266)","v":{"$error":"#REF!"}},{"$f":"COUNTIF(#REF!,$AD266)","v":{"$error":"#REF!"}},{"$f":"COUNTIF(#REF!,$AD266)","v":{"$error":"#REF!"}},{"$f":"COUNTIF(#REF!,$AD266)","v":{"$error":"#REF!"}},0,0,0,0,0,0,"","","","","","","","","","","","",0,""]
[null,null,null,null,null,null,null,null,null,null,null,null,null,null,null,null,null,null,null,null,null,null,null,null,null,null,null,null,null,"2015-09-23",{"$f":"SUMIFS('LOG1'!$J$5:$J$501,TabUren2[datum],$AD267)","v":"00:00:00"},{"$f":"SUMIFS('LOG2'!$J$5:$J$501,TabUren22[datum],$AD267)","v":"00:00:00"},{"$f":"SUMIFS(#REF!,#REF!,$AD267)","v":{"$error":"#REF!"}},{"$f":"SUMIFS(#REF!,#REF!,$AD267)","v":{"$error":"#REF!"}},{"$f":"SUMIFS(#REF!,#REF!,$AD267)","v":{"$error":"#REF!"}},{"$f":"SUMIFS(#REF!,#REF!,$AD267)","v":{"$error":"#REF!"}},{"$f":"COUNTIF(TabUren2[datum],$AD267)","v":0},{"$f":"COUNTIF(TabUren22[datum],$AD267)","v":0},{"$f":"COUNTIF(#REF!,$AD267)","v":{"$error":"#REF!"}},{"$f":"COUNTIF(#REF!,$AD267)","v":{"$error":"#REF!"}},{"$f":"COUNTIF(#REF!,$AD267)","v":{"$error":"#REF!"}},{"$f":"COUNTIF(#REF!,$AD267)","v":{"$error":"#REF!"}},0,0,0,0,0,0,"","","","","","","","","","","","",0,""]
[null,null,null,null,null,null,null,null,null,null,null,null,null,null,null,null,null,null,null,null,null,null,null,null,null,null,null,null,null,"2015-09-24",{"$f":"SUMIFS('LOG1'!$J$5:$J$501,TabUren2[datum],$AD268)","v":"00:00:00"},{"$f":"SUMIFS('LOG2'!$J$5:$J$501,TabUren22[datum],$AD268)","v":"00:00:00"},{"$f":"SUMIFS(#REF!,#REF!,$AD268)","v":{"$error":"#REF!"}},{"$f":"SUMIFS(#REF!,#REF!,$AD268)","v":{"$error":"#REF!"}},{"$f":"SUMIFS(#REF!,#REF!,$AD268)","v":{"$error":"#REF!"}},{"$f":"SUMIFS(#REF!,#REF!,$AD268)","v":{"$error":"#REF!"}},{"$f":"COUNTIF(TabUren2[datum],$AD268)","v":0},{"$f":"COUNTIF(TabUren22[datum],$AD268)","v":0},{"$f":"COUNTIF(#REF!,$AD268)","v":{"$error":"#REF!"}},{"$f":"COUNTIF(#REF!,$AD268)","v":{"$error":"#REF!"}},{"$f":"COUNTIF(#REF!,$AD268)","v":{"$error":"#REF!"}},{"$f":"COUNTIF(#REF!,$AD268)","v":{"$error":"#REF!"}},0,0,0,0,0,0,"","","","","","","","","","","","",0,""]
[null,null,null,null,null,null,null,null,null,null,null,null,null,null,null,null,null,null,null,null,null,null,null,null,null,null,null,null,null,"2015-09-25",{"$f":"SUMIFS('LOG1'!$J$5:$J$501,TabUren2[datum],$AD269)","v":"00:00:00"},{"$f":"SUMIFS('LOG2'!$J$5:$J$501,TabUren22[datum],$AD269)","v":"00:00:00"},{"$f":"SUMIFS(#REF!,#REF!,$AD269)","v":{"$error":"#REF!"}},{"$f":"SUMIFS(#REF!,#REF!,$AD269)","v":{"$error":"#REF!"}},{"$f":"SUMIFS(#REF!,#REF!,$AD269)","v":{"$error":"#REF!"}},{"$f":"SUMIFS(#REF!,#REF!,$AD269)","v":{"$error":"#REF!"}},{"$f":"COUNTIF(TabUren2[datum],$AD269)","v":0},{"$f":"COUNTIF(TabUren22[datum],$AD269)","v":0},{"$f":"COUNTIF(#REF!,$AD269)","v":{"$error":"#REF!"}},{"$f":"COUNTIF(#REF!,$AD269)","v":{"$error":"#REF!"}},{"$f":"COUNTIF(#REF!,$AD269)","v":{"$error":"#REF!"}},{"$f":"COUNTIF(#REF!,$AD269)","v":{"$error":"#REF!"}},0,0,0,0,0,0,"","","","","","","","","","","","",0,""]
[null,null,null,null,null,null,null,null,null,null,null,null,null,null,null,null,null,null,null,null,null,null,null,null,null,null,null,null,null,"2015-09-26",{"$f":"SUMIFS('LOG1'!$J$5:$J$501,TabUren2[datum],$AD270)","v":"00:00:00"},{"$f":"SUMIFS('LOG2'!$J$5:$J$501,TabUren22[datum],$AD270)","v":"00:00:00"},{"$f":"SUMIFS(#REF!,#REF!,$AD270)","v":{"$error":"#REF!"}},{"$f":"SUMIFS(#REF!,#REF!,$AD270)","v":{"$error":"#REF!"}},{"$f":"SUMIFS(#REF!,#REF!,$AD270)","v":{"$error":"#REF!"}},{"$f":"SUMIFS(#REF!,#REF!,$AD270)","v":{"$error":"#REF!"}},{"$f":"COUNTIF(TabUren2[datum],$AD270)","v":0},{"$f":"COUNTIF(TabUren22[datum],$AD270)","v":0},{"$f":"COUNTIF(#REF!,$AD270)","v":{"$error":"#REF!"}},{"$f":"COUNTIF(#REF!,$AD270)","v":{"$error":"#REF!"}},{"$f":"COUNTIF(#REF!,$AD270)","v":{"$error":"#REF!"}},{"$f":"COUNTIF(#REF!,$AD270)","v":{"$error":"#REF!"}},0,0,0,0,0,0,"","","","","","","","","","","","",0,""]
[null,null,null,null,null,null,null,null,null,null,null,null,null,null,null,null,null,null,null,null,null,null,null,null,null,null,null,null,null,"2015-09-27",{"$f":"SUMIFS('LOG1'!$J$5:$J$501,TabUren2[datum],$AD271)","v":"00:00:00"},{"$f":"SUMIFS('LOG2'!$J$5:$J$501,TabUren22[datum],$AD271)","v":"00:00:00"},{"$f":"SUMIFS(#REF!,#REF!,$AD271)","v":{"$error":"#REF!"}},{"$f":"SUMIFS(#REF!,#REF!,$AD271)","v":{"$error":"#REF!"}},{"$f":"SUMIFS(#REF!,#REF!,$AD271)","v":{"$error":"#REF!"}},{"$f":"SUMIFS(#REF!,#REF!,$AD271)","v":{"$error":"#REF!"}},{"$f":"COUNTIF(TabUren2[datum],$AD271)","v":0},{"$f":"COUNTIF(TabUren22[datum],$AD271)","v":0},{"$f":"COUNTIF(#REF!,$AD271)","v":{"$error":"#REF!"}},{"$f":"COUNTIF(#REF!,$AD271)","v":{"$error":"#REF!"}},{"$f":"COUNTIF(#REF!,$AD271)","v":{"$error":"#REF!"}},{"$f":"COUNTIF(#REF!,$AD271)","v":{"$error":"#REF!"}},0,0,0,0,0,0,"","","","","","","","","","","","",0,""]
[null,null,null,null,null,null,null,null,null,null,null,null,null,null,null,null,null,null,null,null,null,null,null,null,null,null,null,null,null,"2015-09-28",{"$f":"SUMIFS('LOG1'!$J$5:$J$501,TabUren2[datum],$AD272)","v":"00:00:00"},{"$f":"SUMIFS('LOG2'!$J$5:$J$501,TabUren22[datum],$AD272)","v":"00:00:00"},{"$f":"SUMIFS(#REF!,#REF!,$AD272)","v":{"$error":"#REF!"}},{"$f":"SUMIFS(#REF!,#REF!,$AD272)","v":{"$error":"#REF!"}},{"$f":"SUMIFS(#REF!,#REF!,$AD272)","v":{"$error":"#REF!"}},{"$f":"SUMIFS(#REF!,#REF!,$AD272)","v":{"$error":"#REF!"}},{"$f":"COUNTIF(TabUren2[datum],$AD272)","v":0},{"$f":"COUNTIF(TabUren22[datum],$AD272)","v":0},{"$f":"COUNTIF(#REF!,$AD272)","v":{"$error":"#REF!"}},{"$f":"COUNTIF(#REF!,$AD272)","v":{"$error":"#REF!"}},{"$f":"COUNTIF(#REF!,$AD272)","v":{"$error":"#REF!"}},{"$f":"COUNTIF(#REF!,$AD272)","v":{"$error":"#REF!"}},0,0,0,0,0,0,"","","","","","","","","","","","",0,""]
[null,null,null,null,null,null,null,null,null,null,null,null,null,null,null,null,null,null,null,null,null,null,null,null,null,null,null,null,null,"2015-09-29",{"$f":"SUMIFS('LOG1'!$J$5:$J$501,TabUren2[datum],$AD273)","v":"00:00:00"},{"$f":"SUMIFS('LOG2'!$J$5:$J$501,TabUren22[datum],$AD273)","v":"00:00:00"},{"$f":"SUMIFS(#REF!,#REF!,$AD273)","v":{"$error":"#REF!"}},{"$f":"SUMIFS(#REF!,#REF!,$AD273)","v":{"$error":"#REF!"}},{"$f":"SUMIFS(#REF!,#REF!,$AD273)","v":{"$error":"#REF!"}},{"$f":"SUMIFS(#REF!,#REF!,$AD273)","v":{"$error":"#REF!"}},{"$f":"COUNTIF(TabUren2[datum],$AD273)","v":0},{"$f":"COUNTIF(TabUren22[datum],$AD273)","v":0},{"$f":"COUNTIF(#REF!,$AD273)","v":{"$error":"#REF!"}},{"$f":"COUNTIF(#REF!,$AD273)","v":{"$error":"#REF!"}},{"$f":"COUNTIF(#REF!,$AD273)","v":{"$error":"#REF!"}},{"$f":"COUNTIF(#REF!,$AD273)","v":{"$error":"#REF!"}},0,0,0,0,0,0,"","","","","","","","","","","","",0,""]
[null,null,null,null,null,null,null,null,null,null,null,null,null,null,null,null,null,null,null,null,null,null,null,null,null,null,null,null,null,"2015-09-30",{"$f":"SUMIFS('LOG1'!$J$5:$J$501,TabUren2[datum],$AD274)","v":"00:00:00"},{"$f":"SUMIFS('LOG2'!$J$5:$J$501,TabUren22[datum],$AD274)","v":"00:00:00"},{"$f":"SUMIFS(#REF!,#REF!,$AD274)","v":{"$error":"#REF!"}},{"$f":"SUMIFS(#REF!,#REF!,$AD274)","v":{"$error":"#REF!"}},{"$f":"SUMIFS(#REF!,#REF!,$AD274)","v":{"$error":"#REF!"}},{"$f":"SUMIFS(#REF!,#REF!,$AD274)","v":{"$error":"#REF!"}},{"$f":"COUNTIF(TabUren2[datum],$AD274)","v":0},{"$f":"COUNTIF(TabUren22[datum],$AD274)","v":0},{"$f":"COUNTIF(#REF!,$AD274)","v":{"$error":"#REF!"}},{"$f":"COUNTIF(#REF!,$AD274)","v":{"$error":"#REF!"}},{"$f":"COUNTIF(#REF!,$AD274)","v":{"$error":"#REF!"}},{"$f":"COUNTIF(#REF!,$AD274)","v":{"$error":"#REF!"}},0,0,0,0,0,0,"","","","","","","","","","","","",0,""]
[null,null,null,null,null,null,null,null,null,null,null,null,null,null,null,null,null,null,null,null,null,null,null,null,null,null,null,null,null,"2015-10-01",{"$f":"SUMIFS('LOG1'!$J$5:$J$501,TabUren2[datum],$AD275)","v":"00:00:00"},{"$f":"SUMIFS('LOG2'!$J$5:$J$501,TabUren22[datum],$AD275)","v":"00:00:00"},{"$f":"SUMIFS(#REF!,#REF!,$AD275)","v":{"$error":"#REF!"}},{"$f":"SUMIFS(#REF!,#REF!,$AD275)","v":{"$error":"#REF!"}},{"$f":"SUMIFS(#REF!,#REF!,$AD275)","v":{"$error":"#REF!"}},{"$f":"SUMIFS(#REF!,#REF!,$AD275)","v":{"$error":"#REF!"}},{"$f":"COUNTIF(TabUren2[datum],$AD275)","v":0},{"$f":"COUNTIF(TabUren22[datum],$AD275)","v":0},{"$f":"COUNTIF(#REF!,$AD275)","v":{"$error":"#REF!"}},{"$f":"COUNTIF(#REF!,$AD275)","v":{"$error":"#REF!"}},{"$f":"COUNTIF(#REF!,$AD275)","v":{"$error":"#REF!"}},{"$f":"COUNTIF(#REF!,$AD275)","v":{"$error":"#REF!"}},0,0,0,0,0,0,"","","","","","","","","","","","",0,""]
[null,null,null,null,null,null,null,null,null,null,null,null,null,null,null,null,null,null,null,null,null,null,null,null,null,null,null,null,null,"2015-10-02",{"$f":"SUMIFS('LOG1'!$J$5:$J$501,TabUren2[datum],$AD276)","v":"00:00:00"},{"$f":"SUMIFS('LOG2'!$J$5:$J$501,TabUren22[datum],$AD276)","v":"00:00:00"},{"$f":"SUMIFS(#REF!,#REF!,$AD276)","v":{"$error":"#REF!"}},{"$f":"SUMIFS(#REF!,#REF!,$AD276)","v":{"$error":"#REF!"}},{"$f":"SUMIFS(#REF!,#REF!,$AD276)","v":{"$error":"#REF!"}},{"$f":"SUMIFS(#REF!,#REF!,$AD276)","v":{"$error":"#REF!"}},{"$f":"COUNTIF(TabUren2[datum],$AD276)","v":0},{"$f":"COUNTIF(TabUren22[datum],$AD276)","v":0},{"$f":"COUNTIF(#REF!,$AD276)","v":{"$error":"#REF!"}},{"$f":"COUNTIF(#REF!,$AD276)","v":{"$error":"#REF!"}},{"$f":"COUNTIF(#REF!,$AD276)","v":{"$error":"#REF!"}},{"$f":"COUNTIF(#REF!,$AD276)","v":{"$error":"#REF!"}},0,0,0,0,0,0,"","","","","","","","","","","","",0,""]
[null,null,null,null,null,null,null,null,null,null,null,null,null,null,null,null,null,null,null,null,null,null,null,null,null,null,null,null,null,"2015-10-03",{"$f":"SUMIFS('LOG1'!$J$5:$J$501,TabUren2[datum],$AD277)","v":"00:00:00"},{"$f":"SUMIFS('LOG2'!$J$5:$J$501,TabUren22[datum],$AD277)","v":"00:00:00"},{"$f":"SUMIFS(#REF!,#REF!,$AD277)","v":{"$error":"#REF!"}},{"$f":"SUMIFS(#REF!,#REF!,$AD277)","v":{"$error":"#REF!"}},{"$f":"SUMIFS(#REF!,#REF!,$AD277)","v":{"$error":"#REF!"}},{"$f":"SUMIFS(#REF!,#REF!,$AD277)","v":{"$error":"#REF!"}},{"$f":"COUNTIF(TabUren2[datum],$AD277)","v":0},{"$f":"COUNTIF(TabUren22[datum],$AD277)","v":0},{"$f":"COUNTIF(#REF!,$AD277)","v":{"$error":"#REF!"}},{"$f":"COUNTIF(#REF!,$AD277)","v":{"$error":"#REF!"}},{"$f":"COUNTIF(#REF!,$AD277)","v":{"$error":"#REF!"}},{"$f":"COUNTIF(#REF!,$AD277)","v":{"$error":"#REF!"}},0,0,0,0,0,0,"","","","","","","","","","","","",0,""]
[null,null,null,null,null,null,null,null,null,null,null,null,null,null,null,null,null,null,null,null,null,null,null,null,null,null,null,null,null,"2015-10-04",{"$f":"SUMIFS('LOG1'!$J$5:$J$501,TabUren2[datum],$AD278)","v":"00:00:00"},{"$f":"SUMIFS('LOG2'!$J$5:$J$501,TabUren22[datum],$AD278)","v":"00:00:00"},{"$f":"SUMIFS(#REF!,#REF!,$AD278)","v":{"$error":"#REF!"}},{"$f":"SUMIFS(#REF!,#REF!,$AD278)","v":{"$error":"#REF!"}},{"$f":"SUMIFS(#REF!,#REF!,$AD278)","v":{"$error":"#REF!"}},{"$f":"SUMIFS(#REF!,#REF!,$AD278)","v":{"$error":"#REF!"}},{"$f":"COUNTIF(TabUren2[datum],$AD278)","v":0},{"$f":"COUNTIF(TabUren22[datum],$AD278)","v":0},{"$f":"COUNTIF(#REF!,$AD278)","v":{"$error":"#REF!"}},{"$f":"COUNTIF(#REF!,$AD278)","v":{"$error":"#REF!"}},{"$f":"COUNTIF(#REF!,$AD278)","v":{"$error":"#REF!"}},{"$f":"COUNTIF(#REF!,$AD278)","v":{"$error":"#REF!"}},0,0,0,0,0,0,"","","","","","","","","","","","",0,""]
[null,null,null,null,null,null,null,null,null,null,null,null,null,null,null,null,null,null,null,null,null,null,null,null,null,null,null,null,null,"2015-10-05",{"$f":"SUMIFS('LOG1'!$J$5:$J$501,TabUren2[datum],$AD279)","v":"00:00:00"},{"$f":"SUMIFS('LOG2'!$J$5:$J$501,TabUren22[datum],$AD279)","v":"00:00:00"},{"$f":"SUMIFS(#REF!,#REF!,$AD279)","v":{"$error":"#REF!"}},{"$f":"SUMIFS(#REF!,#REF!,$AD279)","v":{"$error":"#REF!"}},{"$f":"SUMIFS(#REF!,#REF!,$AD279)","v":{"$error":"#REF!"}},{"$f":"SUMIFS(#REF!,#REF!,$AD279)","v":{"$error":"#REF!"}},{"$f":"COUNTIF(TabUren2[datum],$AD279)","v":0},{"$f":"COUNTIF(TabUren22[datum],$AD279)","v":0},{"$f":"COUNTIF(#REF!,$AD279)","v":{"$error":"#REF!"}},{"$f":"COUNTIF(#REF!,$AD279)","v":{"$error":"#REF!"}},{"$f":"COUNTIF(#REF!,$AD279)","v":{"$error":"#REF!"}},{"$f":"COUNTIF(#REF!,$AD279)","v":{"$error":"#REF!"}},0,0,0,0,0,0,"","","","","","","","","","","","",0,""]
[null,null,null,null,null,null,null,null,null,null,null,null,null,null,null,null,null,null,null,null,null,null,null,null,null,null,null,null,null,"2015-10-06",{"$f":"SUMIFS('LOG1'!$J$5:$J$501,TabUren2[datum],$AD280)","v":"00:00:00"},{"$f":"SUMIFS('LOG2'!$J$5:$J$501,TabUren22[datum],$AD280)","v":"00:00:00"},{"$f":"SUMIFS(#REF!,#REF!,$AD280)","v":{"$error":"#REF!"}},{"$f":"SUMIFS(#REF!,#REF!,$AD280)","v":{"$error":"#REF!"}},{"$f":"SUMIFS(#REF!,#REF!,$AD280)","v":{"$error":"#REF!"}},{"$f":"SUMIFS(#REF!,#REF!,$AD280)","v":{"$error":"#REF!"}},{"$f":"COUNTIF(TabUren2[datum],$AD280)","v":0},{"$f":"COUNTIF(TabUren22[datum],$AD280)","v":0},{"$f":"COUNTIF(#REF!,$AD280)","v":{"$error":"#REF!"}},{"$f":"COUNTIF(#REF!,$AD280)","v":{"$error":"#REF!"}},{"$f":"COUNTIF(#REF!,$AD280)","v":{"$error":"#REF!"}},{"$f":"COUNTIF(#REF!,$AD280)","v":{"$error":"#REF!"}},0,0,0,0,0,0,"","","","","","","","","","","","",0,""]
[null,null,null,null,null,null,null,null,null,null,null,null,null,null,null,null,null,null,null,null,null,null,null,null,null,null,null,null,null,"2015-10-07",{"$f":"SUMIFS('LOG1'!$J$5:$J$501,TabUren2[datum],$AD281)","v":"00:00:00"},{"$f":"SUMIFS('LOG2'!$J$5:$J$501,TabUren22[datum],$AD281)","v":"00:00:00"},{"$f":"SUMIFS(#REF!,#REF!,$AD281)","v":{"$error":"#REF!"}},{"$f":"SUMIFS(#REF!,#REF!,$AD281)","v":{"$error":"#REF!"}},{"$f":"SUMIFS(#REF!,#REF!,$AD281)","v":{"$error":"#REF!"}},{"$f":"SUMIFS(#REF!,#REF!,$AD281)","v":{"$error":"#REF!"}},{"$f":"COUNTIF(TabUren2[datum],$AD281)","v":0},{"$f":"COUNTIF(TabUren22[datum],$AD281)","v":0},{"$f":"COUNTIF(#REF!,$AD281)","v":{"$error":"#REF!"}},{"$f":"COUNTIF(#REF!,$AD281)","v":{"$error":"#REF!"}},{"$f":"COUNTIF(#REF!,$AD281)","v":{"$error":"#REF!"}},{"$f":"COUNTIF(#REF!,$AD281)","v":{"$error":"#REF!"}},0,0,0,0,0,0,"","","","","","","","","","","","",0,""]
[null,null,null,null,null,null,null,null,null,null,null,null,null,null,null,null,null,null,null,null,null,null,null,null,null,null,null,null,null,"2015-10-08",{"$f":"SUMIFS('LOG1'!$J$5:$J$501,TabUren2[datum],$AD282)","v":"00:00:00"},{"$f":"SUMIFS('LOG2'!$J$5:$J$501,TabUren22[datum],$AD282)","v":"00:00:00"},{"$f":"SUMIFS(#REF!,#REF!,$AD282)","v":{"$error":"#REF!"}},{"$f":"SUMIFS(#REF!,#REF!,$AD282)","v":{"$error":"#REF!"}},{"$f":"SUMIFS(#REF!,#REF!,$AD282)","v":{"$error":"#REF!"}},{"$f":"SUMIFS(#REF!,#REF!,$AD282)","v":{"$error":"#REF!"}},{"$f":"COUNTIF(TabUren2[datum],$AD282)","v":0},{"$f":"COUNTIF(TabUren22[datum],$AD282)","v":0},{"$f":"COUNTIF(#REF!,$AD282)","v":{"$error":"#REF!"}},{"$f":"COUNTIF(#REF!,$AD282)","v":{"$error":"#REF!"}},{"$f":"COUNTIF(#REF!,$AD282)","v":{"$error":"#REF!"}},{"$f":"COUNTIF(#REF!,$AD282)","v":{"$error":"#REF!"}},0,0,0,0,0,0,"","","","","","","","","","","","",0,""]
[null,null,null,null,null,null,null,null,null,null,null,null,null,null,null,null,null,null,null,null,null,null,null,null,null,null,null,null,null,"2015-10-09",{"$f":"SUMIFS('LOG1'!$J$5:$J$501,TabUren2[datum],$AD283)","v":"00:00:00"},{"$f":"SUMIFS('LOG2'!$J$5:$J$501,TabUren22[datum],$AD283)","v":"00:00:00"},{"$f":"SUMIFS(#REF!,#REF!,$AD283)","v":{"$error":"#REF!"}},{"$f":"SUMIFS(#REF!,#REF!,$AD283)","v":{"$error":"#REF!"}},{"$f":"SUMIFS(#REF!,#REF!,$AD283)","v":{"$error":"#REF!"}},{"$f":"SUMIFS(#REF!,#REF!,$AD283)","v":{"$error":"#REF!"}},{"$f":"COUNTIF(TabUren2[datum],$AD283)","v":0},{"$f":"COUNTIF(TabUren22[datum],$AD283)","v":0},{"$f":"COUNTIF(#REF!,$AD283)","v":{"$error":"#REF!"}},{"$f":"COUNTIF(#REF!,$AD283)","v":{"$error":"#REF!"}},{"$f":"COUNTIF(#REF!,$AD283)","v":{"$error":"#REF!"}},{"$f":"COUNTIF(#REF!,$AD283)","v":{"$error":"#REF!"}},0,0,0,0,0,0,"","","","","","","","","","","","",0,""]
[null,null,null,null,null,null,null,null,null,null,null,null,null,null,null,null,null,null,null,null,null,null,null,null,null,null,null,null,null,"2015-10-10",{"$f":"SUMIFS('LOG1'!$J$5:$J$501,TabUren2[datum],$AD284)","v":"00:00:00"},{"$f":"SUMIFS('LOG2'!$J$5:$J$501,TabUren22[datum],$AD284)","v":"00:00:00"},{"$f":"SUMIFS(#REF!,#REF!,$AD284)","v":{"$error":"#REF!"}},{"$f":"SUMIFS(#REF!,#REF!,$AD284)","v":{"$error":"#REF!"}},{"$f":"SUMIFS(#REF!,#REF!,$AD284)","v":{"$error":"#REF!"}},{"$f":"SUMIFS(#REF!,#REF!,$AD284)","v":{"$error":"#REF!"}},{"$f":"COUNTIF(TabUren2[datum],$AD284)","v":0},{"$f":"COUNTIF(TabUren22[datum],$AD284)","v":0},{"$f":"COUNTIF(#REF!,$AD284)","v":{"$error":"#REF!"}},{"$f":"COUNTIF(#REF!,$AD284)","v":{"$error":"#REF!"}},{"$f":"COUNTIF(#REF!,$AD284)","v":{"$error":"#REF!"}},{"$f":"COUNTIF(#REF!,$AD284)","v":{"$error":"#REF!"}},0,0,0,0,0,0,"","","","","","","","","","","","",0,""]
[null,null,null,null,null,null,null,null,null,null,null,null,null,null,null,null,null,null,null,null,null,null,null,null,null,null,null,null,null,"2015-10-11",{"$f":"SUMIFS('LOG1'!$J$5:$J$501,TabUren2[datum],$AD285)","v":"00:00:00"},{"$f":"SUMIFS('LOG2'!$J$5:$J$501,TabUren22[datum],$AD285)","v":"00:00:00"},{"$f":"SUMIFS(#REF!,#REF!,$AD285)","v":{"$error":"#REF!"}},{"$f":"SUMIFS(#REF!,#REF!,$AD285)","v":{"$error":"#REF!"}},{"$f":"SUMIFS(#REF!,#REF!,$AD285)","v":{"$error":"#REF!"}},{"$f":"SUMIFS(#REF!,#REF!,$AD285)","v":{"$error":"#REF!"}},{"$f":"COUNTIF(TabUren2[datum],$AD285)","v":0},{"$f":"COUNTIF(TabUren22[datum],$AD285)","v":0},{"$f":"COUNTIF(#REF!,$AD285)","v":{"$error":"#REF!"}},{"$f":"COUNTIF(#REF!,$AD285)","v":{"$error":"#REF!"}},{"$f":"COUNTIF(#REF!,$AD285)","v":{"$error":"#REF!"}},{"$f":"COUNTIF(#REF!,$AD285)","v":{"$error":"#REF!"}},0,0,0,0,0,0,"","","","","","","","","","","","",0,""]
[null,null,null,null,null,null,null,null,null,null,null,null,null,null,null,null,null,null,null,null,null,null,null,null,null,null,null,null,null,"2015-10-12",{"$f":"SUMIFS('LOG1'!$J$5:$J$501,TabUren2[datum],$AD286)","v":"00:00:00"},{"$f":"SUMIFS('LOG2'!$J$5:$J$501,TabUren22[datum],$AD286)","v":"00:00:00"},{"$f":"SUMIFS(#REF!,#REF!,$AD286)","v":{"$error":"#REF!"}},{"$f":"SUMIFS(#REF!,#REF!,$AD286)","v":{"$error":"#REF!"}},{"$f":"SUMIFS(#REF!,#REF!,$AD286)","v":{"$error":"#REF!"}},{"$f":"SUMIFS(#REF!,#REF!,$AD286)","v":{"$error":"#REF!"}},{"$f":"COUNTIF(TabUren2[datum],$AD286)","v":0},{"$f":"COUNTIF(TabUren22[datum],$AD286)","v":0},{"$f":"COUNTIF(#REF!,$AD286)","v":{"$error":"#REF!"}},{"$f":"COUNTIF(#REF!,$AD286)","v":{"$error":"#REF!"}},{"$f":"COUNTIF(#REF!,$AD286)","v":{"$error":"#REF!"}},{"$f":"COUNTIF(#REF!,$AD286)","v":{"$error":"#REF!"}},0,0,0,0,0,0,"","","","","","","","","","","","",0,""]
[null,null,null,null,null,null,null,null,null,null,null,null,null,null,null,null,null,null,null,null,null,null,null,null,null,null,null,null,null,"2015-10-13",{"$f":"SUMIFS('LOG1'!$J$5:$J$501,TabUren2[datum],$AD287)","v":"00:00:00"},{"$f":"SUMIFS('LOG2'!$J$5:$J$501,TabUren22[datum],$AD287)","v":"00:00:00"},{"$f":"SUMIFS(#REF!,#REF!,$AD287)","v":{"$error":"#REF!"}},{"$f":"SUMIFS(#REF!,#REF!,$AD287)","v":{"$error":"#REF!"}},{"$f":"SUMIFS(#REF!,#REF!,$AD287)","v":{"$error":"#REF!"}},{"$f":"SUMIFS(#REF!,#REF!,$AD287)","v":{"$error":"#REF!"}},{"$f":"COUNTIF(TabUren2[datum],$AD287)","v":0},{"$f":"COUNTIF(TabUren22[datum],$AD287)","v":0},{"$f":"COUNTIF(#REF!,$AD287)","v":{"$error":"#REF!"}},{"$f":"COUNTIF(#REF!,$AD287)","v":{"$error":"#REF!"}},{"$f":"COUNTIF(#REF!,$AD287)","v":{"$error":"#REF!"}},{"$f":"COUNTIF(#REF!,$AD287)","v":{"$error":"#REF!"}},0,0,0,0,0,0,"","","","","","","","","","","","",0,""]
[null,null,null,null,null,null,null,null,null,null,null,null,null,null,null,null,null,null,null,null,null,null,null,null,null,null,null,null,null,"2015-10-14",{"$f":"SUMIFS('LOG1'!$J$5:$J$501,TabUren2[datum],$AD288)","v":"00:00:00"},{"$f":"SUMIFS('LOG2'!$J$5:$J$501,TabUren22[datum],$AD288)","v":"00:00:00"},{"$f":"SUMIFS(#REF!,#REF!,$AD288)","v":{"$error":"#REF!"}},{"$f":"SUMIFS(#REF!,#REF!,$AD288)","v":{"$error":"#REF!"}},{"$f":"SUMIFS(#REF!,#REF!,$AD288)","v":{"$error":"#REF!"}},{"$f":"SUMIFS(#REF!,#REF!,$AD288)","v":{"$error":"#REF!"}},{"$f":"COUNTIF(TabUren2[datum],$AD288)","v":0},{"$f":"COUNTIF(TabUren22[datum],$AD288)","v":0},{"$f":"COUNTIF(#REF!,$AD288)","v":{"$error":"#REF!"}},{"$f":"COUNTIF(#REF!,$AD288)","v":{"$error":"#REF!"}},{"$f":"COUNTIF(#REF!,$AD288)","v":{"$error":"#REF!"}},{"$f":"COUNTIF(#REF!,$AD288)","v":{"$error":"#REF!"}},0,0,0,0,0,0,"","","","","","","","","","","","",0,""]
[null,null,null,null,null,null,null,null,null,null,null,null,null,null,null,null,null,null,null,null,null,null,null,null,null,null,null,null,null,"2015-10-15",{"$f":"SUMIFS('LOG1'!$J$5:$J$501,TabUren2[datum],$AD289)","v":"00:00:00"},{"$f":"SUMIFS('LOG2'!$J$5:$J$501,TabUren22[datum],$AD289)","v":"00:00:00"},{"$f":"SUMIFS(#REF!,#REF!,$AD289)","v":{"$error":"#REF!"}},{"$f":"SUMIFS(#REF!,#REF!,$AD289)","v":{"$error":"#REF!"}},{"$f":"SUMIFS(#REF!,#REF!,$AD289)","v":{"$error":"#REF!"}},{"$f":"SUMIFS(#REF!,#REF!,$AD289)","v":{"$error":"#REF!"}},{"$f":"COUNTIF(TabUren2[datum],$AD289)","v":0},{"$f":"COUNTIF(TabUren22[datum],$AD289)","v":0},{"$f":"COUNTIF(#REF!,$AD289)","v":{"$error":"#REF!"}},{"$f":"COUNTIF(#REF!,$AD289)","v":{"$error":"#REF!"}},{"$f":"COUNTIF(#REF!,$AD289)","v":{"$error":"#REF!"}},{"$f":"COUNTIF(#REF!,$AD289)","v":{"$error":"#REF!"}},0,0,0,0,0,0,"","","","","","","","","","","","",0,""]
[null,null,null,null,null,null,null,null,null,null,null,null,null,null,null,null,null,null,null,null,null,null,null,null,null,null,null,null,null,"2015-10-16",{"$f":"SUMIFS('LOG1'!$J$5:$J$501,TabUren2[datum],$AD290)","v":"00:00:00"},{"$f":"SUMIFS('LOG2'!$J$5:$J$501,TabUren22[datum],$AD290)","v":"00:00:00"},{"$f":"SUMIFS(#REF!,#REF!,$AD290)","v":{"$error":"#REF!"}},{"$f":"SUMIFS(#REF!,#REF!,$AD290)","v":{"$error":"#REF!"}},{"$f":"SUMIFS(#REF!,#REF!,$AD290)","v":{"$error":"#REF!"}},{"$f":"SUMIFS(#REF!,#REF!,$AD290)","v":{"$error":"#REF!"}},{"$f":"COUNTIF(TabUren2[datum],$AD290)","v":0},{"$f":"COUNTIF(TabUren22[datum],$AD290)","v":0},{"$f":"COUNTIF(#REF!,$AD290)","v":{"$error":"#REF!"}},{"$f":"COUNTIF(#REF!,$AD290)","v":{"$error":"#REF!"}},{"$f":"COUNTIF(#REF!,$AD290)","v":{"$error":"#REF!"}},{"$f":"COUNTIF(#REF!,$AD290)","v":{"$error":"#REF!"}},0,0,0,0,0,0,"","","","","","","","","","","","",0,""]
[null,null,null,null,null,null,null,null,null,null,null,null,null,null,null,null,null,null,null,null,null,null,null,null,null,null,null,null,null,"2015-10-17",{"$f":"SUMIFS('LOG1'!$J$5:$J$501,TabUren2[datum],$AD291)","v":"00:00:00"},{"$f":"SUMIFS('LOG2'!$J$5:$J$501,TabUren22[datum],$AD291)","v":"00:00:00"},{"$f":"SUMIFS(#REF!,#REF!,$AD291)","v":{"$error":"#REF!"}},{"$f":"SUMIFS(#REF!,#REF!,$AD291)","v":{"$error":"#REF!"}},{"$f":"SUMIFS(#REF!,#REF!,$AD291)","v":{"$error":"#REF!"}},{"$f":"SUMIFS(#REF!,#REF!,$AD291)","v":{"$error":"#REF!"}},{"$f":"COUNTIF(TabUren2[datum],$AD291)","v":0},{"$f":"COUNTIF(TabUren22[datum],$AD291)","v":0},{"$f":"COUNTIF(#REF!,$AD291)","v":{"$error":"#REF!"}},{"$f":"COUNTIF(#REF!,$AD291)","v":{"$error":"#REF!"}},{"$f":"COUNTIF(#REF!,$AD291)","v":{"$error":"#REF!"}},{"$f":"COUNTIF(#REF!,$AD291)","v":{"$error":"#REF!"}},0,0,0,0,0,0,"","","","","","","","","","","","",0,""]
[null,null,null,null,null,null,null,null,null,null,null,null,null,null,null,null,null,null,null,null,null,null,null,null,null,null,null,null,null,"2015-10-18",{"$f":"SUMIFS('LOG1'!$J$5:$J$501,TabUren2[datum],$AD292)","v":"00:00:00"},{"$f":"SUMIFS('LOG2'!$J$5:$J$501,TabUren22[datum],$AD292)","v":"00:00:00"},{"$f":"SUMIFS(#REF!,#REF!,$AD292)","v":{"$error":"#REF!"}},{"$f":"SUMIFS(#REF!,#REF!,$AD292)","v":{"$error":"#REF!"}},{"$f":"SUMIFS(#REF!,#REF!,$AD292)","v":{"$error":"#REF!"}},{"$f":"SUMIFS(#REF!,#REF!,$AD292)","v":{"$error":"#REF!"}},{"$f":"COUNTIF(TabUren2[datum],$AD292)","v":0},{"$f":"COUNTIF(TabUren22[datum],$AD292)","v":0},{"$f":"COUNTIF(#REF!,$AD292)","v":{"$error":"#REF!"}},{"$f":"COUNTIF(#REF!,$AD292)","v":{"$error":"#REF!"}},{"$f":"COUNTIF(#REF!,$AD292)","v":{"$error":"#REF!"}},{"$f":"COUNTIF(#REF!,$AD292)","v":{"$error":"#REF!"}},0,0,0,0,0,0,"","","","","","","","","","","","",0,""]
[null,null,null,null,null,null,null,null,null,null,null,null,null,null,null,null,null,null,null,null,null,null,null,null,null,null,null,null,null,"2015-10-19",{"$f":"SUMIFS('LOG1'!$J$5:$J$501,TabUren2[datum],$AD293)","v":"00:00:00"},{"$f":"SUMIFS('LOG2'!$J$5:$J$501,TabUren22[datum],$AD293)","v":"00:00:00"},{"$f":"SUMIFS(#REF!,#REF!,$AD293)","v":{"$error":"#REF!"}},{"$f":"SUMIFS(#REF!,#REF!,$AD293)","v":{"$error":"#REF!"}},{"$f":"SUMIFS(#REF!,#REF!,$AD293)","v":{"$error":"#REF!"}},{"$f":"SUMIFS(#REF!,#REF!,$AD293)","v":{"$error":"#REF!"}},{"$f":"COUNTIF(TabUren2[datum],$AD293)","v":0},{"$f":"COUNTIF(TabUren22[datum],$AD293)","v":0},{"$f":"COUNTIF(#REF!,$AD293)","v":{"$error":"#REF!"}},{"$f":"COUNTIF(#REF!,$AD293)","v":{"$error":"#REF!"}},{"$f":"COUNTIF(#REF!,$AD293)","v":{"$error":"#REF!"}},{"$f":"COUNTIF(#REF!,$AD293)","v":{"$error":"#REF!"}},0,0,0,0,0,0,"","","","","","","","","","","","",0,""]
[null,null,null,null,null,null,null,null,null,null,null,null,null,null,null,null,null,null,null,null,null,null,null,null,null,null,null,null,null,"2015-10-20",{"$f":"SUMIFS('LOG1'!$J$5:$J$501,TabUren2[datum],$AD294)","v":"00:00:00"},{"$f":"SUMIFS('LOG2'!$J$5:$J$501,TabUren22[datum],$AD294)","v":"00:00:00"},{"$f":"SUMIFS(#REF!,#REF!,$AD294)","v":{"$error":"#REF!"}},{"$f":"SUMIFS(#REF!,#REF!,$AD294)","v":{"$error":"#REF!"}},{"$f":"SUMIFS(#REF!,#REF!,$AD294)","v":{"$error":"#REF!"}},{"$f":"SUMIFS(#REF!,#REF!,$AD294)","v":{"$error":"#REF!"}},{"$f":"COUNTIF(TabUren2[datum],$AD294)","v":0},{"$f":"COUNTIF(TabUren22[datum],$AD294)","v":0},{"$f":"COUNTIF(#REF!,$AD294)","v":{"$error":"#REF!"}},{"$f":"COUNTIF(#REF!,$AD294)","v":{"$error":"#REF!"}},{"$f":"COUNTIF(#REF!,$AD294)","v":{"$error":"#REF!"}},{"$f":"COUNTIF(#REF!,$AD294)","v":{"$error":"#REF!"}},0,0,0,0,0,0,"","","","","","","","","","","","",0,""]
[null,null,null,null,null,null,null,null,null,null,null,null,null,null,null,null,null,null,null,null,null,null,null,null,null,null,null,null,null,"2015-10-21",{"$f":"SUMIFS('LOG1'!$J$5:$J$501,TabUren2[datum],$AD295)","v":"00:00:00"},{"$f":"SUMIFS('LOG2'!$J$5:$J$501,TabUren22[datum],$AD295)","v":"00:00:00"},{"$f":"SUMIFS(#REF!,#REF!,$AD295)","v":{"$error":"#REF!"}},{"$f":"SUMIFS(#REF!,#REF!,$AD295)","v":{"$error":"#REF!"}},{"$f":"SUMIFS(#REF!,#REF!,$AD295)","v":{"$error":"#REF!"}},{"$f":"SUMIFS(#REF!,#REF!,$AD295)","v":{"$error":"#REF!"}},{"$f":"COUNTIF(TabUren2[datum],$AD295)","v":0},{"$f":"COUNTIF(TabUren22[datum],$AD295)","v":0},{"$f":"COUNTIF(#REF!,$AD295)","v":{"$error":"#REF!"}},{"$f":"COUNTIF(#REF!,$AD295)","v":{"$error":"#REF!"}},{"$f":"COUNTIF(#REF!,$AD295)","v":{"$error":"#REF!"}},{"$f":"COUNTIF(#REF!,$AD295)","v":{"$error":"#REF!"}},0,0,0,0,0,0,"","","","","","","","","","","","",0,""]
[null,null,null,null,null,null,null,null,null,null,null,null,null,null,null,null,null,null,null,null,null,null,null,null,null,null,null,null,null,"2015-10-22",{"$f":"SUMIFS('LOG1'!$J$5:$J$501,TabUren2[datum],$AD296)","v":"00:00:00"},{"$f":"SUMIFS('LOG2'!$J$5:$J$501,TabUren22[datum],$AD296)","v":"00:00:00"},{"$f":"SUMIFS(#REF!,#REF!,$AD296)","v":{"$error":"#REF!"}},{"$f":"SUMIFS(#REF!,#REF!,$AD296)","v":{"$error":"#REF!"}},{"$f":"SUMIFS(#REF!,#REF!,$AD296)","v":{"$error":"#REF!"}},{"$f":"SUMIFS(#REF!,#REF!,$AD296)","v":{"$error":"#REF!"}},{"$f":"COUNTIF(TabUren2[datum],$AD296)","v":0},{"$f":"COUNTIF(TabUren22[datum],$AD296)","v":0},{"$f":"COUNTIF(#REF!,$AD296)","v":{"$error":"#REF!"}},{"$f":"COUNTIF(#REF!,$AD296)","v":{"$error":"#REF!"}},{"$f":"COUNTIF(#REF!,$AD296)","v":{"$error":"#REF!"}},{"$f":"COUNTIF(#REF!,$AD296)","v":{"$error":"#REF!"}},0,0,0,0,0,0,"","","","","","","","","","","","",0,""]
[null,null,null,null,null,null,null,null,null,null,null,null,null,null,null,null,null,null,null,null,null,null,null,null,null,null,null,null,null,"2015-10-23",{"$f":"SUMIFS('LOG1'!$J$5:$J$501,TabUren2[datum],$AD297)","v":"00:00:00"},{"$f":"SUMIFS('LOG2'!$J$5:$J$501,TabUren22[datum],$AD297)","v":"00:00:00"},{"$f":"SUMIFS(#REF!,#REF!,$AD297)","v":{"$error":"#REF!"}},{"$f":"SUMIFS(#REF!,#REF!,$AD297)","v":{"$error":"#REF!"}},{"$f":"SUMIFS(#REF!,#REF!,$AD297)","v":{"$error":"#REF!"}},{"$f":"SUMIFS(#REF!,#REF!,$AD297)","v":{"$error":"#REF!"}},{"$f":"COUNTIF(TabUren2[datum],$AD297)","v":0},{"$f":"COUNTIF(TabUren22[datum],$AD297)","v":0},{"$f":"COUNTIF(#REF!,$AD297)","v":{"$error":"#REF!"}},{"$f":"COUNTIF(#REF!,$AD297)","v":{"$error":"#REF!"}},{"$f":"COUNTIF(#REF!,$AD297)","v":{"$error":"#REF!"}},{"$f":"COUNTIF(#REF!,$AD297)","v":{"$error":"#REF!"}},0,0,0,0,0,0,"","","","","","","","","","","","",0,""]
[null,null,null,null,null,null,null,null,null,null,null,null,null,null,null,null,null,null,null,null,null,null,null,null,null,null,null,null,null,"2015-10-24",{"$f":"SUMIFS('LOG1'!$J$5:$J$501,TabUren2[datum],$AD298)","v":"00:00:00"},{"$f":"SUMIFS('LOG2'!$J$5:$J$501,TabUren22[datum],$AD298)","v":"00:00:00"},{"$f":"SUMIFS(#REF!,#REF!,$AD298)","v":{"$error":"#REF!"}},{"$f":"SUMIFS(#REF!,#REF!,$AD298)","v":{"$error":"#REF!"}},{"$f":"SUMIFS(#REF!,#REF!,$AD298)","v":{"$error":"#REF!"}},{"$f":"SUMIFS(#REF!,#REF!,$AD298)","v":{"$error":"#REF!"}},{"$f":"COUNTIF(TabUren2[datum],$AD298)","v":0},{"$f":"COUNTIF(TabUren22[datum],$AD298)","v":0},{"$f":"COUNTIF(#REF!,$AD298)","v":{"$error":"#REF!"}},{"$f":"COUNTIF(#REF!,$AD298)","v":{"$error":"#REF!"}},{"$f":"COUNTIF(#REF!,$AD298)","v":{"$error":"#REF!"}},{"$f":"COUNTIF(#REF!,$AD298)","v":{"$error":"#REF!"}},0,0,0,0,0,0,"","","","","","","","","","","","",0,""]
[null,null,null,null,null,null,null,null,null,null,null,null,null,null,null,null,null,null,null,null,null,null,null,null,null,null,null,null,null,"2015-10-25",{"$f":"SUMIFS('LOG1'!$J$5:$J$501,TabUren2[datum],$AD299)","v":"00:00:00"},{"$f":"SUMIFS('LOG2'!$J$5:$J$501,TabUren22[datum],$AD299)","v":"00:00:00"},{"$f":"SUMIFS(#REF!,#REF!,$AD299)","v":{"$error":"#REF!"}},{"$f":"SUMIFS(#REF!,#REF!,$AD299)","v":{"$error":"#REF!"}},{"$f":"SUMIFS(#REF!,#REF!,$AD299)","v":{"$error":"#REF!"}},{"$f":"SUMIFS(#REF!,#REF!,$AD299)","v":{"$error":"#REF!"}},{"$f":"COUNTIF(TabUren2[datum],$AD299)","v":0},{"$f":"COUNTIF(TabUren22[datum],$AD299)","v":0},{"$f":"COUNTIF(#REF!,$AD299)","v":{"$error":"#REF!"}},{"$f":"COUNTIF(#REF!,$AD299)","v":{"$error":"#REF!"}},{"$f":"COUNTIF(#REF!,$AD299)","v":{"$error":"#REF!"}},{"$f":"COUNTIF(#REF!,$AD299)","v":{"$error":"#REF!"}},0,0,0,0,0,0,"","","","","","","","","","","","",0,""]
[null,null,null,null,null,null,null,null,null,null,null,null,null,null,null,null,null,null,null,null,null,null,null,null,null,null,null,null,null,"2015-10-26",{"$f":"SUMIFS('LOG1'!$J$5:$J$501,TabUren2[datum],$AD300)","v":"00:00:00"},{"$f":"SUMIFS('LOG2'!$J$5:$J$501,TabUren22[datum],$AD300)","v":"00:00:00"},{"$f":"SUMIFS(#REF!,#REF!,$AD300)","v":{"$error":"#REF!"}},{"$f":"SUMIFS(#REF!,#REF!,$AD300)","v":{"$error":"#REF!"}},{"$f":"SUMIFS(#REF!,#REF!,$AD300)","v":{"$error":"#REF!"}},{"$f":"SUMIFS(#REF!,#REF!,$AD300)","v":{"$error":"#REF!"}},{"$f":"COUNTIF(TabUren2[datum],$AD300)","v":0},{"$f":"COUNTIF(TabUren22[datum],$AD300)","v":0},{"$f":"COUNTIF(#REF!,$AD300)","v":{"$error":"#REF!"}},{"$f":"COUNTIF(#REF!,$AD300)","v":{"$error":"#REF!"}},{"$f":"COUNTIF(#REF!,$AD300)","v":{"$error":"#REF!"}},{"$f":"COUNTIF(#REF!,$AD300)","v":{"$error":"#REF!"}},0,0,0,0,0,0,"","","","","","","","","","","","",0,""]
[null,null,null,null,null,null,null,null,null,null,null,null,null,null,null,null,null,null,null,null,null,null,null,null,null,null,null,null,null,"2015-10-27",{"$f":"SUMIFS('LOG1'!$J$5:$J$501,TabUren2[datum],$AD301)","v":"00:00:00"},{"$f":"SUMIFS('LOG2'!$J$5:$J$501,TabUren22[datum],$AD301)","v":"00:00:00"},{"$f":"SUMIFS(#REF!,#REF!,$AD301)","v":{"$error":"#REF!"}},{"$f":"SUMIFS(#REF!,#REF!,$AD301)","v":{"$error":"#REF!"}},{"$f":"SUMIFS(#REF!,#REF!,$AD301)","v":{"$error":"#REF!"}},{"$f":"SUMIFS(#REF!,#REF!,$AD301)","v":{"$error":"#REF!"}},{"$f":"COUNTIF(TabUren2[datum],$AD301)","v":0},{"$f":"COUNTIF(TabUren22[datum],$AD301)","v":0},{"$f":"COUNTIF(#REF!,$AD301)","v":{"$error":"#REF!"}},{"$f":"COUNTIF(#REF!,$AD301)","v":{"$error":"#REF!"}},{"$f":"COUNTIF(#REF!,$AD301)","v":{"$error":"#REF!"}},{"$f":"COUNTIF(#REF!,$AD301)","v":{"$error":"#REF!"}},0,0,0,0,0,0,"","","","","","","","","","","","",0,""]
[null,null,null,null,null,null,null,null,null,null,null,null,null,null,null,null,null,null,null,null,null,null,null,null,null,null,null,null,null,"2015-10-28",{"$f":"SUMIFS('LOG1'!$J$5:$J$501,TabUren2[datum],$AD302)","v":"00:00:00"},{"$f":"SUMIFS('LOG2'!$J$5:$J$501,TabUren22[datum],$AD302)","v":"00:00:00"},{"$f":"SUMIFS(#REF!,#REF!,$AD302)","v":{"$error":"#REF!"}},{"$f":"SUMIFS(#REF!,#REF!,$AD302)","v":{"$error":"#REF!"}},{"$f":"SUMIFS(#REF!,#REF!,$AD302)","v":{"$error":"#REF!"}},{"$f":"SUMIFS(#REF!,#REF!,$AD302)","v":{"$error":"#REF!"}},{"$f":"COUNTIF(TabUren2[datum],$AD302)","v":0},{"$f":"COUNTIF(TabUren22[datum],$AD302)","v":0},{"$f":"COUNTIF(#REF!,$AD302)","v":{"$error":"#REF!"}},{"$f":"COUNTIF(#REF!,$AD302)","v":{"$error":"#REF!"}},{"$f":"COUNTIF(#REF!,$AD302)","v":{"$error":"#REF!"}},{"$f":"COUNTIF(#REF!,$AD302)","v":{"$error":"#REF!"}},0,0,0,0,0,0,"","","","","","","","","","","","",0,""]
[null,null,null,null,null,null,null,null,null,null,null,null,null,null,null,null,null,null,null,null,null,null,null,null,null,null,null,null,null,"2015-10-29",{"$f":"SUMIFS('LOG1'!$J$5:$J$501,TabUren2[datum],$AD303)","v":"00:00:00"},{"$f":"SUMIFS('LOG2'!$J$5:$J$501,TabUren22[datum],$AD303)","v":"00:00:00"},{"$f":"SUMIFS(#REF!,#REF!,$AD303)","v":{"$error":"#REF!"}},{"$f":"SUMIFS(#REF!,#REF!,$AD303)","v":{"$error":"#REF!"}},{"$f":"SUMIFS(#REF!,#REF!,$AD303)","v":{"$error":"#REF!"}},{"$f":"SUMIFS(#REF!,#REF!,$AD303)","v":{"$error":"#REF!"}},{"$f":"COUNTIF(TabUren2[datum],$AD303)","v":0},{"$f":"COUNTIF(TabUren22[datum],$AD303)","v":0},{"$f":"COUNTIF(#REF!,$AD303)","v":{"$error":"#REF!"}},{"$f":"COUNTIF(#REF!,$AD303)","v":{"$error":"#REF!"}},{"$f":"COUNTIF(#REF!,$AD303)","v":{"$error":"#REF!"}},{"$f":"COUNTIF(#REF!,$AD303)","v":{"$error":"#REF!"}},0,0,0,0,0,0,"","","","","","","","","","","","",0,""]
[null,null,null,null,null,null,null,null,null,null,null,null,null,null,null,null,null,null,null,null,null,null,null,null,null,null,null,null,null,"2015-10-30",{"$f":"SUMIFS('LOG1'!$J$5:$J$501,TabUren2[datum],$AD304)","v":"00:00:00"},{"$f":"SUMIFS('LOG2'!$J$5:$J$501,TabUren22[datum],$AD304)","v":"00:00:00"},{"$f":"SUMIFS(#REF!,#REF!,$AD304)","v":{"$error":"#REF!"}},{"$f":"SUMIFS(#REF!,#REF!,$AD304)","v":{"$error":"#REF!"}},{"$f":"SUMIFS(#REF!,#REF!,$AD304)","v":{"$error":"#REF!"}},{"$f":"SUMIFS(#REF!,#REF!,$AD304)","v":{"$error":"#REF!"}},{"$f":"COUNTIF(TabUren2[datum],$AD304)","v":0},{"$f":"COUNTIF(TabUren22[datum],$AD304)","v":0},{"$f":"COUNTIF(#REF!,$AD304)","v":{"$error":"#REF!"}},{"$f":"COUNTIF(#REF!,$AD304)","v":{"$error":"#REF!"}},{"$f":"COUNTIF(#REF!,$AD304)","v":{"$error":"#REF!"}},{"$f":"COUNTIF(#REF!,$AD304)","v":{"$error":"#REF!"}},0,0,0,0,0,0,"","","","","","","","","","","","",0,""]
[null,null,null,null,null,null,null,null,null,null,null,null,null,null,null,null,null,null,null,null,null,null,null,null,null,null,null,null,null,"2015-10-31",{"$f":"SUMIFS('LOG1'!$J$5:$J$501,TabUren2[datum],$AD305)","v":"00:00:00"},{"$f":"SUMIFS('LOG2'!$J$5:$J$501,TabUren22[datum],$AD305)","v":"00:00:00"},{"$f":"SUMIFS(#REF!,#REF!,$AD305)","v":{"$error":"#REF!"}},{"$f":"SUMIFS(#REF!,#REF!,$AD305)","v":{"$error":"#REF!"}},{"$f":"SUMIFS(#REF!,#REF!,$AD305)","v":{"$error":"#REF!"}},{"$f":"SUMIFS(#REF!,#REF!,$AD305)","v":{"$error":"#REF!"}},{"$f":"COUNTIF(TabUren2[datum],$AD305)","v":0},{"$f":"COUNTIF(TabUren22[datum],$AD305)","v":0},{"$f":"COUNTIF(#REF!,$AD305)","v":{"$error":"#REF!"}},{"$f":"COUNTIF(#REF!,$AD305)","v":{"$error":"#REF!"}},{"$f":"COUNTIF(#REF!,$AD305)","v":{"$error":"#REF!"}},{"$f":"COUNTIF(#REF!,$AD305)","v":{"$error":"#REF!"}},0,0,0,0,0,0,"","","","","","","","","","","","",0,""]
[null,null,null,null,null,null,null,null,null,null,null,null,null,null,null,null,null,null,null,null,null,null,null,null,null,null,null,null,null,"2015-11-01",{"$f":"SUMIFS('LOG1'!$J$5:$J$501,TabUren2[datum],$AD306)","v":"00:00:00"},{"$f":"SUMIFS('LOG2'!$J$5:$J$501,TabUren22[datum],$AD306)","v":"00:00:00"},{"$f":"SUMIFS(#REF!,#REF!,$AD306)","v":{"$error":"#REF!"}},{"$f":"SUMIFS(#REF!,#REF!,$AD306)","v":{"$error":"#REF!"}},{"$f":"SUMIFS(#REF!,#REF!,$AD306)","v":{"$error":"#REF!"}},{"$f":"SUMIFS(#REF!,#REF!,$AD306)","v":{"$error":"#REF!"}},{"$f":"COUNTIF(TabUren2[datum],$AD306)","v":0},{"$f":"COUNTIF(TabUren22[datum],$AD306)","v":0},{"$f":"COUNTIF(#REF!,$AD306)","v":{"$error":"#REF!"}},{"$f":"COUNTIF(#REF!,$AD306)","v":{"$error":"#REF!"}},{"$f":"COUNTIF(#REF!,$AD306)","v":{"$error":"#REF!"}},{"$f":"COUNTIF(#REF!,$AD306)","v":{"$error":"#REF!"}},0,0,0,0,0,0,"","","","","","","","","","","","",0,""]
[null,null,null,null,null,null,null,null,null,null,null,null,null,null,null,null,null,null,null,null,null,null,null,null,null,null,null,null,null,"2015-11-02",{"$f":"SUMIFS('LOG1'!$J$5:$J$501,TabUren2[datum],$AD307)","v":"00:00:00"},{"$f":"SUMIFS('LOG2'!$J$5:$J$501,TabUren22[datum],$AD307)","v":"00:00:00"},{"$f":"SUMIFS(#REF!,#REF!,$AD307)","v":{"$error":"#REF!"}},{"$f":"SUMIFS(#REF!,#REF!,$AD307)","v":{"$error":"#REF!"}},{"$f":"SUMIFS(#REF!,#REF!,$AD307)","v":{"$error":"#REF!"}},{"$f":"SUMIFS(#REF!,#REF!,$AD307)","v":{"$error":"#REF!"}},{"$f":"COUNTIF(TabUren2[datum],$AD307)","v":0},{"$f":"COUNTIF(TabUren22[datum],$AD307)","v":0},{"$f":"COUNTIF(#REF!,$AD307)","v":{"$error":"#REF!"}},{"$f":"COUNTIF(#REF!,$AD307)","v":{"$error":"#REF!"}},{"$f":"COUNTIF(#REF!,$AD307)","v":{"$error":"#REF!"}},{"$f":"COUNTIF(#REF!,$AD307)","v":{"$error":"#REF!"}},0,0,0,0,0,0,"","","","","","","","","","","","",0,""]
[null,null,null,null,null,null,null,null,null,null,null,null,null,null,null,null,null,null,null,null,null,null,null,null,null,null,null,null,null,"2015-11-03",{"$f":"SUMIFS('LOG1'!$J$5:$J$501,TabUren2[datum],$AD308)","v":"00:00:00"},{"$f":"SUMIFS('LOG2'!$J$5:$J$501,TabUren22[datum],$AD308)","v":"00:00:00"},{"$f":"SUMIFS(#REF!,#REF!,$AD308)","v":{"$error":"#REF!"}},{"$f":"SUMIFS(#REF!,#REF!,$AD308)","v":{"$error":"#REF!"}},{"$f":"SUMIFS(#REF!,#REF!,$AD308)","v":{"$error":"#REF!"}},{"$f":"SUMIFS(#REF!,#REF!,$AD308)","v":{"$error":"#REF!"}},{"$f":"COUNTIF(TabUren2[datum],$AD308)","v":0},{"$f":"COUNTIF(TabUren22[datum],$AD308)","v":0},{"$f":"COUNTIF(#REF!,$AD308)","v":{"$error":"#REF!"}},{"$f":"COUNTIF(#REF!,$AD308)","v":{"$error":"#REF!"}},{"$f":"COUNTIF(#REF!,$AD308)","v":{"$error":"#REF!"}},{"$f":"COUNTIF(#REF!,$AD308)","v":{"$error":"#REF!"}},0,0,0,0,0,0,"","","","","","","","","","","","",0,""]
[null,null,null,null,null,null,null,null,null,null,null,null,null,null,null,null,null,null,null,null,null,null,null,null,null,null,null,null,null,"2015-11-04",{"$f":"SUMIFS('LOG1'!$J$5:$J$501,TabUren2[datum],$AD309)","v":"00:00:00"},{"$f":"SUMIFS('LOG2'!$J$5:$J$501,TabUren22[datum],$AD309)","v":"00:00:00"},{"$f":"SUMIFS(#REF!,#REF!,$AD309)","v":{"$error":"#REF!"}},{"$f":"SUMIFS(#REF!,#REF!,$AD309)","v":{"$error":"#REF!"}},{"$f":"SUMIFS(#REF!,#REF!,$AD309)","v":{"$error":"#REF!"}},{"$f":"SUMIFS(#REF!,#REF!,$AD309)","v":{"$error":"#REF!"}},{"$f":"COUNTIF(TabUren2[datum],$AD309)","v":0},{"$f":"COUNTIF(TabUren22[datum],$AD309)","v":0},{"$f":"COUNTIF(#REF!,$AD309)","v":{"$error":"#REF!"}},{"$f":"COUNTIF(#REF!,$AD309)","v":{"$error":"#REF!"}},{"$f":"COUNTIF(#REF!,$AD309)","v":{"$error":"#REF!"}},{"$f":"COUNTIF(#REF!,$AD309)","v":{"$error":"#REF!"}},0,0,0,0,0,0,"","","","","","","","","","","","",0,""]
[null,null,null,null,null,null,null,null,null,null,null,null,null,null,null,null,null,null,null,null,null,null,null,null,null,null,null,null,null,"2015-11-05",{"$f":"SUMIFS('LOG1'!$J$5:$J$501,TabUren2[datum],$AD310)","v":"00:00:00"},{"$f":"SUMIFS('LOG2'!$J$5:$J$501,TabUren22[datum],$AD310)","v":"00:00:00"},{"$f":"SUMIFS(#REF!,#REF!,$AD310)","v":{"$error":"#REF!"}},{"$f":"SUMIFS(#REF!,#REF!,$AD310)","v":{"$error":"#REF!"}},{"$f":"SUMIFS(#REF!,#REF!,$AD310)","v":{"$error":"#REF!"}},{"$f":"SUMIFS(#REF!,#REF!,$AD310)","v":{"$error":"#REF!"}},{"$f":"COUNTIF(TabUren2[datum],$AD310)","v":0},{"$f":"COUNTIF(TabUren22[datum],$AD310)","v":0},{"$f":"COUNTIF(#REF!,$AD310)","v":{"$error":"#REF!"}},{"$f":"COUNTIF(#REF!,$AD310)","v":{"$error":"#REF!"}},{"$f":"COUNTIF(#REF!,$AD310)","v":{"$error":"#REF!"}},{"$f":"COUNTIF(#REF!,$AD310)","v":{"$error":"#REF!"}},0,0,0,0,0,0,"","","","","","","","","","","","",0,""]
[null,null,null,null,null,null,null,null,null,null,null,null,null,null,null,null,null,null,null,null,null,null,null,null,null,null,null,null,null,"2015-11-06",{"$f":"SUMIFS('LOG1'!$J$5:$J$501,TabUren2[datum],$AD311)","v":"00:00:00"},{"$f":"SUMIFS('LOG2'!$J$5:$J$501,TabUren22[datum],$AD311)","v":"00:00:00"},{"$f":"SUMIFS(#REF!,#REF!,$AD311)","v":{"$error":"#REF!"}},{"$f":"SUMIFS(#REF!,#REF!,$AD311)","v":{"$error":"#REF!"}},{"$f":"SUMIFS(#REF!,#REF!,$AD311)","v":{"$error":"#REF!"}},{"$f":"SUMIFS(#REF!,#REF!,$AD311)","v":{"$error":"#REF!"}},{"$f":"COUNTIF(TabUren2[datum],$AD311)","v":0},{"$f":"COUNTIF(TabUren22[datum],$AD311)","v":0},{"$f":"COUNTIF(#REF!,$AD311)","v":{"$error":"#REF!"}},{"$f":"COUNTIF(#REF!,$AD311)","v":{"$error":"#REF!"}},{"$f":"COUNTIF(#REF!,$AD311)","v":{"$error":"#REF!"}},{"$f":"COUNTIF(#REF!,$AD311)","v":{"$error":"#REF!"}},0,0,0,0,0,0,"","","","","","","","","","","","",0,""]
[null,null,null,null,null,null,null,null,null,null,null,null,null,null,null,null,null,null,null,null,null,null,null,null,null,null,null,null,null,"2015-11-07",{"$f":"SUMIFS('LOG1'!$J$5:$J$501,TabUren2[datum],$AD312)","v":"00:00:00"},{"$f":"SUMIFS('LOG2'!$J$5:$J$501,TabUren22[datum],$AD312)","v":"00:00:00"},{"$f":"SUMIFS(#REF!,#REF!,$AD312)","v":{"$error":"#REF!"}},{"$f":"SUMIFS(#REF!,#REF!,$AD312)","v":{"$error":"#REF!"}},{"$f":"SUMIFS(#REF!,#REF!,$AD312)","v":{"$error":"#REF!"}},{"$f":"SUMIFS(#REF!,#REF!,$AD312)","v":{"$error":"#REF!"}},{"$f":"COUNTIF(TabUren2[datum],$AD312)","v":0},{"$f":"COUNTIF(TabUren22[datum],$AD312)","v":0},{"$f":"COUNTIF(#REF!,$AD312)","v":{"$error":"#REF!"}},{"$f":"COUNTIF(#REF!,$AD312)","v":{"$error":"#REF!"}},{"$f":"COUNTIF(#REF!,$AD312)","v":{"$error":"#REF!"}},{"$f":"COUNTIF(#REF!,$AD312)","v":{"$error":"#REF!"}},0,0,0,0,0,0,"","","","","","","","","","","","",0,""]
[null,null,null,null,null,null,null,null,null,null,null,null,null,null,null,null,null,null,null,null,null,null,null,null,null,null,null,null,null,"2015-11-08",{"$f":"SUMIFS('LOG1'!$J$5:$J$501,TabUren2[datum],$AD313)","v":"00:00:00"},{"$f":"SUMIFS('LOG2'!$J$5:$J$501,TabUren22[datum],$AD313)","v":"00:00:00"},{"$f":"SUMIFS(#REF!,#REF!,$AD313)","v":{"$error":"#REF!"}},{"$f":"SUMIFS(#REF!,#REF!,$AD313)","v":{"$error":"#REF!"}},{"$f":"SUMIFS(#REF!,#REF!,$AD313)","v":{"$error":"#REF!"}},{"$f":"SUMIFS(#REF!,#REF!,$AD313)","v":{"$error":"#REF!"}},{"$f":"COUNTIF(TabUren2[datum],$AD313)","v":0},{"$f":"COUNTIF(TabUren22[datum],$AD313)","v":0},{"$f":"COUNTIF(#REF!,$AD313)","v":{"$error":"#REF!"}},{"$f":"COUNTIF(#REF!,$AD313)","v":{"$error":"#REF!"}},{"$f":"COUNTIF(#REF!,$AD313)","v":{"$error":"#REF!"}},{"$f":"COUNTIF(#REF!,$AD313)","v":{"$error":"#REF!"}},0,0,0,0,0,0,"","","","","","","","","","","","",0,""]
[null,null,null,null,null,null,null,null,null,null,null,null,null,null,null,null,null,null,null,null,null,null,null,null,null,null,null,null,null,"2015-11-09",{"$f":"SUMIFS('LOG1'!$J$5:$J$501,TabUren2[datum],$AD314)","v":"00:00:00"},{"$f":"SUMIFS('LOG2'!$J$5:$J$501,TabUren22[datum],$AD314)","v":"00:00:00"},{"$f":"SUMIFS(#REF!,#REF!,$AD314)","v":{"$error":"#REF!"}},{"$f":"SUMIFS(#REF!,#REF!,$AD314)","v":{"$error":"#REF!"}},{"$f":"SUMIFS(#REF!,#REF!,$AD314)","v":{"$error":"#REF!"}},{"$f":"SUMIFS(#REF!,#REF!,$AD314)","v":{"$error":"#REF!"}},{"$f":"COUNTIF(TabUren2[datum],$AD314)","v":0},{"$f":"COUNTIF(TabUren22[datum],$AD314)","v":0},{"$f":"COUNTIF(#REF!,$AD314)","v":{"$error":"#REF!"}},{"$f":"COUNTIF(#REF!,$AD314)","v":{"$error":"#REF!"}},{"$f":"COUNTIF(#REF!,$AD314)","v":{"$error":"#REF!"}},{"$f":"COUNTIF(#REF!,$AD314)","v":{"$error":"#REF!"}},0,0,0,0,0,0,"","","","","","","","","","","","",0,""]
[null,null,null,null,null,null,null,null,null,null,null,null,null,null,null,null,null,null,null,null,null,null,null,null,null,null,null,null,null,"2015-11-10",{"$f":"SUMIFS('LOG1'!$J$5:$J$501,TabUren2[datum],$AD315)","v":"00:00:00"},{"$f":"SUMIFS('LOG2'!$J$5:$J$501,TabUren22[datum],$AD315)","v":"00:00:00"},{"$f":"SUMIFS(#REF!,#REF!,$AD315)","v":{"$error":"#REF!"}},{"$f":"SUMIFS(#REF!,#REF!,$AD315)","v":{"$error":"#REF!"}},{"$f":"SUMIFS(#REF!,#REF!,$AD315)","v":{"$error":"#REF!"}},{"$f":"SUMIFS(#REF!,#REF!,$AD315)","v":{"$error":"#REF!"}},{"$f":"COUNTIF(TabUren2[datum],$AD315)","v":0},{"$f":"COUNTIF(TabUren22[datum],$AD315)","v":0},{"$f":"COUNTIF(#REF!,$AD315)","v":{"$error":"#REF!"}},{"$f":"COUNTIF(#REF!,$AD315)","v":{"$error":"#REF!"}},{"$f":"COUNTIF(#REF!,$AD315)","v":{"$error":"#REF!"}},{"$f":"COUNTIF(#REF!,$AD315)","v":{"$error":"#REF!"}},0,0,0,0,0,0,"","","","","","","","","","","","",0,""]
[null,null,null,null,null,null,null,null,null,null,null,null,null,null,null,null,null,null,null,null,null,null,null,null,null,null,null,null,null,"2015-11-11",{"$f":"SUMIFS('LOG1'!$J$5:$J$501,TabUren2[datum],$AD316)","v":"00:00:00"},{"$f":"SUMIFS('LOG2'!$J$5:$J$501,TabUren22[datum],$AD316)","v":"00:00:00"},{"$f":"SUMIFS(#REF!,#REF!,$AD316)","v":{"$error":"#REF!"}},{"$f":"SUMIFS(#REF!,#REF!,$AD316)","v":{"$error":"#REF!"}},{"$f":"SUMIFS(#REF!,#REF!,$AD316)","v":{"$error":"#REF!"}},{"$f":"SUMIFS(#REF!,#REF!,$AD316)","v":{"$error":"#REF!"}},{"$f":"COUNTIF(TabUren2[datum],$AD316)","v":0},{"$f":"COUNTIF(TabUren22[datum],$AD316)","v":0},{"$f":"COUNTIF(#REF!,$AD316)","v":{"$error":"#REF!"}},{"$f":"COUNTIF(#REF!,$AD316)","v":{"$error":"#REF!"}},{"$f":"COUNTIF(#REF!,$AD316)","v":{"$error":"#REF!"}},{"$f":"COUNTIF(#REF!,$AD316)","v":{"$error":"#REF!"}},0,0,0,0,0,0,"","","","","","","","","","","","",0,""]
[null,null,null,null,null,null,null,null,null,null,null,null,null,null,null,null,null,null,null,null,null,null,null,null,null,null,null,null,null,"2015-11-12",{"$f":"SUMIFS('LOG1'!$J$5:$J$501,TabUren2[datum],$AD317)","v":"00:00:00"},{"$f":"SUMIFS('LOG2'!$J$5:$J$501,TabUren22[datum],$AD317)","v":"00:00:00"},{"$f":"SUMIFS(#REF!,#REF!,$AD317)","v":{"$error":"#REF!"}},{"$f":"SUMIFS(#REF!,#REF!,$AD317)","v":{"$error":"#REF!"}},{"$f":"SUMIFS(#REF!,#REF!,$AD317)","v":{"$error":"#REF!"}},{"$f":"SUMIFS(#REF!,#REF!,$AD317)","v":{"$error":"#REF!"}},{"$f":"COUNTIF(TabUren2[datum],$AD317)","v":0},{"$f":"COUNTIF(TabUren22[datum],$AD317)","v":0},{"$f":"COUNTIF(#REF!,$AD317)","v":{"$error":"#REF!"}},{"$f":"COUNTIF(#REF!,$AD317)","v":{"$error":"#REF!"}},{"$f":"COUNTIF(#REF!,$AD317)","v":{"$error":"#REF!"}},{"$f":"COUNTIF(#REF!,$AD317)","v":{"$error":"#REF!"}},0,0,0,0,0,0,"","","","","","","","","","","","",0,""]
[null,null,null,null,null,null,null,null,null,null,null,null,null,null,null,null,null,null,null,null,null,null,null,null,null,null,null,null,null,"2015-11-13",{"$f":"SUMIFS('LOG1'!$J$5:$J$501,TabUren2[datum],$AD318)","v":"00:00:00"},{"$f":"SUMIFS('LOG2'!$J$5:$J$501,TabUren22[datum],$AD318)","v":"00:00:00"},{"$f":"SUMIFS(#REF!,#REF!,$AD318)","v":{"$error":"#REF!"}},{"$f":"SUMIFS(#REF!,#REF!,$AD318)","v":{"$error":"#REF!"}},{"$f":"SUMIFS(#REF!,#REF!,$AD318)","v":{"$error":"#REF!"}},{"$f":"SUMIFS(#REF!,#REF!,$AD318)","v":{"$error":"#REF!"}},{"$f":"COUNTIF(TabUren2[datum],$AD318)","v":0},{"$f":"COUNTIF(TabUren22[datum],$AD318)","v":0},{"$f":"COUNTIF(#REF!,$AD318)","v":{"$error":"#REF!"}},{"$f":"COUNTIF(#REF!,$AD318)","v":{"$error":"#REF!"}},{"$f":"COUNTIF(#REF!,$AD318)","v":{"$error":"#REF!"}},{"$f":"COUNTIF(#REF!,$AD318)","v":{"$error":"#REF!"}},0,0,0,0,0,0,"","","","","","","","","","","","",0,""]
[null,null,null,null,null,null,null,null,null,null,null,null,null,null,null,null,null,null,null,null,null,null,null,null,null,null,null,null,null,"2015-11-14",{"$f":"SUMIFS('LOG1'!$J$5:$J$501,TabUren2[datum],$AD319)","v":"00:00:00"},{"$f":"SUMIFS('LOG2'!$J$5:$J$501,TabUren22[datum],$AD319)","v":"00:00:00"},{"$f":"SUMIFS(#REF!,#REF!,$AD319)","v":{"$error":"#REF!"}},{"$f":"SUMIFS(#REF!,#REF!,$AD319)","v":{"$error":"#REF!"}},{"$f":"SUMIFS(#REF!,#REF!,$AD319)","v":{"$error":"#REF!"}},{"$f":"SUMIFS(#REF!,#REF!,$AD319)","v":{"$error":"#REF!"}},{"$f":"COUNTIF(TabUren2[datum],$AD319)","v":0},{"$f":"COUNTIF(TabUren22[datum],$AD319)","v":0},{"$f":"COUNTIF(#REF!,$AD319)","v":{"$error":"#REF!"}},{"$f":"COUNTIF(#REF!,$AD319)","v":{"$error":"#REF!"}},{"$f":"COUNTIF(#REF!,$AD319)","v":{"$error":"#REF!"}},{"$f":"COUNTIF(#REF!,$AD319)","v":{"$error":"#REF!"}},0,0,0,0,0,0,"","","","","","","","","","","","",0,""]
[null,null,null,null,null,null,null,null,null,null,null,null,null,null,null,null,null,null,null,null,null,null,null,null,null,null,null,null,null,"2015-11-15",{"$f":"SUMIFS('LOG1'!$J$5:$J$501,TabUren2[datum],$AD320)","v":"00:00:00"},{"$f":"SUMIFS('LOG2'!$J$5:$J$501,TabUren22[datum],$AD320)","v":"00:00:00"},{"$f":"SUMIFS(#REF!,#REF!,$AD320)","v":{"$error":"#REF!"}},{"$f":"SUMIFS(#REF!,#REF!,$AD320)","v":{"$error":"#REF!"}},{"$f":"SUMIFS(#REF!,#REF!,$AD320)","v":{"$error":"#REF!"}},{"$f":"SUMIFS(#REF!,#REF!,$AD320)","v":{"$error":"#REF!"}},{"$f":"COUNTIF(TabUren2[datum],$AD320)","v":0},{"$f":"COUNTIF(TabUren22[datum],$AD320)","v":0},{"$f":"COUNTIF(#REF!,$AD320)","v":{"$error":"#REF!"}},{"$f":"COUNTIF(#REF!,$AD320)","v":{"$error":"#REF!"}},{"$f":"COUNTIF(#REF!,$AD320)","v":{"$error":"#REF!"}},{"$f":"COUNTIF(#REF!,$AD320)","v":{"$error":"#REF!"}},0,0,0,0,0,0,"","","","","","","","","","","","",0,""]
[null,null,null,null,null,null,null,null,null,null,null,null,null,null,null,null,null,null,null,null,null,null,null,null,null,null,null,null,null,"2015-11-16",{"$f":"SUMIFS('LOG1'!$J$5:$J$501,TabUren2[datum],$AD321)","v":"00:00:00"},{"$f":"SUMIFS('LOG2'!$J$5:$J$501,TabUren22[datum],$AD321)","v":"00:00:00"},{"$f":"SUMIFS(#REF!,#REF!,$AD321)","v":{"$error":"#REF!"}},{"$f":"SUMIFS(#REF!,#REF!,$AD321)","v":{"$error":"#REF!"}},{"$f":"SUMIFS(#REF!,#REF!,$AD321)","v":{"$error":"#REF!"}},{"$f":"SUMIFS(#REF!,#REF!,$AD321)","v":{"$error":"#REF!"}},{"$f":"COUNTIF(TabUren2[datum],$AD321)","v":0},{"$f":"COUNTIF(TabUren22[datum],$AD321)","v":0},{"$f":"COUNTIF(#REF!,$AD321)","v":{"$error":"#REF!"}},{"$f":"COUNTIF(#REF!,$AD321)","v":{"$error":"#REF!"}},{"$f":"COUNTIF(#REF!,$AD321)","v":{"$error":"#REF!"}},{"$f":"COUNTIF(#REF!,$AD321)","v":{"$error":"#REF!"}},0,0,0,0,0,0,"","","","","","","","","","","","",0,""]
[null,null,null,null,null,null,null,null,null,null,null,null,null,null,null,null,null,null,null,null,null,null,null,null,null,null,null,null,null,"2015-11-17",{"$f":"SUMIFS('LOG1'!$J$5:$J$501,TabUren2[datum],$AD322)","v":"00:00:00"},{"$f":"SUMIFS('LOG2'!$J$5:$J$501,TabUren22[datum],$AD322)","v":"00:00:00"},{"$f":"SUMIFS(#REF!,#REF!,$AD322)","v":{"$error":"#REF!"}},{"$f":"SUMIFS(#REF!,#REF!,$AD322)","v":{"$error":"#REF!"}},{"$f":"SUMIFS(#REF!,#REF!,$AD322)","v":{"$error":"#REF!"}},{"$f":"SUMIFS(#REF!,#REF!,$AD322)","v":{"$error":"#REF!"}},{"$f":"COUNTIF(TabUren2[datum],$AD322)","v":0},{"$f":"COUNTIF(TabUren22[datum],$AD322)","v":0},{"$f":"COUNTIF(#REF!,$AD322)","v":{"$error":"#REF!"}},{"$f":"COUNTIF(#REF!,$AD322)","v":{"$error":"#REF!"}},{"$f":"COUNTIF(#REF!,$AD322)","v":{"$error":"#REF!"}},{"$f":"COUNTIF(#REF!,$AD322)","v":{"$error":"#REF!"}},0,0,0,0,0,0,"","","","","","","","","","","","",0,""]
[null,null,null,null,null,null,null,null,null,null,null,null,null,null,null,null,null,null,null,null,null,null,null,null,null,null,null,null,null,"2015-11-18",{"$f":"SUMIFS('LOG1'!$J$5:$J$501,TabUren2[datum],$AD323)","v":"00:00:00"},{"$f":"SUMIFS('LOG2'!$J$5:$J$501,TabUren22[datum],$AD323)","v":"00:00:00"},{"$f":"SUMIFS(#REF!,#REF!,$AD323)","v":{"$error":"#REF!"}},{"$f":"SUMIFS(#REF!,#REF!,$AD323)","v":{"$error":"#REF!"}},{"$f":"SUMIFS(#REF!,#REF!,$AD323)","v":{"$error":"#REF!"}},{"$f":"SUMIFS(#REF!,#REF!,$AD323)","v":{"$error":"#REF!"}},{"$f":"COUNTIF(TabUren2[datum],$AD323)","v":0},{"$f":"COUNTIF(TabUren22[datum],$AD323)","v":0},{"$f":"COUNTIF(#REF!,$AD323)","v":{"$error":"#REF!"}},{"$f":"COUNTIF(#REF!,$AD323)","v":{"$error":"#REF!"}},{"$f":"COUNTIF(#REF!,$AD323)","v":{"$error":"#REF!"}},{"$f":"COUNTIF(#REF!,$AD323)","v":{"$error":"#REF!"}},{"$f":"COUNTIF(AK323,\">0\")","v":0},{"$f":"COUNTIF(AL323,\">0\")","v":0},{"$f":"COUNTIF(AM323,\">0\")","v":0},{"$f":"COUNTIF(AN323,\">0\")","v":0},{"$f":"COUNTIF(AO323,\">0\")","v":0},{"$f":"COUNTIF(AP323,\">0\")","v":0},{"$f":"IF(AQ323=1,AE323,\"\")","v":""},{"$f":"IF(AR323=1,AF323,\"\")","v":""},{"$f":"IF(AS323=1,AG323,\"\")","v":""},{"$f":"IF(AT323=1,AH323,\"\")","v":""},{"$f":"IF(AU323=1,AI323,\"\")","v":""},{"$f":"IF(AV323=1,AJ323,\"\")","v":""},{"$f":"IF(BC$1=TRUE,AW323,\"\")","v":""},{"$f":"IF(BD$1=TRUE,AX323,\"\")","v":""},{"$f":"IF(BE$1=TRUE,AY323,\"\")","v":""},{"$f":"IF(BF$1=TRUE,AZ323,\"\")","v":""},{"$f":"IF(BG$1=TRUE,BA323,\"\")","v":""},{"$f":"IF(BH$1=TRUE,BB323,\"\")","v":""},0,""]
[null,null,null,null,null,null,null,null,null,null,null,null,null,null,null,null,null,null,null,null,null,null,null,null,null,null,null,null,null,"2015-11-19",{"$f":"SUMIFS('LOG1'!$J$5:$J$501,TabUren2[datum],$AD324)","v":"00:00:00"},{"$f":"SUMIFS('LOG2'!$J$5:$J$501,TabUren22[datum],$AD324)","v":"00:00:00"},{"$f":"SUMIFS(#REF!,#REF!,$AD324)","v":{"$error":"#REF!"}},{"$f":"SUMIFS(#REF!,#REF!,$AD324)","v":{"$error":"#REF!"}},{"$f":"SUMIFS(#REF!,#REF!,$AD324)","v":{"$error":"#REF!"}},{"$f":"SUMIFS(#REF!,#REF!,$AD324)","v":{"$error":"#REF!"}},{"$f":"COUNTIF(TabUren2[datum],$AD324)","v":0},{"$f":"COUNTIF(TabUren22[datum],$AD324)","v":0},{"$f":"COUNTIF(#REF!,$AD324)","v":{"$error":"#REF!"}},{"$f":"COUNTIF(#REF!,$AD324)","v":{"$error":"#REF!"}},{"$f":"COUNTIF(#REF!,$AD324)","v":{"$error":"#REF!"}},{"$f":"COUNTIF(#REF!,$AD324)","v":{"$error":"#REF!"}},0,0,0,0,0,0,"","","","","","","","","","","","",0,""]
[null,null,null,null,null,null,null,null,null,null,null,null,null,null,null,null,null,null,null,null,null,null,null,null,null,null,null,null,null,"2015-11-20",{"$f":"SUMIFS('LOG1'!$J$5:$J$501,TabUren2[datum],$AD325)","v":"00:00:00"},{"$f":"SUMIFS('LOG2'!$J$5:$J$501,TabUren22[datum],$AD325)","v":"00:00:00"},{"$f":"SUMIFS(#REF!,#REF!,$AD325)","v":{"$error":"#REF!"}},{"$f":"SUMIFS(#REF!,#REF!,$AD325)","v":{"$error":"#REF!"}},{"$f":"SUMIFS(#REF!,#REF!,$AD325)","v":{"$error":"#REF!"}},{"$f":"SUMIFS(#REF!,#REF!,$AD325)","v":{"$error":"#REF!"}},{"$f":"COUNTIF(TabUren2[datum],$AD325)","v":0},{"$f":"COUNTIF(TabUren22[datum],$AD325)","v":0},{"$f":"COUNTIF(#REF!,$AD325)","v":{"$error":"#REF!"}},{"$f":"COUNTIF(#REF!,$AD325)","v":{"$error":"#REF!"}},{"$f":"COUNTIF(#REF!,$AD325)","v":{"$error":"#REF!"}},{"$f":"COUNTIF(#REF!,$AD325)","v":{"$error":"#REF!"}},0,0,0,0,0,0,"","","","","","","","","","","","",0,""]
[null,null,null,null,null,null,null,null,null,null,null,null,null,null,null,null,null,null,null,null,null,null,null,null,null,null,null,null,null,"2015-11-21",{"$f":"SUMIFS('LOG1'!$J$5:$J$501,TabUren2[datum],$AD326)","v":"00:00:00"},{"$f":"SUMIFS('LOG2'!$J$5:$J$501,TabUren22[datum],$AD326)","v":"00:00:00"},{"$f":"SUMIFS(#REF!,#REF!,$AD326)","v":{"$error":"#REF!"}},{"$f":"SUMIFS(#REF!,#REF!,$AD326)","v":{"$error":"#REF!"}},{"$f":"SUMIFS(#REF!,#REF!,$AD326)","v":{"$error":"#REF!"}},{"$f":"SUMIFS(#REF!,#REF!,$AD326)","v":{"$error":"#REF!"}},{"$f":"COUNTIF(TabUren2[datum],$AD326)","v":0},{"$f":"COUNTIF(TabUren22[datum],$AD326)","v":0},{"$f":"COUNTIF(#REF!,$AD326)","v":{"$error":"#REF!"}},{"$f":"COUNTIF(#REF!,$AD326)","v":{"$error":"#REF!"}},{"$f":"COUNTIF(#REF!,$AD326)","v":{"$error":"#REF!"}},{"$f":"COUNTIF(#REF!,$AD326)","v":{"$error":"#REF!"}},0,0,0,0,0,0,"","","","","","","","","","","","",{"$f":"COUNT(AW326:BB326)","v":0},{"$f":"IF(BI326>0,AD326,\"\")","v":""}]
[null,null,null,null,null,null,null,null,null,null,null,null,null,null,null,null,null,null,null,null,null,null,null,null,null,null,null,null,null,"2015-11-22",{"$f":"SUMIFS('LOG1'!$J$5:$J$501,TabUren2[datum],$AD327)","v":"00:00:00"},{"$f":"SUMIFS('LOG2'!$J$5:$J$501,TabUren22[datum],$AD327)","v":"00:00:00"},{"$f":"SUMIFS(#REF!,#REF!,$AD327)","v":{"$error":"#REF!"}},{"$f":"SUMIFS(#REF!,#REF!,$AD327)","v":{"$error":"#REF!"}},{"$f":"SUMIFS(#REF!,#REF!,$AD327)","v":{"$error":"#REF!"}},{"$f":"SUMIFS(#REF!,#REF!,$AD327)","v":{"$error":"#REF!"}},{"$f":"COUNTIF(TabUren2[datum],$AD327)","v":0},{"$f":"COUNTIF(TabUren22[datum],$AD327)","v":0},{"$f":"COUNTIF(#REF!,$AD327)","v":{"$error":"#REF!"}},{"$f":"COUNTIF(#REF!,$AD327)","v":{"$error":"#REF!"}},{"$f":"COUNTIF(#REF!,$AD327)","v":{"$error":"#REF!"}},{"$f":"COUNTIF(#REF!,$AD327)","v":{"$error":"#REF!"}},0,0,0,0,0,0,"","","","","","","","","","","","",0,""]
[null,null,null,null,null,null,null,null,null,null,null,null,null,null,null,null,null,null,null,null,null,null,null,null,null,null,null,null,null,"2015-11-23",{"$f":"SUMIFS('LOG1'!$J$5:$J$501,TabUren2[datum],$AD328)","v":"00:00:00"},{"$f":"SUMIFS('LOG2'!$J$5:$J$501,TabUren22[datum],$AD328)","v":"00:00:00"},{"$f":"SUMIFS(#REF!,#REF!,$AD328)","v":{"$error":"#REF!"}},{"$f":"SUMIFS(#REF!,#REF!,$AD328)","v":{"$error":"#REF!"}},{"$f":"SUMIFS(#REF!,#REF!,$AD328)","v":{"$error":"#REF!"}},{"$f":"SUMIFS(#REF!,#REF!,$AD328)","v":{"$error":"#REF!"}},{"$f":"COUNTIF(TabUren2[datum],$AD328)","v":0},{"$f":"COUNTIF(TabUren22[datum],$AD328)","v":0},{"$f":"COUNTIF(#REF!,$AD328)","v":{"$error":"#REF!"}},{"$f":"COUNTIF(#REF!,$AD328)","v":{"$error":"#REF!"}},{"$f":"COUNTIF(#REF!,$AD328)","v":{"$error":"#REF!"}},{"$f":"COUNTIF(#REF!,$AD328)","v":{"$error":"#REF!"}},0,0,0,0,0,0,"","","","","","","","","","","","",0,""]
[null,null,null,null,null,null,null,null,null,null,null,null,null,null,null,null,null,null,null,null,null,null,null,null,null,null,null,null,null,"2015-11-24",{"$f":"SUMIFS('LOG1'!$J$5:$J$501,TabUren2[datum],$AD329)","v":"00:00:00"},{"$f":"SUMIFS('LOG2'!$J$5:$J$501,TabUren22[datum],$AD329)","v":"00:00:00"},{"$f":"SUMIFS(#REF!,#REF!,$AD329)","v":{"$error":"#REF!"}},{"$f":"SUMIFS(#REF!,#REF!,$AD329)","v":{"$error":"#REF!"}},{"$f":"SUMIFS(#REF!,#REF!,$AD329)","v":{"$error":"#REF!"}},{"$f":"SUMIFS(#REF!,#REF!,$AD329)","v":{"$error":"#REF!"}},{"$f":"COUNTIF(TabUren2[datum],$AD329)","v":0},{"$f":"COUNTIF(TabUren22[datum],$AD329)","v":0},{"$f":"COUNTIF(#REF!,$AD329)","v":{"$error":"#REF!"}},{"$f":"COUNTIF(#REF!,$AD329)","v":{"$error":"#REF!"}},{"$f":"COUNTIF(#REF!,$AD329)","v":{"$error":"#REF!"}},{"$f":"COUNTIF(#REF!,$AD329)","v":{"$error":"#REF!"}},0,0,0,0,0,0,"","","","","","","","","","","","",0,""]
[null,null,null,null,null,null,null,null,null,null,null,null,null,null,null,null,null,null,null,null,null,null,null,null,null,null,null,null,null,"2015-11-25",{"$f":"SUMIFS('LOG1'!$J$5:$J$501,TabUren2[datum],$AD330)","v":"00:00:00"},{"$f":"SUMIFS('LOG2'!$J$5:$J$501,TabUren22[datum],$AD330)","v":"00:00:00"},{"$f":"SUMIFS(#REF!,#REF!,$AD330)","v":{"$error":"#REF!"}},{"$f":"SUMIFS(#REF!,#REF!,$AD330)","v":{"$error":"#REF!"}},{"$f":"SUMIFS(#REF!,#REF!,$AD330)","v":{"$error":"#REF!"}},{"$f":"SUMIFS(#REF!,#REF!,$AD330)","v":{"$error":"#REF!"}},{"$f":"COUNTIF(TabUren2[datum],$AD330)","v":0},{"$f":"COUNTIF(TabUren22[datum],$AD330)","v":0},{"$f":"COUNTIF(#REF!,$AD330)","v":{"$error":"#REF!"}},{"$f":"COUNTIF(#REF!,$AD330)","v":{"$error":"#REF!"}},{"$f":"COUNTIF(#REF!,$AD330)","v":{"$error":"#REF!"}},{"$f":"COUNTIF(#REF!,$AD330)","v":{"$error":"#REF!"}},0,0,0,0,0,0,"","","","","","","","","","","","",0,""]
[null,null,null,null,null,null,null,null,null,null,null,null,null,null,null,null,null,null,null,null,null,null,null,null,null,null,null,null,null,"2015-11-26",{"$f":"SUMIFS('LOG1'!$J$5:$J$501,TabUren2[datum],$AD331)","v":"00:00:00"},{"$f":"SUMIFS('LOG2'!$J$5:$J$501,TabUren22[datum],$AD331)","v":"00:00:00"},{"$f":"SUMIFS(#REF!,#REF!,$AD331)","v":{"$error":"#REF!"}},{"$f":"SUMIFS(#REF!,#REF!,$AD331)","v":{"$error":"#REF!"}},{"$f":"SUMIFS(#REF!,#REF!,$AD331)","v":{"$error":"#REF!"}},{"$f":"SUMIFS(#REF!,#REF!,$AD331)","v":{"$error":"#REF!"}},{"$f":"COUNTIF(TabUren2[datum],$AD331)","v":0},{"$f":"COUNTIF(TabUren22[datum],$AD331)","v":0},{"$f":"COUNTIF(#REF!,$AD331)","v":{"$error":"#REF!"}},{"$f":"COUNTIF(#REF!,$AD331)","v":{"$error":"#REF!"}},{"$f":"COUNTIF(#REF!,$AD331)","v":{"$error":"#REF!"}},{"$f":"COUNTIF(#REF!,$AD331)","v":{"$error":"#REF!"}},0,0,0,0,0,0,"","","","","","","","","","","","",0,""]
[null,null,null,null,null,null,null,null,null,null,null,null,null,null,null,null,null,null,null,null,null,null,null,null,null,null,null,null,null,"2015-11-27",{"$f":"SUMIFS('LOG1'!$J$5:$J$501,TabUren2[datum],$AD332)","v":"00:00:00"},{"$f":"SUMIFS('LOG2'!$J$5:$J$501,TabUren22[datum],$AD332)","v":"00:00:00"},{"$f":"SUMIFS(#REF!,#REF!,$AD332)","v":{"$error":"#REF!"}},{"$f":"SUMIFS(#REF!,#REF!,$AD332)","v":{"$error":"#REF!"}},{"$f":"SUMIFS(#REF!,#REF!,$AD332)","v":{"$error":"#REF!"}},{"$f":"SUMIFS(#REF!,#REF!,$AD332)","v":{"$error":"#REF!"}},{"$f":"COUNTIF(TabUren2[datum],$AD332)","v":0},{"$f":"COUNTIF(TabUren22[datum],$AD332)","v":0},{"$f":"COUNTIF(#REF!,$AD332)","v":{"$error":"#REF!"}},{"$f":"COUNTIF(#REF!,$AD332)","v":{"$error":"#REF!"}},{"$f":"COUNTIF(#REF!,$AD332)","v":{"$error":"#REF!"}},{"$f":"COUNTIF(#REF!,$AD332)","v":{"$error":"#REF!"}},0,0,0,0,0,0,"","","","","","","","","","","","",0,""]
[null,null,null,null,null,null,null,null,null,null,null,null,null,null,null,null,null,null,null,null,null,null,null,null,null,null,null,null,null,"2015-11-28",{"$f":"SUMIFS('LOG1'!$J$5:$J$501,TabUren2[datum],$AD333)","v":"00:00:00"},{"$f":"SUMIFS('LOG2'!$J$5:$J$501,TabUren22[datum],$AD333)","v":"00:00:00"},{"$f":"SUMIFS(#REF!,#REF!,$AD333)","v":{"$error":"#REF!"}},{"$f":"SUMIFS(#REF!,#REF!,$AD333)","v":{"$error":"#REF!"}},{"$f":"SUMIFS(#REF!,#REF!,$AD333)","v":{"$error":"#REF!"}},{"$f":"SUMIFS(#REF!,#REF!,$AD333)","v":{"$error":"#REF!"}},{"$f":"COUNTIF(TabUren2[datum],$AD333)","v":0},{"$f":"COUNTIF(TabUren22[datum],$AD333)","v":0},{"$f":"COUNTIF(#REF!,$AD333)","v":{"$error":"#REF!"}},{"$f":"COUNTIF(#REF!,$AD333)","v":{"$error":"#REF!"}},{"$f":"COUNTIF(#REF!,$AD333)","v":{"$error":"#REF!"}},{"$f":"COUNTIF(#REF!,$AD333)","v":{"$error":"#REF!"}},0,0,0,0,0,0,"","","","","","","","","","","","",0,""]
[null,null,null,null,null,null,null,null,null,null,null,null,null,null,null,null,null,null,null,null,null,null,null,null,null,null,null,null,null,"2015-11-29",{"$f":"SUMIFS('LOG1'!$J$5:$J$501,TabUren2[datum],$AD334)","v":"00:00:00"},{"$f":"SUMIFS('LOG2'!$J$5:$J$501,TabUren22[datum],$AD334)","v":"00:00:00"},{"$f":"SUMIFS(#REF!,#REF!,$AD334)","v":{"$error":"#REF!"}},{"$f":"SUMIFS(#REF!,#REF!,$AD334)","v":{"$error":"#REF!"}},{"$f":"SUMIFS(#REF!,#REF!,$AD334)","v":{"$error":"#REF!"}},{"$f":"SUMIFS(#REF!,#REF!,$AD334)","v":{"$error":"#REF!"}},{"$f":"COUNTIF(TabUren2[datum],$AD334)","v":0},{"$f":"COUNTIF(TabUren22[datum],$AD334)","v":0},{"$f":"COUNTIF(#REF!,$AD334)","v":{"$error":"#REF!"}},{"$f":"COUNTIF(#REF!,$AD334)","v":{"$error":"#REF!"}},{"$f":"COUNTIF(#REF!,$AD334)","v":{"$error":"#REF!"}},{"$f":"COUNTIF(#REF!,$AD334)","v":{"$error":"#REF!"}},0,0,0,0,0,0,"","","","","","","","","","","","",0,""]
[null,null,null,null,null,null,null,null,null,null,null,null,null,null,null,null,null,null,null,null,null,null,null,null,null,null,null,null,null,"2015-11-30",{"$f":"SUMIFS('LOG1'!$J$5:$J$501,TabUren2[datum],$AD335)","v":"00:00:00"},{"$f":"SUMIFS('LOG2'!$J$5:$J$501,TabUren22[datum],$AD335)","v":"00:00:00"},{"$f":"SUMIFS(#REF!,#REF!,$AD335)","v":{"$error":"#REF!"}},{"$f":"SUMIFS(#REF!,#REF!,$AD335)","v":{"$error":"#REF!"}},{"$f":"SUMIFS(#REF!,#REF!,$AD335)","v":{"$error":"#REF!"}},{"$f":"SUMIFS(#REF!,#REF!,$AD335)","v":{"$error":"#REF!"}},{"$f":"COUNTIF(TabUren2[datum],$AD335)","v":0},{"$f":"COUNTIF(TabUren22[datum],$AD335)","v":0},{"$f":"COUNTIF(#REF!,$AD335)","v":{"$error":"#REF!"}},{"$f":"COUNTIF(#REF!,$AD335)","v":{"$error":"#REF!"}},{"$f":"COUNTIF(#REF!,$AD335)","v":{"$error":"#REF!"}},{"$f":"COUNTIF(#REF!,$AD335)","v":{"$error":"#REF!"}},0,0,0,0,0,0,"","","","","","","","","","","","",0,""]
[null,null,null,null,null,null,null,null,null,null,null,null,null,null,null,null,null,null,null,null,null,null,null,null,null,null,null,null,null,"2015-12-01",{"$f":"SUMIFS('LOG1'!$J$5:$J$501,TabUren2[datum],$AD336)","v":"00:00:00"},{"$f":"SUMIFS('LOG2'!$J$5:$J$501,TabUren22[datum],$AD336)","v":"00:00:00"},{"$f":"SUMIFS(#REF!,#REF!,$AD336)","v":{"$error":"#REF!"}},{"$f":"SUMIFS(#REF!,#REF!,$AD336)","v":{"$error":"#REF!"}},{"$f":"SUMIFS(#REF!,#REF!,$AD336)","v":{"$error":"#REF!"}},{"$f":"SUMIFS(#REF!,#REF!,$AD336)","v":{"$error":"#REF!"}},{"$f":"COUNTIF(TabUren2[datum],$AD336)","v":0},{"$f":"COUNTIF(TabUren22[datum],$AD336)","v":0},{"$f":"COUNTIF(#REF!,$AD336)","v":{"$error":"#REF!"}},{"$f":"COUNTIF(#REF!,$AD336)","v":{"$error":"#REF!"}},{"$f":"COUNTIF(#REF!,$AD336)","v":{"$error":"#REF!"}},{"$f":"COUNTIF(#REF!,$AD336)","v":{"$error":"#REF!"}},0,0,0,0,0,0,"","","","","","","","","","","","",0,""]
[null,null,null,null,null,null,null,null,null,null,null,null,null,null,null,null,null,null,null,null,null,null,null,null,null,null,null,null,null,"2015-12-02",{"$f":"SUMIFS('LOG1'!$J$5:$J$501,TabUren2[datum],$AD337)","v":"00:00:00"},{"$f":"SUMIFS('LOG2'!$J$5:$J$501,TabUren22[datum],$AD337)","v":"00:00:00"},{"$f":"SUMIFS(#REF!,#REF!,$AD337)","v":{"$error":"#REF!"}},{"$f":"SUMIFS(#REF!,#REF!,$AD337)","v":{"$error":"#REF!"}},{"$f":"SUMIFS(#REF!,#REF!,$AD337)","v":{"$error":"#REF!"}},{"$f":"SUMIFS(#REF!,#REF!,$AD337)","v":{"$error":"#REF!"}},{"$f":"COUNTIF(TabUren2[datum],$AD337)","v":0},{"$f":"COUNTIF(TabUren22[datum],$AD337)","v":0},{"$f":"COUNTIF(#REF!,$AD337)","v":{"$error":"#REF!"}},{"$f":"COUNTIF(#REF!,$AD337)","v":{"$error":"#REF!"}},{"$f":"COUNTIF(#REF!,$AD337)","v":{"$error":"#REF!"}},{"$f":"COUNTIF(#REF!,$AD337)","v":{"$error":"#REF!"}},0,0,0,0,0,0,"","","","","","","","","","","","",0,""]
[null,null,null,null,null,null,null,null,null,null,null,null,null,null,null,null,null,null,null,null,null,null,null,null,null,null,null,null,null,"2015-12-03",{"$f":"SUMIFS('LOG1'!$J$5:$J$501,TabUren2[datum],$AD338)","v":"00:00:00"},{"$f":"SUMIFS('LOG2'!$J$5:$J$501,TabUren22[datum],$AD338)","v":"00:00:00"},{"$f":"SUMIFS(#REF!,#REF!,$AD338)","v":{"$error":"#REF!"}},{"$f":"SUMIFS(#REF!,#REF!,$AD338)","v":{"$error":"#REF!"}},{"$f":"SUMIFS(#REF!,#REF!,$AD338)","v":{"$error":"#REF!"}},{"$f":"SUMIFS(#REF!,#REF!,$AD338)","v":{"$error":"#REF!"}},{"$f":"COUNTIF(TabUren2[datum],$AD338)","v":0},{"$f":"COUNTIF(TabUren22[datum],$AD338)","v":0},{"$f":"COUNTIF(#REF!,$AD338)","v":{"$error":"#REF!"}},{"$f":"COUNTIF(#REF!,$AD338)","v":{"$error":"#REF!"}},{"$f":"COUNTIF(#REF!,$AD338)","v":{"$error":"#REF!"}},{"$f":"COUNTIF(#REF!,$AD338)","v":{"$error":"#REF!"}},0,0,0,0,0,0,"","","","","","","","","","","","",0,""]
[null,null,null,null,null,null,null,null,null,null,null,null,null,null,null,null,null,null,null,null,null,null,null,null,null,null,null,null,null,"2015-12-04",{"$f":"SUMIFS('LOG1'!$J$5:$J$501,TabUren2[datum],$AD339)","v":"00:00:00"},{"$f":"SUMIFS('LOG2'!$J$5:$J$501,TabUren22[datum],$AD339)","v":"00:00:00"},{"$f":"SUMIFS(#REF!,#REF!,$AD339)","v":{"$error":"#REF!"}},{"$f":"SUMIFS(#REF!,#REF!,$AD339)","v":{"$error":"#REF!"}},{"$f":"SUMIFS(#REF!,#REF!,$AD339)","v":{"$error":"#REF!"}},{"$f":"SUMIFS(#REF!,#REF!,$AD339)","v":{"$error":"#REF!"}},{"$f":"COUNTIF(TabUren2[datum],$AD339)","v":0},{"$f":"COUNTIF(TabUren22[datum],$AD339)","v":0},{"$f":"COUNTIF(#REF!,$AD339)","v":{"$error":"#REF!"}},{"$f":"COUNTIF(#REF!,$AD339)","v":{"$error":"#REF!"}},{"$f":"COUNTIF(#REF!,$AD339)","v":{"$error":"#REF!"}},{"$f":"COUNTIF(#REF!,$AD339)","v":{"$error":"#REF!"}},0,0,0,0,0,0,"","","","","","","","","","","","",0,""]
[null,null,null,null,null,null,null,null,null,null,null,null,null,null,null,null,null,null,null,null,null,null,null,null,null,null,null,null,null,"2015-12-05",{"$f":"SUMIFS('LOG1'!$J$5:$J$501,TabUren2[datum],$AD340)","v":"00:00:00"},{"$f":"SUMIFS('LOG2'!$J$5:$J$501,TabUren22[datum],$AD340)","v":"00:00:00"},{"$f":"SUMIFS(#REF!,#REF!,$AD340)","v":{"$error":"#REF!"}},{"$f":"SUMIFS(#REF!,#REF!,$AD340)","v":{"$error":"#REF!"}},{"$f":"SUMIFS(#REF!,#REF!,$AD340)","v":{"$error":"#REF!"}},{"$f":"SUMIFS(#REF!,#REF!,$AD340)","v":{"$error":"#REF!"}},{"$f":"COUNTIF(TabUren2[datum],$AD340)","v":0},{"$f":"COUNTIF(TabUren22[datum],$AD340)","v":0},{"$f":"COUNTIF(#REF!,$AD340)","v":{"$error":"#REF!"}},{"$f":"COUNTIF(#REF!,$AD340)","v":{"$error":"#REF!"}},{"$f":"COUNTIF(#REF!,$AD340)","v":{"$error":"#REF!"}},{"$f":"COUNTIF(#REF!,$AD340)","v":{"$error":"#REF!"}},0,0,0,0,0,0,"","","","","","","","","","","","",0,""]
[null,null,null,null,null,null,null,null,null,null,null,null,null,null,null,null,null,null,null,null,null,null,null,null,null,null,null,null,null,"2015-12-06",{"$f":"SUMIFS('LOG1'!$J$5:$J$501,TabUren2[datum],$AD341)","v":"00:00:00"},{"$f":"SUMIFS('LOG2'!$J$5:$J$501,TabUren22[datum],$AD341)","v":"00:00:00"},{"$f":"SUMIFS(#REF!,#REF!,$AD341)","v":{"$error":"#REF!"}},{"$f":"SUMIFS(#REF!,#REF!,$AD341)","v":{"$error":"#REF!"}},{"$f":"SUMIFS(#REF!,#REF!,$AD341)","v":{"$error":"#REF!"}},{"$f":"SUMIFS(#REF!,#REF!,$AD341)","v":{"$error":"#REF!"}},{"$f":"COUNTIF(TabUren2[datum],$AD341)","v":0},{"$f":"COUNTIF(TabUren22[datum],$AD341)","v":0},{"$f":"COUNTIF(#REF!,$AD341)","v":{"$error":"#REF!"}},{"$f":"COUNTIF(#REF!,$AD341)","v":{"$error":"#REF!"}},{"$f":"COUNTIF(#REF!,$AD341)","v":{"$error":"#REF!"}},{"$f":"COUNTIF(#REF!,$AD341)","v":{"$error":"#REF!"}},0,0,0,0,0,0,"","","","","","","","","","","","",0,""]
[null,null,null,null,null,null,null,null,null,null,null,null,null,null,null,null,null,null,null,null,null,null,null,null,null,null,null,null,null,"2015-12-07",{"$f":"SUMIFS('LOG1'!$J$5:$J$501,TabUren2[datum],$AD342)","v":"00:00:00"},{"$f":"SUMIFS('LOG2'!$J$5:$J$501,TabUren22[datum],$AD342)","v":"00:00:00"},{"$f":"SUMIFS(#REF!,#REF!,$AD342)","v":{"$error":"#REF!"}},{"$f":"SUMIFS(#REF!,#REF!,$AD342)","v":{"$error":"#REF!"}},{"$f":"SUMIFS(#REF!,#REF!,$AD342)","v":{"$error":"#REF!"}},{"$f":"SUMIFS(#REF!,#REF!,$AD342)","v":{"$error":"#REF!"}},{"$f":"COUNTIF(TabUren2[datum],$AD342)","v":0},{"$f":"COUNTIF(TabUren22[datum],$AD342)","v":0},{"$f":"COUNTIF(#REF!,$AD342)","v":{"$error":"#REF!"}},{"$f":"COUNTIF(#REF!,$AD342)","v":{"$error":"#REF!"}},{"$f":"COUNTIF(#REF!,$AD342)","v":{"$error":"#REF!"}},{"$f":"COUNTIF(#REF!,$AD342)","v":{"$error":"#REF!"}},0,0,0,0,0,0,"","","","","","","","","","","","",0,""]
[null,null,null,null,null,null,null,null,null,null,null,null,null,null,null,null,null,null,null,null,null,null,null,null,null,null,null,null,null,"2015-12-08",{"$f":"SUMIFS('LOG1'!$J$5:$J$501,TabUren2[datum],$AD343)","v":"00:00:00"},{"$f":"SUMIFS('LOG2'!$J$5:$J$501,TabUren22[datum],$AD343)","v":"00:00:00"},{"$f":"SUMIFS(#REF!,#REF!,$AD343)","v":{"$error":"#REF!"}},{"$f":"SUMIFS(#REF!,#REF!,$AD343)","v":{"$error":"#REF!"}},{"$f":"SUMIFS(#REF!,#REF!,$AD343)","v":{"$error":"#REF!"}},{"$f":"SUMIFS(#REF!,#REF!,$AD343)","v":{"$error":"#REF!"}},{"$f":"COUNTIF(TabUren2[datum],$AD343)","v":0},{"$f":"COUNTIF(TabUren22[datum],$AD343)","v":0},{"$f":"COUNTIF(#REF!,$AD343)","v":{"$error":"#REF!"}},{"$f":"COUNTIF(#REF!,$AD343)","v":{"$error":"#REF!"}},{"$f":"COUNTIF(#REF!,$AD343)","v":{"$error":"#REF!"}},{"$f":"COUNTIF(#REF!,$AD343)","v":{"$error":"#REF!"}},0,0,0,0,0,0,"","","","","","","","","","","","",0,""]
[null,null,null,null,null,null,null,null,null,null,null,null,null,null,null,null,null,null,null,null,null,null,null,null,null,null,null,null,null,"2015-12-09",{"$f":"SUMIFS('LOG1'!$J$5:$J$501,TabUren2[datum],$AD344)","v":"00:00:00"},{"$f":"SUMIFS('LOG2'!$J$5:$J$501,TabUren22[datum],$AD344)","v":"00:00:00"},{"$f":"SUMIFS(#REF!,#REF!,$AD344)","v":{"$error":"#REF!"}},{"$f":"SUMIFS(#REF!,#REF!,$AD344)","v":{"$error":"#REF!"}},{"$f":"SUMIFS(#REF!,#REF!,$AD344)","v":{"$error":"#REF!"}},{"$f":"SUMIFS(#REF!,#REF!,$AD344)","v":{"$error":"#REF!"}},{"$f":"COUNTIF(TabUren2[datum],$AD344)","v":0},{"$f":"COUNTIF(TabUren22[datum],$AD344)","v":0},{"$f":"COUNTIF(#REF!,$AD344)","v":{"$error":"#REF!"}},{"$f":"COUNTIF(#REF!,$AD344)","v":{"$error":"#REF!"}},{"$f":"COUNTIF(#REF!,$AD344)","v":{"$error":"#REF!"}},{"$f":"COUNTIF(#REF!,$AD344)","v":{"$error":"#REF!"}},0,0,0,0,0,0,"","","","","","","","","","","","",0,""]
[null,null,null,null,null,null,null,null,null,null,null,null,null,null,null,null,null,null,null,null,null,null,null,null,null,null,null,null,null,"2015-12-10",{"$f":"SUMIFS('LOG1'!$J$5:$J$501,TabUren2[datum],$AD345)","v":"00:00:00"},{"$f":"SUMIFS('LOG2'!$J$5:$J$501,TabUren22[datum],$AD345)","v":"00:00:00"},{"$f":"SUMIFS(#REF!,#REF!,$AD345)","v":{"$error":"#REF!"}},{"$f":"SUMIFS(#REF!,#REF!,$AD345)","v":{"$error":"#REF!"}},{"$f":"SUMIFS(#REF!,#REF!,$AD345)","v":{"$error":"#REF!"}},{"$f":"SUMIFS(#REF!,#REF!,$AD345)","v":{"$error":"#REF!"}},{"$f":"COUNTIF(TabUren2[datum],$AD345)","v":0},{"$f":"COUNTIF(TabUren22[datum],$AD345)","v":0},{"$f":"COUNTIF(#REF!,$AD345)","v":{"$error":"#REF!"}},{"$f":"COUNTIF(#REF!,$AD345)","v":{"$error":"#REF!"}},{"$f":"COUNTIF(#REF!,$AD345)","v":{"$error":"#REF!"}},{"$f":"COUNTIF(#REF!,$AD345)","v":{"$error":"#REF!"}},0,0,0,0,0,0,"","","","","","","","","","","","",0,""]
[null,null,null,null,null,null,null,null,null,null,null,null,null,null,null,null,null,null,null,null,null,null,null,null,null,null,null,null,null,"2015-12-11",{"$f":"SUMIFS('LOG1'!$J$5:$J$501,TabUren2[datum],$AD346)","v":"00:00:00"},{"$f":"SUMIFS('LOG2'!$J$5:$J$501,TabUren22[datum],$AD346)","v":"00:00:00"},{"$f":"SUMIFS(#REF!,#REF!,$AD346)","v":{"$error":"#REF!"}},{"$f":"SUMIFS(#REF!,#REF!,$AD346)","v":{"$error":"#REF!"}},{"$f":"SUMIFS(#REF!,#REF!,$AD346)","v":{"$error":"#REF!"}},{"$f":"SUMIFS(#REF!,#REF!,$AD346)","v":{"$error":"#REF!"}},{"$f":"COUNTIF(TabUren2[datum],$AD346)","v":0},{"$f":"COUNTIF(TabUren22[datum],$AD346)","v":0},{"$f":"COUNTIF(#REF!,$AD346)","v":{"$error":"#REF!"}},{"$f":"COUNTIF(#REF!,$AD346)","v":{"$error":"#REF!"}},{"$f":"COUNTIF(#REF!,$AD346)","v":{"$error":"#REF!"}},{"$f":"COUNTIF(#REF!,$AD346)","v":{"$error":"#REF!"}},0,0,0,0,0,0,"","","","","","","","","","","","",0,""]
[null,null,null,null,null,null,null,null,null,null,null,null,null,null,null,null,null,null,null,null,null,null,null,null,null,null,null,null,null,"2015-12-12",{"$f":"SUMIFS('LOG1'!$J$5:$J$501,TabUren2[datum],$AD347)","v":"00:00:00"},{"$f":"SUMIFS('LOG2'!$J$5:$J$501,TabUren22[datum],$AD347)","v":"00:00:00"},{"$f":"SUMIFS(#REF!,#REF!,$AD347)","v":{"$error":"#REF!"}},{"$f":"SUMIFS(#REF!,#REF!,$AD347)","v":{"$error":"#REF!"}},{"$f":"SUMIFS(#REF!,#REF!,$AD347)","v":{"$error":"#REF!"}},{"$f":"SUMIFS(#REF!,#REF!,$AD347)","v":{"$error":"#REF!"}},{"$f":"COUNTIF(TabUren2[datum],$AD347)","v":0},{"$f":"COUNTIF(TabUren22[datum],$AD347)","v":0},{"$f":"COUNTIF(#REF!,$AD347)","v":{"$error":"#REF!"}},{"$f":"COUNTIF(#REF!,$AD347)","v":{"$error":"#REF!"}},{"$f":"COUNTIF(#REF!,$AD347)","v":{"$error":"#REF!"}},{"$f":"COUNTIF(#REF!,$AD347)","v":{"$error":"#REF!"}},0,0,0,0,0,0,"","","","","","","","","","","","",0,""]
[null,null,null,null,null,null,null,null,null,null,null,null,null,null,null,null,null,null,null,null,null,null,null,null,null,null,null,null,null,"2015-12-13",{"$f":"SUMIFS('LOG1'!$J$5:$J$501,TabUren2[datum],$AD348)","v":"00:00:00"},{"$f":"SUMIFS('LOG2'!$J$5:$J$501,TabUren22[datum],$AD348)","v":"00:00:00"},{"$f":"SUMIFS(#REF!,#REF!,$AD348)","v":{"$error":"#REF!"}},{"$f":"SUMIFS(#REF!,#REF!,$AD348)","v":{"$error":"#REF!"}},{"$f":"SUMIFS(#REF!,#REF!,$AD348)","v":{"$error":"#REF!"}},{"$f":"SUMIFS(#REF!,#REF!,$AD348)","v":{"$error":"#REF!"}},{"$f":"COUNTIF(TabUren2[datum],$AD348)","v":0},{"$f":"COUNTIF(TabUren22[datum],$AD348)","v":0},{"$f":"COUNTIF(#REF!,$AD348)","v":{"$error":"#REF!"}},{"$f":"COUNTIF(#REF!,$AD348)","v":{"$error":"#REF!"}},{"$f":"COUNTIF(#REF!,$AD348)","v":{"$error":"#REF!"}},{"$f":"COUNTIF(#REF!,$AD348)","v":{"$error":"#REF!"}},0,0,0,0,0,0,"","","","","","","","","","","","",0,""]
[null,null,null,null,null,null,null,null,null,null,null,null,null,null,null,null,null,null,null,null,null,null,null,null,null,null,null,null,null,"2015-12-14",{"$f":"SUMIFS('LOG1'!$J$5:$J$501,TabUren2[datum],$AD349)","v":"00:00:00"},{"$f":"SUMIFS('LOG2'!$J$5:$J$501,TabUren22[datum],$AD349)","v":"00:00:00"},{"$f":"SUMIFS(#REF!,#REF!,$AD349)","v":{"$error":"#REF!"}},{"$f":"SUMIFS(#REF!,#REF!,$AD349)","v":{"$error":"#REF!"}},{"$f":"SUMIFS(#REF!,#REF!,$AD349)","v":{"$error":"#REF!"}},{"$f":"SUMIFS(#REF!,#REF!,$AD349)","v":{"$error":"#REF!"}},{"$f":"COUNTIF(TabUren2[datum],$AD349)","v":0},{"$f":"COUNTIF(TabUren22[datum],$AD349)","v":0},{"$f":"COUNTIF(#REF!,$AD349)","v":{"$error":"#REF!"}},{"$f":"COUNTIF(#REF!,$AD349)","v":{"$error":"#REF!"}},{"$f":"COUNTIF(#REF!,$AD349)","v":{"$error":"#REF!"}},{"$f":"COUNTIF(#REF!,$AD349)","v":{"$error":"#REF!"}},0,0,0,0,0,0,"","","","","","","","","","","","",0,""]
[null,null,null,null,null,null,null,null,null,null,null,null,null,null,null,null,null,null,null,null,null,null,null,null,null,null,null,null,null,"2015-12-15",{"$f":"SUMIFS('LOG1'!$J$5:$J$501,TabUren2[datum],$AD350)","v":"00:00:00"},{"$f":"SUMIFS('LOG2'!$J$5:$J$501,TabUren22[datum],$AD350)","v":"00:00:00"},{"$f":"SUMIFS(#REF!,#REF!,$AD350)","v":{"$error":"#REF!"}},{"$f":"SUMIFS(#REF!,#REF!,$AD350)","v":{"$error":"#REF!"}},{"$f":"SUMIFS(#REF!,#REF!,$AD350)","v":{"$error":"#REF!"}},{"$f":"SUMIFS(#REF!,#REF!,$AD350)","v":{"$error":"#REF!"}},{"$f":"COUNTIF(TabUren2[datum],$AD350)","v":0},{"$f":"COUNTIF(TabUren22[datum],$AD350)","v":0},{"$f":"COUNTIF(#REF!,$AD350)","v":{"$error":"#REF!"}},{"$f":"COUNTIF(#REF!,$AD350)","v":{"$error":"#REF!"}},{"$f":"COUNTIF(#REF!,$AD350)","v":{"$error":"#REF!"}},{"$f":"COUNTIF(#REF!,$AD350)","v":{"$error":"#REF!"}},0,0,0,0,0,0,"","","","","","","","","","","","",0,""]
[null,null,null,null,null,null,null,null,null,null,null,null,null,null,null,null,null,null,null,null,null,null,null,null,null,null,null,null,null,"2015-12-16",{"$f":"SUMIFS('LOG1'!$J$5:$J$501,TabUren2[datum],$AD351)","v":"00:00:00"},{"$f":"SUMIFS('LOG2'!$J$5:$J$501,TabUren22[datum],$AD351)","v":"00:00:00"},{"$f":"SUMIFS(#REF!,#REF!,$AD351)","v":{"$error":"#REF!"}},{"$f":"SUMIFS(#REF!,#REF!,$AD351)","v":{"$error":"#REF!"}},{"$f":"SUMIFS(#REF!,#REF!,$AD351)","v":{"$error":"#REF!"}},{"$f":"SUMIFS(#REF!,#REF!,$AD351)","v":{"$error":"#REF!"}},{"$f":"COUNTIF(TabUren2[datum],$AD351)","v":0},{"$f":"COUNTIF(TabUren22[datum],$AD351)","v":0},{"$f":"COUNTIF(#REF!,$AD351)","v":{"$error":"#REF!"}},{"$f":"COUNTIF(#REF!,$AD351)","v":{"$error":"#REF!"}},{"$f":"COUNTIF(#REF!,$AD351)","v":{"$error":"#REF!"}},{"$f":"COUNTIF(#REF!,$AD351)","v":{"$error":"#REF!"}},0,0,0,0,0,0,"","","","","","","","","","","","",0,""]
[null,null,null,null,null,null,null,null,null,null,null,null,null,null,null,null,null,null,null,null,null,null,null,null,null,null,null,null,null,"2015-12-17",{"$f":"SUMIFS('LOG1'!$J$5:$J$501,TabUren2[datum],$AD352)","v":"00:00:00"},{"$f":"SUMIFS('LOG2'!$J$5:$J$501,TabUren22[datum],$AD352)","v":"00:00:00"},{"$f":"SUMIFS(#REF!,#REF!,$AD352)","v":{"$error":"#REF!"}},{"$f":"SUMIFS(#REF!,#REF!,$AD352)","v":{"$error":"#REF!"}},{"$f":"SUMIFS(#REF!,#REF!,$AD352)","v":{"$error":"#REF!"}},{"$f":"SUMIFS(#REF!,#REF!,$AD352)","v":{"$error":"#REF!"}},{"$f":"COUNTIF(TabUren2[datum],$AD352)","v":0},{"$f":"COUNTIF(TabUren22[datum],$AD352)","v":0},{"$f":"COUNTIF(#REF!,$AD352)","v":{"$error":"#REF!"}},{"$f":"COUNTIF(#REF!,$AD352)","v":{"$error":"#REF!"}},{"$f":"COUNTIF(#REF!,$AD352)","v":{"$error":"#REF!"}},{"$f":"COUNTIF(#REF!,$AD352)","v":{"$error":"#REF!"}},0,0,0,0,0,0,"","","","","","","","","","","","",0,""]
[null,null,null,null,null,null,null,null,null,null,null,null,null,null,null,null,null,null,null,null,null,null,null,null,null,null,null,null,null,"2015-12-18",{"$f":"SUMIFS('LOG1'!$J$5:$J$501,TabUren2[datum],$AD353)","v":"00:00:00"},{"$f":"SUMIFS('LOG2'!$J$5:$J$501,TabUren22[datum],$AD353)","v":"00:00:00"},{"$f":"SUMIFS(#REF!,#REF!,$AD353)","v":{"$error":"#REF!"}},{"$f":"SUMIFS(#REF!,#REF!,$AD353)","v":{"$error":"#REF!"}},{"$f":"SUMIFS(#REF!,#REF!,$AD353)","v":{"$error":"#REF!"}},{"$f":"SUMIFS(#REF!,#REF!,$AD353)","v":{"$error":"#REF!"}},{"$f":"COUNTIF(TabUren2[datum],$AD353)","v":0},{"$f":"COUNTIF(TabUren22[datum],$AD353)","v":0},{"$f":"COUNTIF(#REF!,$AD353)","v":{"$error":"#REF!"}},{"$f":"COUNTIF(#REF!,$AD353)","v":{"$error":"#REF!"}},{"$f":"COUNTIF(#REF!,$AD353)","v":{"$error":"#REF!"}},{"$f":"COUNTIF(#REF!,$AD353)","v":{"$error":"#REF!"}},0,0,0,0,0,0,"","","","","","","","","","","","",0,""]
[null,null,null,null,null,null,null,null,null,null,null,null,null,null,null,null,null,null,null,null,null,null,null,null,null,null,null,null,null,"2015-12-19",{"$f":"SUMIFS('LOG1'!$J$5:$J$501,TabUren2[datum],$AD354)","v":"00:00:00"},{"$f":"SUMIFS('LOG2'!$J$5:$J$501,TabUren22[datum],$AD354)","v":"00:00:00"},{"$f":"SUMIFS(#REF!,#REF!,$AD354)","v":{"$error":"#REF!"}},{"$f":"SUMIFS(#REF!,#REF!,$AD354)","v":{"$error":"#REF!"}},{"$f":"SUMIFS(#REF!,#REF!,$AD354)","v":{"$error":"#REF!"}},{"$f":"SUMIFS(#REF!,#REF!,$AD354)","v":{"$error":"#REF!"}},{"$f":"COUNTIF(TabUren2[datum],$AD354)","v":0},{"$f":"COUNTIF(TabUren22[datum],$AD354)","v":0},{"$f":"COUNTIF(#REF!,$AD354)","v":{"$error":"#REF!"}},{"$f":"COUNTIF(#REF!,$AD354)","v":{"$error":"#REF!"}},{"$f":"COUNTIF(#REF!,$AD354)","v":{"$error":"#REF!"}},{"$f":"COUNTIF(#REF!,$AD354)","v":{"$error":"#REF!"}},0,0,0,0,0,0,"","","","","","","","","","","","",0,""]
[null,null,null,null,null,null,null,null,null,null,null,null,null,null,null,null,null,null,null,null,null,null,null,null,null,null,null,null,null,"2015-12-20",{"$f":"SUMIFS('LOG1'!$J$5:$J$501,TabUren2[datum],$AD355)","v":"00:00:00"},{"$f":"SUMIFS('LOG2'!$J$5:$J$501,TabUren22[datum],$AD355)","v":"00:00:00"},{"$f":"SUMIFS(#REF!,#REF!,$AD355)","v":{"$error":"#REF!"}},{"$f":"SUMIFS(#REF!,#REF!,$AD355)","v":{"$error":"#REF!"}},{"$f":"SUMIFS(#REF!,#REF!,$AD355)","v":{"$error":"#REF!"}},{"$f":"SUMIFS(#REF!,#REF!,$AD355)","v":{"$error":"#REF!"}},{"$f":"COUNTIF(TabUren2[datum],$AD355)","v":0},{"$f":"COUNTIF(TabUren22[datum],$AD355)","v":0},{"$f":"COUNTIF(#REF!,$AD355)","v":{"$error":"#REF!"}},{"$f":"COUNTIF(#REF!,$AD355)","v":{"$error":"#REF!"}},{"$f":"COUNTIF(#REF!,$AD355)","v":{"$error":"#REF!"}},{"$f":"COUNTIF(#REF!,$AD355)","v":{"$error":"#REF!"}},0,0,0,0,0,0,"","","","","","","","","","","","",0,""]
[null,null,null,null,null,null,null,null,null,null,null,null,null,null,null,null,null,null,null,null,null,null,null,null,null,null,null,null,null,"2015-12-21",{"$f":"SUMIFS('LOG1'!$J$5:$J$501,TabUren2[datum],$AD356)","v":"00:00:00"},{"$f":"SUMIFS('LOG2'!$J$5:$J$501,TabUren22[datum],$AD356)","v":"00:00:00"},{"$f":"SUMIFS(#REF!,#REF!,$AD356)","v":{"$error":"#REF!"}},{"$f":"SUMIFS(#REF!,#REF!,$AD356)","v":{"$error":"#REF!"}},{"$f":"SUMIFS(#REF!,#REF!,$AD356)","v":{"$error":"#REF!"}},{"$f":"SUMIFS(#REF!,#REF!,$AD356)","v":{"$error":"#REF!"}},{"$f":"COUNTIF(TabUren2[datum],$AD356)","v":0},{"$f":"COUNTIF(TabUren22[datum],$AD356)","v":0},{"$f":"COUNTIF(#REF!,$AD356)","v":{"$error":"#REF!"}},{"$f":"COUNTIF(#REF!,$AD356)","v":{"$error":"#REF!"}},{"$f":"COUNTIF(#REF!,$AD356)","v":{"$error":"#REF!"}},{"$f":"COUNTIF(#REF!,$AD356)","v":{"$error":"#REF!"}},0,0,0,0,0,0,"","","","","","","","","","","","",0,""]
[null,null,null,null,null,null,null,null,null,null,null,null,null,null,null,null,null,null,null,null,null,null,null,null,null,null,null,null,null,"2015-12-22",{"$f":"SUMIFS('LOG1'!$J$5:$J$501,TabUren2[datum],$AD357)","v":"00:00:00"},{"$f":"SUMIFS('LOG2'!$J$5:$J$501,TabUren22[datum],$AD357)","v":"00:00:00"},{"$f":"SUMIFS(#REF!,#REF!,$AD357)","v":{"$error":"#REF!"}},{"$f":"SUMIFS(#REF!,#REF!,$AD357)","v":{"$error":"#REF!"}},{"$f":"SUMIFS(#REF!,#REF!,$AD357)","v":{"$error":"#REF!"}},{"$f":"SUMIFS(#REF!,#REF!,$AD357)","v":{"$error":"#REF!"}},{"$f":"COUNTIF(TabUren2[datum],$AD357)","v":0},{"$f":"COUNTIF(TabUren22[datum],$AD357)","v":0},{"$f":"COUNTIF(#REF!,$AD357)","v":{"$error":"#REF!"}},{"$f":"COUNTIF(#REF!,$AD357)","v":{"$error":"#REF!"}},{"$f":"COUNTIF(#REF!,$AD357)","v":{"$error":"#REF!"}},{"$f":"COUNTIF(#REF!,$AD357)","v":{"$error":"#REF!"}},0,0,0,0,0,0,"","","","","","","","","","","","",0,""]
[null,null,null,null,null,null,null,null,null,null,null,null,null,null,null,null,null,null,null,null,null,null,null,null,null,null,null,null,null,"2015-12-23",{"$f":"SUMIFS('LOG1'!$J$5:$J$501,TabUren2[datum],$AD358)","v":"00:00:00"},{"$f":"SUMIFS('LOG2'!$J$5:$J$501,TabUren22[datum],$AD358)","v":"00:00:00"},{"$f":"SUMIFS(#REF!,#REF!,$AD358)","v":{"$error":"#REF!"}},{"$f":"SUMIFS(#REF!,#REF!,$AD358)","v":{"$error":"#REF!"}},{"$f":"SUMIFS(#REF!,#REF!,$AD358)","v":{"$error":"#REF!"}},{"$f":"SUMIFS(#REF!,#REF!,$AD358)","v":{"$error":"#REF!"}},{"$f":"COUNTIF(TabUren2[datum],$AD358)","v":0},{"$f":"COUNTIF(TabUren22[datum],$AD358)","v":0},{"$f":"COUNTIF(#REF!,$AD358)","v":{"$error":"#REF!"}},{"$f":"COUNTIF(#REF!,$AD358)","v":{"$error":"#REF!"}},{"$f":"COUNTIF(#REF!,$AD358)","v":{"$error":"#REF!"}},{"$f":"COUNTIF(#REF!,$AD358)","v":{"$error":"#REF!"}},0,0,0,0,0,0,"","","","","","","","","","","","",0,""]
[null,null,null,null,null,null,null,null,null,null,null,null,null,null,null,null,null,null,null,null,null,null,null,null,null,null,null,null,null,"2015-12-24",{"$f":"SUMIFS('LOG1'!$J$5:$J$501,TabUren2[datum],$AD359)","v":"00:00:00"},{"$f":"SUMIFS('LOG2'!$J$5:$J$501,TabUren22[datum],$AD359)","v":"00:00:00"},{"$f":"SUMIFS(#REF!,#REF!,$AD359)","v":{"$error":"#REF!"}},{"$f":"SUMIFS(#REF!,#REF!,$AD359)","v":{"$error":"#REF!"}},{"$f":"SUMIFS(#REF!,#REF!,$AD359)","v":{"$error":"#REF!"}},{"$f":"SUMIFS(#REF!,#REF!,$AD359)","v":{"$error":"#REF!"}},{"$f":"COUNTIF(TabUren2[datum],$AD359)","v":0},{"$f":"COUNTIF(TabUren22[datum],$AD359)","v":0},{"$f":"COUNTIF(#REF!,$AD359)","v":{"$error":"#REF!"}},{"$f":"COUNTIF(#REF!,$AD359)","v":{"$error":"#REF!"}},{"$f":"COUNTIF(#REF!,$AD359)","v":{"$error":"#REF!"}},{"$f":"COUNTIF(#REF!,$AD359)","v":{"$error":"#REF!"}},0,0,0,0,0,0,"","","","","","","","","","","","",0,""]
[null,null,null,null,null,null,null,null,null,null,null,null,null,null,null,null,null,null,null,null,null,null,null,null,null,null,null,null,null,"2015-12-25",{"$f":"SUMIFS('LOG1'!$J$5:$J$501,TabUren2[datum],$AD360)","v":"00:00:00"},{"$f":"SUMIFS('LOG2'!$J$5:$J$501,TabUren22[datum],$AD360)","v":"00:00:00"},{"$f":"SUMIFS(#REF!,#REF!,$AD360)","v":{"$error":"#REF!"}},{"$f":"SUMIFS(#REF!,#REF!,$AD360)","v":{"$error":"#REF!"}},{"$f":"SUMIFS(#REF!,#REF!,$AD360)","v":{"$error":"#REF!"}},{"$f":"SUMIFS(#REF!,#REF!,$AD360)","v":{"$error":"#REF!"}},{"$f":"COUNTIF(TabUren2[datum],$AD360)","v":0},{"$f":"COUNTIF(TabUren22[datum],$AD360)","v":0},{"$f":"COUNTIF(#REF!,$AD360)","v":{"$error":"#REF!"}},{"$f":"COUNTIF(#REF!,$AD360)","v":{"$error":"#REF!"}},{"$f":"COUNTIF(#REF!,$AD360)","v":{"$error":"#REF!"}},{"$f":"COUNTIF(#REF!,$AD360)","v":{"$error":"#REF!"}},0,0,0,0,0,0,"","","","","","","","","","","","",0,""]
[null,null,null,null,null,null,null,null,null,null,null,null,null,null,null,null,null,null,null,null,null,null,null,null,null,null,null,null,null,"2015-12-26",{"$f":"SUMIFS('LOG1'!$J$5:$J$501,TabUren2[datum],$AD361)","v":"00:00:00"},{"$f":"SUMIFS('LOG2'!$J$5:$J$501,TabUren22[datum],$AD361)","v":"00:00:00"},{"$f":"SUMIFS(#REF!,#REF!,$AD361)","v":{"$error":"#REF!"}},{"$f":"SUMIFS(#REF!,#REF!,$AD361)","v":{"$error":"#REF!"}},{"$f":"SUMIFS(#REF!,#REF!,$AD361)","v":{"$error":"#REF!"}},{"$f":"SUMIFS(#REF!,#REF!,$AD361)","v":{"$error":"#REF!"}},{"$f":"COUNTIF(TabUren2[datum],$AD361)","v":0},{"$f":"COUNTIF(TabUren22[datum],$AD361)","v":0},{"$f":"COUNTIF(#REF!,$AD361)","v":{"$error":"#REF!"}},{"$f":"COUNTIF(#REF!,$AD361)","v":{"$error":"#REF!"}},{"$f":"COUNTIF(#REF!,$AD361)","v":{"$error":"#REF!"}},{"$f":"COUNTIF(#REF!,$AD361)","v":{"$error":"#REF!"}},0,0,0,0,0,0,"","","","","","","","","","","","",0,""]
[null,null,null,null,null,null,null,null,null,null,null,null,null,null,null,null,null,null,null,null,null,null,null,null,null,null,null,null,null,"2015-12-27",{"$f":"SUMIFS('LOG1'!$J$5:$J$501,TabUren2[datum],$AD362)","v":"00:00:00"},{"$f":"SUMIFS('LOG2'!$J$5:$J$501,TabUren22[datum],$AD362)","v":"00:00:00"},{"$f":"SUMIFS(#REF!,#REF!,$AD362)","v":{"$error":"#REF!"}},{"$f":"SUMIFS(#REF!,#REF!,$AD362)","v":{"$error":"#REF!"}},{"$f":"SUMIFS(#REF!,#REF!,$AD362)","v":{"$error":"#REF!"}},{"$f":"SUMIFS(#REF!,#REF!,$AD362)","v":{"$error":"#REF!"}},{"$f":"COUNTIF(TabUren2[datum],$AD362)","v":0},{"$f":"COUNTIF(TabUren22[datum],$AD362)","v":0},{"$f":"COUNTIF(#REF!,$AD362)","v":{"$error":"#REF!"}},{"$f":"COUNTIF(#REF!,$AD362)","v":{"$error":"#REF!"}},{"$f":"COUNTIF(#REF!,$AD362)","v":{"$error":"#REF!"}},{"$f":"COUNTIF(#REF!,$AD362)","v":{"$error":"#REF!"}},0,0,0,0,0,0,"","","","","","","","","","","","",0,""]
[null,null,null,null,null,null,null,null,null,null,null,null,null,null,null,null,null,null,null,null,null,null,null,null,null,null,null,null,null,"2015-12-28",{"$f":"SUMIFS('LOG1'!$J$5:$J$501,TabUren2[datum],$AD363)","v":"00:00:00"},{"$f":"SUMIFS('LOG2'!$J$5:$J$501,TabUren22[datum],$AD363)","v":"00:00:00"},{"$f":"SUMIFS(#REF!,#REF!,$AD363)","v":{"$error":"#REF!"}},{"$f":"SUMIFS(#REF!,#REF!,$AD363)","v":{"$error":"#REF!"}},{"$f":"SUMIFS(#REF!,#REF!,$AD363)","v":{"$error":"#REF!"}},{"$f":"SUMIFS(#REF!,#REF!,$AD363)","v":{"$error":"#REF!"}},{"$f":"COUNTIF(TabUren2[datum],$AD363)","v":0},{"$f":"COUNTIF(TabUren22[datum],$AD363)","v":0},{"$f":"COUNTIF(#REF!,$AD363)","v":{"$error":"#REF!"}},{"$f":"COUNTIF(#REF!,$AD363)","v":{"$error":"#REF!"}},{"$f":"COUNTIF(#REF!,$AD363)","v":{"$error":"#REF!"}},{"$f":"COUNTIF(#REF!,$AD363)","v":{"$error":"#REF!"}},0,0,0,0,0,0,"","","","","","","","","","","","",0,""]
[null,null,null,null,null,null,null,null,null,null,null,null,null,null,null,null,null,null,null,null,null,null,null,null,null,null,null,null,null,"2015-12-29",{"$f":"SUMIFS('LOG1'!$J$5:$J$501,TabUren2[datum],$AD364)","v":"00:00:00"},{"$f":"SUMIFS('LOG2'!$J$5:$J$501,TabUren22[datum],$AD364)","v":"00:00:00"},{"$f":"SUMIFS(#REF!,#REF!,$AD364)","v":{"$error":"#REF!"}},{"$f":"SUMIFS(#REF!,#REF!,$AD364)","v":{"$error":"#REF!"}},{"$f":"SUMIFS(#REF!,#REF!,$AD364)","v":{"$error":"#REF!"}},{"$f":"SUMIFS(#REF!,#REF!,$AD364)","v":{"$error":"#REF!"}},{"$f":"COUNTIF(TabUren2[datum],$AD364)","v":0},{"$f":"COUNTIF(TabUren22[datum],$AD364)","v":0},{"$f":"COUNTIF(#REF!,$AD364)","v":{"$error":"#REF!"}},{"$f":"COUNTIF(#REF!,$AD364)","v":{"$error":"#REF!"}},{"$f":"COUNTIF(#REF!,$AD364)","v":{"$error":"#REF!"}},{"$f":"COUNTIF(#REF!,$AD364)","v":{"$error":"#REF!"}},0,0,0,0,0,0,"","","","","","","","","","","","",0,""]
[null,null,null,null,null,null,null,null,null,null,null,null,null,null,null,null,null,null,null,null,null,null,null,null,null,null,null,null,null,"2015-12-30",{"$f":"SUMIFS('LOG1'!$J$5:$J$501,TabUren2[datum],$AD365)","v":"00:00:00"},{"$f":"SUMIFS('LOG2'!$J$5:$J$501,TabUren22[datum],$AD365)","v":"00:00:00"},{"$f":"SUMIFS(#REF!,#REF!,$AD365)","v":{"$error":"#REF!"}},{"$f":"SUMIFS(#REF!,#REF!,$AD365)","v":{"$error":"#REF!"}},{"$f":"SUMIFS(#REF!,#REF!,$AD365)","v":{"$error":"#REF!"}},{"$f":"SUMIFS(#REF!,#REF!,$AD365)","v":{"$error":"#REF!"}},{"$f":"COUNTIF(TabUren2[datum],$AD365)","v":0},{"$f":"COUNTIF(TabUren22[datum],$AD365)","v":0},{"$f":"COUNTIF(#REF!,$AD365)","v":{"$error":"#REF!"}},{"$f":"COUNTIF(#REF!,$AD365)","v":{"$error":"#REF!"}},{"$f":"COUNTIF(#REF!,$AD365)","v":{"$error":"#REF!"}},{"$f":"COUNTIF(#REF!,$AD365)","v":{"$error":"#REF!"}},0,0,0,0,0,0,"","","","","","","","","","","","",0,""]
[null,null,null,null,null,null,null,null,null,null,null,null,null,null,null,null,null,null,null,null,null,null,null,null,null,null,null,null,null,"2015-12-31",{"$f":"SUMIFS('LOG1'!$J$5:$J$501,TabUren2[datum],$AD366)","v":"00:00:00"},{"$f":"SUMIFS('LOG2'!$J$5:$J$501,TabUren22[datum],$AD366)","v":"00:00:00"},{"$f":"SUMIFS(#REF!,#REF!,$AD366)","v":{"$error":"#REF!"}},{"$f":"SUMIFS(#REF!,#REF!,$AD366)","v":{"$error":"#REF!"}},{"$f":"SUMIFS(#REF!,#REF!,$AD366)","v":{"$error":"#REF!"}},{"$f":"SUMIFS(#REF!,#REF!,$AD366)","v":{"$error":"#REF!"}},{"$f":"COUNTIF(TabUren2[datum],$AD366)","v":0},{"$f":"COUNTIF(TabUren22[datum],$AD366)","v":0},{"$f":"COUNTIF(#REF!,$AD366)","v":{"$error":"#REF!"}},{"$f":"COUNTIF(#REF!,$AD366)","v":{"$error":"#REF!"}},{"$f":"COUNTIF(#REF!,$AD366)","v":{"$error":"#REF!"}},{"$f":"COUNTIF(#REF!,$AD366)","v":{"$error":"#REF!"}},0,0,0,0,0,0,"","","","","","","","","","","","",0,""]
[null,null,null,null,null,null,null,null,null,null,null,null,null,null,null,null,null,null,null,null,null,null,null,null,null,null,null,null,null,"2016-01-01",{"$f":"SUMIFS('LOG1'!$J$5:$J$501,TabUren2[datum],$AD367)","v":"00:00:00"},{"$f":"SUMIFS('LOG2'!$J$5:$J$501,TabUren22[datum],$AD367)","v":"00:00:00"},{"$f":"SUMIFS(#REF!,#REF!,$AD367)","v":{"$error":"#REF!"}},{"$f":"SUMIFS(#REF!,#REF!,$AD367)","v":{"$error":"#REF!"}},{"$f":"SUMIFS(#REF!,#REF!,$AD367)","v":{"$error":"#REF!"}},{"$f":"SUMIFS(#REF!,#REF!,$AD367)","v":{"$error":"#REF!"}},{"$f":"COUNTIF(TabUren2[datum],$AD367)","v":0},{"$f":"COUNTIF(TabUren22[datum],$AD367)","v":0},{"$f":"COUNTIF(#REF!,$AD367)","v":{"$error":"#REF!"}},{"$f":"COUNTIF(#REF!,$AD367)","v":{"$error":"#REF!"}},{"$f":"COUNTIF(#REF!,$AD367)","v":{"$error":"#REF!"}},{"$f":"COUNTIF(#REF!,$AD367)","v":{"$error":"#REF!"}},0,0,0,0,0,0,"","","","","","","","","","","","",0,""]
[null,null,null,null,null,null,null,null,null,null,null,null,null,null,null,null,null,null,null,null,null,null,null,null,null,null,null,null,null,"2016-01-02",{"$f":"SUMIFS('LOG1'!$J$5:$J$501,TabUren2[datum],$AD368)","v":"00:00:00"},{"$f":"SUMIFS('LOG2'!$J$5:$J$501,TabUren22[datum],$AD368)","v":"00:00:00"},{"$f":"SUMIFS(#REF!,#REF!,$AD368)","v":{"$error":"#REF!"}},{"$f":"SUMIFS(#REF!,#REF!,$AD368)","v":{"$error":"#REF!"}},{"$f":"SUMIFS(#REF!,#REF!,$AD368)","v":{"$error":"#REF!"}},{"$f":"SUMIFS(#REF!,#REF!,$AD368)","v":{"$error":"#REF!"}},{"$f":"COUNTIF(TabUren2[datum],$AD368)","v":0},{"$f":"COUNTIF(TabUren22[datum],$AD368)","v":0},{"$f":"COUNTIF(#REF!,$AD368)","v":{"$error":"#REF!"}},{"$f":"COUNTIF(#REF!,$AD368)","v":{"$error":"#REF!"}},{"$f":"COUNTIF(#REF!,$AD368)","v":{"$error":"#REF!"}},{"$f":"COUNTIF(#REF!,$AD368)","v":{"$error":"#REF!"}},0,0,0,0,0,0,"","","","","","","","","","","","",0,""]
[null,null,null,null,null,null,null,null,null,null,null,null,null,null,null,null,null,null,null,null,null,null,null,null,null,null,null,null,null,"2016-01-03",{"$f":"SUMIFS('LOG1'!$J$5:$J$501,TabUren2[datum],$AD369)","v":"00:00:00"},{"$f":"SUMIFS('LOG2'!$J$5:$J$501,TabUren22[datum],$AD369)","v":"00:00:00"},{"$f":"SUMIFS(#REF!,#REF!,$AD369)","v":{"$error":"#REF!"}},{"$f":"SUMIFS(#REF!,#REF!,$AD369)","v":{"$error":"#REF!"}},{"$f":"SUMIFS(#REF!,#REF!,$AD369)","v":{"$error":"#REF!"}},{"$f":"SUMIFS(#REF!,#REF!,$AD369)","v":{"$error":"#REF!"}},{"$f":"COUNTIF(TabUren2[datum],$AD369)","v":0},{"$f":"COUNTIF(TabUren22[datum],$AD369)","v":0},{"$f":"COUNTIF(#REF!,$AD369)","v":{"$error":"#REF!"}},{"$f":"COUNTIF(#REF!,$AD369)","v":{"$error":"#REF!"}},{"$f":"COUNTIF(#REF!,$AD369)","v":{"$error":"#REF!"}},{"$f":"COUNTIF(#REF!,$AD369)","v":{"$error":"#REF!"}},0,0,0,0,0,0,"","","","","","","","","","","","",0,""]
[null,null,null,null,null,null,null,null,null,null,null,null,null,null,null,null,null,null,null,null,null,null,null,null,null,null,null,null,null,"2016-01-04",{"$f":"SUMIFS('LOG1'!$J$5:$J$501,TabUren2[datum],$AD370)","v":"00:00:00"},{"$f":"SUMIFS('LOG2'!$J$5:$J$501,TabUren22[datum],$AD370)","v":"00:00:00"},{"$f":"SUMIFS(#REF!,#REF!,$AD370)","v":{"$error":"#REF!"}},{"$f":"SUMIFS(#REF!,#REF!,$AD370)","v":{"$error":"#REF!"}},{"$f":"SUMIFS(#REF!,#REF!,$AD370)","v":{"$error":"#REF!"}},{"$f":"SUMIFS(#REF!,#REF!,$AD370)","v":{"$error":"#REF!"}},{"$f":"COUNTIF(TabUren2[datum],$AD370)","v":0},{"$f":"COUNTIF(TabUren22[datum],$AD370)","v":0},{"$f":"COUNTIF(#REF!,$AD370)","v":{"$error":"#REF!"}},{"$f":"COUNTIF(#REF!,$AD370)","v":{"$error":"#REF!"}},{"$f":"COUNTIF(#REF!,$AD370)","v":{"$error":"#REF!"}},{"$f":"COUNTIF(#REF!,$AD370)","v":{"$error":"#REF!"}},0,0,0,0,0,0,"","","","","","","","","","","","",0,""]
[null,null,null,null,null,null,null,null,null,null,null,null,null,null,null,null,null,null,null,null,null,null,null,null,null,null,null,null,null,"2016-01-05",{"$f":"SUMIFS('LOG1'!$J$5:$J$501,TabUren2[datum],$AD371)","v":"00:00:00"},{"$f":"SUMIFS('LOG2'!$J$5:$J$501,TabUren22[datum],$AD371)","v":"00:00:00"},{"$f":"SUMIFS(#REF!,#REF!,$AD371)","v":{"$error":"#REF!"}},{"$f":"SUMIFS(#REF!,#REF!,$AD371)","v":{"$error":"#REF!"}},{"$f":"SUMIFS(#REF!,#REF!,$AD371)","v":{"$error":"#REF!"}},{"$f":"SUMIFS(#REF!,#REF!,$AD371)","v":{"$error":"#REF!"}},{"$f":"COUNTIF(TabUren2[datum],$AD371)","v":0},{"$f":"COUNTIF(TabUren22[datum],$AD371)","v":0},{"$f":"COUNTIF(#REF!,$AD371)","v":{"$error":"#REF!"}},{"$f":"COUNTIF(#REF!,$AD371)","v":{"$error":"#REF!"}},{"$f":"COUNTIF(#REF!,$AD371)","v":{"$error":"#REF!"}},{"$f":"COUNTIF(#REF!,$AD371)","v":{"$error":"#REF!"}},0,0,0,0,0,0,"","","","","","","","","","","","",0,""]
[null,null,null,null,null,null,null,null,null,null,null,null,null,null,null,null,null,null,null,null,null,null,null,null,null,null,null,null,null,"2016-01-06",{"$f":"SUMIFS('LOG1'!$J$5:$J$501,TabUren2[datum],$AD372)","v":"00:00:00"},{"$f":"SUMIFS('LOG2'!$J$5:$J$501,TabUren22[datum],$AD372)","v":"00:00:00"},{"$f":"SUMIFS(#REF!,#REF!,$AD372)","v":{"$error":"#REF!"}},{"$f":"SUMIFS(#REF!,#REF!,$AD372)","v":{"$error":"#REF!"}},{"$f":"SUMIFS(#REF!,#REF!,$AD372)","v":{"$error":"#REF!"}},{"$f":"SUMIFS(#REF!,#REF!,$AD372)","v":{"$error":"#REF!"}},{"$f":"COUNTIF(TabUren2[datum],$AD372)","v":0},{"$f":"COUNTIF(TabUren22[datum],$AD372)","v":0},{"$f":"COUNTIF(#REF!,$AD372)","v":{"$error":"#REF!"}},{"$f":"COUNTIF(#REF!,$AD372)","v":{"$error":"#REF!"}},{"$f":"COUNTIF(#REF!,$AD372)","v":{"$error":"#REF!"}},{"$f":"COUNTIF(#REF!,$AD372)","v":{"$error":"#REF!"}},0,0,0,0,0,0,"","","","","","","","","","","","",0,""]
[null,null,null,null,null,null,null,null,null,null,null,null,null,null,null,null,null,null,null,null,null,null,null,null,null,null,null,null,null,"2016-01-07",{"$f":"SUMIFS('LOG1'!$J$5:$J$501,TabUren2[datum],$AD373)","v":"00:00:00"},{"$f":"SUMIFS('LOG2'!$J$5:$J$501,TabUren22[datum],$AD373)","v":"00:00:00"},{"$f":"SUMIFS(#REF!,#REF!,$AD373)","v":{"$error":"#REF!"}},{"$f":"SUMIFS(#REF!,#REF!,$AD373)","v":{"$error":"#REF!"}},{"$f":"SUMIFS(#REF!,#REF!,$AD373)","v":{"$error":"#REF!"}},{"$f":"SUMIFS(#REF!,#REF!,$AD373)","v":{"$error":"#REF!"}},{"$f":"COUNTIF(TabUren2[datum],$AD373)","v":0},{"$f":"COUNTIF(TabUren22[datum],$AD373)","v":0},{"$f":"COUNTIF(#REF!,$AD373)","v":{"$error":"#REF!"}},{"$f":"COUNTIF(#REF!,$AD373)","v":{"$error":"#REF!"}},{"$f":"COUNTIF(#REF!,$AD373)","v":{"$error":"#REF!"}},{"$f":"COUNTIF(#REF!,$AD373)","v":{"$error":"#REF!"}},0,0,0,0,0,0,"","","","","","","","","","","","",0,""]
[null,null,null,null,null,null,null,null,null,null,null,null,null,null,null,null,null,null,null,null,null,null,null,null,null,null,null,null,null,"2016-01-08",{"$f":"SUMIFS('LOG1'!$J$5:$J$501,TabUren2[datum],$AD374)","v":"00:00:00"},{"$f":"SUMIFS('LOG2'!$J$5:$J$501,TabUren22[datum],$AD374)","v":"00:00:00"},{"$f":"SUMIFS(#REF!,#REF!,$AD374)","v":{"$error":"#REF!"}},{"$f":"SUMIFS(#REF!,#REF!,$AD374)","v":{"$error":"#REF!"}},{"$f":"SUMIFS(#REF!,#REF!,$AD374)","v":{"$error":"#REF!"}},{"$f":"SUMIFS(#REF!,#REF!,$AD374)","v":{"$error":"#REF!"}},{"$f":"COUNTIF(TabUren2[datum],$AD374)","v":0},{"$f":"COUNTIF(TabUren22[datum],$AD374)","v":0},{"$f":"COUNTIF(#REF!,$AD374)","v":{"$error":"#REF!"}},{"$f":"COUNTIF(#REF!,$AD374)","v":{"$error":"#REF!"}},{"$f":"COUNTIF(#REF!,$AD374)","v":{"$error":"#REF!"}},{"$f":"COUNTIF(#REF!,$AD374)","v":{"$error":"#REF!"}},0,0,0,0,0,0,"","","","","","","","","","","","",0,""]
[null,null,null,null,null,null,null,null,null,null,null,null,null,null,null,null,null,null,null,null,null,null,null,null,null,null,null,null,null,"2016-01-09",{"$f":"SUMIFS('LOG1'!$J$5:$J$501,TabUren2[datum],$AD375)","v":"00:00:00"},{"$f":"SUMIFS('LOG2'!$J$5:$J$501,TabUren22[datum],$AD375)","v":"00:00:00"},{"$f":"SUMIFS(#REF!,#REF!,$AD375)","v":{"$error":"#REF!"}},{"$f":"SUMIFS(#REF!,#REF!,$AD375)","v":{"$error":"#REF!"}},{"$f":"SUMIFS(#REF!,#REF!,$AD375)","v":{"$error":"#REF!"}},{"$f":"SUMIFS(#REF!,#REF!,$AD375)","v":{"$error":"#REF!"}},{"$f":"COUNTIF(TabUren2[datum],$AD375)","v":0},{"$f":"COUNTIF(TabUren22[datum],$AD375)","v":0},{"$f":"COUNTIF(#REF!,$AD375)","v":{"$error":"#REF!"}},{"$f":"COUNTIF(#REF!,$AD375)","v":{"$error":"#REF!"}},{"$f":"COUNTIF(#REF!,$AD375)","v":{"$error":"#REF!"}},{"$f":"COUNTIF(#REF!,$AD375)","v":{"$error":"#REF!"}},0,0,0,0,0,0,"","","","","","","","","","","","",0,""]
[null,null,null,null,null,null,null,null,null,null,null,null,null,null,null,null,null,null,null,null,null,null,null,null,null,null,null,null,null,"2016-01-10",{"$f":"SUMIFS('LOG1'!$J$5:$J$501,TabUren2[datum],$AD376)","v":"00:00:00"},{"$f":"SUMIFS('LOG2'!$J$5:$J$501,TabUren22[datum],$AD376)","v":"00:00:00"},{"$f":"SUMIFS(#REF!,#REF!,$AD376)","v":{"$error":"#REF!"}},{"$f":"SUMIFS(#REF!,#REF!,$AD376)","v":{"$error":"#REF!"}},{"$f":"SUMIFS(#REF!,#REF!,$AD376)","v":{"$error":"#REF!"}},{"$f":"SUMIFS(#REF!,#REF!,$AD376)","v":{"$error":"#REF!"}},{"$f":"COUNTIF(TabUren2[datum],$AD376)","v":0},{"$f":"COUNTIF(TabUren22[datum],$AD376)","v":0},{"$f":"COUNTIF(#REF!,$AD376)","v":{"$error":"#REF!"}},{"$f":"COUNTIF(#REF!,$AD376)","v":{"$error":"#REF!"}},{"$f":"COUNTIF(#REF!,$AD376)","v":{"$error":"#REF!"}},{"$f":"COUNTIF(#REF!,$AD376)","v":{"$error":"#REF!"}},0,0,0,0,0,0,"","","","","","","","","","","","",0,""]
[null,null,null,null,null,null,null,null,null,null,null,null,null,null,null,null,null,null,null,null,null,null,null,null,null,null,null,null,null,"2016-01-11",{"$f":"SUMIFS('LOG1'!$J$5:$J$501,TabUren2[datum],$AD377)","v":"00:00:00"},{"$f":"SUMIFS('LOG2'!$J$5:$J$501,TabUren22[datum],$AD377)","v":"00:00:00"},{"$f":"SUMIFS(#REF!,#REF!,$AD377)","v":{"$error":"#REF!"}},{"$f":"SUMIFS(#REF!,#REF!,$AD377)","v":{"$error":"#REF!"}},{"$f":"SUMIFS(#REF!,#REF!,$AD377)","v":{"$error":"#REF!"}},{"$f":"SUMIFS(#REF!,#REF!,$AD377)","v":{"$error":"#REF!"}},{"$f":"COUNTIF(TabUren2[datum],$AD377)","v":0},{"$f":"COUNTIF(TabUren22[datum],$AD377)","v":0},{"$f":"COUNTIF(#REF!,$AD377)","v":{"$error":"#REF!"}},{"$f":"COUNTIF(#REF!,$AD377)","v":{"$error":"#REF!"}},{"$f":"COUNTIF(#REF!,$AD377)","v":{"$error":"#REF!"}},{"$f":"COUNTIF(#REF!,$AD377)","v":{"$error":"#REF!"}},0,0,0,0,0,0,"","","","","","","","","","","","",0,""]
[null,null,null,null,null,null,null,null,null,null,null,null,null,null,null,null,null,null,null,null,null,null,null,null,null,null,null,null,null,"2016-01-12",{"$f":"SUMIFS('LOG1'!$J$5:$J$501,TabUren2[datum],$AD378)","v":"00:00:00"},{"$f":"SUMIFS('LOG2'!$J$5:$J$501,TabUren22[datum],$AD378)","v":"00:00:00"},{"$f":"SUMIFS(#REF!,#REF!,$AD378)","v":{"$error":"#REF!"}},{"$f":"SUMIFS(#REF!,#REF!,$AD378)","v":{"$error":"#REF!"}},{"$f":"SUMIFS(#REF!,#REF!,$AD378)","v":{"$error":"#REF!"}},{"$f":"SUMIFS(#REF!,#REF!,$AD378)","v":{"$error":"#REF!"}},{"$f":"COUNTIF(TabUren2[datum],$AD378)","v":0},{"$f":"COUNTIF(TabUren22[datum],$AD378)","v":0},{"$f":"COUNTIF(#REF!,$AD378)","v":{"$error":"#REF!"}},{"$f":"COUNTIF(#REF!,$AD378)","v":{"$error":"#REF!"}},{"$f":"COUNTIF(#REF!,$AD378)","v":{"$error":"#REF!"}},{"$f":"COUNTIF(#REF!,$AD378)","v":{"$error":"#REF!"}},0,0,0,0,0,0,"","","","","","","","","","","","",0,""]
[null,null,null,null,null,null,null,null,null,null,null,null,null,null,null,null,null,null,null,null,null,null,null,null,null,null,null,null,null,"2016-01-13",{"$f":"SUMIFS('LOG1'!$J$5:$J$501,TabUren2[datum],$AD379)","v":"00:00:00"},{"$f":"SUMIFS('LOG2'!$J$5:$J$501,TabUren22[datum],$AD379)","v":"00:00:00"},{"$f":"SUMIFS(#REF!,#REF!,$AD379)","v":{"$error":"#REF!"}},{"$f":"SUMIFS(#REF!,#REF!,$AD379)","v":{"$error":"#REF!"}},{"$f":"SUMIFS(#REF!,#REF!,$AD379)","v":{"$error":"#REF!"}},{"$f":"SUMIFS(#REF!,#REF!,$AD379)","v":{"$error":"#REF!"}},{"$f":"COUNTIF(TabUren2[datum],$AD379)","v":0},{"$f":"COUNTIF(TabUren22[datum],$AD379)","v":0},{"$f":"COUNTIF(#REF!,$AD379)","v":{"$error":"#REF!"}},{"$f":"COUNTIF(#REF!,$AD379)","v":{"$error":"#REF!"}},{"$f":"COUNTIF(#REF!,$AD379)","v":{"$error":"#REF!"}},{"$f":"COUNTIF(#REF!,$AD379)","v":{"$error":"#REF!"}},0,0,0,0,0,0,"","","","","","","","","","","","",0,""]
[null,null,null,null,null,null,null,null,null,null,null,null,null,null,null,null,null,null,null,null,null,null,null,null,null,null,null,null,null,"2016-01-14",{"$f":"SUMIFS('LOG1'!$J$5:$J$501,TabUren2[datum],$AD380)","v":"00:00:00"},{"$f":"SUMIFS('LOG2'!$J$5:$J$501,TabUren22[datum],$AD380)","v":"00:00:00"},{"$f":"SUMIFS(#REF!,#REF!,$AD380)","v":{"$error":"#REF!"}},{"$f":"SUMIFS(#REF!,#REF!,$AD380)","v":{"$error":"#REF!"}},{"$f":"SUMIFS(#REF!,#REF!,$AD380)","v":{"$error":"#REF!"}},{"$f":"SUMIFS(#REF!,#REF!,$AD380)","v":{"$error":"#REF!"}},{"$f":"COUNTIF(TabUren2[datum],$AD380)","v":0},{"$f":"COUNTIF(TabUren22[datum],$AD380)","v":0},{"$f":"COUNTIF(#REF!,$AD380)","v":{"$error":"#REF!"}},{"$f":"COUNTIF(#REF!,$AD380)","v":{"$error":"#REF!"}},{"$f":"COUNTIF(#REF!,$AD380)","v":{"$error":"#REF!"}},{"$f":"COUNTIF(#REF!,$AD380)","v":{"$error":"#REF!"}},0,0,0,0,0,0,"","","","","","","","","","","","",0,""]
[null,null,null,null,null,null,null,null,null,null,null,null,null,null,null,null,null,null,null,null,null,null,null,null,null,null,null,null,null,"2016-01-15",{"$f":"SUMIFS('LOG1'!$J$5:$J$501,TabUren2[datum],$AD381)","v":"00:00:00"},{"$f":"SUMIFS('LOG2'!$J$5:$J$501,TabUren22[datum],$AD381)","v":"00:00:00"},{"$f":"SUMIFS(#REF!,#REF!,$AD381)","v":{"$error":"#REF!"}},{"$f":"SUMIFS(#REF!,#REF!,$AD381)","v":{"$error":"#REF!"}},{"$f":"SUMIFS(#REF!,#REF!,$AD381)","v":{"$error":"#REF!"}},{"$f":"SUMIFS(#REF!,#REF!,$AD381)","v":{"$error":"#REF!"}},{"$f":"COUNTIF(TabUren2[datum],$AD381)","v":0},{"$f":"COUNTIF(TabUren22[datum],$AD381)","v":0},{"$f":"COUNTIF(#REF!,$AD381)","v":{"$error":"#REF!"}},{"$f":"COUNTIF(#REF!,$AD381)","v":{"$error":"#REF!"}},{"$f":"COUNTIF(#REF!,$AD381)","v":{"$error":"#REF!"}},{"$f":"COUNTIF(#REF!,$AD381)","v":{"$error":"#REF!"}},0,0,0,0,0,0,"","","","","","","","","","","","",0,""]
[null,null,null,null,null,null,null,null,null,null,null,null,null,null,null,null,null,null,null,null,null,null,null,null,null,null,null,null,null,"2016-01-16",{"$f":"SUMIFS('LOG1'!$J$5:$J$501,TabUren2[datum],$AD382)","v":"00:00:00"},{"$f":"SUMIFS('LOG2'!$J$5:$J$501,TabUren22[datum],$AD382)","v":"00:00:00"},{"$f":"SUMIFS(#REF!,#REF!,$AD382)","v":{"$error":"#REF!"}},{"$f":"SUMIFS(#REF!,#REF!,$AD382)","v":{"$error":"#REF!"}},{"$f":"SUMIFS(#REF!,#REF!,$AD382)","v":{"$error":"#REF!"}},{"$f":"SUMIFS(#REF!,#REF!,$AD382)","v":{"$error":"#REF!"}},{"$f":"COUNTIF(TabUren2[datum],$AD382)","v":0},{"$f":"COUNTIF(TabUren22[datum],$AD382)","v":0},{"$f":"COUNTIF(#REF!,$AD382)","v":{"$error":"#REF!"}},{"$f":"COUNTIF(#REF!,$AD382)","v":{"$error":"#REF!"}},{"$f":"COUNTIF(#REF!,$AD382)","v":{"$error":"#REF!"}},{"$f":"COUNTIF(#REF!,$AD382)","v":{"$error":"#REF!"}},0,0,0,0,0,0,"","","","","","","","","","","","",0,""]
[null,null,null,null,null,null,null,null,null,null,null,null,null,null,null,null,null,null,null,null,null,null,null,null,null,null,null,null,null,"2016-01-17",{"$f":"SUMIFS('LOG1'!$J$5:$J$501,TabUren2[datum],$AD383)","v":"00:00:00"},{"$f":"SUMIFS('LOG2'!$J$5:$J$501,TabUren22[datum],$AD383)","v":"00:00:00"},{"$f":"SUMIFS(#REF!,#REF!,$AD383)","v":{"$error":"#REF!"}},{"$f":"SUMIFS(#REF!,#REF!,$AD383)","v":{"$error":"#REF!"}},{"$f":"SUMIFS(#REF!,#REF!,$AD383)","v":{"$error":"#REF!"}},{"$f":"SUMIFS(#REF!,#REF!,$AD383)","v":{"$error":"#REF!"}},{"$f":"COUNTIF(TabUren2[datum],$AD383)","v":0},{"$f":"COUNTIF(TabUren22[datum],$AD383)","v":0},{"$f":"COUNTIF(#REF!,$AD383)","v":{"$error":"#REF!"}},{"$f":"COUNTIF(#REF!,$AD383)","v":{"$error":"#REF!"}},{"$f":"COUNTIF(#REF!,$AD383)","v":{"$error":"#REF!"}},{"$f":"COUNTIF(#REF!,$AD383)","v":{"$error":"#REF!"}},0,0,0,0,0,0,"","","","","","","","","","","","",0,""]
[null,null,null,null,null,null,null,null,null,null,null,null,null,null,null,null,null,null,null,null,null,null,null,null,null,null,null,null,null,"2016-01-18",{"$f":"SUMIFS('LOG1'!$J$5:$J$501,TabUren2[datum],$AD384)","v":"00:00:00"},{"$f":"SUMIFS('LOG2'!$J$5:$J$501,TabUren22[datum],$AD384)","v":"00:00:00"},{"$f":"SUMIFS(#REF!,#REF!,$AD384)","v":{"$error":"#REF!"}},{"$f":"SUMIFS(#REF!,#REF!,$AD384)","v":{"$error":"#REF!"}},{"$f":"SUMIFS(#REF!,#REF!,$AD384)","v":{"$error":"#REF!"}},{"$f":"SUMIFS(#REF!,#REF!,$AD384)","v":{"$error":"#REF!"}},{"$f":"COUNTIF(TabUren2[datum],$AD384)","v":0},{"$f":"COUNTIF(TabUren22[datum],$AD384)","v":0},{"$f":"COUNTIF(#REF!,$AD384)","v":{"$error":"#REF!"}},{"$f":"COUNTIF(#REF!,$AD384)","v":{"$error":"#REF!"}},{"$f":"COUNTIF(#REF!,$AD384)","v":{"$error":"#REF!"}},{"$f":"COUNTIF(#REF!,$AD384)","v":{"$error":"#REF!"}},0,0,0,0,0,0,"","","","","","","","","","","","",0,""]
[null,null,null,null,null,null,null,null,null,null,null,null,null,null,null,null,null,null,null,null,null,null,null,null,null,null,null,null,null,"2016-01-19",{"$f":"SUMIFS('LOG1'!$J$5:$J$501,TabUren2[datum],$AD385)","v":"00:00:00"},{"$f":"SUMIFS('LOG2'!$J$5:$J$501,TabUren22[datum],$AD385)","v":"00:00:00"},{"$f":"SUMIFS(#REF!,#REF!,$AD385)","v":{"$error":"#REF!"}},{"$f":"SUMIFS(#REF!,#REF!,$AD385)","v":{"$error":"#REF!"}},{"$f":"SUMIFS(#REF!,#REF!,$AD385)","v":{"$error":"#REF!"}},{"$f":"SUMIFS(#REF!,#REF!,$AD385)","v":{"$error":"#REF!"}},{"$f":"COUNTIF(TabUren2[datum],$AD385)","v":0},{"$f":"COUNTIF(TabUren22[datum],$AD385)","v":0},{"$f":"COUNTIF(#REF!,$AD385)","v":{"$error":"#REF!"}},{"$f":"COUNTIF(#REF!,$AD385)","v":{"$error":"#REF!"}},{"$f":"COUNTIF(#REF!,$AD385)","v":{"$error":"#REF!"}},{"$f":"COUNTIF(#REF!,$AD385)","v":{"$error":"#REF!"}},0,0,0,0,0,0,"","","","","","","","","","","","",0,""]
[null,null,null,null,null,null,null,null,null,null,null,null,null,null,null,null,null,null,null,null,null,null,null,null,null,null,null,null,null,"2016-01-20",{"$f":"SUMIFS('LOG1'!$J$5:$J$501,TabUren2[datum],$AD386)","v":"00:00:00"},{"$f":"SUMIFS('LOG2'!$J$5:$J$501,TabUren22[datum],$AD386)","v":"00:00:00"},{"$f":"SUMIFS(#REF!,#REF!,$AD386)","v":{"$error":"#REF!"}},{"$f":"SUMIFS(#REF!,#REF!,$AD386)","v":{"$error":"#REF!"}},{"$f":"SUMIFS(#REF!,#REF!,$AD386)","v":{"$error":"#REF!"}},{"$f":"SUMIFS(#REF!,#REF!,$AD386)","v":{"$error":"#REF!"}},{"$f":"COUNTIF(TabUren2[datum],$AD386)","v":0},{"$f":"COUNTIF(TabUren22[datum],$AD386)","v":0},{"$f":"COUNTIF(#REF!,$AD386)","v":{"$error":"#REF!"}},{"$f":"COUNTIF(#REF!,$AD386)","v":{"$error":"#REF!"}},{"$f":"COUNTIF(#REF!,$AD386)","v":{"$error":"#REF!"}},{"$f":"COUNTIF(#REF!,$AD386)","v":{"$error":"#REF!"}},0,0,0,0,0,0,"","","","","","","","","","","","",0,""]
[null,null,null,null,null,null,null,null,null,null,null,null,null,null,null,null,null,null,null,null,null,null,null,null,null,null,null,null,null,"2016-01-21",{"$f":"SUMIFS('LOG1'!$J$5:$J$501,TabUren2[datum],$AD387)","v":"00:00:00"},{"$f":"SUMIFS('LOG2'!$J$5:$J$501,TabUren22[datum],$AD387)","v":"00:00:00"},{"$f":"SUMIFS(#REF!,#REF!,$AD387)","v":{"$error":"#REF!"}},{"$f":"SUMIFS(#REF!,#REF!,$AD387)","v":{"$error":"#REF!"}},{"$f":"SUMIFS(#REF!,#REF!,$AD387)","v":{"$error":"#REF!"}},{"$f":"SUMIFS(#REF!,#REF!,$AD387)","v":{"$error":"#REF!"}},{"$f":"COUNTIF(TabUren2[datum],$AD387)","v":0},{"$f":"COUNTIF(TabUren22[datum],$AD387)","v":0},{"$f":"COUNTIF(#REF!,$AD387)","v":{"$error":"#REF!"}},{"$f":"COUNTIF(#REF!,$AD387)","v":{"$error":"#REF!"}},{"$f":"COUNTIF(#REF!,$AD387)","v":{"$error":"#REF!"}},{"$f":"COUNTIF(#REF!,$AD387)","v":{"$error":"#REF!"}},{"$f":"COUNTIF(AK387,\">0\")","v":0},{"$f":"COUNTIF(AL387,\">0\")","v":0},{"$f":"COUNTIF(AM387,\">0\")","v":0},{"$f":"COUNTIF(AN387,\">0\")","v":0},{"$f":"COUNTIF(AO387,\">0\")","v":0},{"$f":"COUNTIF(AP387,\">0\")","v":0},{"$f":"IF(AQ387=1,AE387,\"\")","v":""},{"$f":"IF(AR387=1,AF387,\"\")","v":""},{"$f":"IF(AS387=1,AG387,\"\")","v":""},{"$f":"IF(AT387=1,AH387,\"\")","v":""},{"$f":"IF(AU387=1,AI387,\"\")","v":""},{"$f":"IF(AV387=1,AJ387,\"\")","v":""},{"$f":"IF(BC$1=TRUE,AW387,\"\")","v":""},{"$f":"IF(BD$1=TRUE,AX387,\"\")","v":""},{"$f":"IF(BE$1=TRUE,AY387,\"\")","v":""},{"$f":"IF(BF$1=TRUE,AZ387,\"\")","v":""},{"$f":"IF(BG$1=TRUE,BA387,\"\")","v":""},{"$f":"IF(BH$1=TRUE,BB387,\"\")","v":""},0,""]
[null,null,null,null,null,null,null,null,null,null,null,null,null,null,null,null,null,null,null,null,null,null,null,null,null,null,null,null,null,"2016-01-22",{"$f":"SUMIFS('LOG1'!$J$5:$J$501,TabUren2[datum],$AD388)","v":"00:00:00"},{"$f":"SUMIFS('LOG2'!$J$5:$J$501,TabUren22[datum],$AD388)","v":"00:00:00"},{"$f":"SUMIFS(#REF!,#REF!,$AD388)","v":{"$error":"#REF!"}},{"$f":"SUMIFS(#REF!,#REF!,$AD388)","v":{"$error":"#REF!"}},{"$f":"SUMIFS(#REF!,#REF!,$AD388)","v":{"$error":"#REF!"}},{"$f":"SUMIFS(#REF!,#REF!,$AD388)","v":{"$error":"#REF!"}},{"$f":"COUNTIF(TabUren2[datum],$AD388)","v":0},{"$f":"COUNTIF(TabUren22[datum],$AD388)","v":0},{"$f":"COUNTIF(#REF!,$AD388)","v":{"$error":"#REF!"}},{"$f":"COUNTIF(#REF!,$AD388)","v":{"$error":"#REF!"}},{"$f":"COUNTIF(#REF!,$AD388)","v":{"$error":"#REF!"}},{"$f":"COUNTIF(#REF!,$AD388)","v":{"$error":"#REF!"}},0,0,0,0,0,0,"","","","","","","","","","","","",0,""]
[null,null,null,null,null,null,null,null,null,null,null,null,null,null,null,null,null,null,null,null,null,null,null,null,null,null,null,null,null,"2016-01-23",{"$f":"SUMIFS('LOG1'!$J$5:$J$501,TabUren2[datum],$AD389)","v":"00:00:00"},{"$f":"SUMIFS('LOG2'!$J$5:$J$501,TabUren22[datum],$AD389)","v":"00:00:00"},{"$f":"SUMIFS(#REF!,#REF!,$AD389)","v":{"$error":"#REF!"}},{"$f":"SUMIFS(#REF!,#REF!,$AD389)","v":{"$error":"#REF!"}},{"$f":"SUMIFS(#REF!,#REF!,$AD389)","v":{"$error":"#REF!"}},{"$f":"SUMIFS(#REF!,#REF!,$AD389)","v":{"$error":"#REF!"}},{"$f":"COUNTIF(TabUren2[datum],$AD389)","v":0},{"$f":"COUNTIF(TabUren22[datum],$AD389)","v":0},{"$f":"COUNTIF(#REF!,$AD389)","v":{"$error":"#REF!"}},{"$f":"COUNTIF(#REF!,$AD389)","v":{"$error":"#REF!"}},{"$f":"COUNTIF(#REF!,$AD389)","v":{"$error":"#REF!"}},{"$f":"COUNTIF(#REF!,$AD389)","v":{"$error":"#REF!"}},0,0,0,0,0,0,"","","","","","","","","","","","",0,""]
[null,null,null,null,null,null,null,null,null,null,null,null,null,null,null,null,null,null,null,null,null,null,null,null,null,null,null,null,null,"2016-01-24",{"$f":"SUMIFS('LOG1'!$J$5:$J$501,TabUren2[datum],$AD390)","v":"00:00:00"},{"$f":"SUMIFS('LOG2'!$J$5:$J$501,TabUren22[datum],$AD390)","v":"00:00:00"},{"$f":"SUMIFS(#REF!,#REF!,$AD390)","v":{"$error":"#REF!"}},{"$f":"SUMIFS(#REF!,#REF!,$AD390)","v":{"$error":"#REF!"}},{"$f":"SUMIFS(#REF!,#REF!,$AD390)","v":{"$error":"#REF!"}},{"$f":"SUMIFS(#REF!,#REF!,$AD390)","v":{"$error":"#REF!"}},{"$f":"COUNTIF(TabUren2[datum],$AD390)","v":0},{"$f":"COUNTIF(TabUren22[datum],$AD390)","v":0},{"$f":"COUNTIF(#REF!,$AD390)","v":{"$error":"#REF!"}},{"$f":"COUNTIF(#REF!,$AD390)","v":{"$error":"#REF!"}},{"$f":"COUNTIF(#REF!,$AD390)","v":{"$error":"#REF!"}},{"$f":"COUNTIF(#REF!,$AD390)","v":{"$error":"#REF!"}},0,0,0,0,0,0,"","","","","","","","","","","","",{"$f":"COUNT(AW390:BB390)","v":0},{"$f":"IF(BI390>0,AD390,\"\")","v":""}]
[null,null,null,null,null,null,null,null,null,null,null,null,null,null,null,null,null,null,null,null,null,null,null,null,null,null,null,null,null,"2016-01-25",{"$f":"SUMIFS('LOG1'!$J$5:$J$501,TabUren2[datum],$AD391)","v":"00:00:00"},{"$f":"SUMIFS('LOG2'!$J$5:$J$501,TabUren22[datum],$AD391)","v":"00:00:00"},{"$f":"SUMIFS(#REF!,#REF!,$AD391)","v":{"$error":"#REF!"}},{"$f":"SUMIFS(#REF!,#REF!,$AD391)","v":{"$error":"#REF!"}},{"$f":"SUMIFS(#REF!,#REF!,$AD391)","v":{"$error":"#REF!"}},{"$f":"SUMIFS(#REF!,#REF!,$AD391)","v":{"$error":"#REF!"}},{"$f":"COUNTIF(TabUren2[datum],$AD391)","v":0},{"$f":"COUNTIF(TabUren22[datum],$AD391)","v":0},{"$f":"COUNTIF(#REF!,$AD391)","v":{"$error":"#REF!"}},{"$f":"COUNTIF(#REF!,$AD391)","v":{"$error":"#REF!"}},{"$f":"COUNTIF(#REF!,$AD391)","v":{"$error":"#REF!"}},{"$f":"COUNTIF(#REF!,$AD391)","v":{"$error":"#REF!"}},0,0,0,0,0,0,"","","","","","","","","","","","",0,""]
[null,null,null,null,null,null,null,null,null,null,null,null,null,null,null,null,null,null,null,null,null,null,null,null,null,null,null,null,null,"2016-01-26",{"$f":"SUMIFS('LOG1'!$J$5:$J$501,TabUren2[datum],$AD392)","v":"00:00:00"},{"$f":"SUMIFS('LOG2'!$J$5:$J$501,TabUren22[datum],$AD392)","v":"00:00:00"},{"$f":"SUMIFS(#REF!,#REF!,$AD392)","v":{"$error":"#REF!"}},{"$f":"SUMIFS(#REF!,#REF!,$AD392)","v":{"$error":"#REF!"}},{"$f":"SUMIFS(#REF!,#REF!,$AD392)","v":{"$error":"#REF!"}},{"$f":"SUMIFS(#REF!,#REF!,$AD392)","v":{"$error":"#REF!"}},{"$f":"COUNTIF(TabUren2[datum],$AD392)","v":0},{"$f":"COUNTIF(TabUren22[datum],$AD392)","v":0},{"$f":"COUNTIF(#REF!,$AD392)","v":{"$error":"#REF!"}},{"$f":"COUNTIF(#REF!,$AD392)","v":{"$error":"#REF!"}},{"$f":"COUNTIF(#REF!,$AD392)","v":{"$error":"#REF!"}},{"$f":"COUNTIF(#REF!,$AD392)","v":{"$error":"#REF!"}},0,0,0,0,0,0,"","","","","","","","","","","","",0,""]
[null,null,null,null,null,null,null,null,null,null,null,null,null,null,null,null,null,null,null,null,null,null,null,null,null,null,null,null,null,"2016-01-27",{"$f":"SUMIFS('LOG1'!$J$5:$J$501,TabUren2[datum],$AD393)","v":"00:00:00"},{"$f":"SUMIFS('LOG2'!$J$5:$J$501,TabUren22[datum],$AD393)","v":"00:00:00"},{"$f":"SUMIFS(#REF!,#REF!,$AD393)","v":{"$error":"#REF!"}},{"$f":"SUMIFS(#REF!,#REF!,$AD393)","v":{"$error":"#REF!"}},{"$f":"SUMIFS(#REF!,#REF!,$AD393)","v":{"$error":"#REF!"}},{"$f":"SUMIFS(#REF!,#REF!,$AD393)","v":{"$error":"#REF!"}},{"$f":"COUNTIF(TabUren2[datum],$AD393)","v":0},{"$f":"COUNTIF(TabUren22[datum],$AD393)","v":0},{"$f":"COUNTIF(#REF!,$AD393)","v":{"$error":"#REF!"}},{"$f":"COUNTIF(#REF!,$AD393)","v":{"$error":"#REF!"}},{"$f":"COUNTIF(#REF!,$AD393)","v":{"$error":"#REF!"}},{"$f":"COUNTIF(#REF!,$AD393)","v":{"$error":"#REF!"}},0,0,0,0,0,0,"","","","","","","","","","","","",0,""]
[null,null,null,null,null,null,null,null,null,null,null,null,null,null,null,null,null,null,null,null,null,null,null,null,null,null,null,null,null,"2016-01-28",{"$f":"SUMIFS('LOG1'!$J$5:$J$501,TabUren2[datum],$AD394)","v":"00:00:00"},{"$f":"SUMIFS('LOG2'!$J$5:$J$501,TabUren22[datum],$AD394)","v":"00:00:00"},{"$f":"SUMIFS(#REF!,#REF!,$AD394)","v":{"$error":"#REF!"}},{"$f":"SUMIFS(#REF!,#REF!,$AD394)","v":{"$error":"#REF!"}},{"$f":"SUMIFS(#REF!,#REF!,$AD394)","v":{"$error":"#REF!"}},{"$f":"SUMIFS(#REF!,#REF!,$AD394)","v":{"$error":"#REF!"}},{"$f":"COUNTIF(TabUren2[datum],$AD394)","v":0},{"$f":"COUNTIF(TabUren22[datum],$AD394)","v":0},{"$f":"COUNTIF(#REF!,$AD394)","v":{"$error":"#REF!"}},{"$f":"COUNTIF(#REF!,$AD394)","v":{"$error":"#REF!"}},{"$f":"COUNTIF(#REF!,$AD394)","v":{"$error":"#REF!"}},{"$f":"COUNTIF(#REF!,$AD394)","v":{"$error":"#REF!"}},0,0,0,0,0,0,"","","","","","","","","","","","",0,""]
[null,null,null,null,null,null,null,null,null,null,null,null,null,null,null,null,null,null,null,null,null,null,null,null,null,null,null,null,null,"2016-01-29",{"$f":"SUMIFS('LOG1'!$J$5:$J$501,TabUren2[datum],$AD395)","v":"00:00:00"},{"$f":"SUMIFS('LOG2'!$J$5:$J$501,TabUren22[datum],$AD395)","v":"00:00:00"},{"$f":"SUMIFS(#REF!,#REF!,$AD395)","v":{"$error":"#REF!"}},{"$f":"SUMIFS(#REF!,#REF!,$AD395)","v":{"$error":"#REF!"}},{"$f":"SUMIFS(#REF!,#REF!,$AD395)","v":{"$error":"#REF!"}},{"$f":"SUMIFS(#REF!,#REF!,$AD395)","v":{"$error":"#REF!"}},{"$f":"COUNTIF(TabUren2[datum],$AD395)","v":0},{"$f":"COUNTIF(TabUren22[datum],$AD395)","v":0},{"$f":"COUNTIF(#REF!,$AD395)","v":{"$error":"#REF!"}},{"$f":"COUNTIF(#REF!,$AD395)","v":{"$error":"#REF!"}},{"$f":"COUNTIF(#REF!,$AD395)","v":{"$error":"#REF!"}},{"$f":"COUNTIF(#REF!,$AD395)","v":{"$error":"#REF!"}},0,0,0,0,0,0,"","","","","","","","","","","","",0,""]
[null,null,null,null,null,null,null,null,null,null,null,null,null,null,null,null,null,null,null,null,null,null,null,null,null,null,null,null,null,"2016-01-30",{"$f":"SUMIFS('LOG1'!$J$5:$J$501,TabUren2[datum],$AD396)","v":"00:00:00"},{"$f":"SUMIFS('LOG2'!$J$5:$J$501,TabUren22[datum],$AD396)","v":"00:00:00"},{"$f":"SUMIFS(#REF!,#REF!,$AD396)","v":{"$error":"#REF!"}},{"$f":"SUMIFS(#REF!,#REF!,$AD396)","v":{"$error":"#REF!"}},{"$f":"SUMIFS(#REF!,#REF!,$AD396)","v":{"$error":"#REF!"}},{"$f":"SUMIFS(#REF!,#REF!,$AD396)","v":{"$error":"#REF!"}},{"$f":"COUNTIF(TabUren2[datum],$AD396)","v":0},{"$f":"COUNTIF(TabUren22[datum],$AD396)","v":0},{"$f":"COUNTIF(#REF!,$AD396)","v":{"$error":"#REF!"}},{"$f":"COUNTIF(#REF!,$AD396)","v":{"$error":"#REF!"}},{"$f":"COUNTIF(#REF!,$AD396)","v":{"$error":"#REF!"}},{"$f":"COUNTIF(#REF!,$AD396)","v":{"$error":"#REF!"}},0,0,0,0,0,0,"","","","","","","","","","","","",0,""]
[null,null,null,null,null,null,null,null,null,null,null,null,null,null,null,null,null,null,null,null,null,null,null,null,null,null,null,null,null,"2016-01-31",{"$f":"SUMIFS('LOG1'!$J$5:$J$501,TabUren2[datum],$AD397)","v":"00:00:00"},{"$f":"SUMIFS('LOG2'!$J$5:$J$501,TabUren22[datum],$AD397)","v":"00:00:00"},{"$f":"SUMIFS(#REF!,#REF!,$AD397)","v":{"$error":"#REF!"}},{"$f":"SUMIFS(#REF!,#REF!,$AD397)","v":{"$error":"#REF!"}},{"$f":"SUMIFS(#REF!,#REF!,$AD397)","v":{"$error":"#REF!"}},{"$f":"SUMIFS(#REF!,#REF!,$AD397)","v":{"$error":"#REF!"}},{"$f":"COUNTIF(TabUren2[datum],$AD397)","v":0},{"$f":"COUNTIF(TabUren22[datum],$AD397)","v":0},{"$f":"COUNTIF(#REF!,$AD397)","v":{"$error":"#REF!"}},{"$f":"COUNTIF(#REF!,$AD397)","v":{"$error":"#REF!"}},{"$f":"COUNTIF(#REF!,$AD397)","v":{"$error":"#REF!"}},{"$f":"COUNTIF(#REF!,$AD397)","v":{"$error":"#REF!"}},0,0,0,0,0,0,"","","","","","","","","","","","",0,""]
[null,null,null,null,null,null,null,null,null,null,null,null,null,null,null,null,null,null,null,null,null,null,null,null,null,null,null,null,null,"2016-02-01",{"$f":"SUMIFS('LOG1'!$J$5:$J$501,TabUren2[datum],$AD398)","v":"00:00:00"},{"$f":"SUMIFS('LOG2'!$J$5:$J$501,TabUren22[datum],$AD398)","v":"00:00:00"},{"$f":"SUMIFS(#REF!,#REF!,$AD398)","v":{"$error":"#REF!"}},{"$f":"SUMIFS(#REF!,#REF!,$AD398)","v":{"$error":"#REF!"}},{"$f":"SUMIFS(#REF!,#REF!,$AD398)","v":{"$error":"#REF!"}},{"$f":"SUMIFS(#REF!,#REF!,$AD398)","v":{"$error":"#REF!"}},{"$f":"COUNTIF(TabUren2[datum],$AD398)","v":0},{"$f":"COUNTIF(TabUren22[datum],$AD398)","v":0},{"$f":"COUNTIF(#REF!,$AD398)","v":{"$error":"#REF!"}},{"$f":"COUNTIF(#REF!,$AD398)","v":{"$error":"#REF!"}},{"$f":"COUNTIF(#REF!,$AD398)","v":{"$error":"#REF!"}},{"$f":"COUNTIF(#REF!,$AD398)","v":{"$error":"#REF!"}},0,0,0,0,0,0,"","","","","","","","","","","","",0,""]
[null,null,null,null,null,null,null,null,null,null,null,null,null,null,null,null,null,null,null,null,null,null,null,null,null,null,null,null,null,"2016-02-02",{"$f":"SUMIFS('LOG1'!$J$5:$J$501,TabUren2[datum],$AD399)","v":"00:00:00"},{"$f":"SUMIFS('LOG2'!$J$5:$J$501,TabUren22[datum],$AD399)","v":"00:00:00"},{"$f":"SUMIFS(#REF!,#REF!,$AD399)","v":{"$error":"#REF!"}},{"$f":"SUMIFS(#REF!,#REF!,$AD399)","v":{"$error":"#REF!"}},{"$f":"SUMIFS(#REF!,#REF!,$AD399)","v":{"$error":"#REF!"}},{"$f":"SUMIFS(#REF!,#REF!,$AD399)","v":{"$error":"#REF!"}},{"$f":"COUNTIF(TabUren2[datum],$AD399)","v":0},{"$f":"COUNTIF(TabUren22[datum],$AD399)","v":0},{"$f":"COUNTIF(#REF!,$AD399)","v":{"$error":"#REF!"}},{"$f":"COUNTIF(#REF!,$AD399)","v":{"$error":"#REF!"}},{"$f":"COUNTIF(#REF!,$AD399)","v":{"$error":"#REF!"}},{"$f":"COUNTIF(#REF!,$AD399)","v":{"$error":"#REF!"}},0,0,0,0,0,0,"","","","","","","","","","","","",0,""]
[null,null,null,null,null,null,null,null,null,null,null,null,null,null,null,null,null,null,null,null,null,null,null,null,null,null,null,null,null,"2016-02-03",{"$f":"SUMIFS('LOG1'!$J$5:$J$501,TabUren2[datum],$AD400)","v":"00:00:00"},{"$f":"SUMIFS('LOG2'!$J$5:$J$501,TabUren22[datum],$AD400)","v":"00:00:00"},{"$f":"SUMIFS(#REF!,#REF!,$AD400)","v":{"$error":"#REF!"}},{"$f":"SUMIFS(#REF!,#REF!,$AD400)","v":{"$error":"#REF!"}},{"$f":"SUMIFS(#REF!,#REF!,$AD400)","v":{"$error":"#REF!"}},{"$f":"SUMIFS(#REF!,#REF!,$AD400)","v":{"$error":"#REF!"}},{"$f":"COUNTIF(TabUren2[datum],$AD400)","v":0},{"$f":"COUNTIF(TabUren22[datum],$AD400)","v":0},{"$f":"COUNTIF(#REF!,$AD400)","v":{"$error":"#REF!"}},{"$f":"COUNTIF(#REF!,$AD400)","v":{"$error":"#REF!"}},{"$f":"COUNTIF(#REF!,$AD400)","v":{"$error":"#REF!"}},{"$f":"COUNTIF(#REF!,$AD400)","v":{"$error":"#REF!"}},0,0,0,0,0,0,"","","","","","","","","","","","",0,""]
[null,null,null,null,null,null,null,null,null,null,null,null,null,null,null,null,null,null,null,null,null,null,null,null,null,null,null,null,null,"2016-02-04",{"$f":"SUMIFS('LOG1'!$J$5:$J$501,TabUren2[datum],$AD401)","v":"00:00:00"},{"$f":"SUMIFS('LOG2'!$J$5:$J$501,TabUren22[datum],$AD401)","v":"00:00:00"},{"$f":"SUMIFS(#REF!,#REF!,$AD401)","v":{"$error":"#REF!"}},{"$f":"SUMIFS(#REF!,#REF!,$AD401)","v":{"$error":"#REF!"}},{"$f":"SUMIFS(#REF!,#REF!,$AD401)","v":{"$error":"#REF!"}},{"$f":"SUMIFS(#REF!,#REF!,$AD401)","v":{"$error":"#REF!"}},{"$f":"COUNTIF(TabUren2[datum],$AD401)","v":0},{"$f":"COUNTIF(TabUren22[datum],$AD401)","v":0},{"$f":"COUNTIF(#REF!,$AD401)","v":{"$error":"#REF!"}},{"$f":"COUNTIF(#REF!,$AD401)","v":{"$error":"#REF!"}},{"$f":"COUNTIF(#REF!,$AD401)","v":{"$error":"#REF!"}},{"$f":"COUNTIF(#REF!,$AD401)","v":{"$error":"#REF!"}},0,0,0,0,0,0,"","","","","","","","","","","","",0,""]
[null,null,null,null,null,null,null,null,null,null,null,null,null,null,null,null,null,null,null,null,null,null,null,null,null,null,null,null,null,"2016-02-05",{"$f":"SUMIFS('LOG1'!$J$5:$J$501,TabUren2[datum],$AD402)","v":"00:00:00"},{"$f":"SUMIFS('LOG2'!$J$5:$J$501,TabUren22[datum],$AD402)","v":"00:00:00"},{"$f":"SUMIFS(#REF!,#REF!,$AD402)","v":{"$error":"#REF!"}},{"$f":"SUMIFS(#REF!,#REF!,$AD402)","v":{"$error":"#REF!"}},{"$f":"SUMIFS(#REF!,#REF!,$AD402)","v":{"$error":"#REF!"}},{"$f":"SUMIFS(#REF!,#REF!,$AD402)","v":{"$error":"#REF!"}},{"$f":"COUNTIF(TabUren2[datum],$AD402)","v":0},{"$f":"COUNTIF(TabUren22[datum],$AD402)","v":0},{"$f":"COUNTIF(#REF!,$AD402)","v":{"$error":"#REF!"}},{"$f":"COUNTIF(#REF!,$AD402)","v":{"$error":"#REF!"}},{"$f":"COUNTIF(#REF!,$AD402)","v":{"$error":"#REF!"}},{"$f":"COUNTIF(#REF!,$AD402)","v":{"$error":"#REF!"}},0,0,0,0,0,0,"","","","","","","","","","","","",0,""]
[null,null,null,null,null,null,null,null,null,null,null,null,null,null,null,null,null,null,null,null,null,null,null,null,null,null,null,null,null,"2016-02-06",{"$f":"SUMIFS('LOG1'!$J$5:$J$501,TabUren2[datum],$AD403)","v":"00:00:00"},{"$f":"SUMIFS('LOG2'!$J$5:$J$501,TabUren22[datum],$AD403)","v":"00:00:00"},{"$f":"SUMIFS(#REF!,#REF!,$AD403)","v":{"$error":"#REF!"}},{"$f":"SUMIFS(#REF!,#REF!,$AD403)","v":{"$error":"#REF!"}},{"$f":"SUMIFS(#REF!,#REF!,$AD403)","v":{"$error":"#REF!"}},{"$f":"SUMIFS(#REF!,#REF!,$AD403)","v":{"$error":"#REF!"}},{"$f":"COUNTIF(TabUren2[datum],$AD403)","v":0},{"$f":"COUNTIF(TabUren22[datum],$AD403)","v":0},{"$f":"COUNTIF(#REF!,$AD403)","v":{"$error":"#REF!"}},{"$f":"COUNTIF(#REF!,$AD403)","v":{"$error":"#REF!"}},{"$f":"COUNTIF(#REF!,$AD403)","v":{"$error":"#REF!"}},{"$f":"COUNTIF(#REF!,$AD403)","v":{"$error":"#REF!"}},0,0,0,0,0,0,"","","","","","","","","","","","",0,""]
[null,null,null,null,null,null,null,null,null,null,null,null,null,null,null,null,null,null,null,null,null,null,null,null,null,null,null,null,null,"2016-02-07",{"$f":"SUMIFS('LOG1'!$J$5:$J$501,TabUren2[datum],$AD404)","v":"00:00:00"},{"$f":"SUMIFS('LOG2'!$J$5:$J$501,TabUren22[datum],$AD404)","v":"00:00:00"},{"$f":"SUMIFS(#REF!,#REF!,$AD404)","v":{"$error":"#REF!"}},{"$f":"SUMIFS(#REF!,#REF!,$AD404)","v":{"$error":"#REF!"}},{"$f":"SUMIFS(#REF!,#REF!,$AD404)","v":{"$error":"#REF!"}},{"$f":"SUMIFS(#REF!,#REF!,$AD404)","v":{"$error":"#REF!"}},{"$f":"COUNTIF(TabUren2[datum],$AD404)","v":0},{"$f":"COUNTIF(TabUren22[datum],$AD404)","v":0},{"$f":"COUNTIF(#REF!,$AD404)","v":{"$error":"#REF!"}},{"$f":"COUNTIF(#REF!,$AD404)","v":{"$error":"#REF!"}},{"$f":"COUNTIF(#REF!,$AD404)","v":{"$error":"#REF!"}},{"$f":"COUNTIF(#REF!,$AD404)","v":{"$error":"#REF!"}},0,0,0,0,0,0,"","","","","","","","","","","","",0,""]
[null,null,null,null,null,null,null,null,null,null,null,null,null,null,null,null,null,null,null,null,null,null,null,null,null,null,null,null,null,"2016-02-08",{"$f":"SUMIFS('LOG1'!$J$5:$J$501,TabUren2[datum],$AD405)","v":"00:00:00"},{"$f":"SUMIFS('LOG2'!$J$5:$J$501,TabUren22[datum],$AD405)","v":"00:00:00"},{"$f":"SUMIFS(#REF!,#REF!,$AD405)","v":{"$error":"#REF!"}},{"$f":"SUMIFS(#REF!,#REF!,$AD405)","v":{"$error":"#REF!"}},{"$f":"SUMIFS(#REF!,#REF!,$AD405)","v":{"$error":"#REF!"}},{"$f":"SUMIFS(#REF!,#REF!,$AD405)","v":{"$error":"#REF!"}},{"$f":"COUNTIF(TabUren2[datum],$AD405)","v":0},{"$f":"COUNTIF(TabUren22[datum],$AD405)","v":0},{"$f":"COUNTIF(#REF!,$AD405)","v":{"$error":"#REF!"}},{"$f":"COUNTIF(#REF!,$AD405)","v":{"$error":"#REF!"}},{"$f":"COUNTIF(#REF!,$AD405)","v":{"$error":"#REF!"}},{"$f":"COUNTIF(#REF!,$AD405)","v":{"$error":"#REF!"}},0,0,0,0,0,0,"","","","","","","","","","","","",0,""]
[null,null,null,null,null,null,null,null,null,null,null,null,null,null,null,null,null,null,null,null,null,null,null,null,null,null,null,null,null,"2016-02-09",{"$f":"SUMIFS('LOG1'!$J$5:$J$501,TabUren2[datum],$AD406)","v":"00:00:00"},{"$f":"SUMIFS('LOG2'!$J$5:$J$501,TabUren22[datum],$AD406)","v":"00:00:00"},{"$f":"SUMIFS(#REF!,#REF!,$AD406)","v":{"$error":"#REF!"}},{"$f":"SUMIFS(#REF!,#REF!,$AD406)","v":{"$error":"#REF!"}},{"$f":"SUMIFS(#REF!,#REF!,$AD406)","v":{"$error":"#REF!"}},{"$f":"SUMIFS(#REF!,#REF!,$AD406)","v":{"$error":"#REF!"}},{"$f":"COUNTIF(TabUren2[datum],$AD406)","v":0},{"$f":"COUNTIF(TabUren22[datum],$AD406)","v":0},{"$f":"COUNTIF(#REF!,$AD406)","v":{"$error":"#REF!"}},{"$f":"COUNTIF(#REF!,$AD406)","v":{"$error":"#REF!"}},{"$f":"COUNTIF(#REF!,$AD406)","v":{"$error":"#REF!"}},{"$f":"COUNTIF(#REF!,$AD406)","v":{"$error":"#REF!"}},0,0,0,0,0,0,"","","","","","","","","","","","",0,""]
[null,null,null,null,null,null,null,null,null,null,null,null,null,null,null,null,null,null,null,null,null,null,null,null,null,null,null,null,null,"2016-02-10",{"$f":"SUMIFS('LOG1'!$J$5:$J$501,TabUren2[datum],$AD407)","v":"00:00:00"},{"$f":"SUMIFS('LOG2'!$J$5:$J$501,TabUren22[datum],$AD407)","v":"00:00:00"},{"$f":"SUMIFS(#REF!,#REF!,$AD407)","v":{"$error":"#REF!"}},{"$f":"SUMIFS(#REF!,#REF!,$AD407)","v":{"$error":"#REF!"}},{"$f":"SUMIFS(#REF!,#REF!,$AD407)","v":{"$error":"#REF!"}},{"$f":"SUMIFS(#REF!,#REF!,$AD407)","v":{"$error":"#REF!"}},{"$f":"COUNTIF(TabUren2[datum],$AD407)","v":0},{"$f":"COUNTIF(TabUren22[datum],$AD407)","v":0},{"$f":"COUNTIF(#REF!,$AD407)","v":{"$error":"#REF!"}},{"$f":"COUNTIF(#REF!,$AD407)","v":{"$error":"#REF!"}},{"$f":"COUNTIF(#REF!,$AD407)","v":{"$error":"#REF!"}},{"$f":"COUNTIF(#REF!,$AD407)","v":{"$error":"#REF!"}},0,0,0,0,0,0,"","","","","","","","","","","","",0,""]
[null,null,null,null,null,null,null,null,null,null,null,null,null,null,null,null,null,null,null,null,null,null,null,null,null,null,null,null,null,"2016-02-11",{"$f":"SUMIFS('LOG1'!$J$5:$J$501,TabUren2[datum],$AD408)","v":"00:00:00"},{"$f":"SUMIFS('LOG2'!$J$5:$J$501,TabUren22[datum],$AD408)","v":"00:00:00"},{"$f":"SUMIFS(#REF!,#REF!,$AD408)","v":{"$error":"#REF!"}},{"$f":"SUMIFS(#REF!,#REF!,$AD408)","v":{"$error":"#REF!"}},{"$f":"SUMIFS(#REF!,#REF!,$AD408)","v":{"$error":"#REF!"}},{"$f":"SUMIFS(#REF!,#REF!,$AD408)","v":{"$error":"#REF!"}},{"$f":"COUNTIF(TabUren2[datum],$AD408)","v":0},{"$f":"COUNTIF(TabUren22[datum],$AD408)","v":0},{"$f":"COUNTIF(#REF!,$AD408)","v":{"$error":"#REF!"}},{"$f":"COUNTIF(#REF!,$AD408)","v":{"$error":"#REF!"}},{"$f":"COUNTIF(#REF!,$AD408)","v":{"$error":"#REF!"}},{"$f":"COUNTIF(#REF!,$AD408)","v":{"$error":"#REF!"}},0,0,0,0,0,0,"","","","","","","","","","","","",0,""]
[null,null,null,null,null,null,null,null,null,null,null,null,null,null,null,null,null,null,null,null,null,null,null,null,null,null,null,null,null,"2016-02-12",{"$f":"SUMIFS('LOG1'!$J$5:$J$501,TabUren2[datum],$AD409)","v":"00:00:00"},{"$f":"SUMIFS('LOG2'!$J$5:$J$501,TabUren22[datum],$AD409)","v":"00:00:00"},{"$f":"SUMIFS(#REF!,#REF!,$AD409)","v":{"$error":"#REF!"}},{"$f":"SUMIFS(#REF!,#REF!,$AD409)","v":{"$error":"#REF!"}},{"$f":"SUMIFS(#REF!,#REF!,$AD409)","v":{"$error":"#REF!"}},{"$f":"SUMIFS(#REF!,#REF!,$AD409)","v":{"$error":"#REF!"}},{"$f":"COUNTIF(TabUren2[datum],$AD409)","v":0},{"$f":"COUNTIF(TabUren22[datum],$AD409)","v":0},{"$f":"COUNTIF(#REF!,$AD409)","v":{"$error":"#REF!"}},{"$f":"COUNTIF(#REF!,$AD409)","v":{"$error":"#REF!"}},{"$f":"COUNTIF(#REF!,$AD409)","v":{"$error":"#REF!"}},{"$f":"COUNTIF(#REF!,$AD409)","v":{"$error":"#REF!"}},0,0,0,0,0,0,"","","","","","","","","","","","",0,""]
[null,null,null,null,null,null,null,null,null,null,null,null,null,null,null,null,null,null,null,null,null,null,null,null,null,null,null,null,null,"2016-02-13",{"$f":"SUMIFS('LOG1'!$J$5:$J$501,TabUren2[datum],$AD410)","v":"00:00:00"},{"$f":"SUMIFS('LOG2'!$J$5:$J$501,TabUren22[datum],$AD410)","v":"00:00:00"},{"$f":"SUMIFS(#REF!,#REF!,$AD410)","v":{"$error":"#REF!"}},{"$f":"SUMIFS(#REF!,#REF!,$AD410)","v":{"$error":"#REF!"}},{"$f":"SUMIFS(#REF!,#REF!,$AD410)","v":{"$error":"#REF!"}},{"$f":"SUMIFS(#REF!,#REF!,$AD410)","v":{"$error":"#REF!"}},{"$f":"COUNTIF(TabUren2[datum],$AD410)","v":0},{"$f":"COUNTIF(TabUren22[datum],$AD410)","v":0},{"$f":"COUNTIF(#REF!,$AD410)","v":{"$error":"#REF!"}},{"$f":"COUNTIF(#REF!,$AD410)","v":{"$error":"#REF!"}},{"$f":"COUNTIF(#REF!,$AD410)","v":{"$error":"#REF!"}},{"$f":"COUNTIF(#REF!,$AD410)","v":{"$error":"#REF!"}},0,0,0,0,0,0,"","","","","","","","","","","","",0,""]
[null,null,null,null,null,null,null,null,null,null,null,null,null,null,null,null,null,null,null,null,null,null,null,null,null,null,null,null,null,"2016-02-14",{"$f":"SUMIFS('LOG1'!$J$5:$J$501,TabUren2[datum],$AD411)","v":"00:00:00"},{"$f":"SUMIFS('LOG2'!$J$5:$J$501,TabUren22[datum],$AD411)","v":"00:00:00"},{"$f":"SUMIFS(#REF!,#REF!,$AD411)","v":{"$error":"#REF!"}},{"$f":"SUMIFS(#REF!,#REF!,$AD411)","v":{"$error":"#REF!"}},{"$f":"SUMIFS(#REF!,#REF!,$AD411)","v":{"$error":"#REF!"}},{"$f":"SUMIFS(#REF!,#REF!,$AD411)","v":{"$error":"#REF!"}},{"$f":"COUNTIF(TabUren2[datum],$AD411)","v":0},{"$f":"COUNTIF(TabUren22[datum],$AD411)","v":0},{"$f":"COUNTIF(#REF!,$AD411)","v":{"$error":"#REF!"}},{"$f":"COUNTIF(#REF!,$AD411)","v":{"$error":"#REF!"}},{"$f":"COUNTIF(#REF!,$AD411)","v":{"$error":"#REF!"}},{"$f":"COUNTIF(#REF!,$AD411)","v":{"$error":"#REF!"}},0,0,0,0,0,0,"","","","","","","","","","","","",0,""]
[null,null,null,null,null,null,null,null,null,null,null,null,null,null,null,null,null,null,null,null,null,null,null,null,null,null,null,null,null,"2016-02-15",{"$f":"SUMIFS('LOG1'!$J$5:$J$501,TabUren2[datum],$AD412)","v":"00:00:00"},{"$f":"SUMIFS('LOG2'!$J$5:$J$501,TabUren22[datum],$AD412)","v":"00:00:00"},{"$f":"SUMIFS(#REF!,#REF!,$AD412)","v":{"$error":"#REF!"}},{"$f":"SUMIFS(#REF!,#REF!,$AD412)","v":{"$error":"#REF!"}},{"$f":"SUMIFS(#REF!,#REF!,$AD412)","v":{"$error":"#REF!"}},{"$f":"SUMIFS(#REF!,#REF!,$AD412)","v":{"$error":"#REF!"}},{"$f":"COUNTIF(TabUren2[datum],$AD412)","v":0},{"$f":"COUNTIF(TabUren22[datum],$AD412)","v":0},{"$f":"COUNTIF(#REF!,$AD412)","v":{"$error":"#REF!"}},{"$f":"COUNTIF(#REF!,$AD412)","v":{"$error":"#REF!"}},{"$f":"COUNTIF(#REF!,$AD412)","v":{"$error":"#REF!"}},{"$f":"COUNTIF(#REF!,$AD412)","v":{"$error":"#REF!"}},0,0,0,0,0,0,"","","","","","","","","","","","",0,""]
[null,null,null,null,null,null,null,null,null,null,null,null,null,null,null,null,null,null,null,null,null,null,null,null,null,null,null,null,null,"2016-02-16",{"$f":"SUMIFS('LOG1'!$J$5:$J$501,TabUren2[datum],$AD413)","v":"00:00:00"},{"$f":"SUMIFS('LOG2'!$J$5:$J$501,TabUren22[datum],$AD413)","v":"00:00:00"},{"$f":"SUMIFS(#REF!,#REF!,$AD413)","v":{"$error":"#REF!"}},{"$f":"SUMIFS(#REF!,#REF!,$AD413)","v":{"$error":"#REF!"}},{"$f":"SUMIFS(#REF!,#REF!,$AD413)","v":{"$error":"#REF!"}},{"$f":"SUMIFS(#REF!,#REF!,$AD413)","v":{"$error":"#REF!"}},{"$f":"COUNTIF(TabUren2[datum],$AD413)","v":0},{"$f":"COUNTIF(TabUren22[datum],$AD413)","v":0},{"$f":"COUNTIF(#REF!,$AD413)","v":{"$error":"#REF!"}},{"$f":"COUNTIF(#REF!,$AD413)","v":{"$error":"#REF!"}},{"$f":"COUNTIF(#REF!,$AD413)","v":{"$error":"#REF!"}},{"$f":"COUNTIF(#REF!,$AD413)","v":{"$error":"#REF!"}},0,0,0,0,0,0,"","","","","","","","","","","","",0,""]
[null,null,null,null,null,null,null,null,null,null,null,null,null,null,null,null,null,null,null,null,null,null,null,null,null,null,null,null,null,"2016-02-17",{"$f":"SUMIFS('LOG1'!$J$5:$J$501,TabUren2[datum],$AD414)","v":"00:00:00"},{"$f":"SUMIFS('LOG2'!$J$5:$J$501,TabUren22[datum],$AD414)","v":"00:00:00"},{"$f":"SUMIFS(#REF!,#REF!,$AD414)","v":{"$error":"#REF!"}},{"$f":"SUMIFS(#REF!,#REF!,$AD414)","v":{"$error":"#REF!"}},{"$f":"SUMIFS(#REF!,#REF!,$AD414)","v":{"$error":"#REF!"}},{"$f":"SUMIFS(#REF!,#REF!,$AD414)","v":{"$error":"#REF!"}},{"$f":"COUNTIF(TabUren2[datum],$AD414)","v":0},{"$f":"COUNTIF(TabUren22[datum],$AD414)","v":0},{"$f":"COUNTIF(#REF!,$AD414)","v":{"$error":"#REF!"}},{"$f":"COUNTIF(#REF!,$AD414)","v":{"$error":"#REF!"}},{"$f":"COUNTIF(#REF!,$AD414)","v":{"$error":"#REF!"}},{"$f":"COUNTIF(#REF!,$AD414)","v":{"$error":"#REF!"}},0,0,0,0,0,0,"","","","","","","","","","","","",0,""]
[null,null,null,null,null,null,null,null,null,null,null,null,null,null,null,null,null,null,null,null,null,null,null,null,null,null,null,null,null,"2016-02-18",{"$f":"SUMIFS('LOG1'!$J$5:$J$501,TabUren2[datum],$AD415)","v":"00:00:00"},{"$f":"SUMIFS('LOG2'!$J$5:$J$501,TabUren22[datum],$AD415)","v":"00:00:00"},{"$f":"SUMIFS(#REF!,#REF!,$AD415)","v":{"$error":"#REF!"}},{"$f":"SUMIFS(#REF!,#REF!,$AD415)","v":{"$error":"#REF!"}},{"$f":"SUMIFS(#REF!,#REF!,$AD415)","v":{"$error":"#REF!"}},{"$f":"SUMIFS(#REF!,#REF!,$AD415)","v":{"$error":"#REF!"}},{"$f":"COUNTIF(TabUren2[datum],$AD415)","v":0},{"$f":"COUNTIF(TabUren22[datum],$AD415)","v":0},{"$f":"COUNTIF(#REF!,$AD415)","v":{"$error":"#REF!"}},{"$f":"COUNTIF(#REF!,$AD415)","v":{"$error":"#REF!"}},{"$f":"COUNTIF(#REF!,$AD415)","v":{"$error":"#REF!"}},{"$f":"COUNTIF(#REF!,$AD415)","v":{"$error":"#REF!"}},0,0,0,0,0,0,"","","","","","","","","","","","",0,""]
[null,null,null,null,null,null,null,null,null,null,null,null,null,null,null,null,null,null,null,null,null,null,null,null,null,null,null,null,null,"2016-02-19",{"$f":"SUMIFS('LOG1'!$J$5:$J$501,TabUren2[datum],$AD416)","v":"00:00:00"},{"$f":"SUMIFS('LOG2'!$J$5:$J$501,TabUren22[datum],$AD416)","v":"00:00:00"},{"$f":"SUMIFS(#REF!,#REF!,$AD416)","v":{"$error":"#REF!"}},{"$f":"SUMIFS(#REF!,#REF!,$AD416)","v":{"$error":"#REF!"}},{"$f":"SUMIFS(#REF!,#REF!,$AD416)","v":{"$error":"#REF!"}},{"$f":"SUMIFS(#REF!,#REF!,$AD416)","v":{"$error":"#REF!"}},{"$f":"COUNTIF(TabUren2[datum],$AD416)","v":0},{"$f":"COUNTIF(TabUren22[datum],$AD416)","v":0},{"$f":"COUNTIF(#REF!,$AD416)","v":{"$error":"#REF!"}},{"$f":"COUNTIF(#REF!,$AD416)","v":{"$error":"#REF!"}},{"$f":"COUNTIF(#REF!,$AD416)","v":{"$error":"#REF!"}},{"$f":"COUNTIF(#REF!,$AD416)","v":{"$error":"#REF!"}},0,0,0,0,0,0,"","","","","","","","","","","","",0,""]
[null,null,null,null,null,null,null,null,null,null,null,null,null,null,null,null,null,null,null,null,null,null,null,null,null,null,null,null,null,"2016-02-20",{"$f":"SUMIFS('LOG1'!$J$5:$J$501,TabUren2[datum],$AD417)","v":"00:00:00"},{"$f":"SUMIFS('LOG2'!$J$5:$J$501,TabUren22[datum],$AD417)","v":"00:00:00"},{"$f":"SUMIFS(#REF!,#REF!,$AD417)","v":{"$error":"#REF!"}},{"$f":"SUMIFS(#REF!,#REF!,$AD417)","v":{"$error":"#REF!"}},{"$f":"SUMIFS(#REF!,#REF!,$AD417)","v":{"$error":"#REF!"}},{"$f":"SUMIFS(#REF!,#REF!,$AD417)","v":{"$error":"#REF!"}},{"$f":"COUNTIF(TabUren2[datum],$AD417)","v":0},{"$f":"COUNTIF(TabUren22[datum],$AD417)","v":0},{"$f":"COUNTIF(#REF!,$AD417)","v":{"$error":"#REF!"}},{"$f":"COUNTIF(#REF!,$AD417)","v":{"$error":"#REF!"}},{"$f":"COUNTIF(#REF!,$AD417)","v":{"$error":"#REF!"}},{"$f":"COUNTIF(#REF!,$AD417)","v":{"$error":"#REF!"}},0,0,0,0,0,0,"","","","","","","","","","","","",0,""]
[null,null,null,null,null,null,null,null,null,null,null,null,null,null,null,null,null,null,null,null,null,null,null,null,null,null,null,null,null,"2016-02-21",{"$f":"SUMIFS('LOG1'!$J$5:$J$501,TabUren2[datum],$AD418)","v":"00:00:00"},{"$f":"SUMIFS('LOG2'!$J$5:$J$501,TabUren22[datum],$AD418)","v":"00:00:00"},{"$f":"SUMIFS(#REF!,#REF!,$AD418)","v":{"$error":"#REF!"}},{"$f":"SUMIFS(#REF!,#REF!,$AD418)","v":{"$error":"#REF!"}},{"$f":"SUMIFS(#REF!,#REF!,$AD418)","v":{"$error":"#REF!"}},{"$f":"SUMIFS(#REF!,#REF!,$AD418)","v":{"$error":"#REF!"}},{"$f":"COUNTIF(TabUren2[datum],$AD418)","v":0},{"$f":"COUNTIF(TabUren22[datum],$AD418)","v":0},{"$f":"COUNTIF(#REF!,$AD418)","v":{"$error":"#REF!"}},{"$f":"COUNTIF(#REF!,$AD418)","v":{"$error":"#REF!"}},{"$f":"COUNTIF(#REF!,$AD418)","v":{"$error":"#REF!"}},{"$f":"COUNTIF(#REF!,$AD418)","v":{"$error":"#REF!"}},0,0,0,0,0,0,"","","","","","","","","","","","",0,""]
[null,null,null,null,null,null,null,null,null,null,null,null,null,null,null,null,null,null,null,null,null,null,null,null,null,null,null,null,null,"2016-02-22",{"$f":"SUMIFS('LOG1'!$J$5:$J$501,TabUren2[datum],$AD419)","v":"00:00:00"},{"$f":"SUMIFS('LOG2'!$J$5:$J$501,TabUren22[datum],$AD419)","v":"00:00:00"},{"$f":"SUMIFS(#REF!,#REF!,$AD419)","v":{"$error":"#REF!"}},{"$f":"SUMIFS(#REF!,#REF!,$AD419)","v":{"$error":"#REF!"}},{"$f":"SUMIFS(#REF!,#REF!,$AD419)","v":{"$error":"#REF!"}},{"$f":"SUMIFS(#REF!,#REF!,$AD419)","v":{"$error":"#REF!"}},{"$f":"COUNTIF(TabUren2[datum],$AD419)","v":0},{"$f":"COUNTIF(TabUren22[datum],$AD419)","v":0},{"$f":"COUNTIF(#REF!,$AD419)","v":{"$error":"#REF!"}},{"$f":"COUNTIF(#REF!,$AD419)","v":{"$error":"#REF!"}},{"$f":"COUNTIF(#REF!,$AD419)","v":{"$error":"#REF!"}},{"$f":"COUNTIF(#REF!,$AD419)","v":{"$error":"#REF!"}},0,0,0,0,0,0,"","","","","","","","","","","","",0,""]
[null,null,null,null,null,null,null,null,null,null,null,null,null,null,null,null,null,null,null,null,null,null,null,null,null,null,null,null,null,"2016-02-23",{"$f":"SUMIFS('LOG1'!$J$5:$J$501,TabUren2[datum],$AD420)","v":"00:00:00"},{"$f":"SUMIFS('LOG2'!$J$5:$J$501,TabUren22[datum],$AD420)","v":"00:00:00"},{"$f":"SUMIFS(#REF!,#REF!,$AD420)","v":{"$error":"#REF!"}},{"$f":"SUMIFS(#REF!,#REF!,$AD420)","v":{"$error":"#REF!"}},{"$f":"SUMIFS(#REF!,#REF!,$AD420)","v":{"$error":"#REF!"}},{"$f":"SUMIFS(#REF!,#REF!,$AD420)","v":{"$error":"#REF!"}},{"$f":"COUNTIF(TabUren2[datum],$AD420)","v":0},{"$f":"COUNTIF(TabUren22[datum],$AD420)","v":0},{"$f":"COUNTIF(#REF!,$AD420)","v":{"$error":"#REF!"}},{"$f":"COUNTIF(#REF!,$AD420)","v":{"$error":"#REF!"}},{"$f":"COUNTIF(#REF!,$AD420)","v":{"$error":"#REF!"}},{"$f":"COUNTIF(#REF!,$AD420)","v":{"$error":"#REF!"}},0,0,0,0,0,0,"","","","","","","","","","","","",0,""]
[null,null,null,null,null,null,null,null,null,null,null,null,null,null,null,null,null,null,null,null,null,null,null,null,null,null,null,null,null,"2016-02-24",{"$f":"SUMIFS('LOG1'!$J$5:$J$501,TabUren2[datum],$AD421)","v":"00:00:00"},{"$f":"SUMIFS('LOG2'!$J$5:$J$501,TabUren22[datum],$AD421)","v":"00:00:00"},{"$f":"SUMIFS(#REF!,#REF!,$AD421)","v":{"$error":"#REF!"}},{"$f":"SUMIFS(#REF!,#REF!,$AD421)","v":{"$error":"#REF!"}},{"$f":"SUMIFS(#REF!,#REF!,$AD421)","v":{"$error":"#REF!"}},{"$f":"SUMIFS(#REF!,#REF!,$AD421)","v":{"$error":"#REF!"}},{"$f":"COUNTIF(TabUren2[datum],$AD421)","v":0},{"$f":"COUNTIF(TabUren22[datum],$AD421)","v":0},{"$f":"COUNTIF(#REF!,$AD421)","v":{"$error":"#REF!"}},{"$f":"COUNTIF(#REF!,$AD421)","v":{"$error":"#REF!"}},{"$f":"COUNTIF(#REF!,$AD421)","v":{"$error":"#REF!"}},{"$f":"COUNTIF(#REF!,$AD421)","v":{"$error":"#REF!"}},0,0,0,0,0,0,"","","","","","","","","","","","",0,""]
[null,null,null,null,null,null,null,null,null,null,null,null,null,null,null,null,null,null,null,null,null,null,null,null,null,null,null,null,null,"2016-02-25",{"$f":"SUMIFS('LOG1'!$J$5:$J$501,TabUren2[datum],$AD422)","v":"00:00:00"},{"$f":"SUMIFS('LOG2'!$J$5:$J$501,TabUren22[datum],$AD422)","v":"00:00:00"},{"$f":"SUMIFS(#REF!,#REF!,$AD422)","v":{"$error":"#REF!"}},{"$f":"SUMIFS(#REF!,#REF!,$AD422)","v":{"$error":"#REF!"}},{"$f":"SUMIFS(#REF!,#REF!,$AD422)","v":{"$error":"#REF!"}},{"$f":"SUMIFS(#REF!,#REF!,$AD422)","v":{"$error":"#REF!"}},{"$f":"COUNTIF(TabUren2[datum],$AD422)","v":0},{"$f":"COUNTIF(TabUren22[datum],$AD422)","v":0},{"$f":"COUNTIF(#REF!,$AD422)","v":{"$error":"#REF!"}},{"$f":"COUNTIF(#REF!,$AD422)","v":{"$error":"#REF!"}},{"$f":"COUNTIF(#REF!,$AD422)","v":{"$error":"#REF!"}},{"$f":"COUNTIF(#REF!,$AD422)","v":{"$error":"#REF!"}},0,0,0,0,0,0,"","","","","","","","","","","","",0,""]
[null,null,null,null,null,null,null,null,null,null,null,null,null,null,null,null,null,null,null,null,null,null,null,null,null,null,null,null,null,"2016-02-26",{"$f":"SUMIFS('LOG1'!$J$5:$J$501,TabUren2[datum],$AD423)","v":"00:00:00"},{"$f":"SUMIFS('LOG2'!$J$5:$J$501,TabUren22[datum],$AD423)","v":"00:00:00"},{"$f":"SUMIFS(#REF!,#REF!,$AD423)","v":{"$error":"#REF!"}},{"$f":"SUMIFS(#REF!,#REF!,$AD423)","v":{"$error":"#REF!"}},{"$f":"SUMIFS(#REF!,#REF!,$AD423)","v":{"$error":"#REF!"}},{"$f":"SUMIFS(#REF!,#REF!,$AD423)","v":{"$error":"#REF!"}},{"$f":"COUNTIF(TabUren2[datum],$AD423)","v":0},{"$f":"COUNTIF(TabUren22[datum],$AD423)","v":0},{"$f":"COUNTIF(#REF!,$AD423)","v":{"$error":"#REF!"}},{"$f":"COUNTIF(#REF!,$AD423)","v":{"$error":"#REF!"}},{"$f":"COUNTIF(#REF!,$AD423)","v":{"$error":"#REF!"}},{"$f":"COUNTIF(#REF!,$AD423)","v":{"$error":"#REF!"}},0,0,0,0,0,0,"","","","","","","","","","","","",0,""]
[null,null,null,null,null,null,null,null,null,null,null,null,null,null,null,null,null,null,null,null,null,null,null,null,null,null,null,null,null,"2016-02-27",{"$f":"SUMIFS('LOG1'!$J$5:$J$501,TabUren2[datum],$AD424)","v":"00:00:00"},{"$f":"SUMIFS('LOG2'!$J$5:$J$501,TabUren22[datum],$AD424)","v":"00:00:00"},{"$f":"SUMIFS(#REF!,#REF!,$AD424)","v":{"$error":"#REF!"}},{"$f":"SUMIFS(#REF!,#REF!,$AD424)","v":{"$error":"#REF!"}},{"$f":"SUMIFS(#REF!,#REF!,$AD424)","v":{"$error":"#REF!"}},{"$f":"SUMIFS(#REF!,#REF!,$AD424)","v":{"$error":"#REF!"}},{"$f":"COUNTIF(TabUren2[datum],$AD424)","v":0},{"$f":"COUNTIF(TabUren22[datum],$AD424)","v":0},{"$f":"COUNTIF(#REF!,$AD424)","v":{"$error":"#REF!"}},{"$f":"COUNTIF(#REF!,$AD424)","v":{"$error":"#REF!"}},{"$f":"COUNTIF(#REF!,$AD424)","v":{"$error":"#REF!"}},{"$f":"COUNTIF(#REF!,$AD424)","v":{"$error":"#REF!"}},0,0,0,0,0,0,"","","","","","","","","","","","",0,""]
[null,null,null,null,null,null,null,null,null,null,null,null,null,null,null,null,null,null,null,null,null,null,null,null,null,null,null,null,null,"2016-02-28",{"$f":"SUMIFS('LOG1'!$J$5:$J$501,TabUren2[datum],$AD425)","v":"00:00:00"},{"$f":"SUMIFS('LOG2'!$J$5:$J$501,TabUren22[datum],$AD425)","v":"00:00:00"},{"$f":"SUMIFS(#REF!,#REF!,$AD425)","v":{"$error":"#REF!"}},{"$f":"SUMIFS(#REF!,#REF!,$AD425)","v":{"$error":"#REF!"}},{"$f":"SUMIFS(#REF!,#REF!,$AD425)","v":{"$error":"#REF!"}},{"$f":"SUMIFS(#REF!,#REF!,$AD425)","v":{"$error":"#REF!"}},{"$f":"COUNTIF(TabUren2[datum],$AD425)","v":0},{"$f":"COUNTIF(TabUren22[datum],$AD425)","v":0},{"$f":"COUNTIF(#REF!,$AD425)","v":{"$error":"#REF!"}},{"$f":"COUNTIF(#REF!,$AD425)","v":{"$error":"#REF!"}},{"$f":"COUNTIF(#REF!,$AD425)","v":{"$error":"#REF!"}},{"$f":"COUNTIF(#REF!,$AD425)","v":{"$error":"#REF!"}},0,0,0,0,0,0,"","","","","","","","","","","","",0,""]
[null,null,null,null,null,null,null,null,null,null,null,null,null,null,null,null,null,null,null,null,null,null,null,null,null,null,null,null,null,"2016-02-29",{"$f":"SUMIFS('LOG1'!$J$5:$J$501,TabUren2[datum],$AD426)","v":"00:00:00"},{"$f":"SUMIFS('LOG2'!$J$5:$J$501,TabUren22[datum],$AD426)","v":"00:00:00"},{"$f":"SUMIFS(#REF!,#REF!,$AD426)","v":{"$error":"#REF!"}},{"$f":"SUMIFS(#REF!,#REF!,$AD426)","v":{"$error":"#REF!"}},{"$f":"SUMIFS(#REF!,#REF!,$AD426)","v":{"$error":"#REF!"}},{"$f":"SUMIFS(#REF!,#REF!,$AD426)","v":{"$error":"#REF!"}},{"$f":"COUNTIF(TabUren2[datum],$AD426)","v":0},{"$f":"COUNTIF(TabUren22[datum],$AD426)","v":0},{"$f":"COUNTIF(#REF!,$AD426)","v":{"$error":"#REF!"}},{"$f":"COUNTIF(#REF!,$AD426)","v":{"$error":"#REF!"}},{"$f":"COUNTIF(#REF!,$AD426)","v":{"$error":"#REF!"}},{"$f":"COUNTIF(#REF!,$AD426)","v":{"$error":"#REF!"}},0,0,0,0,0,0,"","","","","","","","","","","","",0,""]
[null,null,null,null,null,null,null,null,null,null,null,null,null,null,null,null,null,null,null,null,null,null,null,null,null,null,null,null,null,"2016-03-01",{"$f":"SUMIFS('LOG1'!$J$5:$J$501,TabUren2[datum],$AD427)","v":"00:00:00"},{"$f":"SUMIFS('LOG2'!$J$5:$J$501,TabUren22[datum],$AD427)","v":"00:00:00"},{"$f":"SUMIFS(#REF!,#REF!,$AD427)","v":{"$error":"#REF!"}},{"$f":"SUMIFS(#REF!,#REF!,$AD427)","v":{"$error":"#REF!"}},{"$f":"SUMIFS(#REF!,#REF!,$AD427)","v":{"$error":"#REF!"}},{"$f":"SUMIFS(#REF!,#REF!,$AD427)","v":{"$error":"#REF!"}},{"$f":"COUNTIF(TabUren2[datum],$AD427)","v":0},{"$f":"COUNTIF(TabUren22[datum],$AD427)","v":0},{"$f":"COUNTIF(#REF!,$AD427)","v":{"$error":"#REF!"}},{"$f":"COUNTIF(#REF!,$AD427)","v":{"$error":"#REF!"}},{"$f":"COUNTIF(#REF!,$AD427)","v":{"$error":"#REF!"}},{"$f":"COUNTIF(#REF!,$AD427)","v":{"$error":"#REF!"}},0,0,0,0,0,0,"","","","","","","","","","","","",0,""]
[null,null,null,null,null,null,null,null,null,null,null,null,null,null,null,null,null,null,null,null,null,null,null,null,null,null,null,null,null,"2016-03-02",{"$f":"SUMIFS('LOG1'!$J$5:$J$501,TabUren2[datum],$AD428)","v":"00:00:00"},{"$f":"SUMIFS('LOG2'!$J$5:$J$501,TabUren22[datum],$AD428)","v":"00:00:00"},{"$f":"SUMIFS(#REF!,#REF!,$AD428)","v":{"$error":"#REF!"}},{"$f":"SUMIFS(#REF!,#REF!,$AD428)","v":{"$error":"#REF!"}},{"$f":"SUMIFS(#REF!,#REF!,$AD428)","v":{"$error":"#REF!"}},{"$f":"SUMIFS(#REF!,#REF!,$AD428)","v":{"$error":"#REF!"}},{"$f":"COUNTIF(TabUren2[datum],$AD428)","v":0},{"$f":"COUNTIF(TabUren22[datum],$AD428)","v":0},{"$f":"COUNTIF(#REF!,$AD428)","v":{"$error":"#REF!"}},{"$f":"COUNTIF(#REF!,$AD428)","v":{"$error":"#REF!"}},{"$f":"COUNTIF(#REF!,$AD428)","v":{"$error":"#REF!"}},{"$f":"COUNTIF(#REF!,$AD428)","v":{"$error":"#REF!"}},0,0,0,0,0,0,"","","","","","","","","","","","",0,""]
[null,null,null,null,null,null,null,null,null,null,null,null,null,null,null,null,null,null,null,null,null,null,null,null,null,null,null,null,null,"2016-03-03",{"$f":"SUMIFS('LOG1'!$J$5:$J$501,TabUren2[datum],$AD429)","v":"00:00:00"},{"$f":"SUMIFS('LOG2'!$J$5:$J$501,TabUren22[datum],$AD429)","v":"00:00:00"},{"$f":"SUMIFS(#REF!,#REF!,$AD429)","v":{"$error":"#REF!"}},{"$f":"SUMIFS(#REF!,#REF!,$AD429)","v":{"$error":"#REF!"}},{"$f":"SUMIFS(#REF!,#REF!,$AD429)","v":{"$error":"#REF!"}},{"$f":"SUMIFS(#REF!,#REF!,$AD429)","v":{"$error":"#REF!"}},{"$f":"COUNTIF(TabUren2[datum],$AD429)","v":0},{"$f":"COUNTIF(TabUren22[datum],$AD429)","v":0},{"$f":"COUNTIF(#REF!,$AD429)","v":{"$error":"#REF!"}},{"$f":"COUNTIF(#REF!,$AD429)","v":{"$error":"#REF!"}},{"$f":"COUNTIF(#REF!,$AD429)","v":{"$error":"#REF!"}},{"$f":"COUNTIF(#REF!,$AD429)","v":{"$error":"#REF!"}},0,0,0,0,0,0,"","","","","","","","","","","","",0,""]
[null,null,null,null,null,null,null,null,null,null,null,null,null,null,null,null,null,null,null,null,null,null,null,null,null,null,null,null,null,"2016-03-04",{"$f":"SUMIFS('LOG1'!$J$5:$J$501,TabUren2[datum],$AD430)","v":"00:00:00"},{"$f":"SUMIFS('LOG2'!$J$5:$J$501,TabUren22[datum],$AD430)","v":"00:00:00"},{"$f":"SUMIFS(#REF!,#REF!,$AD430)","v":{"$error":"#REF!"}},{"$f":"SUMIFS(#REF!,#REF!,$AD430)","v":{"$error":"#REF!"}},{"$f":"SUMIFS(#REF!,#REF!,$AD430)","v":{"$error":"#REF!"}},{"$f":"SUMIFS(#REF!,#REF!,$AD430)","v":{"$error":"#REF!"}},{"$f":"COUNTIF(TabUren2[datum],$AD430)","v":0},{"$f":"COUNTIF(TabUren22[datum],$AD430)","v":0},{"$f":"COUNTIF(#REF!,$AD430)","v":{"$error":"#REF!"}},{"$f":"COUNTIF(#REF!,$AD430)","v":{"$error":"#REF!"}},{"$f":"COUNTIF(#REF!,$AD430)","v":{"$error":"#REF!"}},{"$f":"COUNTIF(#REF!,$AD430)","v":{"$error":"#REF!"}},0,0,0,0,0,0,"","","","","","","","","","","","",0,""]
[null,null,null,null,null,null,null,null,null,null,null,null,null,null,null,null,null,null,null,null,null,null,null,null,null,null,null,null,null,"2016-03-05",{"$f":"SUMIFS('LOG1'!$J$5:$J$501,TabUren2[datum],$AD431)","v":"00:00:00"},{"$f":"SUMIFS('LOG2'!$J$5:$J$501,TabUren22[datum],$AD431)","v":"00:00:00"},{"$f":"SUMIFS(#REF!,#REF!,$AD431)","v":{"$error":"#REF!"}},{"$f":"SUMIFS(#REF!,#REF!,$AD431)","v":{"$error":"#REF!"}},{"$f":"SUMIFS(#REF!,#REF!,$AD431)","v":{"$error":"#REF!"}},{"$f":"SUMIFS(#REF!,#REF!,$AD431)","v":{"$error":"#REF!"}},{"$f":"COUNTIF(TabUren2[datum],$AD431)","v":0},{"$f":"COUNTIF(TabUren22[datum],$AD431)","v":0},{"$f":"COUNTIF(#REF!,$AD431)","v":{"$error":"#REF!"}},{"$f":"COUNTIF(#REF!,$AD431)","v":{"$error":"#REF!"}},{"$f":"COUNTIF(#REF!,$AD431)","v":{"$error":"#REF!"}},{"$f":"COUNTIF(#REF!,$AD431)","v":{"$error":"#REF!"}},0,0,0,0,0,0,"","","","","","","","","","","","",0,""]
[null,null,null,null,null,null,null,null,null,null,null,null,null,null,null,null,null,null,null,null,null,null,null,null,null,null,null,null,null,"2016-03-06",{"$f":"SUMIFS('LOG1'!$J$5:$J$501,TabUren2[datum],$AD432)","v":"00:00:00"},{"$f":"SUMIFS('LOG2'!$J$5:$J$501,TabUren22[datum],$AD432)","v":"00:00:00"},{"$f":"SUMIFS(#REF!,#REF!,$AD432)","v":{"$error":"#REF!"}},{"$f":"SUMIFS(#REF!,#REF!,$AD432)","v":{"$error":"#REF!"}},{"$f":"SUMIFS(#REF!,#REF!,$AD432)","v":{"$error":"#REF!"}},{"$f":"SUMIFS(#REF!,#REF!,$AD432)","v":{"$error":"#REF!"}},{"$f":"COUNTIF(TabUren2[datum],$AD432)","v":0},{"$f":"COUNTIF(TabUren22[datum],$AD432)","v":0},{"$f":"COUNTIF(#REF!,$AD432)","v":{"$error":"#REF!"}},{"$f":"COUNTIF(#REF!,$AD432)","v":{"$error":"#REF!"}},{"$f":"COUNTIF(#REF!,$AD432)","v":{"$error":"#REF!"}},{"$f":"COUNTIF(#REF!,$AD432)","v":{"$error":"#REF!"}},0,0,0,0,0,0,"","","","","","","","","","","","",0,""]
[null,null,null,null,null,null,null,null,null,null,null,null,null,null,null,null,null,null,null,null,null,null,null,null,null,null,null,null,null,"2016-03-07",{"$f":"SUMIFS('LOG1'!$J$5:$J$501,TabUren2[datum],$AD433)","v":"00:00:00"},{"$f":"SUMIFS('LOG2'!$J$5:$J$501,TabUren22[datum],$AD433)","v":"00:00:00"},{"$f":"SUMIFS(#REF!,#REF!,$AD433)","v":{"$error":"#REF!"}},{"$f":"SUMIFS(#REF!,#REF!,$AD433)","v":{"$error":"#REF!"}},{"$f":"SUMIFS(#REF!,#REF!,$AD433)","v":{"$error":"#REF!"}},{"$f":"SUMIFS(#REF!,#REF!,$AD433)","v":{"$error":"#REF!"}},{"$f":"COUNTIF(TabUren2[datum],$AD433)","v":0},{"$f":"COUNTIF(TabUren22[datum],$AD433)","v":0},{"$f":"COUNTIF(#REF!,$AD433)","v":{"$error":"#REF!"}},{"$f":"COUNTIF(#REF!,$AD433)","v":{"$error":"#REF!"}},{"$f":"COUNTIF(#REF!,$AD433)","v":{"$error":"#REF!"}},{"$f":"COUNTIF(#REF!,$AD433)","v":{"$error":"#REF!"}},0,0,0,0,0,0,"","","","","","","","","","","","",0,""]
[null,null,null,null,null,null,null,null,null,null,null,null,null,null,null,null,null,null,null,null,null,null,null,null,null,null,null,null,null,"2016-03-08",{"$f":"SUMIFS('LOG1'!$J$5:$J$501,TabUren2[datum],$AD434)","v":"00:00:00"},{"$f":"SUMIFS('LOG2'!$J$5:$J$501,TabUren22[datum],$AD434)","v":"00:00:00"},{"$f":"SUMIFS(#REF!,#REF!,$AD434)","v":{"$error":"#REF!"}},{"$f":"SUMIFS(#REF!,#REF!,$AD434)","v":{"$error":"#REF!"}},{"$f":"SUMIFS(#REF!,#REF!,$AD434)","v":{"$error":"#REF!"}},{"$f":"SUMIFS(#REF!,#REF!,$AD434)","v":{"$error":"#REF!"}},{"$f":"COUNTIF(TabUren2[datum],$AD434)","v":0},{"$f":"COUNTIF(TabUren22[datum],$AD434)","v":0},{"$f":"COUNTIF(#REF!,$AD434)","v":{"$error":"#REF!"}},{"$f":"COUNTIF(#REF!,$AD434)","v":{"$error":"#REF!"}},{"$f":"COUNTIF(#REF!,$AD434)","v":{"$error":"#REF!"}},{"$f":"COUNTIF(#REF!,$AD434)","v":{"$error":"#REF!"}},0,0,0,0,0,0,"","","","","","","","","","","","",0,""]
[null,null,null,null,null,null,null,null,null,null,null,null,null,null,null,null,null,null,null,null,null,null,null,null,null,null,null,null,null,"2016-03-09",{"$f":"SUMIFS('LOG1'!$J$5:$J$501,TabUren2[datum],$AD435)","v":"00:00:00"},{"$f":"SUMIFS('LOG2'!$J$5:$J$501,TabUren22[datum],$AD435)","v":"00:00:00"},{"$f":"SUMIFS(#REF!,#REF!,$AD435)","v":{"$error":"#REF!"}},{"$f":"SUMIFS(#REF!,#REF!,$AD435)","v":{"$error":"#REF!"}},{"$f":"SUMIFS(#REF!,#REF!,$AD435)","v":{"$error":"#REF!"}},{"$f":"SUMIFS(#REF!,#REF!,$AD435)","v":{"$error":"#REF!"}},{"$f":"COUNTIF(TabUren2[datum],$AD435)","v":0},{"$f":"COUNTIF(TabUren22[datum],$AD435)","v":0},{"$f":"COUNTIF(#REF!,$AD435)","v":{"$error":"#REF!"}},{"$f":"COUNTIF(#REF!,$AD435)","v":{"$error":"#REF!"}},{"$f":"COUNTIF(#REF!,$AD435)","v":{"$error":"#REF!"}},{"$f":"COUNTIF(#REF!,$AD435)","v":{"$error":"#REF!"}},0,0,0,0,0,0,"","","","","","","","","","","","",0,""]
[null,null,null,null,null,null,null,null,null,null,null,null,null,null,null,null,null,null,null,null,null,null,null,null,null,null,null,null,null,"2016-03-10",{"$f":"SUMIFS('LOG1'!$J$5:$J$501,TabUren2[datum],$AD436)","v":"00:00:00"},{"$f":"SUMIFS('LOG2'!$J$5:$J$501,TabUren22[datum],$AD436)","v":"00:00:00"},{"$f":"SUMIFS(#REF!,#REF!,$AD436)","v":{"$error":"#REF!"}},{"$f":"SUMIFS(#REF!,#REF!,$AD436)","v":{"$error":"#REF!"}},{"$f":"SUMIFS(#REF!,#REF!,$AD436)","v":{"$error":"#REF!"}},{"$f":"SUMIFS(#REF!,#REF!,$AD436)","v":{"$error":"#REF!"}},{"$f":"COUNTIF(TabUren2[datum],$AD436)","v":0},{"$f":"COUNTIF(TabUren22[datum],$AD436)","v":0},{"$f":"COUNTIF(#REF!,$AD436)","v":{"$error":"#REF!"}},{"$f":"COUNTIF(#REF!,$AD436)","v":{"$error":"#REF!"}},{"$f":"COUNTIF(#REF!,$AD436)","v":{"$error":"#REF!"}},{"$f":"COUNTIF(#REF!,$AD436)","v":{"$error":"#REF!"}},0,0,0,0,0,0,"","","","","","","","","","","","",0,""]
[null,null,null,null,null,null,null,null,null,null,null,null,null,null,null,null,null,null,null,null,null,null,null,null,null,null,null,null,null,"2016-03-11",{"$f":"SUMIFS('LOG1'!$J$5:$J$501,TabUren2[datum],$AD437)","v":"00:00:00"},{"$f":"SUMIFS('LOG2'!$J$5:$J$501,TabUren22[datum],$AD437)","v":"00:00:00"},{"$f":"SUMIFS(#REF!,#REF!,$AD437)","v":{"$error":"#REF!"}},{"$f":"SUMIFS(#REF!,#REF!,$AD437)","v":{"$error":"#REF!"}},{"$f":"SUMIFS(#REF!,#REF!,$AD437)","v":{"$error":"#REF!"}},{"$f":"SUMIFS(#REF!,#REF!,$AD437)","v":{"$error":"#REF!"}},{"$f":"COUNTIF(TabUren2[datum],$AD437)","v":0},{"$f":"COUNTIF(TabUren22[datum],$AD437)","v":0},{"$f":"COUNTIF(#REF!,$AD437)","v":{"$error":"#REF!"}},{"$f":"COUNTIF(#REF!,$AD437)","v":{"$error":"#REF!"}},{"$f":"COUNTIF(#REF!,$AD437)","v":{"$error":"#REF!"}},{"$f":"COUNTIF(#REF!,$AD437)","v":{"$error":"#REF!"}},0,0,0,0,0,0,"","","","","","","","","","","","",0,""]
[null,null,null,null,null,null,null,null,null,null,null,null,null,null,null,null,null,null,null,null,null,null,null,null,null,null,null,null,null,"2016-03-12",{"$f":"SUMIFS('LOG1'!$J$5:$J$501,TabUren2[datum],$AD438)","v":"00:00:00"},{"$f":"SUMIFS('LOG2'!$J$5:$J$501,TabUren22[datum],$AD438)","v":"00:00:00"},{"$f":"SUMIFS(#REF!,#REF!,$AD438)","v":{"$error":"#REF!"}},{"$f":"SUMIFS(#REF!,#REF!,$AD438)","v":{"$error":"#REF!"}},{"$f":"SUMIFS(#REF!,#REF!,$AD438)","v":{"$error":"#REF!"}},{"$f":"SUMIFS(#REF!,#REF!,$AD438)","v":{"$error":"#REF!"}},{"$f":"COUNTIF(TabUren2[datum],$AD438)","v":0},{"$f":"COUNTIF(TabUren22[datum],$AD438)","v":0},{"$f":"COUNTIF(#REF!,$AD438)","v":{"$error":"#REF!"}},{"$f":"COUNTIF(#REF!,$AD438)","v":{"$error":"#REF!"}},{"$f":"COUNTIF(#REF!,$AD438)","v":{"$error":"#REF!"}},{"$f":"COUNTIF(#REF!,$AD438)","v":{"$error":"#REF!"}},0,0,0,0,0,0,"","","","","","","","","","","","",0,""]
[null,null,null,null,null,null,null,null,null,null,null,null,null,null,null,null,null,null,null,null,null,null,null,null,null,null,null,null,null,"2016-03-13",{"$f":"SUMIFS('LOG1'!$J$5:$J$501,TabUren2[datum],$AD439)","v":"00:00:00"},{"$f":"SUMIFS('LOG2'!$J$5:$J$501,TabUren22[datum],$AD439)","v":"00:00:00"},{"$f":"SUMIFS(#REF!,#REF!,$AD439)","v":{"$error":"#REF!"}},{"$f":"SUMIFS(#REF!,#REF!,$AD439)","v":{"$error":"#REF!"}},{"$f":"SUMIFS(#REF!,#REF!,$AD439)","v":{"$error":"#REF!"}},{"$f":"SUMIFS(#REF!,#REF!,$AD439)","v":{"$error":"#REF!"}},{"$f":"COUNTIF(TabUren2[datum],$AD439)","v":0},{"$f":"COUNTIF(TabUren22[datum],$AD439)","v":0},{"$f":"COUNTIF(#REF!,$AD439)","v":{"$error":"#REF!"}},{"$f":"COUNTIF(#REF!,$AD439)","v":{"$error":"#REF!"}},{"$f":"COUNTIF(#REF!,$AD439)","v":{"$error":"#REF!"}},{"$f":"COUNTIF(#REF!,$AD439)","v":{"$error":"#REF!"}},0,0,0,0,0,0,"","","","","","","","","","","","",0,""]
[null,null,null,null,null,null,null,null,null,null,null,null,null,null,null,null,null,null,null,null,null,null,null,null,null,null,null,null,null,"2016-03-14",{"$f":"SUMIFS('LOG1'!$J$5:$J$501,TabUren2[datum],$AD440)","v":"00:00:00"},{"$f":"SUMIFS('LOG2'!$J$5:$J$501,TabUren22[datum],$AD440)","v":"00:00:00"},{"$f":"SUMIFS(#REF!,#REF!,$AD440)","v":{"$error":"#REF!"}},{"$f":"SUMIFS(#REF!,#REF!,$AD440)","v":{"$error":"#REF!"}},{"$f":"SUMIFS(#REF!,#REF!,$AD440)","v":{"$error":"#REF!"}},{"$f":"SUMIFS(#REF!,#REF!,$AD440)","v":{"$error":"#REF!"}},{"$f":"COUNTIF(TabUren2[datum],$AD440)","v":0},{"$f":"COUNTIF(TabUren22[datum],$AD440)","v":0},{"$f":"COUNTIF(#REF!,$AD440)","v":{"$error":"#REF!"}},{"$f":"COUNTIF(#REF!,$AD440)","v":{"$error":"#REF!"}},{"$f":"COUNTIF(#REF!,$AD440)","v":{"$error":"#REF!"}},{"$f":"COUNTIF(#REF!,$AD440)","v":{"$error":"#REF!"}},0,0,0,0,0,0,"","","","","","","","","","","","",0,""]
[null,null,null,null,null,null,null,null,null,null,null,null,null,null,null,null,null,null,null,null,null,null,null,null,null,null,null,null,null,"2016-03-15",{"$f":"SUMIFS('LOG1'!$J$5:$J$501,TabUren2[datum],$AD441)","v":"00:00:00"},{"$f":"SUMIFS('LOG2'!$J$5:$J$501,TabUren22[datum],$AD441)","v":"00:00:00"},{"$f":"SUMIFS(#REF!,#REF!,$AD441)","v":{"$error":"#REF!"}},{"$f":"SUMIFS(#REF!,#REF!,$AD441)","v":{"$error":"#REF!"}},{"$f":"SUMIFS(#REF!,#REF!,$AD441)","v":{"$error":"#REF!"}},{"$f":"SUMIFS(#REF!,#REF!,$AD441)","v":{"$error":"#REF!"}},{"$f":"COUNTIF(TabUren2[datum],$AD441)","v":0},{"$f":"COUNTIF(TabUren22[datum],$AD441)","v":0},{"$f":"COUNTIF(#REF!,$AD441)","v":{"$error":"#REF!"}},{"$f":"COUNTIF(#REF!,$AD441)","v":{"$error":"#REF!"}},{"$f":"COUNTIF(#REF!,$AD441)","v":{"$error":"#REF!"}},{"$f":"COUNTIF(#REF!,$AD441)","v":{"$error":"#REF!"}},0,0,0,0,0,0,"","","","","","","","","","","","",0,""]
[null,null,null,null,null,null,null,null,null,null,null,null,null,null,null,null,null,null,null,null,null,null,null,null,null,null,null,null,null,"2016-03-16",{"$f":"SUMIFS('LOG1'!$J$5:$J$501,TabUren2[datum],$AD442)","v":"00:00:00"},{"$f":"SUMIFS('LOG2'!$J$5:$J$501,TabUren22[datum],$AD442)","v":"00:00:00"},{"$f":"SUMIFS(#REF!,#REF!,$AD442)","v":{"$error":"#REF!"}},{"$f":"SUMIFS(#REF!,#REF!,$AD442)","v":{"$error":"#REF!"}},{"$f":"SUMIFS(#REF!,#REF!,$AD442)","v":{"$error":"#REF!"}},{"$f":"SUMIFS(#REF!,#REF!,$AD442)","v":{"$error":"#REF!"}},{"$f":"COUNTIF(TabUren2[datum],$AD442)","v":0},{"$f":"COUNTIF(TabUren22[datum],$AD442)","v":0},{"$f":"COUNTIF(#REF!,$AD442)","v":{"$error":"#REF!"}},{"$f":"COUNTIF(#REF!,$AD442)","v":{"$error":"#REF!"}},{"$f":"COUNTIF(#REF!,$AD442)","v":{"$error":"#REF!"}},{"$f":"COUNTIF(#REF!,$AD442)","v":{"$error":"#REF!"}},0,0,0,0,0,0,"","","","","","","","","","","","",0,""]
[null,null,null,null,null,null,null,null,null,null,null,null,null,null,null,null,null,null,null,null,null,null,null,null,null,null,null,null,null,"2016-03-17",{"$f":"SUMIFS('LOG1'!$J$5:$J$501,TabUren2[datum],$AD443)","v":"00:00:00"},{"$f":"SUMIFS('LOG2'!$J$5:$J$501,TabUren22[datum],$AD443)","v":"00:00:00"},{"$f":"SUMIFS(#REF!,#REF!,$AD443)","v":{"$error":"#REF!"}},{"$f":"SUMIFS(#REF!,#REF!,$AD443)","v":{"$error":"#REF!"}},{"$f":"SUMIFS(#REF!,#REF!,$AD443)","v":{"$error":"#REF!"}},{"$f":"SUMIFS(#REF!,#REF!,$AD443)","v":{"$error":"#REF!"}},{"$f":"COUNTIF(TabUren2[datum],$AD443)","v":0},{"$f":"COUNTIF(TabUren22[datum],$AD443)","v":0},{"$f":"COUNTIF(#REF!,$AD443)","v":{"$error":"#REF!"}},{"$f":"COUNTIF(#REF!,$AD443)","v":{"$error":"#REF!"}},{"$f":"COUNTIF(#REF!,$AD443)","v":{"$error":"#REF!"}},{"$f":"COUNTIF(#REF!,$AD443)","v":{"$error":"#REF!"}},0,0,0,0,0,0,"","","","","","","","","","","","",0,""]
[null,null,null,null,null,null,null,null,null,null,null,null,null,null,null,null,null,null,null,null,null,null,null,null,null,null,null,null,null,"2016-03-18",{"$f":"SUMIFS('LOG1'!$J$5:$J$501,TabUren2[datum],$AD444)","v":"00:00:00"},{"$f":"SUMIFS('LOG2'!$J$5:$J$501,TabUren22[datum],$AD444)","v":"00:00:00"},{"$f":"SUMIFS(#REF!,#REF!,$AD444)","v":{"$error":"#REF!"}},{"$f":"SUMIFS(#REF!,#REF!,$AD444)","v":{"$error":"#REF!"}},{"$f":"SUMIFS(#REF!,#REF!,$AD444)","v":{"$error":"#REF!"}},{"$f":"SUMIFS(#REF!,#REF!,$AD444)","v":{"$error":"#REF!"}},{"$f":"COUNTIF(TabUren2[datum],$AD444)","v":0},{"$f":"COUNTIF(TabUren22[datum],$AD444)","v":0},{"$f":"COUNTIF(#REF!,$AD444)","v":{"$error":"#REF!"}},{"$f":"COUNTIF(#REF!,$AD444)","v":{"$error":"#REF!"}},{"$f":"COUNTIF(#REF!,$AD444)","v":{"$error":"#REF!"}},{"$f":"COUNTIF(#REF!,$AD444)","v":{"$error":"#REF!"}},0,0,0,0,0,0,"","","","","","","","","","","","",0,""]
[null,null,null,null,null,null,null,null,null,null,null,null,null,null,null,null,null,null,null,null,null,null,null,null,null,null,null,null,null,"2016-03-19",{"$f":"SUMIFS('LOG1'!$J$5:$J$501,TabUren2[datum],$AD445)","v":"00:00:00"},{"$f":"SUMIFS('LOG2'!$J$5:$J$501,TabUren22[datum],$AD445)","v":"00:00:00"},{"$f":"SUMIFS(#REF!,#REF!,$AD445)","v":{"$error":"#REF!"}},{"$f":"SUMIFS(#REF!,#REF!,$AD445)","v":{"$error":"#REF!"}},{"$f":"SUMIFS(#REF!,#REF!,$AD445)","v":{"$error":"#REF!"}},{"$f":"SUMIFS(#REF!,#REF!,$AD445)","v":{"$error":"#REF!"}},{"$f":"COUNTIF(TabUren2[datum],$AD445)","v":0},{"$f":"COUNTIF(TabUren22[datum],$AD445)","v":0},{"$f":"COUNTIF(#REF!,$AD445)","v":{"$error":"#REF!"}},{"$f":"COUNTIF(#REF!,$AD445)","v":{"$error":"#REF!"}},{"$f":"COUNTIF(#REF!,$AD445)","v":{"$error":"#REF!"}},{"$f":"COUNTIF(#REF!,$AD445)","v":{"$error":"#REF!"}},0,0,0,0,0,0,"","","","","","","","","","","","",0,""]
[null,null,null,null,null,null,null,null,null,null,null,null,null,null,null,null,null,null,null,null,null,null,null,null,null,null,null,null,null,"2016-03-20",{"$f":"SUMIFS('LOG1'!$J$5:$J$501,TabUren2[datum],$AD446)","v":"00:00:00"},{"$f":"SUMIFS('LOG2'!$J$5:$J$501,TabUren22[datum],$AD446)","v":"00:00:00"},{"$f":"SUMIFS(#REF!,#REF!,$AD446)","v":{"$error":"#REF!"}},{"$f":"SUMIFS(#REF!,#REF!,$AD446)","v":{"$error":"#REF!"}},{"$f":"SUMIFS(#REF!,#REF!,$AD446)","v":{"$error":"#REF!"}},{"$f":"SUMIFS(#REF!,#REF!,$AD446)","v":{"$error":"#REF!"}},{"$f":"COUNTIF(TabUren2[datum],$AD446)","v":0},{"$f":"COUNTIF(TabUren22[datum],$AD446)","v":0},{"$f":"COUNTIF(#REF!,$AD446)","v":{"$error":"#REF!"}},{"$f":"COUNTIF(#REF!,$AD446)","v":{"$error":"#REF!"}},{"$f":"COUNTIF(#REF!,$AD446)","v":{"$error":"#REF!"}},{"$f":"COUNTIF(#REF!,$AD446)","v":{"$error":"#REF!"}},0,0,0,0,0,0,"","","","","","","","","","","","",0,""]
[null,null,null,null,null,null,null,null,null,null,null,null,null,null,null,null,null,null,null,null,null,null,null,null,null,null,null,null,null,"2016-03-21",{"$f":"SUMIFS('LOG1'!$J$5:$J$501,TabUren2[datum],$AD447)","v":"00:00:00"},{"$f":"SUMIFS('LOG2'!$J$5:$J$501,TabUren22[datum],$AD447)","v":"00:00:00"},{"$f":"SUMIFS(#REF!,#REF!,$AD447)","v":{"$error":"#REF!"}},{"$f":"SUMIFS(#REF!,#REF!,$AD447)","v":{"$error":"#REF!"}},{"$f":"SUMIFS(#REF!,#REF!,$AD447)","v":{"$error":"#REF!"}},{"$f":"SUMIFS(#REF!,#REF!,$AD447)","v":{"$error":"#REF!"}},{"$f":"COUNTIF(TabUren2[datum],$AD447)","v":0},{"$f":"COUNTIF(TabUren22[datum],$AD447)","v":0},{"$f":"COUNTIF(#REF!,$AD447)","v":{"$error":"#REF!"}},{"$f":"COUNTIF(#REF!,$AD447)","v":{"$error":"#REF!"}},{"$f":"COUNTIF(#REF!,$AD447)","v":{"$error":"#REF!"}},{"$f":"COUNTIF(#REF!,$AD447)","v":{"$error":"#REF!"}},0,0,0,0,0,0,"","","","","","","","","","","","",0,""]
[null,null,null,null,null,null,null,null,null,null,null,null,null,null,null,null,null,null,null,null,null,null,null,null,null,null,null,null,null,"2016-03-22",{"$f":"SUMIFS('LOG1'!$J$5:$J$501,TabUren2[datum],$AD448)","v":"00:00:00"},{"$f":"SUMIFS('LOG2'!$J$5:$J$501,TabUren22[datum],$AD448)","v":"00:00:00"},{"$f":"SUMIFS(#REF!,#REF!,$AD448)","v":{"$error":"#REF!"}},{"$f":"SUMIFS(#REF!,#REF!,$AD448)","v":{"$error":"#REF!"}},{"$f":"SUMIFS(#REF!,#REF!,$AD448)","v":{"$error":"#REF!"}},{"$f":"SUMIFS(#REF!,#REF!,$AD448)","v":{"$error":"#REF!"}},{"$f":"COUNTIF(TabUren2[datum],$AD448)","v":0},{"$f":"COUNTIF(TabUren22[datum],$AD448)","v":0},{"$f":"COUNTIF(#REF!,$AD448)","v":{"$error":"#REF!"}},{"$f":"COUNTIF(#REF!,$AD448)","v":{"$error":"#REF!"}},{"$f":"COUNTIF(#REF!,$AD448)","v":{"$error":"#REF!"}},{"$f":"COUNTIF(#REF!,$AD448)","v":{"$error":"#REF!"}},0,0,0,0,0,0,"","","","","","","","","","","","",0,""]
[null,null,null,null,null,null,null,null,null,null,null,null,null,null,null,null,null,null,null,null,null,null,null,null,null,null,null,null,null,"2016-03-23",{"$f":"SUMIFS('LOG1'!$J$5:$J$501,TabUren2[datum],$AD449)","v":"00:00:00"},{"$f":"SUMIFS('LOG2'!$J$5:$J$501,TabUren22[datum],$AD449)","v":"00:00:00"},{"$f":"SUMIFS(#REF!,#REF!,$AD449)","v":{"$error":"#REF!"}},{"$f":"SUMIFS(#REF!,#REF!,$AD449)","v":{"$error":"#REF!"}},{"$f":"SUMIFS(#REF!,#REF!,$AD449)","v":{"$error":"#REF!"}},{"$f":"SUMIFS(#REF!,#REF!,$AD449)","v":{"$error":"#REF!"}},{"$f":"COUNTIF(TabUren2[datum],$AD449)","v":0},{"$f":"COUNTIF(TabUren22[datum],$AD449)","v":0},{"$f":"COUNTIF(#REF!,$AD449)","v":{"$error":"#REF!"}},{"$f":"COUNTIF(#REF!,$AD449)","v":{"$error":"#REF!"}},{"$f":"COUNTIF(#REF!,$AD449)","v":{"$error":"#REF!"}},{"$f":"COUNTIF(#REF!,$AD449)","v":{"$error":"#REF!"}},0,0,0,0,0,0,"","","","","","","","","","","","",0,""]
[null,null,null,null,null,null,null,null,null,null,null,null,null,null,null,null,null,null,null,null,null,null,null,null,null,null,null,null,null,"2016-03-24",{"$f":"SUMIFS('LOG1'!$J$5:$J$501,TabUren2[datum],$AD450)","v":"00:00:00"},{"$f":"SUMIFS('LOG2'!$J$5:$J$501,TabUren22[datum],$AD450)","v":"00:00:00"},{"$f":"SUMIFS(#REF!,#REF!,$AD450)","v":{"$error":"#REF!"}},{"$f":"SUMIFS(#REF!,#REF!,$AD450)","v":{"$error":"#REF!"}},{"$f":"SUMIFS(#REF!,#REF!,$AD450)","v":{"$error":"#REF!"}},{"$f":"SUMIFS(#REF!,#REF!,$AD450)","v":{"$error":"#REF!"}},{"$f":"COUNTIF(TabUren2[datum],$AD450)","v":0},{"$f":"COUNTIF(TabUren22[datum],$AD450)","v":0},{"$f":"COUNTIF(#REF!,$AD450)","v":{"$error":"#REF!"}},{"$f":"COUNTIF(#REF!,$AD450)","v":{"$error":"#REF!"}},{"$f":"COUNTIF(#REF!,$AD450)","v":{"$error":"#REF!"}},{"$f":"COUNTIF(#REF!,$AD450)","v":{"$error":"#REF!"}},0,0,0,0,0,0,"","","","","","","","","","","","",0,""]
[null,null,null,null,null,null,null,null,null,null,null,null,null,null,null,null,null,null,null,null,null,null,null,null,null,null,null,null,null,"2016-03-25",{"$f":"SUMIFS('LOG1'!$J$5:$J$501,TabUren2[datum],$AD451)","v":"00:00:00"},{"$f":"SUMIFS('LOG2'!$J$5:$J$501,TabUren22[datum],$AD451)","v":"00:00:00"},{"$f":"SUMIFS(#REF!,#REF!,$AD451)","v":{"$error":"#REF!"}},{"$f":"SUMIFS(#REF!,#REF!,$AD451)","v":{"$error":"#REF!"}},{"$f":"SUMIFS(#REF!,#REF!,$AD451)","v":{"$error":"#REF!"}},{"$f":"SUMIFS(#REF!,#REF!,$AD451)","v":{"$error":"#REF!"}},{"$f":"COUNTIF(TabUren2[datum],$AD451)","v":0},{"$f":"COUNTIF(TabUren22[datum],$AD451)","v":0},{"$f":"COUNTIF(#REF!,$AD451)","v":{"$error":"#REF!"}},{"$f":"COUNTIF(#REF!,$AD451)","v":{"$error":"#REF!"}},{"$f":"COUNTIF(#REF!,$AD451)","v":{"$error":"#REF!"}},{"$f":"COUNTIF(#REF!,$AD451)","v":{"$error":"#REF!"}},{"$f":"COUNTIF(AK451,\">0\")","v":0},{"$f":"COUNTIF(AL451,\">0\")","v":0},{"$f":"COUNTIF(AM451,\">0\")","v":0},{"$f":"COUNTIF(AN451,\">0\")","v":0},{"$f":"COUNTIF(AO451,\">0\")","v":0},{"$f":"COUNTIF(AP451,\">0\")","v":0},{"$f":"IF(AQ451=1,AE451,\"\")","v":""},{"$f":"IF(AR451=1,AF451,\"\")","v":""},{"$f":"IF(AS451=1,AG451,\"\")","v":""},{"$f":"IF(AT451=1,AH451,\"\")","v":""},{"$f":"IF(AU451=1,AI451,\"\")","v":""},{"$f":"IF(AV451=1,AJ451,\"\")","v":""},{"$f":"IF(BC$1=TRUE,AW451,\"\")","v":""},{"$f":"IF(BD$1=TRUE,AX451,\"\")","v":""},{"$f":"IF(BE$1=TRUE,AY451,\"\")","v":""},{"$f":"IF(BF$1=TRUE,AZ451,\"\")","v":""},{"$f":"IF(BG$1=TRUE,BA451,\"\")","v":""},{"$f":"IF(BH$1=TRUE,BB451,\"\")","v":""},0,""]
[null,null,null,null,null,null,null,null,null,null,null,null,null,null,null,null,null,null,null,null,null,null,null,null,null,null,null,null,null,"2016-03-26",{"$f":"SUMIFS('LOG1'!$J$5:$J$501,TabUren2[datum],$AD452)","v":"00:00:00"},{"$f":"SUMIFS('LOG2'!$J$5:$J$501,TabUren22[datum],$AD452)","v":"00:00:00"},{"$f":"SUMIFS(#REF!,#REF!,$AD452)","v":{"$error":"#REF!"}},{"$f":"SUMIFS(#REF!,#REF!,$AD452)","v":{"$error":"#REF!"}},{"$f":"SUMIFS(#REF!,#REF!,$AD452)","v":{"$error":"#REF!"}},{"$f":"SUMIFS(#REF!,#REF!,$AD452)","v":{"$error":"#REF!"}},{"$f":"COUNTIF(TabUren2[datum],$AD452)","v":0},{"$f":"COUNTIF(TabUren22[datum],$AD452)","v":0},{"$f":"COUNTIF(#REF!,$AD452)","v":{"$error":"#REF!"}},{"$f":"COUNTIF(#REF!,$AD452)","v":{"$error":"#REF!"}},{"$f":"COUNTIF(#REF!,$AD452)","v":{"$error":"#REF!"}},{"$f":"COUNTIF(#REF!,$AD452)","v":{"$error":"#REF!"}},0,0,0,0,0,0,"","","","","","","","","","","","",0,""]
[null,null,null,null,null,null,null,null,null,null,null,null,null,null,null,null,null,null,null,null,null,null,null,null,null,null,null,null,null,"2016-03-27",{"$f":"SUMIFS('LOG1'!$J$5:$J$501,TabUren2[datum],$AD453)","v":"00:00:00"},{"$f":"SUMIFS('LOG2'!$J$5:$J$501,TabUren22[datum],$AD453)","v":"00:00:00"},{"$f":"SUMIFS(#REF!,#REF!,$AD453)","v":{"$error":"#REF!"}},{"$f":"SUMIFS(#REF!,#REF!,$AD453)","v":{"$error":"#REF!"}},{"$f":"SUMIFS(#REF!,#REF!,$AD453)","v":{"$error":"#REF!"}},{"$f":"SUMIFS(#REF!,#REF!,$AD453)","v":{"$error":"#REF!"}},{"$f":"COUNTIF(TabUren2[datum],$AD453)","v":0},{"$f":"COUNTIF(TabUren22[datum],$AD453)","v":0},{"$f":"COUNTIF(#REF!,$AD453)","v":{"$error":"#REF!"}},{"$f":"COUNTIF(#REF!,$AD453)","v":{"$error":"#REF!"}},{"$f":"COUNTIF(#REF!,$AD453)","v":{"$error":"#REF!"}},{"$f":"COUNTIF(#REF!,$AD453)","v":{"$error":"#REF!"}},0,0,0,0,0,0,"","","","","","","","","","","","",0,""]
[null,null,null,null,null,null,null,null,null,null,null,null,null,null,null,null,null,null,null,null,null,null,null,null,null,null,null,null,null,"2016-03-28",{"$f":"SUMIFS('LOG1'!$J$5:$J$501,TabUren2[datum],$AD454)","v":"00:00:00"},{"$f":"SUMIFS('LOG2'!$J$5:$J$501,TabUren22[datum],$AD454)","v":"00:00:00"},{"$f":"SUMIFS(#REF!,#REF!,$AD454)","v":{"$error":"#REF!"}},{"$f":"SUMIFS(#REF!,#REF!,$AD454)","v":{"$error":"#REF!"}},{"$f":"SUMIFS(#REF!,#REF!,$AD454)","v":{"$error":"#REF!"}},{"$f":"SUMIFS(#REF!,#REF!,$AD454)","v":{"$error":"#REF!"}},{"$f":"COUNTIF(TabUren2[datum],$AD454)","v":0},{"$f":"COUNTIF(TabUren22[datum],$AD454)","v":0},{"$f":"COUNTIF(#REF!,$AD454)","v":{"$error":"#REF!"}},{"$f":"COUNTIF(#REF!,$AD454)","v":{"$error":"#REF!"}},{"$f":"COUNTIF(#REF!,$AD454)","v":{"$error":"#REF!"}},{"$f":"COUNTIF(#REF!,$AD454)","v":{"$error":"#REF!"}},0,0,0,0,0,0,"","","","","","","","","","","","",{"$f":"COUNT(AW454:BB454)","v":0},{"$f":"IF(BI454>0,AD454,\"\")","v":""}]
[null,null,null,null,null,null,null,null,null,null,null,null,null,null,null,null,null,null,null,null,null,null,null,null,null,null,null,null,null,"2016-03-29",{"$f":"SUMIFS('LOG1'!$J$5:$J$501,TabUren2[datum],$AD455)","v":"00:00:00"},{"$f":"SUMIFS('LOG2'!$J$5:$J$501,TabUren22[datum],$AD455)","v":"00:00:00"},{"$f":"SUMIFS(#REF!,#REF!,$AD455)","v":{"$error":"#REF!"}},{"$f":"SUMIFS(#REF!,#REF!,$AD455)","v":{"$error":"#REF!"}},{"$f":"SUMIFS(#REF!,#REF!,$AD455)","v":{"$error":"#REF!"}},{"$f":"SUMIFS(#REF!,#REF!,$AD455)","v":{"$error":"#REF!"}},{"$f":"COUNTIF(TabUren2[datum],$AD455)","v":0},{"$f":"COUNTIF(TabUren22[datum],$AD455)","v":0},{"$f":"COUNTIF(#REF!,$AD455)","v":{"$error":"#REF!"}},{"$f":"COUNTIF(#REF!,$AD455)","v":{"$error":"#REF!"}},{"$f":"COUNTIF(#REF!,$AD455)","v":{"$error":"#REF!"}},{"$f":"COUNTIF(#REF!,$AD455)","v":{"$error":"#REF!"}},0,0,0,0,0,0,"","","","","","","","","","","","",0,""]
[null,null,null,null,null,null,null,null,null,null,null,null,null,null,null,null,null,null,null,null,null,null,null,null,null,null,null,null,null,"2016-03-30",{"$f":"SUMIFS('LOG1'!$J$5:$J$501,TabUren2[datum],$AD456)","v":"00:00:00"},{"$f":"SUMIFS('LOG2'!$J$5:$J$501,TabUren22[datum],$AD456)","v":"00:00:00"},{"$f":"SUMIFS(#REF!,#REF!,$AD456)","v":{"$error":"#REF!"}},{"$f":"SUMIFS(#REF!,#REF!,$AD456)","v":{"$error":"#REF!"}},{"$f":"SUMIFS(#REF!,#REF!,$AD456)","v":{"$error":"#REF!"}},{"$f":"SUMIFS(#REF!,#REF!,$AD456)","v":{"$error":"#REF!"}},{"$f":"COUNTIF(TabUren2[datum],$AD456)","v":0},{"$f":"COUNTIF(TabUren22[datum],$AD456)","v":0},{"$f":"COUNTIF(#REF!,$AD456)","v":{"$error":"#REF!"}},{"$f":"COUNTIF(#REF!,$AD456)","v":{"$error":"#REF!"}},{"$f":"COUNTIF(#REF!,$AD456)","v":{"$error":"#REF!"}},{"$f":"COUNTIF(#REF!,$AD456)","v":{"$error":"#REF!"}},0,0,0,0,0,0,"","","","","","","","","","","","",0,""]
[null,null,null,null,null,null,null,null,null,null,null,null,null,null,null,null,null,null,null,null,null,null,null,null,null,null,null,null,null,"2016-03-31",{"$f":"SUMIFS('LOG1'!$J$5:$J$501,TabUren2[datum],$AD457)","v":"00:00:00"},{"$f":"SUMIFS('LOG2'!$J$5:$J$501,TabUren22[datum],$AD457)","v":"00:00:00"},{"$f":"SUMIFS(#REF!,#REF!,$AD457)","v":{"$error":"#REF!"}},{"$f":"SUMIFS(#REF!,#REF!,$AD457)","v":{"$error":"#REF!"}},{"$f":"SUMIFS(#REF!,#REF!,$AD457)","v":{"$error":"#REF!"}},{"$f":"SUMIFS(#REF!,#REF!,$AD457)","v":{"$error":"#REF!"}},{"$f":"COUNTIF(TabUren2[datum],$AD457)","v":0},{"$f":"COUNTIF(TabUren22[datum],$AD457)","v":0},{"$f":"COUNTIF(#REF!,$AD457)","v":{"$error":"#REF!"}},{"$f":"COUNTIF(#REF!,$AD457)","v":{"$error":"#REF!"}},{"$f":"COUNTIF(#REF!,$AD457)","v":{"$error":"#REF!"}},{"$f":"COUNTIF(#REF!,$AD457)","v":{"$error":"#REF!"}},0,0,0,0,0,0,"","","","","","","","","","","","",0,""]
[null,null,null,null,null,null,null,null,null,null,null,null,null,null,null,null,null,null,null,null,null,null,null,null,null,null,null,null,null,"2016-04-01",{"$f":"SUMIFS('LOG1'!$J$5:$J$501,TabUren2[datum],$AD458)","v":"00:00:00"},{"$f":"SUMIFS('LOG2'!$J$5:$J$501,TabUren22[datum],$AD458)","v":"00:00:00"},{"$f":"SUMIFS(#REF!,#REF!,$AD458)","v":{"$error":"#REF!"}},{"$f":"SUMIFS(#REF!,#REF!,$AD458)","v":{"$error":"#REF!"}},{"$f":"SUMIFS(#REF!,#REF!,$AD458)","v":{"$error":"#REF!"}},{"$f":"SUMIFS(#REF!,#REF!,$AD458)","v":{"$error":"#REF!"}},{"$f":"COUNTIF(TabUren2[datum],$AD458)","v":0},{"$f":"COUNTIF(TabUren22[datum],$AD458)","v":0},{"$f":"COUNTIF(#REF!,$AD458)","v":{"$error":"#REF!"}},{"$f":"COUNTIF(#REF!,$AD458)","v":{"$error":"#REF!"}},{"$f":"COUNTIF(#REF!,$AD458)","v":{"$error":"#REF!"}},{"$f":"COUNTIF(#REF!,$AD458)","v":{"$error":"#REF!"}},0,0,0,0,0,0,"","","","","","","","","","","","",0,""]
[null,null,null,null,null,null,null,null,null,null,null,null,null,null,null,null,null,null,null,null,null,null,null,null,null,null,null,null,null,"2016-04-02",{"$f":"SUMIFS('LOG1'!$J$5:$J$501,TabUren2[datum],$AD459)","v":"00:00:00"},{"$f":"SUMIFS('LOG2'!$J$5:$J$501,TabUren22[datum],$AD459)","v":"00:00:00"},{"$f":"SUMIFS(#REF!,#REF!,$AD459)","v":{"$error":"#REF!"}},{"$f":"SUMIFS(#REF!,#REF!,$AD459)","v":{"$error":"#REF!"}},{"$f":"SUMIFS(#REF!,#REF!,$AD459)","v":{"$error":"#REF!"}},{"$f":"SUMIFS(#REF!,#REF!,$AD459)","v":{"$error":"#REF!"}},{"$f":"COUNTIF(TabUren2[datum],$AD459)","v":0},{"$f":"COUNTIF(TabUren22[datum],$AD459)","v":0},{"$f":"COUNTIF(#REF!,$AD459)","v":{"$error":"#REF!"}},{"$f":"COUNTIF(#REF!,$AD459)","v":{"$error":"#REF!"}},{"$f":"COUNTIF(#REF!,$AD459)","v":{"$error":"#REF!"}},{"$f":"COUNTIF(#REF!,$AD459)","v":{"$error":"#REF!"}},0,0,0,0,0,0,"","","","","","","","","","","","",0,""]
[null,null,null,null,null,null,null,null,null,null,null,null,null,null,null,null,null,null,null,null,null,null,null,null,null,null,null,null,null,"2016-04-03",{"$f":"SUMIFS('LOG1'!$J$5:$J$501,TabUren2[datum],$AD460)","v":"00:00:00"},{"$f":"SUMIFS('LOG2'!$J$5:$J$501,TabUren22[datum],$AD460)","v":"00:00:00"},{"$f":"SUMIFS(#REF!,#REF!,$AD460)","v":{"$error":"#REF!"}},{"$f":"SUMIFS(#REF!,#REF!,$AD460)","v":{"$error":"#REF!"}},{"$f":"SUMIFS(#REF!,#REF!,$AD460)","v":{"$error":"#REF!"}},{"$f":"SUMIFS(#REF!,#REF!,$AD460)","v":{"$error":"#REF!"}},{"$f":"COUNTIF(TabUren2[datum],$AD460)","v":0},{"$f":"COUNTIF(TabUren22[datum],$AD460)","v":0},{"$f":"COUNTIF(#REF!,$AD460)","v":{"$error":"#REF!"}},{"$f":"COUNTIF(#REF!,$AD460)","v":{"$error":"#REF!"}},{"$f":"COUNTIF(#REF!,$AD460)","v":{"$error":"#REF!"}},{"$f":"COUNTIF(#REF!,$AD460)","v":{"$error":"#REF!"}},0,0,0,0,0,0,"","","","","","","","","","","","",0,""]
[null,null,null,null,null,null,null,null,null,null,null,null,null,null,null,null,null,null,null,null,null,null,null,null,null,null,null,null,null,"2016-04-04",{"$f":"SUMIFS('LOG1'!$J$5:$J$501,TabUren2[datum],$AD461)","v":"00:00:00"},{"$f":"SUMIFS('LOG2'!$J$5:$J$501,TabUren22[datum],$AD461)","v":"00:00:00"},{"$f":"SUMIFS(#REF!,#REF!,$AD461)","v":{"$error":"#REF!"}},{"$f":"SUMIFS(#REF!,#REF!,$AD461)","v":{"$error":"#REF!"}},{"$f":"SUMIFS(#REF!,#REF!,$AD461)","v":{"$error":"#REF!"}},{"$f":"SUMIFS(#REF!,#REF!,$AD461)","v":{"$error":"#REF!"}},{"$f":"COUNTIF(TabUren2[datum],$AD461)","v":0},{"$f":"COUNTIF(TabUren22[datum],$AD461)","v":0},{"$f":"COUNTIF(#REF!,$AD461)","v":{"$error":"#REF!"}},{"$f":"COUNTIF(#REF!,$AD461)","v":{"$error":"#REF!"}},{"$f":"COUNTIF(#REF!,$AD461)","v":{"$error":"#REF!"}},{"$f":"COUNTIF(#REF!,$AD461)","v":{"$error":"#REF!"}},0,0,0,0,0,0,"","","","","","","","","","","","",0,""]
[null,null,null,null,null,null,null,null,null,null,null,null,null,null,null,null,null,null,null,null,null,null,null,null,null,null,null,null,null,"2016-04-05",{"$f":"SUMIFS('LOG1'!$J$5:$J$501,TabUren2[datum],$AD462)","v":"00:00:00"},{"$f":"SUMIFS('LOG2'!$J$5:$J$501,TabUren22[datum],$AD462)","v":"00:00:00"},{"$f":"SUMIFS(#REF!,#REF!,$AD462)","v":{"$error":"#REF!"}},{"$f":"SUMIFS(#REF!,#REF!,$AD462)","v":{"$error":"#REF!"}},{"$f":"SUMIFS(#REF!,#REF!,$AD462)","v":{"$error":"#REF!"}},{"$f":"SUMIFS(#REF!,#REF!,$AD462)","v":{"$error":"#REF!"}},{"$f":"COUNTIF(TabUren2[datum],$AD462)","v":0},{"$f":"COUNTIF(TabUren22[datum],$AD462)","v":0},{"$f":"COUNTIF(#REF!,$AD462)","v":{"$error":"#REF!"}},{"$f":"COUNTIF(#REF!,$AD462)","v":{"$error":"#REF!"}},{"$f":"COUNTIF(#REF!,$AD462)","v":{"$error":"#REF!"}},{"$f":"COUNTIF(#REF!,$AD462)","v":{"$error":"#REF!"}},0,0,0,0,0,0,"","","","","","","","","","","","",0,""]
[null,null,null,null,null,null,null,null,null,null,null,null,null,null,null,null,null,null,null,null,null,null,null,null,null,null,null,null,null,"2016-04-06",{"$f":"SUMIFS('LOG1'!$J$5:$J$501,TabUren2[datum],$AD463)","v":"00:00:00"},{"$f":"SUMIFS('LOG2'!$J$5:$J$501,TabUren22[datum],$AD463)","v":"00:00:00"},{"$f":"SUMIFS(#REF!,#REF!,$AD463)","v":{"$error":"#REF!"}},{"$f":"SUMIFS(#REF!,#REF!,$AD463)","v":{"$error":"#REF!"}},{"$f":"SUMIFS(#REF!,#REF!,$AD463)","v":{"$error":"#REF!"}},{"$f":"SUMIFS(#REF!,#REF!,$AD463)","v":{"$error":"#REF!"}},{"$f":"COUNTIF(TabUren2[datum],$AD463)","v":0},{"$f":"COUNTIF(TabUren22[datum],$AD463)","v":0},{"$f":"COUNTIF(#REF!,$AD463)","v":{"$error":"#REF!"}},{"$f":"COUNTIF(#REF!,$AD463)","v":{"$error":"#REF!"}},{"$f":"COUNTIF(#REF!,$AD463)","v":{"$error":"#REF!"}},{"$f":"COUNTIF(#REF!,$AD463)","v":{"$error":"#REF!"}},0,0,0,0,0,0,"","","","","","","","","","","","",0,""]
[null,null,null,null,null,null,null,null,null,null,null,null,null,null,null,null,null,null,null,null,null,null,null,null,null,null,null,null,null,"2016-04-07",{"$f":"SUMIFS('LOG1'!$J$5:$J$501,TabUren2[datum],$AD464)","v":"00:00:00"},{"$f":"SUMIFS('LOG2'!$J$5:$J$501,TabUren22[datum],$AD464)","v":"00:00:00"},{"$f":"SUMIFS(#REF!,#REF!,$AD464)","v":{"$error":"#REF!"}},{"$f":"SUMIFS(#REF!,#REF!,$AD464)","v":{"$error":"#REF!"}},{"$f":"SUMIFS(#REF!,#REF!,$AD464)","v":{"$error":"#REF!"}},{"$f":"SUMIFS(#REF!,#REF!,$AD464)","v":{"$error":"#REF!"}},{"$f":"COUNTIF(TabUren2[datum],$AD464)","v":0},{"$f":"COUNTIF(TabUren22[datum],$AD464)","v":0},{"$f":"COUNTIF(#REF!,$AD464)","v":{"$error":"#REF!"}},{"$f":"COUNTIF(#REF!,$AD464)","v":{"$error":"#REF!"}},{"$f":"COUNTIF(#REF!,$AD464)","v":{"$error":"#REF!"}},{"$f":"COUNTIF(#REF!,$AD464)","v":{"$error":"#REF!"}},0,0,0,0,0,0,"","","","","","","","","","","","",0,""]
[null,null,null,null,null,null,null,null,null,null,null,null,null,null,null,null,null,null,null,null,null,null,null,null,null,null,null,null,null,"2016-04-08",{"$f":"SUMIFS('LOG1'!$J$5:$J$501,TabUren2[datum],$AD465)","v":"00:00:00"},{"$f":"SUMIFS('LOG2'!$J$5:$J$501,TabUren22[datum],$AD465)","v":"00:00:00"},{"$f":"SUMIFS(#REF!,#REF!,$AD465)","v":{"$error":"#REF!"}},{"$f":"SUMIFS(#REF!,#REF!,$AD465)","v":{"$error":"#REF!"}},{"$f":"SUMIFS(#REF!,#REF!,$AD465)","v":{"$error":"#REF!"}},{"$f":"SUMIFS(#REF!,#REF!,$AD465)","v":{"$error":"#REF!"}},{"$f":"COUNTIF(TabUren2[datum],$AD465)","v":0},{"$f":"COUNTIF(TabUren22[datum],$AD465)","v":0},{"$f":"COUNTIF(#REF!,$AD465)","v":{"$error":"#REF!"}},{"$f":"COUNTIF(#REF!,$AD465)","v":{"$error":"#REF!"}},{"$f":"COUNTIF(#REF!,$AD465)","v":{"$error":"#REF!"}},{"$f":"COUNTIF(#REF!,$AD465)","v":{"$error":"#REF!"}},0,0,0,0,0,0,"","","","","","","","","","","","",0,""]
[null,null,null,null,null,null,null,null,null,null,null,null,null,null,null,null,null,null,null,null,null,null,null,null,null,null,null,null,null,"2016-04-09",{"$f":"SUMIFS('LOG1'!$J$5:$J$501,TabUren2[datum],$AD466)","v":"00:00:00"},{"$f":"SUMIFS('LOG2'!$J$5:$J$501,TabUren22[datum],$AD466)","v":"00:00:00"},{"$f":"SUMIFS(#REF!,#REF!,$AD466)","v":{"$error":"#REF!"}},{"$f":"SUMIFS(#REF!,#REF!,$AD466)","v":{"$error":"#REF!"}},{"$f":"SUMIFS(#REF!,#REF!,$AD466)","v":{"$error":"#REF!"}},{"$f":"SUMIFS(#REF!,#REF!,$AD466)","v":{"$error":"#REF!"}},{"$f":"COUNTIF(TabUren2[datum],$AD466)","v":0},{"$f":"COUNTIF(TabUren22[datum],$AD466)","v":0},{"$f":"COUNTIF(#REF!,$AD466)","v":{"$error":"#REF!"}},{"$f":"COUNTIF(#REF!,$AD466)","v":{"$error":"#REF!"}},{"$f":"COUNTIF(#REF!,$AD466)","v":{"$error":"#REF!"}},{"$f":"COUNTIF(#REF!,$AD466)","v":{"$error":"#REF!"}},0,0,0,0,0,0,"","","","","","","","","","","","",0,""]
[null,null,null,null,null,null,null,null,null,null,null,null,null,null,null,null,null,null,null,null,null,null,null,null,null,null,null,null,null,"2016-04-10",{"$f":"SUMIFS('LOG1'!$J$5:$J$501,TabUren2[datum],$AD467)","v":"00:00:00"},{"$f":"SUMIFS('LOG2'!$J$5:$J$501,TabUren22[datum],$AD467)","v":"00:00:00"},{"$f":"SUMIFS(#REF!,#REF!,$AD467)","v":{"$error":"#REF!"}},{"$f":"SUMIFS(#REF!,#REF!,$AD467)","v":{"$error":"#REF!"}},{"$f":"SUMIFS(#REF!,#REF!,$AD467)","v":{"$error":"#REF!"}},{"$f":"SUMIFS(#REF!,#REF!,$AD467)","v":{"$error":"#REF!"}},{"$f":"COUNTIF(TabUren2[datum],$AD467)","v":0},{"$f":"COUNTIF(TabUren22[datum],$AD467)","v":0},{"$f":"COUNTIF(#REF!,$AD467)","v":{"$error":"#REF!"}},{"$f":"COUNTIF(#REF!,$AD467)","v":{"$error":"#REF!"}},{"$f":"COUNTIF(#REF!,$AD467)","v":{"$error":"#REF!"}},{"$f":"COUNTIF(#REF!,$AD467)","v":{"$error":"#REF!"}},0,0,0,0,0,0,"","","","","","","","","","","","",0,""]
[null,null,null,null,null,null,null,null,null,null,null,null,null,null,null,null,null,null,null,null,null,null,null,null,null,null,null,null,null,"2016-04-11",{"$f":"SUMIFS('LOG1'!$J$5:$J$501,TabUren2[datum],$AD468)","v":"00:00:00"},{"$f":"SUMIFS('LOG2'!$J$5:$J$501,TabUren22[datum],$AD468)","v":"00:00:00"},{"$f":"SUMIFS(#REF!,#REF!,$AD468)","v":{"$error":"#REF!"}},{"$f":"SUMIFS(#REF!,#REF!,$AD468)","v":{"$error":"#REF!"}},{"$f":"SUMIFS(#REF!,#REF!,$AD468)","v":{"$error":"#REF!"}},{"$f":"SUMIFS(#REF!,#REF!,$AD468)","v":{"$error":"#REF!"}},{"$f":"COUNTIF(TabUren2[datum],$AD468)","v":0},{"$f":"COUNTIF(TabUren22[datum],$AD468)","v":0},{"$f":"COUNTIF(#REF!,$AD468)","v":{"$error":"#REF!"}},{"$f":"COUNTIF(#REF!,$AD468)","v":{"$error":"#REF!"}},{"$f":"COUNTIF(#REF!,$AD468)","v":{"$error":"#REF!"}},{"$f":"COUNTIF(#REF!,$AD468)","v":{"$error":"#REF!"}},0,0,0,0,0,0,"","","","","","","","","","","","",0,""]
[null,null,null,null,null,null,null,null,null,null,null,null,null,null,null,null,null,null,null,null,null,null,null,null,null,null,null,null,null,"2016-04-12",{"$f":"SUMIFS('LOG1'!$J$5:$J$501,TabUren2[datum],$AD469)","v":"00:00:00"},{"$f":"SUMIFS('LOG2'!$J$5:$J$501,TabUren22[datum],$AD469)","v":"00:00:00"},{"$f":"SUMIFS(#REF!,#REF!,$AD469)","v":{"$error":"#REF!"}},{"$f":"SUMIFS(#REF!,#REF!,$AD469)","v":{"$error":"#REF!"}},{"$f":"SUMIFS(#REF!,#REF!,$AD469)","v":{"$error":"#REF!"}},{"$f":"SUMIFS(#REF!,#REF!,$AD469)","v":{"$error":"#REF!"}},{"$f":"COUNTIF(TabUren2[datum],$AD469)","v":0},{"$f":"COUNTIF(TabUren22[datum],$AD469)","v":0},{"$f":"COUNTIF(#REF!,$AD469)","v":{"$error":"#REF!"}},{"$f":"COUNTIF(#REF!,$AD469)","v":{"$error":"#REF!"}},{"$f":"COUNTIF(#REF!,$AD469)","v":{"$error":"#REF!"}},{"$f":"COUNTIF(#REF!,$AD469)","v":{"$error":"#REF!"}},0,0,0,0,0,0,"","","","","","","","","","","","",0,""]
[null,null,null,null,null,null,null,null,null,null,null,null,null,null,null,null,null,null,null,null,null,null,null,null,null,null,null,null,null,"2016-04-13",{"$f":"SUMIFS('LOG1'!$J$5:$J$501,TabUren2[datum],$AD470)","v":"00:00:00"},{"$f":"SUMIFS('LOG2'!$J$5:$J$501,TabUren22[datum],$AD470)","v":"00:00:00"},{"$f":"SUMIFS(#REF!,#REF!,$AD470)","v":{"$error":"#REF!"}},{"$f":"SUMIFS(#REF!,#REF!,$AD470)","v":{"$error":"#REF!"}},{"$f":"SUMIFS(#REF!,#REF!,$AD470)","v":{"$error":"#REF!"}},{"$f":"SUMIFS(#REF!,#REF!,$AD470)","v":{"$error":"#REF!"}},{"$f":"COUNTIF(TabUren2[datum],$AD470)","v":0},{"$f":"COUNTIF(TabUren22[datum],$AD470)","v":0},{"$f":"COUNTIF(#REF!,$AD470)","v":{"$error":"#REF!"}},{"$f":"COUNTIF(#REF!,$AD470)","v":{"$error":"#REF!"}},{"$f":"COUNTIF(#REF!,$AD470)","v":{"$error":"#REF!"}},{"$f":"COUNTIF(#REF!,$AD470)","v":{"$error":"#REF!"}},0,0,0,0,0,0,"","","","","","","","","","","","",0,""]
[null,null,null,null,null,null,null,null,null,null,null,null,null,null,null,null,null,null,null,null,null,null,null,null,null,null,null,null,null,"2016-04-14",{"$f":"SUMIFS('LOG1'!$J$5:$J$501,TabUren2[datum],$AD471)","v":"00:00:00"},{"$f":"SUMIFS('LOG2'!$J$5:$J$501,TabUren22[datum],$AD471)","v":"00:00:00"},{"$f":"SUMIFS(#REF!,#REF!,$AD471)","v":{"$error":"#REF!"}},{"$f":"SUMIFS(#REF!,#REF!,$AD471)","v":{"$error":"#REF!"}},{"$f":"SUMIFS(#REF!,#REF!,$AD471)","v":{"$error":"#REF!"}},{"$f":"SUMIFS(#REF!,#REF!,$AD471)","v":{"$error":"#REF!"}},{"$f":"COUNTIF(TabUren2[datum],$AD471)","v":0},{"$f":"COUNTIF(TabUren22[datum],$AD471)","v":0},{"$f":"COUNTIF(#REF!,$AD471)","v":{"$error":"#REF!"}},{"$f":"COUNTIF(#REF!,$AD471)","v":{"$error":"#REF!"}},{"$f":"COUNTIF(#REF!,$AD471)","v":{"$error":"#REF!"}},{"$f":"COUNTIF(#REF!,$AD471)","v":{"$error":"#REF!"}},0,0,0,0,0,0,"","","","","","","","","","","","",0,""]
[null,null,null,null,null,null,null,null,null,null,null,null,null,null,null,null,null,null,null,null,null,null,null,null,null,null,null,null,null,"2016-04-15",{"$f":"SUMIFS('LOG1'!$J$5:$J$501,TabUren2[datum],$AD472)","v":"00:00:00"},{"$f":"SUMIFS('LOG2'!$J$5:$J$501,TabUren22[datum],$AD472)","v":"00:00:00"},{"$f":"SUMIFS(#REF!,#REF!,$AD472)","v":{"$error":"#REF!"}},{"$f":"SUMIFS(#REF!,#REF!,$AD472)","v":{"$error":"#REF!"}},{"$f":"SUMIFS(#REF!,#REF!,$AD472)","v":{"$error":"#REF!"}},{"$f":"SUMIFS(#REF!,#REF!,$AD472)","v":{"$error":"#REF!"}},{"$f":"COUNTIF(TabUren2[datum],$AD472)","v":0},{"$f":"COUNTIF(TabUren22[datum],$AD472)","v":0},{"$f":"COUNTIF(#REF!,$AD472)","v":{"$error":"#REF!"}},{"$f":"COUNTIF(#REF!,$AD472)","v":{"$error":"#REF!"}},{"$f":"COUNTIF(#REF!,$AD472)","v":{"$error":"#REF!"}},{"$f":"COUNTIF(#REF!,$AD472)","v":{"$error":"#REF!"}},0,0,0,0,0,0,"","","","","","","","","","","","",0,""]
[null,null,null,null,null,null,null,null,null,null,null,null,null,null,null,null,null,null,null,null,null,null,null,null,null,null,null,null,null,"2016-04-16",{"$f":"SUMIFS('LOG1'!$J$5:$J$501,TabUren2[datum],$AD473)","v":"00:00:00"},{"$f":"SUMIFS('LOG2'!$J$5:$J$501,TabUren22[datum],$AD473)","v":"00:00:00"},{"$f":"SUMIFS(#REF!,#REF!,$AD473)","v":{"$error":"#REF!"}},{"$f":"SUMIFS(#REF!,#REF!,$AD473)","v":{"$error":"#REF!"}},{"$f":"SUMIFS(#REF!,#REF!,$AD473)","v":{"$error":"#REF!"}},{"$f":"SUMIFS(#REF!,#REF!,$AD473)","v":{"$error":"#REF!"}},{"$f":"COUNTIF(TabUren2[datum],$AD473)","v":0},{"$f":"COUNTIF(TabUren22[datum],$AD473)","v":0},{"$f":"COUNTIF(#REF!,$AD473)","v":{"$error":"#REF!"}},{"$f":"COUNTIF(#REF!,$AD473)","v":{"$error":"#REF!"}},{"$f":"COUNTIF(#REF!,$AD473)","v":{"$error":"#REF!"}},{"$f":"COUNTIF(#REF!,$AD473)","v":{"$error":"#REF!"}},0,0,0,0,0,0,"","","","","","","","","","","","",0,""]
[null,null,null,null,null,null,null,null,null,null,null,null,null,null,null,null,null,null,null,null,null,null,null,null,null,null,null,null,null,"2016-04-17",{"$f":"SUMIFS('LOG1'!$J$5:$J$501,TabUren2[datum],$AD474)","v":"00:00:00"},{"$f":"SUMIFS('LOG2'!$J$5:$J$501,TabUren22[datum],$AD474)","v":"00:00:00"},{"$f":"SUMIFS(#REF!,#REF!,$AD474)","v":{"$error":"#REF!"}},{"$f":"SUMIFS(#REF!,#REF!,$AD474)","v":{"$error":"#REF!"}},{"$f":"SUMIFS(#REF!,#REF!,$AD474)","v":{"$error":"#REF!"}},{"$f":"SUMIFS(#REF!,#REF!,$AD474)","v":{"$error":"#REF!"}},{"$f":"COUNTIF(TabUren2[datum],$AD474)","v":0},{"$f":"COUNTIF(TabUren22[datum],$AD474)","v":0},{"$f":"COUNTIF(#REF!,$AD474)","v":{"$error":"#REF!"}},{"$f":"COUNTIF(#REF!,$AD474)","v":{"$error":"#REF!"}},{"$f":"COUNTIF(#REF!,$AD474)","v":{"$error":"#REF!"}},{"$f":"COUNTIF(#REF!,$AD474)","v":{"$error":"#REF!"}},0,0,0,0,0,0,"","","","","","","","","","","","",0,""]
[null,null,null,null,null,null,null,null,null,null,null,null,null,null,null,null,null,null,null,null,null,null,null,null,null,null,null,null,null,"2016-04-18",{"$f":"SUMIFS('LOG1'!$J$5:$J$501,TabUren2[datum],$AD475)","v":"00:00:00"},{"$f":"SUMIFS('LOG2'!$J$5:$J$501,TabUren22[datum],$AD475)","v":"00:00:00"},{"$f":"SUMIFS(#REF!,#REF!,$AD475)","v":{"$error":"#REF!"}},{"$f":"SUMIFS(#REF!,#REF!,$AD475)","v":{"$error":"#REF!"}},{"$f":"SUMIFS(#REF!,#REF!,$AD475)","v":{"$error":"#REF!"}},{"$f":"SUMIFS(#REF!,#REF!,$AD475)","v":{"$error":"#REF!"}},{"$f":"COUNTIF(TabUren2[datum],$AD475)","v":0},{"$f":"COUNTIF(TabUren22[datum],$AD475)","v":0},{"$f":"COUNTIF(#REF!,$AD475)","v":{"$error":"#REF!"}},{"$f":"COUNTIF(#REF!,$AD475)","v":{"$error":"#REF!"}},{"$f":"COUNTIF(#REF!,$AD475)","v":{"$error":"#REF!"}},{"$f":"COUNTIF(#REF!,$AD475)","v":{"$error":"#REF!"}},0,0,0,0,0,0,"","","","","","","","","","","","",0,""]
[null,null,null,null,null,null,null,null,null,null,null,null,null,null,null,null,null,null,null,null,null,null,null,null,null,null,null,null,null,"2016-04-19",{"$f":"SUMIFS('LOG1'!$J$5:$J$501,TabUren2[datum],$AD476)","v":"00:00:00"},{"$f":"SUMIFS('LOG2'!$J$5:$J$501,TabUren22[datum],$AD476)","v":"00:00:00"},{"$f":"SUMIFS(#REF!,#REF!,$AD476)","v":{"$error":"#REF!"}},{"$f":"SUMIFS(#REF!,#REF!,$AD476)","v":{"$error":"#REF!"}},{"$f":"SUMIFS(#REF!,#REF!,$AD476)","v":{"$error":"#REF!"}},{"$f":"SUMIFS(#REF!,#REF!,$AD476)","v":{"$error":"#REF!"}},{"$f":"COUNTIF(TabUren2[datum],$AD476)","v":0},{"$f":"COUNTIF(TabUren22[datum],$AD476)","v":0},{"$f":"COUNTIF(#REF!,$AD476)","v":{"$error":"#REF!"}},{"$f":"COUNTIF(#REF!,$AD476)","v":{"$error":"#REF!"}},{"$f":"COUNTIF(#REF!,$AD476)","v":{"$error":"#REF!"}},{"$f":"COUNTIF(#REF!,$AD476)","v":{"$error":"#REF!"}},0,0,0,0,0,0,"","","","","","","","","","","","",0,""]
[null,null,null,null,null,null,null,null,null,null,null,null,null,null,null,null,null,null,null,null,null,null,null,null,null,null,null,null,null,"2016-04-20",{"$f":"SUMIFS('LOG1'!$J$5:$J$501,TabUren2[datum],$AD477)","v":"00:00:00"},{"$f":"SUMIFS('LOG2'!$J$5:$J$501,TabUren22[datum],$AD477)","v":"00:00:00"},{"$f":"SUMIFS(#REF!,#REF!,$AD477)","v":{"$error":"#REF!"}},{"$f":"SUMIFS(#REF!,#REF!,$AD477)","v":{"$error":"#REF!"}},{"$f":"SUMIFS(#REF!,#REF!,$AD477)","v":{"$error":"#REF!"}},{"$f":"SUMIFS(#REF!,#REF!,$AD477)","v":{"$error":"#REF!"}},{"$f":"COUNTIF(TabUren2[datum],$AD477)","v":0},{"$f":"COUNTIF(TabUren22[datum],$AD477)","v":0},{"$f":"COUNTIF(#REF!,$AD477)","v":{"$error":"#REF!"}},{"$f":"COUNTIF(#REF!,$AD477)","v":{"$error":"#REF!"}},{"$f":"COUNTIF(#REF!,$AD477)","v":{"$error":"#REF!"}},{"$f":"COUNTIF(#REF!,$AD477)","v":{"$error":"#REF!"}},0,0,0,0,0,0,"","","","","","","","","","","","",0,""]
[null,null,null,null,null,null,null,null,null,null,null,null,null,null,null,null,null,null,null,null,null,null,null,null,null,null,null,null,null,"2016-04-21",{"$f":"SUMIFS('LOG1'!$J$5:$J$501,TabUren2[datum],$AD478)","v":"00:00:00"},{"$f":"SUMIFS('LOG2'!$J$5:$J$501,TabUren22[datum],$AD478)","v":"00:00:00"},{"$f":"SUMIFS(#REF!,#REF!,$AD478)","v":{"$error":"#REF!"}},{"$f":"SUMIFS(#REF!,#REF!,$AD478)","v":{"$error":"#REF!"}},{"$f":"SUMIFS(#REF!,#REF!,$AD478)","v":{"$error":"#REF!"}},{"$f":"SUMIFS(#REF!,#REF!,$AD478)","v":{"$error":"#REF!"}},{"$f":"COUNTIF(TabUren2[datum],$AD478)","v":0},{"$f":"COUNTIF(TabUren22[datum],$AD478)","v":0},{"$f":"COUNTIF(#REF!,$AD478)","v":{"$error":"#REF!"}},{"$f":"COUNTIF(#REF!,$AD478)","v":{"$error":"#REF!"}},{"$f":"COUNTIF(#REF!,$AD478)","v":{"$error":"#REF!"}},{"$f":"COUNTIF(#REF!,$AD478)","v":{"$error":"#REF!"}},0,0,0,0,0,0,"","","","","","","","","","","","",0,""]
[null,null,null,null,null,null,null,null,null,null,null,null,null,null,null,null,null,null,null,null,null,null,null,null,null,null,null,null,null,"2016-04-22",{"$f":"SUMIFS('LOG1'!$J$5:$J$501,TabUren2[datum],$AD479)","v":"00:00:00"},{"$f":"SUMIFS('LOG2'!$J$5:$J$501,TabUren22[datum],$AD479)","v":"00:00:00"},{"$f":"SUMIFS(#REF!,#REF!,$AD479)","v":{"$error":"#REF!"}},{"$f":"SUMIFS(#REF!,#REF!,$AD479)","v":{"$error":"#REF!"}},{"$f":"SUMIFS(#REF!,#REF!,$AD479)","v":{"$error":"#REF!"}},{"$f":"SUMIFS(#REF!,#REF!,$AD479)","v":{"$error":"#REF!"}},{"$f":"COUNTIF(TabUren2[datum],$AD479)","v":0},{"$f":"COUNTIF(TabUren22[datum],$AD479)","v":0},{"$f":"COUNTIF(#REF!,$AD479)","v":{"$error":"#REF!"}},{"$f":"COUNTIF(#REF!,$AD479)","v":{"$error":"#REF!"}},{"$f":"COUNTIF(#REF!,$AD479)","v":{"$error":"#REF!"}},{"$f":"COUNTIF(#REF!,$AD479)","v":{"$error":"#REF!"}},0,0,0,0,0,0,"","","","","","","","","","","","",0,""]
[null,null,null,null,null,null,null,null,null,null,null,null,null,null,null,null,null,null,null,null,null,null,null,null,null,null,null,null,null,"2016-04-23",{"$f":"SUMIFS('LOG1'!$J$5:$J$501,TabUren2[datum],$AD480)","v":"00:00:00"},{"$f":"SUMIFS('LOG2'!$J$5:$J$501,TabUren22[datum],$AD480)","v":"00:00:00"},{"$f":"SUMIFS(#REF!,#REF!,$AD480)","v":{"$error":"#REF!"}},{"$f":"SUMIFS(#REF!,#REF!,$AD480)","v":{"$error":"#REF!"}},{"$f":"SUMIFS(#REF!,#REF!,$AD480)","v":{"$error":"#REF!"}},{"$f":"SUMIFS(#REF!,#REF!,$AD480)","v":{"$error":"#REF!"}},{"$f":"COUNTIF(TabUren2[datum],$AD480)","v":0},{"$f":"COUNTIF(TabUren22[datum],$AD480)","v":0},{"$f":"COUNTIF(#REF!,$AD480)","v":{"$error":"#REF!"}},{"$f":"COUNTIF(#REF!,$AD480)","v":{"$error":"#REF!"}},{"$f":"COUNTIF(#REF!,$AD480)","v":{"$error":"#REF!"}},{"$f":"COUNTIF(#REF!,$AD480)","v":{"$error":"#REF!"}},0,0,0,0,0,0,"","","","","","","","","","","","",0,""]
[null,null,null,null,null,null,null,null,null,null,null,null,null,null,null,null,null,null,null,null,null,null,null,null,null,null,null,null,null,"2016-04-24",{"$f":"SUMIFS('LOG1'!$J$5:$J$501,TabUren2[datum],$AD481)","v":"00:00:00"},{"$f":"SUMIFS('LOG2'!$J$5:$J$501,TabUren22[datum],$AD481)","v":"00:00:00"},{"$f":"SUMIFS(#REF!,#REF!,$AD481)","v":{"$error":"#REF!"}},{"$f":"SUMIFS(#REF!,#REF!,$AD481)","v":{"$error":"#REF!"}},{"$f":"SUMIFS(#REF!,#REF!,$AD481)","v":{"$error":"#REF!"}},{"$f":"SUMIFS(#REF!,#REF!,$AD481)","v":{"$error":"#REF!"}},{"$f":"COUNTIF(TabUren2[datum],$AD481)","v":0},{"$f":"COUNTIF(TabUren22[datum],$AD481)","v":0},{"$f":"COUNTIF(#REF!,$AD481)","v":{"$error":"#REF!"}},{"$f":"COUNTIF(#REF!,$AD481)","v":{"$error":"#REF!"}},{"$f":"COUNTIF(#REF!,$AD481)","v":{"$error":"#REF!"}},{"$f":"COUNTIF(#REF!,$AD481)","v":{"$error":"#REF!"}},0,0,0,0,0,0,"","","","","","","","","","","","",0,""]
[null,null,null,null,null,null,null,null,null,null,null,null,null,null,null,null,null,null,null,null,null,null,null,null,null,null,null,null,null,"2016-04-25",{"$f":"SUMIFS('LOG1'!$J$5:$J$501,TabUren2[datum],$AD482)","v":"00:00:00"},{"$f":"SUMIFS('LOG2'!$J$5:$J$501,TabUren22[datum],$AD482)","v":"00:00:00"},{"$f":"SUMIFS(#REF!,#REF!,$AD482)","v":{"$error":"#REF!"}},{"$f":"SUMIFS(#REF!,#REF!,$AD482)","v":{"$error":"#REF!"}},{"$f":"SUMIFS(#REF!,#REF!,$AD482)","v":{"$error":"#REF!"}},{"$f":"SUMIFS(#REF!,#REF!,$AD482)","v":{"$error":"#REF!"}},{"$f":"COUNTIF(TabUren2[datum],$AD482)","v":0},{"$f":"COUNTIF(TabUren22[datum],$AD482)","v":0},{"$f":"COUNTIF(#REF!,$AD482)","v":{"$error":"#REF!"}},{"$f":"COUNTIF(#REF!,$AD482)","v":{"$error":"#REF!"}},{"$f":"COUNTIF(#REF!,$AD482)","v":{"$error":"#REF!"}},{"$f":"COUNTIF(#REF!,$AD482)","v":{"$error":"#REF!"}},0,0,0,0,0,0,"","","","","","","","","","","","",0,""]
[null,null,null,null,null,null,null,null,null,null,null,null,null,null,null,null,null,null,null,null,null,null,null,null,null,null,null,null,null,"2016-04-26",{"$f":"SUMIFS('LOG1'!$J$5:$J$501,TabUren2[datum],$AD483)","v":"00:00:00"},{"$f":"SUMIFS('LOG2'!$J$5:$J$501,TabUren22[datum],$AD483)","v":"00:00:00"},{"$f":"SUMIFS(#REF!,#REF!,$AD483)","v":{"$error":"#REF!"}},{"$f":"SUMIFS(#REF!,#REF!,$AD483)","v":{"$error":"#REF!"}},{"$f":"SUMIFS(#REF!,#REF!,$AD483)","v":{"$error":"#REF!"}},{"$f":"SUMIFS(#REF!,#REF!,$AD483)","v":{"$error":"#REF!"}},{"$f":"COUNTIF(TabUren2[datum],$AD483)","v":0},{"$f":"COUNTIF(TabUren22[datum],$AD483)","v":0},{"$f":"COUNTIF(#REF!,$AD483)","v":{"$error":"#REF!"}},{"$f":"COUNTIF(#REF!,$AD483)","v":{"$error":"#REF!"}},{"$f":"COUNTIF(#REF!,$AD483)","v":{"$error":"#REF!"}},{"$f":"COUNTIF(#REF!,$AD483)","v":{"$error":"#REF!"}},0,0,0,0,0,0,"","","","","","","","","","","","",0,""]
[null,null,null,null,null,null,null,null,null,null,null,null,null,null,null,null,null,null,null,null,null,null,null,null,null,null,null,null,null,"2016-04-27",{"$f":"SUMIFS('LOG1'!$J$5:$J$501,TabUren2[datum],$AD484)","v":"00:00:00"},{"$f":"SUMIFS('LOG2'!$J$5:$J$501,TabUren22[datum],$AD484)","v":"00:00:00"},{"$f":"SUMIFS(#REF!,#REF!,$AD484)","v":{"$error":"#REF!"}},{"$f":"SUMIFS(#REF!,#REF!,$AD484)","v":{"$error":"#REF!"}},{"$f":"SUMIFS(#REF!,#REF!,$AD484)","v":{"$error":"#REF!"}},{"$f":"SUMIFS(#REF!,#REF!,$AD484)","v":{"$error":"#REF!"}},{"$f":"COUNTIF(TabUren2[datum],$AD484)","v":0},{"$f":"COUNTIF(TabUren22[datum],$AD484)","v":0},{"$f":"COUNTIF(#REF!,$AD484)","v":{"$error":"#REF!"}},{"$f":"COUNTIF(#REF!,$AD484)","v":{"$error":"#REF!"}},{"$f":"COUNTIF(#REF!,$AD484)","v":{"$error":"#REF!"}},{"$f":"COUNTIF(#REF!,$AD484)","v":{"$error":"#REF!"}},0,0,0,0,0,0,"","","","","","","","","","","","",0,""]
[null,null,null,null,null,null,null,null,null,null,null,null,null,null,null,null,null,null,null,null,null,null,null,null,null,null,null,null,null,"2016-04-28",{"$f":"SUMIFS('LOG1'!$J$5:$J$501,TabUren2[datum],$AD485)","v":"00:00:00"},{"$f":"SUMIFS('LOG2'!$J$5:$J$501,TabUren22[datum],$AD485)","v":"00:00:00"},{"$f":"SUMIFS(#REF!,#REF!,$AD485)","v":{"$error":"#REF!"}},{"$f":"SUMIFS(#REF!,#REF!,$AD485)","v":{"$error":"#REF!"}},{"$f":"SUMIFS(#REF!,#REF!,$AD485)","v":{"$error":"#REF!"}},{"$f":"SUMIFS(#REF!,#REF!,$AD485)","v":{"$error":"#REF!"}},{"$f":"COUNTIF(TabUren2[datum],$AD485)","v":0},{"$f":"COUNTIF(TabUren22[datum],$AD485)","v":0},{"$f":"COUNTIF(#REF!,$AD485)","v":{"$error":"#REF!"}},{"$f":"COUNTIF(#REF!,$AD485)","v":{"$error":"#REF!"}},{"$f":"COUNTIF(#REF!,$AD485)","v":{"$error":"#REF!"}},{"$f":"COUNTIF(#REF!,$AD485)","v":{"$error":"#REF!"}},0,0,0,0,0,0,"","","","","","","","","","","","",0,""]
[null,null,null,null,null,null,null,null,null,null,null,null,null,null,null,null,null,null,null,null,null,null,null,null,null,null,null,null,null,"2016-04-29",{"$f":"SUMIFS('LOG1'!$J$5:$J$501,TabUren2[datum],$AD486)","v":"00:00:00"},{"$f":"SUMIFS('LOG2'!$J$5:$J$501,TabUren22[datum],$AD486)","v":"00:00:00"},{"$f":"SUMIFS(#REF!,#REF!,$AD486)","v":{"$error":"#REF!"}},{"$f":"SUMIFS(#REF!,#REF!,$AD486)","v":{"$error":"#REF!"}},{"$f":"SUMIFS(#REF!,#REF!,$AD486)","v":{"$error":"#REF!"}},{"$f":"SUMIFS(#REF!,#REF!,$AD486)","v":{"$error":"#REF!"}},{"$f":"COUNTIF(TabUren2[datum],$AD486)","v":0},{"$f":"COUNTIF(TabUren22[datum],$AD486)","v":0},{"$f":"COUNTIF(#REF!,$AD486)","v":{"$error":"#REF!"}},{"$f":"COUNTIF(#REF!,$AD486)","v":{"$error":"#REF!"}},{"$f":"COUNTIF(#REF!,$AD486)","v":{"$error":"#REF!"}},{"$f":"COUNTIF(#REF!,$AD486)","v":{"$error":"#REF!"}},0,0,0,0,0,0,"","","","","","","","","","","","",0,""]
[null,null,null,null,null,null,null,null,null,null,null,null,null,null,null,null,null,null,null,null,null,null,null,null,null,null,null,null,null,"2016-04-30",{"$f":"SUMIFS('LOG1'!$J$5:$J$501,TabUren2[datum],$AD487)","v":"00:00:00"},{"$f":"SUMIFS('LOG2'!$J$5:$J$501,TabUren22[datum],$AD487)","v":"00:00:00"},{"$f":"SUMIFS(#REF!,#REF!,$AD487)","v":{"$error":"#REF!"}},{"$f":"SUMIFS(#REF!,#REF!,$AD487)","v":{"$error":"#REF!"}},{"$f":"SUMIFS(#REF!,#REF!,$AD487)","v":{"$error":"#REF!"}},{"$f":"SUMIFS(#REF!,#REF!,$AD487)","v":{"$error":"#REF!"}},{"$f":"COUNTIF(TabUren2[datum],$AD487)","v":0},{"$f":"COUNTIF(TabUren22[datum],$AD487)","v":0},{"$f":"COUNTIF(#REF!,$AD487)","v":{"$error":"#REF!"}},{"$f":"COUNTIF(#REF!,$AD487)","v":{"$error":"#REF!"}},{"$f":"COUNTIF(#REF!,$AD487)","v":{"$error":"#REF!"}},{"$f":"COUNTIF(#REF!,$AD487)","v":{"$error":"#REF!"}},0,0,0,0,0,0,"","","","","","","","","","","","",0,""]
[null,null,null,null,null,null,null,null,null,null,null,null,null,null,null,null,null,null,null,null,null,null,null,null,null,null,null,null,null,"2016-05-01",{"$f":"SUMIFS('LOG1'!$J$5:$J$501,TabUren2[datum],$AD488)","v":"00:00:00"},{"$f":"SUMIFS('LOG2'!$J$5:$J$501,TabUren22[datum],$AD488)","v":"00:00:00"},{"$f":"SUMIFS(#REF!,#REF!,$AD488)","v":{"$error":"#REF!"}},{"$f":"SUMIFS(#REF!,#REF!,$AD488)","v":{"$error":"#REF!"}},{"$f":"SUMIFS(#REF!,#REF!,$AD488)","v":{"$error":"#REF!"}},{"$f":"SUMIFS(#REF!,#REF!,$AD488)","v":{"$error":"#REF!"}},{"$f":"COUNTIF(TabUren2[datum],$AD488)","v":0},{"$f":"COUNTIF(TabUren22[datum],$AD488)","v":0},{"$f":"COUNTIF(#REF!,$AD488)","v":{"$error":"#REF!"}},{"$f":"COUNTIF(#REF!,$AD488)","v":{"$error":"#REF!"}},{"$f":"COUNTIF(#REF!,$AD488)","v":{"$error":"#REF!"}},{"$f":"COUNTIF(#REF!,$AD488)","v":{"$error":"#REF!"}},0,0,0,0,0,0,"","","","","","","","","","","","",0,""]
[null,null,null,null,null,null,null,null,null,null,null,null,null,null,null,null,null,null,null,null,null,null,null,null,null,null,null,null,null,"2016-05-02",{"$f":"SUMIFS('LOG1'!$J$5:$J$501,TabUren2[datum],$AD489)","v":"00:00:00"},{"$f":"SUMIFS('LOG2'!$J$5:$J$501,TabUren22[datum],$AD489)","v":"00:00:00"},{"$f":"SUMIFS(#REF!,#REF!,$AD489)","v":{"$error":"#REF!"}},{"$f":"SUMIFS(#REF!,#REF!,$AD489)","v":{"$error":"#REF!"}},{"$f":"SUMIFS(#REF!,#REF!,$AD489)","v":{"$error":"#REF!"}},{"$f":"SUMIFS(#REF!,#REF!,$AD489)","v":{"$error":"#REF!"}},{"$f":"COUNTIF(TabUren2[datum],$AD489)","v":0},{"$f":"COUNTIF(TabUren22[datum],$AD489)","v":0},{"$f":"COUNTIF(#REF!,$AD489)","v":{"$error":"#REF!"}},{"$f":"COUNTIF(#REF!,$AD489)","v":{"$error":"#REF!"}},{"$f":"COUNTIF(#REF!,$AD489)","v":{"$error":"#REF!"}},{"$f":"COUNTIF(#REF!,$AD489)","v":{"$error":"#REF!"}},0,0,0,0,0,0,"","","","","","","","","","","","",0,""]
[null,null,null,null,null,null,null,null,null,null,null,null,null,null,null,null,null,null,null,null,null,null,null,null,null,null,null,null,null,"2016-05-03",{"$f":"SUMIFS('LOG1'!$J$5:$J$501,TabUren2[datum],$AD490)","v":"00:00:00"},{"$f":"SUMIFS('LOG2'!$J$5:$J$501,TabUren22[datum],$AD490)","v":"00:00:00"},{"$f":"SUMIFS(#REF!,#REF!,$AD490)","v":{"$error":"#REF!"}},{"$f":"SUMIFS(#REF!,#REF!,$AD490)","v":{"$error":"#REF!"}},{"$f":"SUMIFS(#REF!,#REF!,$AD490)","v":{"$error":"#REF!"}},{"$f":"SUMIFS(#REF!,#REF!,$AD490)","v":{"$error":"#REF!"}},{"$f":"COUNTIF(TabUren2[datum],$AD490)","v":0},{"$f":"COUNTIF(TabUren22[datum],$AD490)","v":0},{"$f":"COUNTIF(#REF!,$AD490)","v":{"$error":"#REF!"}},{"$f":"COUNTIF(#REF!,$AD490)","v":{"$error":"#REF!"}},{"$f":"COUNTIF(#REF!,$AD490)","v":{"$error":"#REF!"}},{"$f":"COUNTIF(#REF!,$AD490)","v":{"$error":"#REF!"}},0,0,0,0,0,0,"","","","","","","","","","","","",0,""]
[null,null,null,null,null,null,null,null,null,null,null,null,null,null,null,null,null,null,null,null,null,null,null,null,null,null,null,null,null,"2016-05-04",{"$f":"SUMIFS('LOG1'!$J$5:$J$501,TabUren2[datum],$AD491)","v":"00:00:00"},{"$f":"SUMIFS('LOG2'!$J$5:$J$501,TabUren22[datum],$AD491)","v":"00:00:00"},{"$f":"SUMIFS(#REF!,#REF!,$AD491)","v":{"$error":"#REF!"}},{"$f":"SUMIFS(#REF!,#REF!,$AD491)","v":{"$error":"#REF!"}},{"$f":"SUMIFS(#REF!,#REF!,$AD491)","v":{"$error":"#REF!"}},{"$f":"SUMIFS(#REF!,#REF!,$AD491)","v":{"$error":"#REF!"}},{"$f":"COUNTIF(TabUren2[datum],$AD491)","v":0},{"$f":"COUNTIF(TabUren22[datum],$AD491)","v":0},{"$f":"COUNTIF(#REF!,$AD491)","v":{"$error":"#REF!"}},{"$f":"COUNTIF(#REF!,$AD491)","v":{"$error":"#REF!"}},{"$f":"COUNTIF(#REF!,$AD491)","v":{"$error":"#REF!"}},{"$f":"COUNTIF(#REF!,$AD491)","v":{"$error":"#REF!"}},0,0,0,0,0,0,"","","","","","","","","","","","",0,""]
[null,null,null,null,null,null,null,null,null,null,null,null,null,null,null,null,null,null,null,null,null,null,null,null,null,null,null,null,null,"2016-05-05",{"$f":"SUMIFS('LOG1'!$J$5:$J$501,TabUren2[datum],$AD492)","v":"00:00:00"},{"$f":"SUMIFS('LOG2'!$J$5:$J$501,TabUren22[datum],$AD492)","v":"00:00:00"},{"$f":"SUMIFS(#REF!,#REF!,$AD492)","v":{"$error":"#REF!"}},{"$f":"SUMIFS(#REF!,#REF!,$AD492)","v":{"$error":"#REF!"}},{"$f":"SUMIFS(#REF!,#REF!,$AD492)","v":{"$error":"#REF!"}},{"$f":"SUMIFS(#REF!,#REF!,$AD492)","v":{"$error":"#REF!"}},{"$f":"COUNTIF(TabUren2[datum],$AD492)","v":0},{"$f":"COUNTIF(TabUren22[datum],$AD492)","v":0},{"$f":"COUNTIF(#REF!,$AD492)","v":{"$error":"#REF!"}},{"$f":"COUNTIF(#REF!,$AD492)","v":{"$error":"#REF!"}},{"$f":"COUNTIF(#REF!,$AD492)","v":{"$error":"#REF!"}},{"$f":"COUNTIF(#REF!,$AD492)","v":{"$error":"#REF!"}},0,0,0,0,0,0,"","","","","","","","","","","","",0,""]
[null,null,null,null,null,null,null,null,null,null,null,null,null,null,null,null,null,null,null,null,null,null,null,null,null,null,null,null,null,"2016-05-06",{"$f":"SUMIFS('LOG1'!$J$5:$J$501,TabUren2[datum],$AD493)","v":"00:00:00"},{"$f":"SUMIFS('LOG2'!$J$5:$J$501,TabUren22[datum],$AD493)","v":"00:00:00"},{"$f":"SUMIFS(#REF!,#REF!,$AD493)","v":{"$error":"#REF!"}},{"$f":"SUMIFS(#REF!,#REF!,$AD493)","v":{"$error":"#REF!"}},{"$f":"SUMIFS(#REF!,#REF!,$AD493)","v":{"$error":"#REF!"}},{"$f":"SUMIFS(#REF!,#REF!,$AD493)","v":{"$error":"#REF!"}},{"$f":"COUNTIF(TabUren2[datum],$AD493)","v":0},{"$f":"COUNTIF(TabUren22[datum],$AD493)","v":0},{"$f":"COUNTIF(#REF!,$AD493)","v":{"$error":"#REF!"}},{"$f":"COUNTIF(#REF!,$AD493)","v":{"$error":"#REF!"}},{"$f":"COUNTIF(#REF!,$AD493)","v":{"$error":"#REF!"}},{"$f":"COUNTIF(#REF!,$AD493)","v":{"$error":"#REF!"}},0,0,0,0,0,0,"","","","","","","","","","","","",0,""]
[null,null,null,null,null,null,null,null,null,null,null,null,null,null,null,null,null,null,null,null,null,null,null,null,null,null,null,null,null,"2016-05-07",{"$f":"SUMIFS('LOG1'!$J$5:$J$501,TabUren2[datum],$AD494)","v":"00:00:00"},{"$f":"SUMIFS('LOG2'!$J$5:$J$501,TabUren22[datum],$AD494)","v":"00:00:00"},{"$f":"SUMIFS(#REF!,#REF!,$AD494)","v":{"$error":"#REF!"}},{"$f":"SUMIFS(#REF!,#REF!,$AD494)","v":{"$error":"#REF!"}},{"$f":"SUMIFS(#REF!,#REF!,$AD494)","v":{"$error":"#REF!"}},{"$f":"SUMIFS(#REF!,#REF!,$AD494)","v":{"$error":"#REF!"}},{"$f":"COUNTIF(TabUren2[datum],$AD494)","v":0},{"$f":"COUNTIF(TabUren22[datum],$AD494)","v":0},{"$f":"COUNTIF(#REF!,$AD494)","v":{"$error":"#REF!"}},{"$f":"COUNTIF(#REF!,$AD494)","v":{"$error":"#REF!"}},{"$f":"COUNTIF(#REF!,$AD494)","v":{"$error":"#REF!"}},{"$f":"COUNTIF(#REF!,$AD494)","v":{"$error":"#REF!"}},0,0,0,0,0,0,"","","","","","","","","","","","",0,""]
[null,null,null,null,null,null,null,null,null,null,null,null,null,null,null,null,null,null,null,null,null,null,null,null,null,null,null,null,null,"2016-05-08",{"$f":"SUMIFS('LOG1'!$J$5:$J$501,TabUren2[datum],$AD495)","v":"00:00:00"},{"$f":"SUMIFS('LOG2'!$J$5:$J$501,TabUren22[datum],$AD495)","v":"00:00:00"},{"$f":"SUMIFS(#REF!,#REF!,$AD495)","v":{"$error":"#REF!"}},{"$f":"SUMIFS(#REF!,#REF!,$AD495)","v":{"$error":"#REF!"}},{"$f":"SUMIFS(#REF!,#REF!,$AD495)","v":{"$error":"#REF!"}},{"$f":"SUMIFS(#REF!,#REF!,$AD495)","v":{"$error":"#REF!"}},{"$f":"COUNTIF(TabUren2[datum],$AD495)","v":0},{"$f":"COUNTIF(TabUren22[datum],$AD495)","v":0},{"$f":"COUNTIF(#REF!,$AD495)","v":{"$error":"#REF!"}},{"$f":"COUNTIF(#REF!,$AD495)","v":{"$error":"#REF!"}},{"$f":"COUNTIF(#REF!,$AD495)","v":{"$error":"#REF!"}},{"$f":"COUNTIF(#REF!,$AD495)","v":{"$error":"#REF!"}},0,0,0,0,0,0,"","","","","","","","","","","","",0,""]
[null,null,null,null,null,null,null,null,null,null,null,null,null,null,null,null,null,null,null,null,null,null,null,null,null,null,null,null,null,"2016-05-09",{"$f":"SUMIFS('LOG1'!$J$5:$J$501,TabUren2[datum],$AD496)","v":"00:00:00"},{"$f":"SUMIFS('LOG2'!$J$5:$J$501,TabUren22[datum],$AD496)","v":"00:00:00"},{"$f":"SUMIFS(#REF!,#REF!,$AD496)","v":{"$error":"#REF!"}},{"$f":"SUMIFS(#REF!,#REF!,$AD496)","v":{"$error":"#REF!"}},{"$f":"SUMIFS(#REF!,#REF!,$AD496)","v":{"$error":"#REF!"}},{"$f":"SUMIFS(#REF!,#REF!,$AD496)","v":{"$error":"#REF!"}},{"$f":"COUNTIF(TabUren2[datum],$AD496)","v":0},{"$f":"COUNTIF(TabUren22[datum],$AD496)","v":0},{"$f":"COUNTIF(#REF!,$AD496)","v":{"$error":"#REF!"}},{"$f":"COUNTIF(#REF!,$AD496)","v":{"$error":"#REF!"}},{"$f":"COUNTIF(#REF!,$AD496)","v":{"$error":"#REF!"}},{"$f":"COUNTIF(#REF!,$AD496)","v":{"$error":"#REF!"}},0,0,0,0,0,0,"","","","","","","","","","","","",0,""]
[null,null,null,null,null,null,null,null,null,null,null,null,null,null,null,null,null,null,null,null,null,null,null,null,null,null,null,null,null,"2016-05-10",{"$f":"SUMIFS('LOG1'!$J$5:$J$501,TabUren2[datum],$AD497)","v":"00:00:00"},{"$f":"SUMIFS('LOG2'!$J$5:$J$501,TabUren22[datum],$AD497)","v":"00:00:00"},{"$f":"SUMIFS(#REF!,#REF!,$AD497)","v":{"$error":"#REF!"}},{"$f":"SUMIFS(#REF!,#REF!,$AD497)","v":{"$error":"#REF!"}},{"$f":"SUMIFS(#REF!,#REF!,$AD497)","v":{"$error":"#REF!"}},{"$f":"SUMIFS(#REF!,#REF!,$AD497)","v":{"$error":"#REF!"}},{"$f":"COUNTIF(TabUren2[datum],$AD497)","v":0},{"$f":"COUNTIF(TabUren22[datum],$AD497)","v":0},{"$f":"COUNTIF(#REF!,$AD497)","v":{"$error":"#REF!"}},{"$f":"COUNTIF(#REF!,$AD497)","v":{"$error":"#REF!"}},{"$f":"COUNTIF(#REF!,$AD497)","v":{"$error":"#REF!"}},{"$f":"COUNTIF(#REF!,$AD497)","v":{"$error":"#REF!"}},0,0,0,0,0,0,"","","","","","","","","","","","",0,""]
[null,null,null,null,null,null,null,null,null,null,null,null,null,null,null,null,null,null,null,null,null,null,null,null,null,null,null,null,null,"2016-05-11",{"$f":"SUMIFS('LOG1'!$J$5:$J$501,TabUren2[datum],$AD498)","v":"00:00:00"},{"$f":"SUMIFS('LOG2'!$J$5:$J$501,TabUren22[datum],$AD498)","v":"00:00:00"},{"$f":"SUMIFS(#REF!,#REF!,$AD498)","v":{"$error":"#REF!"}},{"$f":"SUMIFS(#REF!,#REF!,$AD498)","v":{"$error":"#REF!"}},{"$f":"SUMIFS(#REF!,#REF!,$AD498)","v":{"$error":"#REF!"}},{"$f":"SUMIFS(#REF!,#REF!,$AD498)","v":{"$error":"#REF!"}},{"$f":"COUNTIF(TabUren2[datum],$AD498)","v":0},{"$f":"COUNTIF(TabUren22[datum],$AD498)","v":0},{"$f":"COUNTIF(#REF!,$AD498)","v":{"$error":"#REF!"}},{"$f":"COUNTIF(#REF!,$AD498)","v":{"$error":"#REF!"}},{"$f":"COUNTIF(#REF!,$AD498)","v":{"$error":"#REF!"}},{"$f":"COUNTIF(#REF!,$AD498)","v":{"$error":"#REF!"}},0,0,0,0,0,0,"","","","","","","","","","","","",0,""]
[null,null,null,null,null,null,null,null,null,null,null,null,null,null,null,null,null,null,null,null,null,null,null,null,null,null,null,null,null,"2016-05-12",{"$f":"SUMIFS('LOG1'!$J$5:$J$501,TabUren2[datum],$AD499)","v":"00:00:00"},{"$f":"SUMIFS('LOG2'!$J$5:$J$501,TabUren22[datum],$AD499)","v":"00:00:00"},{"$f":"SUMIFS(#REF!,#REF!,$AD499)","v":{"$error":"#REF!"}},{"$f":"SUMIFS(#REF!,#REF!,$AD499)","v":{"$error":"#REF!"}},{"$f":"SUMIFS(#REF!,#REF!,$AD499)","v":{"$error":"#REF!"}},{"$f":"SUMIFS(#REF!,#REF!,$AD499)","v":{"$error":"#REF!"}},{"$f":"COUNTIF(TabUren2[datum],$AD499)","v":0},{"$f":"COUNTIF(TabUren22[datum],$AD499)","v":0},{"$f":"COUNTIF(#REF!,$AD499)","v":{"$error":"#REF!"}},{"$f":"COUNTIF(#REF!,$AD499)","v":{"$error":"#REF!"}},{"$f":"COUNTIF(#REF!,$AD499)","v":{"$error":"#REF!"}},{"$f":"COUNTIF(#REF!,$AD499)","v":{"$error":"#REF!"}},0,0,0,0,0,0,"","","","","","","","","","","","",0,""]
[null,null,null,null,null,null,null,null,null,null,null,null,null,null,null,null,null,null,null,null,null,null,null,null,null,null,null,null,null,"2016-05-13",{"$f":"SUMIFS('LOG1'!$J$5:$J$501,TabUren2[datum],$AD500)","v":"00:00:00"},{"$f":"SUMIFS('LOG2'!$J$5:$J$501,TabUren22[datum],$AD500)","v":"00:00:00"},{"$f":"SUMIFS(#REF!,#REF!,$AD500)","v":{"$error":"#REF!"}},{"$f":"SUMIFS(#REF!,#REF!,$AD500)","v":{"$error":"#REF!"}},{"$f":"SUMIFS(#REF!,#REF!,$AD500)","v":{"$error":"#REF!"}},{"$f":"SUMIFS(#REF!,#REF!,$AD500)","v":{"$error":"#REF!"}},{"$f":"COUNTIF(TabUren2[datum],$AD500)","v":0},{"$f":"COUNTIF(TabUren22[datum],$AD500)","v":0},{"$f":"COUNTIF(#REF!,$AD500)","v":{"$error":"#REF!"}},{"$f":"COUNTIF(#REF!,$AD500)","v":{"$error":"#REF!"}},{"$f":"COUNTIF(#REF!,$AD500)","v":{"$error":"#REF!"}},{"$f":"COUNTIF(#REF!,$AD500)","v":{"$error":"#REF!"}},0,0,0,0,0,0,"","","","","","","","","","","","",0,""]
[null,null,null,null,null,null,null,null,null,null,null,null,null,null,null,null,null,null,null,null,null,null,null,null,null,null,null,null,null,"2016-05-14",{"$f":"SUMIFS('LOG1'!$J$5:$J$501,TabUren2[datum],$AD501)","v":"00:00:00"},{"$f":"SUMIFS('LOG2'!$J$5:$J$501,TabUren22[datum],$AD501)","v":"00:00:00"},{"$f":"SUMIFS(#REF!,#REF!,$AD501)","v":{"$error":"#REF!"}},{"$f":"SUMIFS(#REF!,#REF!,$AD501)","v":{"$error":"#REF!"}},{"$f":"SUMIFS(#REF!,#REF!,$AD501)","v":{"$error":"#REF!"}},{"$f":"SUMIFS(#REF!,#REF!,$AD501)","v":{"$error":"#REF!"}},{"$f":"COUNTIF(TabUren2[datum],$AD501)","v":0},{"$f":"COUNTIF(TabUren22[datum],$AD501)","v":0},{"$f":"COUNTIF(#REF!,$AD501)","v":{"$error":"#REF!"}},{"$f":"COUNTIF(#REF!,$AD501)","v":{"$error":"#REF!"}},{"$f":"COUNTIF(#REF!,$AD501)","v":{"$error":"#REF!"}},{"$f":"COUNTIF(#REF!,$AD501)","v":{"$error":"#REF!"}},0,0,0,0,0,0,"","","","","","","","","","","","",0,""]
[null,null,null,null,null,null,null,null,null,null,null,null,null,null,null,null,null,null,null,null,null,null,null,null,null,null,null,null,null,"2016-05-15",{"$f":"SUMIFS('LOG1'!$J$5:$J$501,TabUren2[datum],$AD502)","v":"00:00:00"},{"$f":"SUMIFS('LOG2'!$J$5:$J$501,TabUren22[datum],$AD502)","v":"00:00:00"},{"$f":"SUMIFS(#REF!,#REF!,$AD502)","v":{"$error":"#REF!"}},{"$f":"SUMIFS(#REF!,#REF!,$AD502)","v":{"$error":"#REF!"}},{"$f":"SUMIFS(#REF!,#REF!,$AD502)","v":{"$error":"#REF!"}},{"$f":"SUMIFS(#REF!,#REF!,$AD502)","v":{"$error":"#REF!"}},{"$f":"COUNTIF(TabUren2[datum],$AD502)","v":0},{"$f":"COUNTIF(TabUren22[datum],$AD502)","v":0},{"$f":"COUNTIF(#REF!,$AD502)","v":{"$error":"#REF!"}},{"$f":"COUNTIF(#REF!,$AD502)","v":{"$error":"#REF!"}},{"$f":"COUNTIF(#REF!,$AD502)","v":{"$error":"#REF!"}},{"$f":"COUNTIF(#REF!,$AD502)","v":{"$error":"#REF!"}},0,0,0,0,0,0,"","","","","","","","","","","","",0,""]
[null,null,null,null,null,null,null,null,null,null,null,null,null,null,null,null,null,null,null,null,null,null,null,null,null,null,null,null,null,"2016-05-16",{"$f":"SUMIFS('LOG1'!$J$5:$J$501,TabUren2[datum],$AD503)","v":"00:00:00"},{"$f":"SUMIFS('LOG2'!$J$5:$J$501,TabUren22[datum],$AD503)","v":"00:00:00"},{"$f":"SUMIFS(#REF!,#REF!,$AD503)","v":{"$error":"#REF!"}},{"$f":"SUMIFS(#REF!,#REF!,$AD503)","v":{"$error":"#REF!"}},{"$f":"SUMIFS(#REF!,#REF!,$AD503)","v":{"$error":"#REF!"}},{"$f":"SUMIFS(#REF!,#REF!,$AD503)","v":{"$error":"#REF!"}},{"$f":"COUNTIF(TabUren2[datum],$AD503)","v":0},{"$f":"COUNTIF(TabUren22[datum],$AD503)","v":0},{"$f":"COUNTIF(#REF!,$AD503)","v":{"$error":"#REF!"}},{"$f":"COUNTIF(#REF!,$AD503)","v":{"$error":"#REF!"}},{"$f":"COUNTIF(#REF!,$AD503)","v":{"$error":"#REF!"}},{"$f":"COUNTIF(#REF!,$AD503)","v":{"$error":"#REF!"}},0,0,0,0,0,0,"","","","","","","","","","","","",0,""]
[null,null,null,null,null,null,null,null,null,null,null,null,null,null,null,null,null,null,null,null,null,null,null,null,null,null,null,null,null,"2016-05-17",{"$f":"SUMIFS('LOG1'!$J$5:$J$501,TabUren2[datum],$AD504)","v":"00:00:00"},{"$f":"SUMIFS('LOG2'!$J$5:$J$501,TabUren22[datum],$AD504)","v":"00:00:00"},{"$f":"SUMIFS(#REF!,#REF!,$AD504)","v":{"$error":"#REF!"}},{"$f":"SUMIFS(#REF!,#REF!,$AD504)","v":{"$error":"#REF!"}},{"$f":"SUMIFS(#REF!,#REF!,$AD504)","v":{"$error":"#REF!"}},{"$f":"SUMIFS(#REF!,#REF!,$AD504)","v":{"$error":"#REF!"}},{"$f":"COUNTIF(TabUren2[datum],$AD504)","v":0},{"$f":"COUNTIF(TabUren22[datum],$AD504)","v":0},{"$f":"COUNTIF(#REF!,$AD504)","v":{"$error":"#REF!"}},{"$f":"COUNTIF(#REF!,$AD504)","v":{"$error":"#REF!"}},{"$f":"COUNTIF(#REF!,$AD504)","v":{"$error":"#REF!"}},{"$f":"COUNTIF(#REF!,$AD504)","v":{"$error":"#REF!"}},0,0,0,0,0,0,"","","","","","","","","","","","",0,""]
[null,null,null,null,null,null,null,null,null,null,null,null,null,null,null,null,null,null,null,null,null,null,null,null,null,null,null,null,null,"2016-05-18",{"$f":"SUMIFS('LOG1'!$J$5:$J$501,TabUren2[datum],$AD505)","v":"00:00:00"},{"$f":"SUMIFS('LOG2'!$J$5:$J$501,TabUren22[datum],$AD505)","v":"00:00:00"},{"$f":"SUMIFS(#REF!,#REF!,$AD505)","v":{"$error":"#REF!"}},{"$f":"SUMIFS(#REF!,#REF!,$AD505)","v":{"$error":"#REF!"}},{"$f":"SUMIFS(#REF!,#REF!,$AD505)","v":{"$error":"#REF!"}},{"$f":"SUMIFS(#REF!,#REF!,$AD505)","v":{"$error":"#REF!"}},{"$f":"COUNTIF(TabUren2[datum],$AD505)","v":0},{"$f":"COUNTIF(TabUren22[datum],$AD505)","v":0},{"$f":"COUNTIF(#REF!,$AD505)","v":{"$error":"#REF!"}},{"$f":"COUNTIF(#REF!,$AD505)","v":{"$error":"#REF!"}},{"$f":"COUNTIF(#REF!,$AD505)","v":{"$error":"#REF!"}},{"$f":"COUNTIF(#REF!,$AD505)","v":{"$error":"#REF!"}},0,0,0,0,0,0,"","","","","","","","","","","","",0,""]
[null,null,null,null,null,null,null,null,null,null,null,null,null,null,null,null,null,null,null,null,null,null,null,null,null,null,null,null,null,"2016-05-19",{"$f":"SUMIFS('LOG1'!$J$5:$J$501,TabUren2[datum],$AD506)","v":"00:00:00"},{"$f":"SUMIFS('LOG2'!$J$5:$J$501,TabUren22[datum],$AD506)","v":"00:00:00"},{"$f":"SUMIFS(#REF!,#REF!,$AD506)","v":{"$error":"#REF!"}},{"$f":"SUMIFS(#REF!,#REF!,$AD506)","v":{"$error":"#REF!"}},{"$f":"SUMIFS(#REF!,#REF!,$AD506)","v":{"$error":"#REF!"}},{"$f":"SUMIFS(#REF!,#REF!,$AD506)","v":{"$error":"#REF!"}},{"$f":"COUNTIF(TabUren2[datum],$AD506)","v":0},{"$f":"COUNTIF(TabUren22[datum],$AD506)","v":0},{"$f":"COUNTIF(#REF!,$AD506)","v":{"$error":"#REF!"}},{"$f":"COUNTIF(#REF!,$AD506)","v":{"$error":"#REF!"}},{"$f":"COUNTIF(#REF!,$AD506)","v":{"$error":"#REF!"}},{"$f":"COUNTIF(#REF!,$AD506)","v":{"$error":"#REF!"}},0,0,0,0,0,0,"","","","","","","","","","","","",0,""]
[null,null,null,null,null,null,null,null,null,null,null,null,null,null,null,null,null,null,null,null,null,null,null,null,null,null,null,null,null,"2016-05-20",{"$f":"SUMIFS('LOG1'!$J$5:$J$501,TabUren2[datum],$AD507)","v":"00:00:00"},{"$f":"SUMIFS('LOG2'!$J$5:$J$501,TabUren22[datum],$AD507)","v":"00:00:00"},{"$f":"SUMIFS(#REF!,#REF!,$AD507)","v":{"$error":"#REF!"}},{"$f":"SUMIFS(#REF!,#REF!,$AD507)","v":{"$error":"#REF!"}},{"$f":"SUMIFS(#REF!,#REF!,$AD507)","v":{"$error":"#REF!"}},{"$f":"SUMIFS(#REF!,#REF!,$AD507)","v":{"$error":"#REF!"}},{"$f":"COUNTIF(TabUren2[datum],$AD507)","v":0},{"$f":"COUNTIF(TabUren22[datum],$AD507)","v":0},{"$f":"COUNTIF(#REF!,$AD507)","v":{"$error":"#REF!"}},{"$f":"COUNTIF(#REF!,$AD507)","v":{"$error":"#REF!"}},{"$f":"COUNTIF(#REF!,$AD507)","v":{"$error":"#REF!"}},{"$f":"COUNTIF(#REF!,$AD507)","v":{"$error":"#REF!"}},0,0,0,0,0,0,"","","","","","","","","","","","",0,""]
[null,null,null,null,null,null,null,null,null,null,null,null,null,null,null,null,null,null,null,null,null,null,null,null,null,null,null,null,null,"2016-05-21",{"$f":"SUMIFS('LOG1'!$J$5:$J$501,TabUren2[datum],$AD508)","v":"00:00:00"},{"$f":"SUMIFS('LOG2'!$J$5:$J$501,TabUren22[datum],$AD508)","v":"00:00:00"},{"$f":"SUMIFS(#REF!,#REF!,$AD508)","v":{"$error":"#REF!"}},{"$f":"SUMIFS(#REF!,#REF!,$AD508)","v":{"$error":"#REF!"}},{"$f":"SUMIFS(#REF!,#REF!,$AD508)","v":{"$error":"#REF!"}},{"$f":"SUMIFS(#REF!,#REF!,$AD508)","v":{"$error":"#REF!"}},{"$f":"COUNTIF(TabUren2[datum],$AD508)","v":0},{"$f":"COUNTIF(TabUren22[datum],$AD508)","v":0},{"$f":"COUNTIF(#REF!,$AD508)","v":{"$error":"#REF!"}},{"$f":"COUNTIF(#REF!,$AD508)","v":{"$error":"#REF!"}},{"$f":"COUNTIF(#REF!,$AD508)","v":{"$error":"#REF!"}},{"$f":"COUNTIF(#REF!,$AD508)","v":{"$error":"#REF!"}},0,0,0,0,0,0,"","","","","","","","","","","","",0,""]
[null,null,null,null,null,null,null,null,null,null,null,null,null,null,null,null,null,null,null,null,null,null,null,null,null,null,null,null,null,"2016-05-22",{"$f":"SUMIFS('LOG1'!$J$5:$J$501,TabUren2[datum],$AD509)","v":"00:00:00"},{"$f":"SUMIFS('LOG2'!$J$5:$J$501,TabUren22[datum],$AD509)","v":"00:00:00"},{"$f":"SUMIFS(#REF!,#REF!,$AD509)","v":{"$error":"#REF!"}},{"$f":"SUMIFS(#REF!,#REF!,$AD509)","v":{"$error":"#REF!"}},{"$f":"SUMIFS(#REF!,#REF!,$AD509)","v":{"$error":"#REF!"}},{"$f":"SUMIFS(#REF!,#REF!,$AD509)","v":{"$error":"#REF!"}},{"$f":"COUNTIF(TabUren2[datum],$AD509)","v":0},{"$f":"COUNTIF(TabUren22[datum],$AD509)","v":0},{"$f":"COUNTIF(#REF!,$AD509)","v":{"$error":"#REF!"}},{"$f":"COUNTIF(#REF!,$AD509)","v":{"$error":"#REF!"}},{"$f":"COUNTIF(#REF!,$AD509)","v":{"$error":"#REF!"}},{"$f":"COUNTIF(#REF!,$AD509)","v":{"$error":"#REF!"}},0,0,0,0,0,0,"","","","","","","","","","","","",0,""]
[null,null,null,null,null,null,null,null,null,null,null,null,null,null,null,null,null,null,null,null,null,null,null,null,null,null,null,null,null,"2016-05-23",{"$f":"SUMIFS('LOG1'!$J$5:$J$501,TabUren2[datum],$AD510)","v":"00:00:00"},{"$f":"SUMIFS('LOG2'!$J$5:$J$501,TabUren22[datum],$AD510)","v":"00:00:00"},{"$f":"SUMIFS(#REF!,#REF!,$AD510)","v":{"$error":"#REF!"}},{"$f":"SUMIFS(#REF!,#REF!,$AD510)","v":{"$error":"#REF!"}},{"$f":"SUMIFS(#REF!,#REF!,$AD510)","v":{"$error":"#REF!"}},{"$f":"SUMIFS(#REF!,#REF!,$AD510)","v":{"$error":"#REF!"}},{"$f":"COUNTIF(TabUren2[datum],$AD510)","v":0},{"$f":"COUNTIF(TabUren22[datum],$AD510)","v":0},{"$f":"COUNTIF(#REF!,$AD510)","v":{"$error":"#REF!"}},{"$f":"COUNTIF(#REF!,$AD510)","v":{"$error":"#REF!"}},{"$f":"COUNTIF(#REF!,$AD510)","v":{"$error":"#REF!"}},{"$f":"COUNTIF(#REF!,$AD510)","v":{"$error":"#REF!"}},0,0,0,0,0,0,"","","","","","","","","","","","",0,""]
[null,null,null,null,null,null,null,null,null,null,null,null,null,null,null,null,null,null,null,null,null,null,null,null,null,null,null,null,null,"2016-05-24",{"$f":"SUMIFS('LOG1'!$J$5:$J$501,TabUren2[datum],$AD511)","v":"00:00:00"},{"$f":"SUMIFS('LOG2'!$J$5:$J$501,TabUren22[datum],$AD511)","v":"00:00:00"},{"$f":"SUMIFS(#REF!,#REF!,$AD511)","v":{"$error":"#REF!"}},{"$f":"SUMIFS(#REF!,#REF!,$AD511)","v":{"$error":"#REF!"}},{"$f":"SUMIFS(#REF!,#REF!,$AD511)","v":{"$error":"#REF!"}},{"$f":"SUMIFS(#REF!,#REF!,$AD511)","v":{"$error":"#REF!"}},{"$f":"COUNTIF(TabUren2[datum],$AD511)","v":0},{"$f":"COUNTIF(TabUren22[datum],$AD511)","v":0},{"$f":"COUNTIF(#REF!,$AD511)","v":{"$error":"#REF!"}},{"$f":"COUNTIF(#REF!,$AD511)","v":{"$error":"#REF!"}},{"$f":"COUNTIF(#REF!,$AD511)","v":{"$error":"#REF!"}},{"$f":"COUNTIF(#REF!,$AD511)","v":{"$error":"#REF!"}},0,0,0,0,0,0,"","","","","","","","","","","","",0,""]
[null,null,null,null,null,null,null,null,null,null,null,null,null,null,null,null,null,null,null,null,null,null,null,null,null,null,null,null,null,"2016-05-25",{"$f":"SUMIFS('LOG1'!$J$5:$J$501,TabUren2[datum],$AD512)","v":"00:00:00"},{"$f":"SUMIFS('LOG2'!$J$5:$J$501,TabUren22[datum],$AD512)","v":"00:00:00"},{"$f":"SUMIFS(#REF!,#REF!,$AD512)","v":{"$error":"#REF!"}},{"$f":"SUMIFS(#REF!,#REF!,$AD512)","v":{"$error":"#REF!"}},{"$f":"SUMIFS(#REF!,#REF!,$AD512)","v":{"$error":"#REF!"}},{"$f":"SUMIFS(#REF!,#REF!,$AD512)","v":{"$error":"#REF!"}},{"$f":"COUNTIF(TabUren2[datum],$AD512)","v":0},{"$f":"COUNTIF(TabUren22[datum],$AD512)","v":0},{"$f":"COUNTIF(#REF!,$AD512)","v":{"$error":"#REF!"}},{"$f":"COUNTIF(#REF!,$AD512)","v":{"$error":"#REF!"}},{"$f":"COUNTIF(#REF!,$AD512)","v":{"$error":"#REF!"}},{"$f":"COUNTIF(#REF!,$AD512)","v":{"$error":"#REF!"}},0,0,0,0,0,0,"","","","","","","","","","","","",0,""]
[null,null,null,null,null,null,null,null,null,null,null,null,null,null,null,null,null,null,null,null,null,null,null,null,null,null,null,null,null,"2016-05-26",{"$f":"SUMIFS('LOG1'!$J$5:$J$501,TabUren2[datum],$AD513)","v":"00:00:00"},{"$f":"SUMIFS('LOG2'!$J$5:$J$501,TabUren22[datum],$AD513)","v":"00:00:00"},{"$f":"SUMIFS(#REF!,#REF!,$AD513)","v":{"$error":"#REF!"}},{"$f":"SUMIFS(#REF!,#REF!,$AD513)","v":{"$error":"#REF!"}},{"$f":"SUMIFS(#REF!,#REF!,$AD513)","v":{"$error":"#REF!"}},{"$f":"SUMIFS(#REF!,#REF!,$AD513)","v":{"$error":"#REF!"}},{"$f":"COUNTIF(TabUren2[datum],$AD513)","v":0},{"$f":"COUNTIF(TabUren22[datum],$AD513)","v":0},{"$f":"COUNTIF(#REF!,$AD513)","v":{"$error":"#REF!"}},{"$f":"COUNTIF(#REF!,$AD513)","v":{"$error":"#REF!"}},{"$f":"COUNTIF(#REF!,$AD513)","v":{"$error":"#REF!"}},{"$f":"COUNTIF(#REF!,$AD513)","v":{"$error":"#REF!"}},0,0,0,0,0,0,"","","","","","","","","","","","",0,""]
[null,null,null,null,null,null,null,null,null,null,null,null,null,null,null,null,null,null,null,null,null,null,null,null,null,null,null,null,null,"2016-05-27",{"$f":"SUMIFS('LOG1'!$J$5:$J$501,TabUren2[datum],$AD514)","v":"00:00:00"},{"$f":"SUMIFS('LOG2'!$J$5:$J$501,TabUren22[datum],$AD514)","v":"00:00:00"},{"$f":"SUMIFS(#REF!,#REF!,$AD514)","v":{"$error":"#REF!"}},{"$f":"SUMIFS(#REF!,#REF!,$AD514)","v":{"$error":"#REF!"}},{"$f":"SUMIFS(#REF!,#REF!,$AD514)","v":{"$error":"#REF!"}},{"$f":"SUMIFS(#REF!,#REF!,$AD514)","v":{"$error":"#REF!"}},{"$f":"COUNTIF(TabUren2[datum],$AD514)","v":0},{"$f":"COUNTIF(TabUren22[datum],$AD514)","v":0},{"$f":"COUNTIF(#REF!,$AD514)","v":{"$error":"#REF!"}},{"$f":"COUNTIF(#REF!,$AD514)","v":{"$error":"#REF!"}},{"$f":"COUNTIF(#REF!,$AD514)","v":{"$error":"#REF!"}},{"$f":"COUNTIF(#REF!,$AD514)","v":{"$error":"#REF!"}},0,0,0,0,0,0,"","","","","","","","","","","","",0,""]
[null,null,null,null,null,null,null,null,null,null,null,null,null,null,null,null,null,null,null,null,null,null,null,null,null,null,null,null,null,"2016-05-28",{"$f":"SUMIFS('LOG1'!$J$5:$J$501,TabUren2[datum],$AD515)","v":"00:00:00"},{"$f":"SUMIFS('LOG2'!$J$5:$J$501,TabUren22[datum],$AD515)","v":"00:00:00"},{"$f":"SUMIFS(#REF!,#REF!,$AD515)","v":{"$error":"#REF!"}},{"$f":"SUMIFS(#REF!,#REF!,$AD515)","v":{"$error":"#REF!"}},{"$f":"SUMIFS(#REF!,#REF!,$AD515)","v":{"$error":"#REF!"}},{"$f":"SUMIFS(#REF!,#REF!,$AD515)","v":{"$error":"#REF!"}},{"$f":"COUNTIF(TabUren2[datum],$AD515)","v":0},{"$f":"COUNTIF(TabUren22[datum],$AD515)","v":0},{"$f":"COUNTIF(#REF!,$AD515)","v":{"$error":"#REF!"}},{"$f":"COUNTIF(#REF!,$AD515)","v":{"$error":"#REF!"}},{"$f":"COUNTIF(#REF!,$AD515)","v":{"$error":"#REF!"}},{"$f":"COUNTIF(#REF!,$AD515)","v":{"$error":"#REF!"}},{"$f":"COUNTIF(AK515,\">0\")","v":0},{"$f":"COUNTIF(AL515,\">0\")","v":0},{"$f":"COUNTIF(AM515,\">0\")","v":0},{"$f":"COUNTIF(AN515,\">0\")","v":0},{"$f":"COUNTIF(AO515,\">0\")","v":0},{"$f":"COUNTIF(AP515,\">0\")","v":0},{"$f":"IF(AQ515=1,AE515,\"\")","v":""},{"$f":"IF(AR515=1,AF515,\"\")","v":""},{"$f":"IF(AS515=1,AG515,\"\")","v":""},{"$f":"IF(AT515=1,AH515,\"\")","v":""},{"$f":"IF(AU515=1,AI515,\"\")","v":""},{"$f":"IF(AV515=1,AJ515,\"\")","v":""},{"$f":"IF(BC$1=TRUE,AW515,\"\")","v":""},{"$f":"IF(BD$1=TRUE,AX515,\"\")","v":""},{"$f":"IF(BE$1=TRUE,AY515,\"\")","v":""},{"$f":"IF(BF$1=TRUE,AZ515,\"\")","v":""},{"$f":"IF(BG$1=TRUE,BA515,\"\")","v":""},{"$f":"IF(BH$1=TRUE,BB515,\"\")","v":""},0,""]
[null,null,null,null,null,null,null,null,null,null,null,null,null,null,null,null,null,null,null,null,null,null,null,null,null,null,null,null,null,"2016-05-29",{"$f":"SUMIFS('LOG1'!$J$5:$J$501,TabUren2[datum],$AD516)","v":"00:00:00"},{"$f":"SUMIFS('LOG2'!$J$5:$J$501,TabUren22[datum],$AD516)","v":"00:00:00"},{"$f":"SUMIFS(#REF!,#REF!,$AD516)","v":{"$error":"#REF!"}},{"$f":"SUMIFS(#REF!,#REF!,$AD516)","v":{"$error":"#REF!"}},{"$f":"SUMIFS(#REF!,#REF!,$AD516)","v":{"$error":"#REF!"}},{"$f":"SUMIFS(#REF!,#REF!,$AD516)","v":{"$error":"#REF!"}},{"$f":"COUNTIF(TabUren2[datum],$AD516)","v":0},{"$f":"COUNTIF(TabUren22[datum],$AD516)","v":0},{"$f":"COUNTIF(#REF!,$AD516)","v":{"$error":"#REF!"}},{"$f":"COUNTIF(#REF!,$AD516)","v":{"$error":"#REF!"}},{"$f":"COUNTIF(#REF!,$AD516)","v":{"$error":"#REF!"}},{"$f":"COUNTIF(#REF!,$AD516)","v":{"$error":"#REF!"}},0,0,0,0,0,0,"","","","","","","","","","","","",0,""]
[null,null,null,null,null,null,null,null,null,null,null,null,null,null,null,null,null,null,null,null,null,null,null,null,null,null,null,null,null,"2016-05-30",{"$f":"SUMIFS('LOG1'!$J$5:$J$501,TabUren2[datum],$AD517)","v":"00:00:00"},{"$f":"SUMIFS('LOG2'!$J$5:$J$501,TabUren22[datum],$AD517)","v":"00:00:00"},{"$f":"SUMIFS(#REF!,#REF!,$AD517)","v":{"$error":"#REF!"}},{"$f":"SUMIFS(#REF!,#REF!,$AD517)","v":{"$error":"#REF!"}},{"$f":"SUMIFS(#REF!,#REF!,$AD517)","v":{"$error":"#REF!"}},{"$f":"SUMIFS(#REF!,#REF!,$AD517)","v":{"$error":"#REF!"}},{"$f":"COUNTIF(TabUren2[datum],$AD517)","v":0},{"$f":"COUNTIF(TabUren22[datum],$AD517)","v":0},{"$f":"COUNTIF(#REF!,$AD517)","v":{"$error":"#REF!"}},{"$f":"COUNTIF(#REF!,$AD517)","v":{"$error":"#REF!"}},{"$f":"COUNTIF(#REF!,$AD517)","v":{"$error":"#REF!"}},{"$f":"COUNTIF(#REF!,$AD517)","v":{"$error":"#REF!"}},0,0,0,0,0,0,"","","","","","","","","","","","",0,""]
[null,null,null,null,null,null,null,null,null,null,null,null,null,null,null,null,null,null,null,null,null,null,null,null,null,null,null,null,null,"2016-05-31",{"$f":"SUMIFS('LOG1'!$J$5:$J$501,TabUren2[datum],$AD518)","v":"00:00:00"},{"$f":"SUMIFS('LOG2'!$J$5:$J$501,TabUren22[datum],$AD518)","v":"00:00:00"},{"$f":"SUMIFS(#REF!,#REF!,$AD518)","v":{"$error":"#REF!"}},{"$f":"SUMIFS(#REF!,#REF!,$AD518)","v":{"$error":"#REF!"}},{"$f":"SUMIFS(#REF!,#REF!,$AD518)","v":{"$error":"#REF!"}},{"$f":"SUMIFS(#REF!,#REF!,$AD518)","v":{"$error":"#REF!"}},{"$f":"COUNTIF(TabUren2[datum],$AD518)","v":0},{"$f":"COUNTIF(TabUren22[datum],$AD518)","v":0},{"$f":"COUNTIF(#REF!,$AD518)","v":{"$error":"#REF!"}},{"$f":"COUNTIF(#REF!,$AD518)","v":{"$error":"#REF!"}},{"$f":"COUNTIF(#REF!,$AD518)","v":{"$error":"#REF!"}},{"$f":"COUNTIF(#REF!,$AD518)","v":{"$error":"#REF!"}},0,0,0,0,0,0,"","","","","","","","","","","","",{"$f":"COUNT(AW518:BB518)","v":0},{"$f":"IF(BI518>0,AD518,\"\")","v":""}]
[null,null,null,null,null,null,null,null,null,null,null,null,null,null,null,null,null,null,null,null,null,null,null,null,null,null,null,null,null,"2016-06-01",{"$f":"SUMIFS('LOG1'!$J$5:$J$501,TabUren2[datum],$AD519)","v":"00:00:00"},{"$f":"SUMIFS('LOG2'!$J$5:$J$501,TabUren22[datum],$AD519)","v":"00:00:00"},{"$f":"SUMIFS(#REF!,#REF!,$AD519)","v":{"$error":"#REF!"}},{"$f":"SUMIFS(#REF!,#REF!,$AD519)","v":{"$error":"#REF!"}},{"$f":"SUMIFS(#REF!,#REF!,$AD519)","v":{"$error":"#REF!"}},{"$f":"SUMIFS(#REF!,#REF!,$AD519)","v":{"$error":"#REF!"}},{"$f":"COUNTIF(TabUren2[datum],$AD519)","v":0},{"$f":"COUNTIF(TabUren22[datum],$AD519)","v":0},{"$f":"COUNTIF(#REF!,$AD519)","v":{"$error":"#REF!"}},{"$f":"COUNTIF(#REF!,$AD519)","v":{"$error":"#REF!"}},{"$f":"COUNTIF(#REF!,$AD519)","v":{"$error":"#REF!"}},{"$f":"COUNTIF(#REF!,$AD519)","v":{"$error":"#REF!"}},0,0,0,0,0,0,"","","","","","","","","","","","",0,""]
[null,null,null,null,null,null,null,null,null,null,null,null,null,null,null,null,null,null,null,null,null,null,null,null,null,null,null,null,null,"2016-06-02",{"$f":"SUMIFS('LOG1'!$J$5:$J$501,TabUren2[datum],$AD520)","v":"00:00:00"},{"$f":"SUMIFS('LOG2'!$J$5:$J$501,TabUren22[datum],$AD520)","v":"00:00:00"},{"$f":"SUMIFS(#REF!,#REF!,$AD520)","v":{"$error":"#REF!"}},{"$f":"SUMIFS(#REF!,#REF!,$AD520)","v":{"$error":"#REF!"}},{"$f":"SUMIFS(#REF!,#REF!,$AD520)","v":{"$error":"#REF!"}},{"$f":"SUMIFS(#REF!,#REF!,$AD520)","v":{"$error":"#REF!"}},{"$f":"COUNTIF(TabUren2[datum],$AD520)","v":0},{"$f":"COUNTIF(TabUren22[datum],$AD520)","v":0},{"$f":"COUNTIF(#REF!,$AD520)","v":{"$error":"#REF!"}},{"$f":"COUNTIF(#REF!,$AD520)","v":{"$error":"#REF!"}},{"$f":"COUNTIF(#REF!,$AD520)","v":{"$error":"#REF!"}},{"$f":"COUNTIF(#REF!,$AD520)","v":{"$error":"#REF!"}},0,0,0,0,0,0,"","","","","","","","","","","","",0,""]
[null,null,null,null,null,null,null,null,null,null,null,null,null,null,null,null,null,null,null,null,null,null,null,null,null,null,null,null,null,"2016-06-03",{"$f":"SUMIFS('LOG1'!$J$5:$J$501,TabUren2[datum],$AD521)","v":"00:00:00"},{"$f":"SUMIFS('LOG2'!$J$5:$J$501,TabUren22[datum],$AD521)","v":"00:00:00"},{"$f":"SUMIFS(#REF!,#REF!,$AD521)","v":{"$error":"#REF!"}},{"$f":"SUMIFS(#REF!,#REF!,$AD521)","v":{"$error":"#REF!"}},{"$f":"SUMIFS(#REF!,#REF!,$AD521)","v":{"$error":"#REF!"}},{"$f":"SUMIFS(#REF!,#REF!,$AD521)","v":{"$error":"#REF!"}},{"$f":"COUNTIF(TabUren2[datum],$AD521)","v":0},{"$f":"COUNTIF(TabUren22[datum],$AD521)","v":0},{"$f":"COUNTIF(#REF!,$AD521)","v":{"$error":"#REF!"}},{"$f":"COUNTIF(#REF!,$AD521)","v":{"$error":"#REF!"}},{"$f":"COUNTIF(#REF!,$AD521)","v":{"$error":"#REF!"}},{"$f":"COUNTIF(#REF!,$AD521)","v":{"$error":"#REF!"}},0,0,0,0,0,0,"","","","","","","","","","","","",0,""]
[null,null,null,null,null,null,null,null,null,null,null,null,null,null,null,null,null,null,null,null,null,null,null,null,null,null,null,null,null,"2016-06-04",{"$f":"SUMIFS('LOG1'!$J$5:$J$501,TabUren2[datum],$AD522)","v":"00:00:00"},{"$f":"SUMIFS('LOG2'!$J$5:$J$501,TabUren22[datum],$AD522)","v":"00:00:00"},{"$f":"SUMIFS(#REF!,#REF!,$AD522)","v":{"$error":"#REF!"}},{"$f":"SUMIFS(#REF!,#REF!,$AD522)","v":{"$error":"#REF!"}},{"$f":"SUMIFS(#REF!,#REF!,$AD522)","v":{"$error":"#REF!"}},{"$f":"SUMIFS(#REF!,#REF!,$AD522)","v":{"$error":"#REF!"}},{"$f":"COUNTIF(TabUren2[datum],$AD522)","v":0},{"$f":"COUNTIF(TabUren22[datum],$AD522)","v":0},{"$f":"COUNTIF(#REF!,$AD522)","v":{"$error":"#REF!"}},{"$f":"COUNTIF(#REF!,$AD522)","v":{"$error":"#REF!"}},{"$f":"COUNTIF(#REF!,$AD522)","v":{"$error":"#REF!"}},{"$f":"COUNTIF(#REF!,$AD522)","v":{"$error":"#REF!"}},0,0,0,0,0,0,"","","","","","","","","","","","",0,""]
[null,null,null,null,null,null,null,null,null,null,null,null,null,null,null,null,null,null,null,null,null,null,null,null,null,null,null,null,null,"2016-06-05",{"$f":"SUMIFS('LOG1'!$J$5:$J$501,TabUren2[datum],$AD523)","v":"00:00:00"},{"$f":"SUMIFS('LOG2'!$J$5:$J$501,TabUren22[datum],$AD523)","v":"00:00:00"},{"$f":"SUMIFS(#REF!,#REF!,$AD523)","v":{"$error":"#REF!"}},{"$f":"SUMIFS(#REF!,#REF!,$AD523)","v":{"$error":"#REF!"}},{"$f":"SUMIFS(#REF!,#REF!,$AD523)","v":{"$error":"#REF!"}},{"$f":"SUMIFS(#REF!,#REF!,$AD523)","v":{"$error":"#REF!"}},{"$f":"COUNTIF(TabUren2[datum],$AD523)","v":0},{"$f":"COUNTIF(TabUren22[datum],$AD523)","v":0},{"$f":"COUNTIF(#REF!,$AD523)","v":{"$error":"#REF!"}},{"$f":"COUNTIF(#REF!,$AD523)","v":{"$error":"#REF!"}},{"$f":"COUNTIF(#REF!,$AD523)","v":{"$error":"#REF!"}},{"$f":"COUNTIF(#REF!,$AD523)","v":{"$error":"#REF!"}},0,0,0,0,0,0,"","","","","","","","","","","","",0,""]
[null,null,null,null,null,null,null,null,null,null,null,null,null,null,null,null,null,null,null,null,null,null,null,null,null,null,null,null,null,"2016-06-06",{"$f":"SUMIFS('LOG1'!$J$5:$J$501,TabUren2[datum],$AD524)","v":"00:00:00"},{"$f":"SUMIFS('LOG2'!$J$5:$J$501,TabUren22[datum],$AD524)","v":"00:00:00"},{"$f":"SUMIFS(#REF!,#REF!,$AD524)","v":{"$error":"#REF!"}},{"$f":"SUMIFS(#REF!,#REF!,$AD524)","v":{"$error":"#REF!"}},{"$f":"SUMIFS(#REF!,#REF!,$AD524)","v":{"$error":"#REF!"}},{"$f":"SUMIFS(#REF!,#REF!,$AD524)","v":{"$error":"#REF!"}},{"$f":"COUNTIF(TabUren2[datum],$AD524)","v":0},{"$f":"COUNTIF(TabUren22[datum],$AD524)","v":0},{"$f":"COUNTIF(#REF!,$AD524)","v":{"$error":"#REF!"}},{"$f":"COUNTIF(#REF!,$AD524)","v":{"$error":"#REF!"}},{"$f":"COUNTIF(#REF!,$AD524)","v":{"$error":"#REF!"}},{"$f":"COUNTIF(#REF!,$AD524)","v":{"$error":"#REF!"}},0,0,0,0,0,0,"","","","","","","","","","","","",0,""]
[null,null,null,null,null,null,null,null,null,null,null,null,null,null,null,null,null,null,null,null,null,null,null,null,null,null,null,null,null,"2016-06-07",{"$f":"SUMIFS('LOG1'!$J$5:$J$501,TabUren2[datum],$AD525)","v":"00:00:00"},{"$f":"SUMIFS('LOG2'!$J$5:$J$501,TabUren22[datum],$AD525)","v":"00:00:00"},{"$f":"SUMIFS(#REF!,#REF!,$AD525)","v":{"$error":"#REF!"}},{"$f":"SUMIFS(#REF!,#REF!,$AD525)","v":{"$error":"#REF!"}},{"$f":"SUMIFS(#REF!,#REF!,$AD525)","v":{"$error":"#REF!"}},{"$f":"SUMIFS(#REF!,#REF!,$AD525)","v":{"$error":"#REF!"}},{"$f":"COUNTIF(TabUren2[datum],$AD525)","v":0},{"$f":"COUNTIF(TabUren22[datum],$AD525)","v":0},{"$f":"COUNTIF(#REF!,$AD525)","v":{"$error":"#REF!"}},{"$f":"COUNTIF(#REF!,$AD525)","v":{"$error":"#REF!"}},{"$f":"COUNTIF(#REF!,$AD525)","v":{"$error":"#REF!"}},{"$f":"COUNTIF(#REF!,$AD525)","v":{"$error":"#REF!"}},0,0,0,0,0,0,"","","","","","","","","","","","",0,""]
[null,null,null,null,null,null,null,null,null,null,null,null,null,null,null,null,null,null,null,null,null,null,null,null,null,null,null,null,null,"2016-06-08",{"$f":"SUMIFS('LOG1'!$J$5:$J$501,TabUren2[datum],$AD526)","v":"00:00:00"},{"$f":"SUMIFS('LOG2'!$J$5:$J$501,TabUren22[datum],$AD526)","v":"00:00:00"},{"$f":"SUMIFS(#REF!,#REF!,$AD526)","v":{"$error":"#REF!"}},{"$f":"SUMIFS(#REF!,#REF!,$AD526)","v":{"$error":"#REF!"}},{"$f":"SUMIFS(#REF!,#REF!,$AD526)","v":{"$error":"#REF!"}},{"$f":"SUMIFS(#REF!,#REF!,$AD526)","v":{"$error":"#REF!"}},{"$f":"COUNTIF(TabUren2[datum],$AD526)","v":0},{"$f":"COUNTIF(TabUren22[datum],$AD526)","v":0},{"$f":"COUNTIF(#REF!,$AD526)","v":{"$error":"#REF!"}},{"$f":"COUNTIF(#REF!,$AD526)","v":{"$error":"#REF!"}},{"$f":"COUNTIF(#REF!,$AD526)","v":{"$error":"#REF!"}},{"$f":"COUNTIF(#REF!,$AD526)","v":{"$error":"#REF!"}},0,0,0,0,0,0,"","","","","","","","","","","","",0,""]
[null,null,null,null,null,null,null,null,null,null,null,null,null,null,null,null,null,null,null,null,null,null,null,null,null,null,null,null,null,"2016-06-09",{"$f":"SUMIFS('LOG1'!$J$5:$J$501,TabUren2[datum],$AD527)","v":"00:00:00"},{"$f":"SUMIFS('LOG2'!$J$5:$J$501,TabUren22[datum],$AD527)","v":"00:00:00"},{"$f":"SUMIFS(#REF!,#REF!,$AD527)","v":{"$error":"#REF!"}},{"$f":"SUMIFS(#REF!,#REF!,$AD527)","v":{"$error":"#REF!"}},{"$f":"SUMIFS(#REF!,#REF!,$AD527)","v":{"$error":"#REF!"}},{"$f":"SUMIFS(#REF!,#REF!,$AD527)","v":{"$error":"#REF!"}},{"$f":"COUNTIF(TabUren2[datum],$AD527)","v":0},{"$f":"COUNTIF(TabUren22[datum],$AD527)","v":0},{"$f":"COUNTIF(#REF!,$AD527)","v":{"$error":"#REF!"}},{"$f":"COUNTIF(#REF!,$AD527)","v":{"$error":"#REF!"}},{"$f":"COUNTIF(#REF!,$AD527)","v":{"$error":"#REF!"}},{"$f":"COUNTIF(#REF!,$AD527)","v":{"$error":"#REF!"}},0,0,0,0,0,0,"","","","","","","","","","","","",0,""]
[null,null,null,null,null,null,null,null,null,null,null,null,null,null,null,null,null,null,null,null,null,null,null,null,null,null,null,null,null,"2016-06-10",{"$f":"SUMIFS('LOG1'!$J$5:$J$501,TabUren2[datum],$AD528)","v":"00:00:00"},{"$f":"SUMIFS('LOG2'!$J$5:$J$501,TabUren22[datum],$AD528)","v":"00:00:00"},{"$f":"SUMIFS(#REF!,#REF!,$AD528)","v":{"$error":"#REF!"}},{"$f":"SUMIFS(#REF!,#REF!,$AD528)","v":{"$error":"#REF!"}},{"$f":"SUMIFS(#REF!,#REF!,$AD528)","v":{"$error":"#REF!"}},{"$f":"SUMIFS(#REF!,#REF!,$AD528)","v":{"$error":"#REF!"}},{"$f":"COUNTIF(TabUren2[datum],$AD528)","v":0},{"$f":"COUNTIF(TabUren22[datum],$AD528)","v":0},{"$f":"COUNTIF(#REF!,$AD528)","v":{"$error":"#REF!"}},{"$f":"COUNTIF(#REF!,$AD528)","v":{"$error":"#REF!"}},{"$f":"COUNTIF(#REF!,$AD528)","v":{"$error":"#REF!"}},{"$f":"COUNTIF(#REF!,$AD528)","v":{"$error":"#REF!"}},0,0,0,0,0,0,"","","","","","","","","","","","",0,""]
[null,null,null,null,null,null,null,null,null,null,null,null,null,null,null,null,null,null,null,null,null,null,null,null,null,null,null,null,null,"2016-06-11",{"$f":"SUMIFS('LOG1'!$J$5:$J$501,TabUren2[datum],$AD529)","v":"00:00:00"},{"$f":"SUMIFS('LOG2'!$J$5:$J$501,TabUren22[datum],$AD529)","v":"00:00:00"},{"$f":"SUMIFS(#REF!,#REF!,$AD529)","v":{"$error":"#REF!"}},{"$f":"SUMIFS(#REF!,#REF!,$AD529)","v":{"$error":"#REF!"}},{"$f":"SUMIFS(#REF!,#REF!,$AD529)","v":{"$error":"#REF!"}},{"$f":"SUMIFS(#REF!,#REF!,$AD529)","v":{"$error":"#REF!"}},{"$f":"COUNTIF(TabUren2[datum],$AD529)","v":0},{"$f":"COUNTIF(TabUren22[datum],$AD529)","v":0},{"$f":"COUNTIF(#REF!,$AD529)","v":{"$error":"#REF!"}},{"$f":"COUNTIF(#REF!,$AD529)","v":{"$error":"#REF!"}},{"$f":"COUNTIF(#REF!,$AD529)","v":{"$error":"#REF!"}},{"$f":"COUNTIF(#REF!,$AD529)","v":{"$error":"#REF!"}},0,0,0,0,0,0,"","","","","","","","","","","","",0,""]
[null,null,null,null,null,null,null,null,null,null,null,null,null,null,null,null,null,null,null,null,null,null,null,null,null,null,null,null,null,"2016-06-12",{"$f":"SUMIFS('LOG1'!$J$5:$J$501,TabUren2[datum],$AD530)","v":"00:00:00"},{"$f":"SUMIFS('LOG2'!$J$5:$J$501,TabUren22[datum],$AD530)","v":"00:00:00"},{"$f":"SUMIFS(#REF!,#REF!,$AD530)","v":{"$error":"#REF!"}},{"$f":"SUMIFS(#REF!,#REF!,$AD530)","v":{"$error":"#REF!"}},{"$f":"SUMIFS(#REF!,#REF!,$AD530)","v":{"$error":"#REF!"}},{"$f":"SUMIFS(#REF!,#REF!,$AD530)","v":{"$error":"#REF!"}},{"$f":"COUNTIF(TabUren2[datum],$AD530)","v":0},{"$f":"COUNTIF(TabUren22[datum],$AD530)","v":0},{"$f":"COUNTIF(#REF!,$AD530)","v":{"$error":"#REF!"}},{"$f":"COUNTIF(#REF!,$AD530)","v":{"$error":"#REF!"}},{"$f":"COUNTIF(#REF!,$AD530)","v":{"$error":"#REF!"}},{"$f":"COUNTIF(#REF!,$AD530)","v":{"$error":"#REF!"}},0,0,0,0,0,0,"","","","","","","","","","","","",0,""]
[null,null,null,null,null,null,null,null,null,null,null,null,null,null,null,null,null,null,null,null,null,null,null,null,null,null,null,null,null,"2016-06-13",{"$f":"SUMIFS('LOG1'!$J$5:$J$501,TabUren2[datum],$AD531)","v":"00:00:00"},{"$f":"SUMIFS('LOG2'!$J$5:$J$501,TabUren22[datum],$AD531)","v":"00:00:00"},{"$f":"SUMIFS(#REF!,#REF!,$AD531)","v":{"$error":"#REF!"}},{"$f":"SUMIFS(#REF!,#REF!,$AD531)","v":{"$error":"#REF!"}},{"$f":"SUMIFS(#REF!,#REF!,$AD531)","v":{"$error":"#REF!"}},{"$f":"SUMIFS(#REF!,#REF!,$AD531)","v":{"$error":"#REF!"}},{"$f":"COUNTIF(TabUren2[datum],$AD531)","v":0},{"$f":"COUNTIF(TabUren22[datum],$AD531)","v":0},{"$f":"COUNTIF(#REF!,$AD531)","v":{"$error":"#REF!"}},{"$f":"COUNTIF(#REF!,$AD531)","v":{"$error":"#REF!"}},{"$f":"COUNTIF(#REF!,$AD531)","v":{"$error":"#REF!"}},{"$f":"COUNTIF(#REF!,$AD531)","v":{"$error":"#REF!"}},0,0,0,0,0,0,"","","","","","","","","","","","",0,""]
[null,null,null,null,null,null,null,null,null,null,null,null,null,null,null,null,null,null,null,null,null,null,null,null,null,null,null,null,null,"2016-06-14",{"$f":"SUMIFS('LOG1'!$J$5:$J$501,TabUren2[datum],$AD532)","v":"00:00:00"},{"$f":"SUMIFS('LOG2'!$J$5:$J$501,TabUren22[datum],$AD532)","v":"00:00:00"},{"$f":"SUMIFS(#REF!,#REF!,$AD532)","v":{"$error":"#REF!"}},{"$f":"SUMIFS(#REF!,#REF!,$AD532)","v":{"$error":"#REF!"}},{"$f":"SUMIFS(#REF!,#REF!,$AD532)","v":{"$error":"#REF!"}},{"$f":"SUMIFS(#REF!,#REF!,$AD532)","v":{"$error":"#REF!"}},{"$f":"COUNTIF(TabUren2[datum],$AD532)","v":0},{"$f":"COUNTIF(TabUren22[datum],$AD532)","v":0},{"$f":"COUNTIF(#REF!,$AD532)","v":{"$error":"#REF!"}},{"$f":"COUNTIF(#REF!,$AD532)","v":{"$error":"#REF!"}},{"$f":"COUNTIF(#REF!,$AD532)","v":{"$error":"#REF!"}},{"$f":"COUNTIF(#REF!,$AD532)","v":{"$error":"#REF!"}},0,0,0,0,0,0,"","","","","","","","","","","","",0,""]
[null,null,null,null,null,null,null,null,null,null,null,null,null,null,null,null,null,null,null,null,null,null,null,null,null,null,null,null,null,"2016-06-15",{"$f":"SUMIFS('LOG1'!$J$5:$J$501,TabUren2[datum],$AD533)","v":"00:00:00"},{"$f":"SUMIFS('LOG2'!$J$5:$J$501,TabUren22[datum],$AD533)","v":"00:00:00"},{"$f":"SUMIFS(#REF!,#REF!,$AD533)","v":{"$error":"#REF!"}},{"$f":"SUMIFS(#REF!,#REF!,$AD533)","v":{"$error":"#REF!"}},{"$f":"SUMIFS(#REF!,#REF!,$AD533)","v":{"$error":"#REF!"}},{"$f":"SUMIFS(#REF!,#REF!,$AD533)","v":{"$error":"#REF!"}},{"$f":"COUNTIF(TabUren2[datum],$AD533)","v":0},{"$f":"COUNTIF(TabUren22[datum],$AD533)","v":0},{"$f":"COUNTIF(#REF!,$AD533)","v":{"$error":"#REF!"}},{"$f":"COUNTIF(#REF!,$AD533)","v":{"$error":"#REF!"}},{"$f":"COUNTIF(#REF!,$AD533)","v":{"$error":"#REF!"}},{"$f":"COUNTIF(#REF!,$AD533)","v":{"$error":"#REF!"}},0,0,0,0,0,0,"","","","","","","","","","","","",0,""]
[null,null,null,null,null,null,null,null,null,null,null,null,null,null,null,null,null,null,null,null,null,null,null,null,null,null,null,null,null,"2016-06-16",{"$f":"SUMIFS('LOG1'!$J$5:$J$501,TabUren2[datum],$AD534)","v":"00:00:00"},{"$f":"SUMIFS('LOG2'!$J$5:$J$501,TabUren22[datum],$AD534)","v":"00:00:00"},{"$f":"SUMIFS(#REF!,#REF!,$AD534)","v":{"$error":"#REF!"}},{"$f":"SUMIFS(#REF!,#REF!,$AD534)","v":{"$error":"#REF!"}},{"$f":"SUMIFS(#REF!,#REF!,$AD534)","v":{"$error":"#REF!"}},{"$f":"SUMIFS(#REF!,#REF!,$AD534)","v":{"$error":"#REF!"}},{"$f":"COUNTIF(TabUren2[datum],$AD534)","v":0},{"$f":"COUNTIF(TabUren22[datum],$AD534)","v":0},{"$f":"COUNTIF(#REF!,$AD534)","v":{"$error":"#REF!"}},{"$f":"COUNTIF(#REF!,$AD534)","v":{"$error":"#REF!"}},{"$f":"COUNTIF(#REF!,$AD534)","v":{"$error":"#REF!"}},{"$f":"COUNTIF(#REF!,$AD534)","v":{"$error":"#REF!"}},0,0,0,0,0,0,"","","","","","","","","","","","",0,""]
[null,null,null,null,null,null,null,null,null,null,null,null,null,null,null,null,null,null,null,null,null,null,null,null,null,null,null,null,null,"2016-06-17",{"$f":"SUMIFS('LOG1'!$J$5:$J$501,TabUren2[datum],$AD535)","v":"00:00:00"},{"$f":"SUMIFS('LOG2'!$J$5:$J$501,TabUren22[datum],$AD535)","v":"00:00:00"},{"$f":"SUMIFS(#REF!,#REF!,$AD535)","v":{"$error":"#REF!"}},{"$f":"SUMIFS(#REF!,#REF!,$AD535)","v":{"$error":"#REF!"}},{"$f":"SUMIFS(#REF!,#REF!,$AD535)","v":{"$error":"#REF!"}},{"$f":"SUMIFS(#REF!,#REF!,$AD535)","v":{"$error":"#REF!"}},{"$f":"COUNTIF(TabUren2[datum],$AD535)","v":0},{"$f":"COUNTIF(TabUren22[datum],$AD535)","v":0},{"$f":"COUNTIF(#REF!,$AD535)","v":{"$error":"#REF!"}},{"$f":"COUNTIF(#REF!,$AD535)","v":{"$error":"#REF!"}},{"$f":"COUNTIF(#REF!,$AD535)","v":{"$error":"#REF!"}},{"$f":"COUNTIF(#REF!,$AD535)","v":{"$error":"#REF!"}},0,0,0,0,0,0,"","","","","","","","","","","","",0,""]
[null,null,null,null,null,null,null,null,null,null,null,null,null,null,null,null,null,null,null,null,null,null,null,null,null,null,null,null,null,"2016-06-18",{"$f":"SUMIFS('LOG1'!$J$5:$J$501,TabUren2[datum],$AD536)","v":"00:00:00"},{"$f":"SUMIFS('LOG2'!$J$5:$J$501,TabUren22[datum],$AD536)","v":"00:00:00"},{"$f":"SUMIFS(#REF!,#REF!,$AD536)","v":{"$error":"#REF!"}},{"$f":"SUMIFS(#REF!,#REF!,$AD536)","v":{"$error":"#REF!"}},{"$f":"SUMIFS(#REF!,#REF!,$AD536)","v":{"$error":"#REF!"}},{"$f":"SUMIFS(#REF!,#REF!,$AD536)","v":{"$error":"#REF!"}},{"$f":"COUNTIF(TabUren2[datum],$AD536)","v":0},{"$f":"COUNTIF(TabUren22[datum],$AD536)","v":0},{"$f":"COUNTIF(#REF!,$AD536)","v":{"$error":"#REF!"}},{"$f":"COUNTIF(#REF!,$AD536)","v":{"$error":"#REF!"}},{"$f":"COUNTIF(#REF!,$AD536)","v":{"$error":"#REF!"}},{"$f":"COUNTIF(#REF!,$AD536)","v":{"$error":"#REF!"}},0,0,0,0,0,0,"","","","","","","","","","","","",0,""]
[null,null,null,null,null,null,null,null,null,null,null,null,null,null,null,null,null,null,null,null,null,null,null,null,null,null,null,null,null,"2016-06-19",{"$f":"SUMIFS('LOG1'!$J$5:$J$501,TabUren2[datum],$AD537)","v":"00:00:00"},{"$f":"SUMIFS('LOG2'!$J$5:$J$501,TabUren22[datum],$AD537)","v":"00:00:00"},{"$f":"SUMIFS(#REF!,#REF!,$AD537)","v":{"$error":"#REF!"}},{"$f":"SUMIFS(#REF!,#REF!,$AD537)","v":{"$error":"#REF!"}},{"$f":"SUMIFS(#REF!,#REF!,$AD537)","v":{"$error":"#REF!"}},{"$f":"SUMIFS(#REF!,#REF!,$AD537)","v":{"$error":"#REF!"}},{"$f":"COUNTIF(TabUren2[datum],$AD537)","v":0},{"$f":"COUNTIF(TabUren22[datum],$AD537)","v":0},{"$f":"COUNTIF(#REF!,$AD537)","v":{"$error":"#REF!"}},{"$f":"COUNTIF(#REF!,$AD537)","v":{"$error":"#REF!"}},{"$f":"COUNTIF(#REF!,$AD537)","v":{"$error":"#REF!"}},{"$f":"COUNTIF(#REF!,$AD537)","v":{"$error":"#REF!"}},0,0,0,0,0,0,"","","","","","","","","","","","",0,""]
[null,null,null,null,null,null,null,null,null,null,null,null,null,null,null,null,null,null,null,null,null,null,null,null,null,null,null,null,null,"2016-06-20",{"$f":"SUMIFS('LOG1'!$J$5:$J$501,TabUren2[datum],$AD538)","v":"00:00:00"},{"$f":"SUMIFS('LOG2'!$J$5:$J$501,TabUren22[datum],$AD538)","v":"00:00:00"},{"$f":"SUMIFS(#REF!,#REF!,$AD538)","v":{"$error":"#REF!"}},{"$f":"SUMIFS(#REF!,#REF!,$AD538)","v":{"$error":"#REF!"}},{"$f":"SUMIFS(#REF!,#REF!,$AD538)","v":{"$error":"#REF!"}},{"$f":"SUMIFS(#REF!,#REF!,$AD538)","v":{"$error":"#REF!"}},{"$f":"COUNTIF(TabUren2[datum],$AD538)","v":0},{"$f":"COUNTIF(TabUren22[datum],$AD538)","v":0},{"$f":"COUNTIF(#REF!,$AD538)","v":{"$error":"#REF!"}},{"$f":"COUNTIF(#REF!,$AD538)","v":{"$error":"#REF!"}},{"$f":"COUNTIF(#REF!,$AD538)","v":{"$error":"#REF!"}},{"$f":"COUNTIF(#REF!,$AD538)","v":{"$error":"#REF!"}},0,0,0,0,0,0,"","","","","","","","","","","","",0,""]
[null,null,null,null,null,null,null,null,null,null,null,null,null,null,null,null,null,null,null,null,null,null,null,null,null,null,null,null,null,"2016-06-21",{"$f":"SUMIFS('LOG1'!$J$5:$J$501,TabUren2[datum],$AD539)","v":"00:00:00"},{"$f":"SUMIFS('LOG2'!$J$5:$J$501,TabUren22[datum],$AD539)","v":"00:00:00"},{"$f":"SUMIFS(#REF!,#REF!,$AD539)","v":{"$error":"#REF!"}},{"$f":"SUMIFS(#REF!,#REF!,$AD539)","v":{"$error":"#REF!"}},{"$f":"SUMIFS(#REF!,#REF!,$AD539)","v":{"$error":"#REF!"}},{"$f":"SUMIFS(#REF!,#REF!,$AD539)","v":{"$error":"#REF!"}},{"$f":"COUNTIF(TabUren2[datum],$AD539)","v":0},{"$f":"COUNTIF(TabUren22[datum],$AD539)","v":0},{"$f":"COUNTIF(#REF!,$AD539)","v":{"$error":"#REF!"}},{"$f":"COUNTIF(#REF!,$AD539)","v":{"$error":"#REF!"}},{"$f":"COUNTIF(#REF!,$AD539)","v":{"$error":"#REF!"}},{"$f":"COUNTIF(#REF!,$AD539)","v":{"$error":"#REF!"}},0,0,0,0,0,0,"","","","","","","","","","","","",0,""]
[null,null,null,null,null,null,null,null,null,null,null,null,null,null,null,null,null,null,null,null,null,null,null,null,null,null,null,null,null,"2016-06-22",{"$f":"SUMIFS('LOG1'!$J$5:$J$501,TabUren2[datum],$AD540)","v":"00:00:00"},{"$f":"SUMIFS('LOG2'!$J$5:$J$501,TabUren22[datum],$AD540)","v":"00:00:00"},{"$f":"SUMIFS(#REF!,#REF!,$AD540)","v":{"$error":"#REF!"}},{"$f":"SUMIFS(#REF!,#REF!,$AD540)","v":{"$error":"#REF!"}},{"$f":"SUMIFS(#REF!,#REF!,$AD540)","v":{"$error":"#REF!"}},{"$f":"SUMIFS(#REF!,#REF!,$AD540)","v":{"$error":"#REF!"}},{"$f":"COUNTIF(TabUren2[datum],$AD540)","v":0},{"$f":"COUNTIF(TabUren22[datum],$AD540)","v":0},{"$f":"COUNTIF(#REF!,$AD540)","v":{"$error":"#REF!"}},{"$f":"COUNTIF(#REF!,$AD540)","v":{"$error":"#REF!"}},{"$f":"COUNTIF(#REF!,$AD540)","v":{"$error":"#REF!"}},{"$f":"COUNTIF(#REF!,$AD540)","v":{"$error":"#REF!"}},0,0,0,0,0,0,"","","","","","","","","","","","",0,""]
[null,null,null,null,null,null,null,null,null,null,null,null,null,null,null,null,null,null,null,null,null,null,null,null,null,null,null,null,null,"2016-06-23",{"$f":"SUMIFS('LOG1'!$J$5:$J$501,TabUren2[datum],$AD541)","v":"00:00:00"},{"$f":"SUMIFS('LOG2'!$J$5:$J$501,TabUren22[datum],$AD541)","v":"00:00:00"},{"$f":"SUMIFS(#REF!,#REF!,$AD541)","v":{"$error":"#REF!"}},{"$f":"SUMIFS(#REF!,#REF!,$AD541)","v":{"$error":"#REF!"}},{"$f":"SUMIFS(#REF!,#REF!,$AD541)","v":{"$error":"#REF!"}},{"$f":"SUMIFS(#REF!,#REF!,$AD541)","v":{"$error":"#REF!"}},{"$f":"COUNTIF(TabUren2[datum],$AD541)","v":0},{"$f":"COUNTIF(TabUren22[datum],$AD541)","v":0},{"$f":"COUNTIF(#REF!,$AD541)","v":{"$error":"#REF!"}},{"$f":"COUNTIF(#REF!,$AD541)","v":{"$error":"#REF!"}},{"$f":"COUNTIF(#REF!,$AD541)","v":{"$error":"#REF!"}},{"$f":"COUNTIF(#REF!,$AD541)","v":{"$error":"#REF!"}},0,0,0,0,0,0,"","","","","","","","","","","","",0,""]
[null,null,null,null,null,null,null,null,null,null,null,null,null,null,null,null,null,null,null,null,null,null,null,null,null,null,null,null,null,"2016-06-24",{"$f":"SUMIFS('LOG1'!$J$5:$J$501,TabUren2[datum],$AD542)","v":"00:00:00"},{"$f":"SUMIFS('LOG2'!$J$5:$J$501,TabUren22[datum],$AD542)","v":"00:00:00"},{"$f":"SUMIFS(#REF!,#REF!,$AD542)","v":{"$error":"#REF!"}},{"$f":"SUMIFS(#REF!,#REF!,$AD542)","v":{"$error":"#REF!"}},{"$f":"SUMIFS(#REF!,#REF!,$AD542)","v":{"$error":"#REF!"}},{"$f":"SUMIFS(#REF!,#REF!,$AD542)","v":{"$error":"#REF!"}},{"$f":"COUNTIF(TabUren2[datum],$AD542)","v":0},{"$f":"COUNTIF(TabUren22[datum],$AD542)","v":0},{"$f":"COUNTIF(#REF!,$AD542)","v":{"$error":"#REF!"}},{"$f":"COUNTIF(#REF!,$AD542)","v":{"$error":"#REF!"}},{"$f":"COUNTIF(#REF!,$AD542)","v":{"$error":"#REF!"}},{"$f":"COUNTIF(#REF!,$AD542)","v":{"$error":"#REF!"}},0,0,0,0,0,0,"","","","","","","","","","","","",0,""]
[null,null,null,null,null,null,null,null,null,null,null,null,null,null,null,null,null,null,null,null,null,null,null,null,null,null,null,null,null,"2016-06-25",{"$f":"SUMIFS('LOG1'!$J$5:$J$501,TabUren2[datum],$AD543)","v":"00:00:00"},{"$f":"SUMIFS('LOG2'!$J$5:$J$501,TabUren22[datum],$AD543)","v":"00:00:00"},{"$f":"SUMIFS(#REF!,#REF!,$AD543)","v":{"$error":"#REF!"}},{"$f":"SUMIFS(#REF!,#REF!,$AD543)","v":{"$error":"#REF!"}},{"$f":"SUMIFS(#REF!,#REF!,$AD543)","v":{"$error":"#REF!"}},{"$f":"SUMIFS(#REF!,#REF!,$AD543)","v":{"$error":"#REF!"}},{"$f":"COUNTIF(TabUren2[datum],$AD543)","v":0},{"$f":"COUNTIF(TabUren22[datum],$AD543)","v":0},{"$f":"COUNTIF(#REF!,$AD543)","v":{"$error":"#REF!"}},{"$f":"COUNTIF(#REF!,$AD543)","v":{"$error":"#REF!"}},{"$f":"COUNTIF(#REF!,$AD543)","v":{"$error":"#REF!"}},{"$f":"COUNTIF(#REF!,$AD543)","v":{"$error":"#REF!"}},0,0,0,0,0,0,"","","","","","","","","","","","",0,""]
[null,null,null,null,null,null,null,null,null,null,null,null,null,null,null,null,null,null,null,null,null,null,null,null,null,null,null,null,null,"2016-06-26",{"$f":"SUMIFS('LOG1'!$J$5:$J$501,TabUren2[datum],$AD544)","v":"00:00:00"},{"$f":"SUMIFS('LOG2'!$J$5:$J$501,TabUren22[datum],$AD544)","v":"00:00:00"},{"$f":"SUMIFS(#REF!,#REF!,$AD544)","v":{"$error":"#REF!"}},{"$f":"SUMIFS(#REF!,#REF!,$AD544)","v":{"$error":"#REF!"}},{"$f":"SUMIFS(#REF!,#REF!,$AD544)","v":{"$error":"#REF!"}},{"$f":"SUMIFS(#REF!,#REF!,$AD544)","v":{"$error":"#REF!"}},{"$f":"COUNTIF(TabUren2[datum],$AD544)","v":0},{"$f":"COUNTIF(TabUren22[datum],$AD544)","v":0},{"$f":"COUNTIF(#REF!,$AD544)","v":{"$error":"#REF!"}},{"$f":"COUNTIF(#REF!,$AD544)","v":{"$error":"#REF!"}},{"$f":"COUNTIF(#REF!,$AD544)","v":{"$error":"#REF!"}},{"$f":"COUNTIF(#REF!,$AD544)","v":{"$error":"#REF!"}},0,0,0,0,0,0,"","","","","","","","","","","","",0,""]
[null,null,null,null,null,null,null,null,null,null,null,null,null,null,null,null,null,null,null,null,null,null,null,null,null,null,null,null,null,"2016-06-27",{"$f":"SUMIFS('LOG1'!$J$5:$J$501,TabUren2[datum],$AD545)","v":"00:00:00"},{"$f":"SUMIFS('LOG2'!$J$5:$J$501,TabUren22[datum],$AD545)","v":"00:00:00"},{"$f":"SUMIFS(#REF!,#REF!,$AD545)","v":{"$error":"#REF!"}},{"$f":"SUMIFS(#REF!,#REF!,$AD545)","v":{"$error":"#REF!"}},{"$f":"SUMIFS(#REF!,#REF!,$AD545)","v":{"$error":"#REF!"}},{"$f":"SUMIFS(#REF!,#REF!,$AD545)","v":{"$error":"#REF!"}},{"$f":"COUNTIF(TabUren2[datum],$AD545)","v":0},{"$f":"COUNTIF(TabUren22[datum],$AD545)","v":0},{"$f":"COUNTIF(#REF!,$AD545)","v":{"$error":"#REF!"}},{"$f":"COUNTIF(#REF!,$AD545)","v":{"$error":"#REF!"}},{"$f":"COUNTIF(#REF!,$AD545)","v":{"$error":"#REF!"}},{"$f":"COUNTIF(#REF!,$AD545)","v":{"$error":"#REF!"}},0,0,0,0,0,0,"","","","","","","","","","","","",0,""]
[null,null,null,null,null,null,null,null,null,null,null,null,null,null,null,null,null,null,null,null,null,null,null,null,null,null,null,null,null,"2016-06-28",{"$f":"SUMIFS('LOG1'!$J$5:$J$501,TabUren2[datum],$AD546)","v":"00:00:00"},{"$f":"SUMIFS('LOG2'!$J$5:$J$501,TabUren22[datum],$AD546)","v":"00:00:00"},{"$f":"SUMIFS(#REF!,#REF!,$AD546)","v":{"$error":"#REF!"}},{"$f":"SUMIFS(#REF!,#REF!,$AD546)","v":{"$error":"#REF!"}},{"$f":"SUMIFS(#REF!,#REF!,$AD546)","v":{"$error":"#REF!"}},{"$f":"SUMIFS(#REF!,#REF!,$AD546)","v":{"$error":"#REF!"}},{"$f":"COUNTIF(TabUren2[datum],$AD546)","v":0},{"$f":"COUNTIF(TabUren22[datum],$AD546)","v":0},{"$f":"COUNTIF(#REF!,$AD546)","v":{"$error":"#REF!"}},{"$f":"COUNTIF(#REF!,$AD546)","v":{"$error":"#REF!"}},{"$f":"COUNTIF(#REF!,$AD546)","v":{"$error":"#REF!"}},{"$f":"COUNTIF(#REF!,$AD546)","v":{"$error":"#REF!"}},0,0,0,0,0,0,"","","","","","","","","","","","",0,""]
[null,null,null,null,null,null,null,null,null,null,null,null,null,null,null,null,null,null,null,null,null,null,null,null,null,null,null,null,null,"2016-06-29",{"$f":"SUMIFS('LOG1'!$J$5:$J$501,TabUren2[datum],$AD547)","v":"00:00:00"},{"$f":"SUMIFS('LOG2'!$J$5:$J$501,TabUren22[datum],$AD547)","v":"00:00:00"},{"$f":"SUMIFS(#REF!,#REF!,$AD547)","v":{"$error":"#REF!"}},{"$f":"SUMIFS(#REF!,#REF!,$AD547)","v":{"$error":"#REF!"}},{"$f":"SUMIFS(#REF!,#REF!,$AD547)","v":{"$error":"#REF!"}},{"$f":"SUMIFS(#REF!,#REF!,$AD547)","v":{"$error":"#REF!"}},{"$f":"COUNTIF(TabUren2[datum],$AD547)","v":0},{"$f":"COUNTIF(TabUren22[datum],$AD547)","v":0},{"$f":"COUNTIF(#REF!,$AD547)","v":{"$error":"#REF!"}},{"$f":"COUNTIF(#REF!,$AD547)","v":{"$error":"#REF!"}},{"$f":"COUNTIF(#REF!,$AD547)","v":{"$error":"#REF!"}},{"$f":"COUNTIF(#REF!,$AD547)","v":{"$error":"#REF!"}},0,0,0,0,0,0,"","","","","","","","","","","","",0,""]
[null,null,null,null,null,null,null,null,null,null,null,null,null,null,null,null,null,null,null,null,null,null,null,null,null,null,null,null,null,"2016-06-30",{"$f":"SUMIFS('LOG1'!$J$5:$J$501,TabUren2[datum],$AD548)","v":"00:00:00"},{"$f":"SUMIFS('LOG2'!$J$5:$J$501,TabUren22[datum],$AD548)","v":"00:00:00"},{"$f":"SUMIFS(#REF!,#REF!,$AD548)","v":{"$error":"#REF!"}},{"$f":"SUMIFS(#REF!,#REF!,$AD548)","v":{"$error":"#REF!"}},{"$f":"SUMIFS(#REF!,#REF!,$AD548)","v":{"$error":"#REF!"}},{"$f":"SUMIFS(#REF!,#REF!,$AD548)","v":{"$error":"#REF!"}},{"$f":"COUNTIF(TabUren2[datum],$AD548)","v":0},{"$f":"COUNTIF(TabUren22[datum],$AD548)","v":0},{"$f":"COUNTIF(#REF!,$AD548)","v":{"$error":"#REF!"}},{"$f":"COUNTIF(#REF!,$AD548)","v":{"$error":"#REF!"}},{"$f":"COUNTIF(#REF!,$AD548)","v":{"$error":"#REF!"}},{"$f":"COUNTIF(#REF!,$AD548)","v":{"$error":"#REF!"}},0,0,0,0,0,0,"","","","","","","","","","","","",0,""]
[null,null,null,null,null,null,null,null,null,null,null,null,null,null,null,null,null,null,null,null,null,null,null,null,null,null,null,null,null,"2016-07-01",{"$f":"SUMIFS('LOG1'!$J$5:$J$501,TabUren2[datum],$AD549)","v":"00:00:00"},{"$f":"SUMIFS('LOG2'!$J$5:$J$501,TabUren22[datum],$AD549)","v":"00:00:00"},{"$f":"SUMIFS(#REF!,#REF!,$AD549)","v":{"$error":"#REF!"}},{"$f":"SUMIFS(#REF!,#REF!,$AD549)","v":{"$error":"#REF!"}},{"$f":"SUMIFS(#REF!,#REF!,$AD549)","v":{"$error":"#REF!"}},{"$f":"SUMIFS(#REF!,#REF!,$AD549)","v":{"$error":"#REF!"}},{"$f":"COUNTIF(TabUren2[datum],$AD549)","v":0},{"$f":"COUNTIF(TabUren22[datum],$AD549)","v":0},{"$f":"COUNTIF(#REF!,$AD549)","v":{"$error":"#REF!"}},{"$f":"COUNTIF(#REF!,$AD549)","v":{"$error":"#REF!"}},{"$f":"COUNTIF(#REF!,$AD549)","v":{"$error":"#REF!"}},{"$f":"COUNTIF(#REF!,$AD549)","v":{"$error":"#REF!"}},0,0,0,0,0,0,"","","","","","","","","","","","",0,""]
[null,null,null,null,null,null,null,null,null,null,null,null,null,null,null,null,null,null,null,null,null,null,null,null,null,null,null,null,null,"2016-07-02",{"$f":"SUMIFS('LOG1'!$J$5:$J$501,TabUren2[datum],$AD550)","v":"00:00:00"},{"$f":"SUMIFS('LOG2'!$J$5:$J$501,TabUren22[datum],$AD550)","v":"00:00:00"},{"$f":"SUMIFS(#REF!,#REF!,$AD550)","v":{"$error":"#REF!"}},{"$f":"SUMIFS(#REF!,#REF!,$AD550)","v":{"$error":"#REF!"}},{"$f":"SUMIFS(#REF!,#REF!,$AD550)","v":{"$error":"#REF!"}},{"$f":"SUMIFS(#REF!,#REF!,$AD550)","v":{"$error":"#REF!"}},{"$f":"COUNTIF(TabUren2[datum],$AD550)","v":0},{"$f":"COUNTIF(TabUren22[datum],$AD550)","v":0},{"$f":"COUNTIF(#REF!,$AD550)","v":{"$error":"#REF!"}},{"$f":"COUNTIF(#REF!,$AD550)","v":{"$error":"#REF!"}},{"$f":"COUNTIF(#REF!,$AD550)","v":{"$error":"#REF!"}},{"$f":"COUNTIF(#REF!,$AD550)","v":{"$error":"#REF!"}},0,0,0,0,0,0,"","","","","","","","","","","","",0,""]
[null,null,null,null,null,null,null,null,null,null,null,null,null,null,null,null,null,null,null,null,null,null,null,null,null,null,null,null,null,"2016-07-03",{"$f":"SUMIFS('LOG1'!$J$5:$J$501,TabUren2[datum],$AD551)","v":"00:00:00"},{"$f":"SUMIFS('LOG2'!$J$5:$J$501,TabUren22[datum],$AD551)","v":"00:00:00"},{"$f":"SUMIFS(#REF!,#REF!,$AD551)","v":{"$error":"#REF!"}},{"$f":"SUMIFS(#REF!,#REF!,$AD551)","v":{"$error":"#REF!"}},{"$f":"SUMIFS(#REF!,#REF!,$AD551)","v":{"$error":"#REF!"}},{"$f":"SUMIFS(#REF!,#REF!,$AD551)","v":{"$error":"#REF!"}},{"$f":"COUNTIF(TabUren2[datum],$AD551)","v":0},{"$f":"COUNTIF(TabUren22[datum],$AD551)","v":0},{"$f":"COUNTIF(#REF!,$AD551)","v":{"$error":"#REF!"}},{"$f":"COUNTIF(#REF!,$AD551)","v":{"$error":"#REF!"}},{"$f":"COUNTIF(#REF!,$AD551)","v":{"$error":"#REF!"}},{"$f":"COUNTIF(#REF!,$AD551)","v":{"$error":"#REF!"}},0,0,0,0,0,0,"","","","","","","","","","","","",0,""]
[null,null,null,null,null,null,null,null,null,null,null,null,null,null,null,null,null,null,null,null,null,null,null,null,null,null,null,null,null,"2016-07-04",{"$f":"SUMIFS('LOG1'!$J$5:$J$501,TabUren2[datum],$AD552)","v":"00:00:00"},{"$f":"SUMIFS('LOG2'!$J$5:$J$501,TabUren22[datum],$AD552)","v":"00:00:00"},{"$f":"SUMIFS(#REF!,#REF!,$AD552)","v":{"$error":"#REF!"}},{"$f":"SUMIFS(#REF!,#REF!,$AD552)","v":{"$error":"#REF!"}},{"$f":"SUMIFS(#REF!,#REF!,$AD552)","v":{"$error":"#REF!"}},{"$f":"SUMIFS(#REF!,#REF!,$AD552)","v":{"$error":"#REF!"}},{"$f":"COUNTIF(TabUren2[datum],$AD552)","v":0},{"$f":"COUNTIF(TabUren22[datum],$AD552)","v":0},{"$f":"COUNTIF(#REF!,$AD552)","v":{"$error":"#REF!"}},{"$f":"COUNTIF(#REF!,$AD552)","v":{"$error":"#REF!"}},{"$f":"COUNTIF(#REF!,$AD552)","v":{"$error":"#REF!"}},{"$f":"COUNTIF(#REF!,$AD552)","v":{"$error":"#REF!"}},0,0,0,0,0,0,"","","","","","","","","","","","",0,""]
[null,null,null,null,null,null,null,null,null,null,null,null,null,null,null,null,null,null,null,null,null,null,null,null,null,null,null,null,null,"2016-07-05",{"$f":"SUMIFS('LOG1'!$J$5:$J$501,TabUren2[datum],$AD553)","v":"00:00:00"},{"$f":"SUMIFS('LOG2'!$J$5:$J$501,TabUren22[datum],$AD553)","v":"00:00:00"},{"$f":"SUMIFS(#REF!,#REF!,$AD553)","v":{"$error":"#REF!"}},{"$f":"SUMIFS(#REF!,#REF!,$AD553)","v":{"$error":"#REF!"}},{"$f":"SUMIFS(#REF!,#REF!,$AD553)","v":{"$error":"#REF!"}},{"$f":"SUMIFS(#REF!,#REF!,$AD553)","v":{"$error":"#REF!"}},{"$f":"COUNTIF(TabUren2[datum],$AD553)","v":0},{"$f":"COUNTIF(TabUren22[datum],$AD553)","v":0},{"$f":"COUNTIF(#REF!,$AD553)","v":{"$error":"#REF!"}},{"$f":"COUNTIF(#REF!,$AD553)","v":{"$error":"#REF!"}},{"$f":"COUNTIF(#REF!,$AD553)","v":{"$error":"#REF!"}},{"$f":"COUNTIF(#REF!,$AD553)","v":{"$error":"#REF!"}},0,0,0,0,0,0,"","","","","","","","","","","","",0,""]
[null,null,null,null,null,null,null,null,null,null,null,null,null,null,null,null,null,null,null,null,null,null,null,null,null,null,null,null,null,"2016-07-06",{"$f":"SUMIFS('LOG1'!$J$5:$J$501,TabUren2[datum],$AD554)","v":"00:00:00"},{"$f":"SUMIFS('LOG2'!$J$5:$J$501,TabUren22[datum],$AD554)","v":"00:00:00"},{"$f":"SUMIFS(#REF!,#REF!,$AD554)","v":{"$error":"#REF!"}},{"$f":"SUMIFS(#REF!,#REF!,$AD554)","v":{"$error":"#REF!"}},{"$f":"SUMIFS(#REF!,#REF!,$AD554)","v":{"$error":"#REF!"}},{"$f":"SUMIFS(#REF!,#REF!,$AD554)","v":{"$error":"#REF!"}},{"$f":"COUNTIF(TabUren2[datum],$AD554)","v":0},{"$f":"COUNTIF(TabUren22[datum],$AD554)","v":0},{"$f":"COUNTIF(#REF!,$AD554)","v":{"$error":"#REF!"}},{"$f":"COUNTIF(#REF!,$AD554)","v":{"$error":"#REF!"}},{"$f":"COUNTIF(#REF!,$AD554)","v":{"$error":"#REF!"}},{"$f":"COUNTIF(#REF!,$AD554)","v":{"$error":"#REF!"}},0,0,0,0,0,0,"","","","","","","","","","","","",0,""]
[null,null,null,null,null,null,null,null,null,null,null,null,null,null,null,null,null,null,null,null,null,null,null,null,null,null,null,null,null,"2016-07-07",{"$f":"SUMIFS('LOG1'!$J$5:$J$501,TabUren2[datum],$AD555)","v":"00:00:00"},{"$f":"SUMIFS('LOG2'!$J$5:$J$501,TabUren22[datum],$AD555)","v":"00:00:00"},{"$f":"SUMIFS(#REF!,#REF!,$AD555)","v":{"$error":"#REF!"}},{"$f":"SUMIFS(#REF!,#REF!,$AD555)","v":{"$error":"#REF!"}},{"$f":"SUMIFS(#REF!,#REF!,$AD555)","v":{"$error":"#REF!"}},{"$f":"SUMIFS(#REF!,#REF!,$AD555)","v":{"$error":"#REF!"}},{"$f":"COUNTIF(TabUren2[datum],$AD555)","v":0},{"$f":"COUNTIF(TabUren22[datum],$AD555)","v":0},{"$f":"COUNTIF(#REF!,$AD555)","v":{"$error":"#REF!"}},{"$f":"COUNTIF(#REF!,$AD555)","v":{"$error":"#REF!"}},{"$f":"COUNTIF(#REF!,$AD555)","v":{"$error":"#REF!"}},{"$f":"COUNTIF(#REF!,$AD555)","v":{"$error":"#REF!"}},0,0,0,0,0,0,"","","","","","","","","","","","",0,""]
[null,null,null,null,null,null,null,null,null,null,null,null,null,null,null,null,null,null,null,null,null,null,null,null,null,null,null,null,null,"2016-07-08",{"$f":"SUMIFS('LOG1'!$J$5:$J$501,TabUren2[datum],$AD556)","v":"00:00:00"},{"$f":"SUMIFS('LOG2'!$J$5:$J$501,TabUren22[datum],$AD556)","v":"00:00:00"},{"$f":"SUMIFS(#REF!,#REF!,$AD556)","v":{"$error":"#REF!"}},{"$f":"SUMIFS(#REF!,#REF!,$AD556)","v":{"$error":"#REF!"}},{"$f":"SUMIFS(#REF!,#REF!,$AD556)","v":{"$error":"#REF!"}},{"$f":"SUMIFS(#REF!,#REF!,$AD556)","v":{"$error":"#REF!"}},{"$f":"COUNTIF(TabUren2[datum],$AD556)","v":0},{"$f":"COUNTIF(TabUren22[datum],$AD556)","v":0},{"$f":"COUNTIF(#REF!,$AD556)","v":{"$error":"#REF!"}},{"$f":"COUNTIF(#REF!,$AD556)","v":{"$error":"#REF!"}},{"$f":"COUNTIF(#REF!,$AD556)","v":{"$error":"#REF!"}},{"$f":"COUNTIF(#REF!,$AD556)","v":{"$error":"#REF!"}},0,0,0,0,0,0,"","","","","","","","","","","","",0,""]
[null,null,null,null,null,null,null,null,null,null,null,null,null,null,null,null,null,null,null,null,null,null,null,null,null,null,null,null,null,"2016-07-09",{"$f":"SUMIFS('LOG1'!$J$5:$J$501,TabUren2[datum],$AD557)","v":"00:00:00"},{"$f":"SUMIFS('LOG2'!$J$5:$J$501,TabUren22[datum],$AD557)","v":"00:00:00"},{"$f":"SUMIFS(#REF!,#REF!,$AD557)","v":{"$error":"#REF!"}},{"$f":"SUMIFS(#REF!,#REF!,$AD557)","v":{"$error":"#REF!"}},{"$f":"SUMIFS(#REF!,#REF!,$AD557)","v":{"$error":"#REF!"}},{"$f":"SUMIFS(#REF!,#REF!,$AD557)","v":{"$error":"#REF!"}},{"$f":"COUNTIF(TabUren2[datum],$AD557)","v":0},{"$f":"COUNTIF(TabUren22[datum],$AD557)","v":0},{"$f":"COUNTIF(#REF!,$AD557)","v":{"$error":"#REF!"}},{"$f":"COUNTIF(#REF!,$AD557)","v":{"$error":"#REF!"}},{"$f":"COUNTIF(#REF!,$AD557)","v":{"$error":"#REF!"}},{"$f":"COUNTIF(#REF!,$AD557)","v":{"$error":"#REF!"}},0,0,0,0,0,0,"","","","","","","","","","","","",0,""]
[null,null,null,null,null,null,null,null,null,null,null,null,null,null,null,null,null,null,null,null,null,null,null,null,null,null,null,null,null,"2016-07-10",{"$f":"SUMIFS('LOG1'!$J$5:$J$501,TabUren2[datum],$AD558)","v":"00:00:00"},{"$f":"SUMIFS('LOG2'!$J$5:$J$501,TabUren22[datum],$AD558)","v":"00:00:00"},{"$f":"SUMIFS(#REF!,#REF!,$AD558)","v":{"$error":"#REF!"}},{"$f":"SUMIFS(#REF!,#REF!,$AD558)","v":{"$error":"#REF!"}},{"$f":"SUMIFS(#REF!,#REF!,$AD558)","v":{"$error":"#REF!"}},{"$f":"SUMIFS(#REF!,#REF!,$AD558)","v":{"$error":"#REF!"}},{"$f":"COUNTIF(TabUren2[datum],$AD558)","v":0},{"$f":"COUNTIF(TabUren22[datum],$AD558)","v":0},{"$f":"COUNTIF(#REF!,$AD558)","v":{"$error":"#REF!"}},{"$f":"COUNTIF(#REF!,$AD558)","v":{"$error":"#REF!"}},{"$f":"COUNTIF(#REF!,$AD558)","v":{"$error":"#REF!"}},{"$f":"COUNTIF(#REF!,$AD558)","v":{"$error":"#REF!"}},0,0,0,0,0,0,"","","","","","","","","","","","",0,""]
[null,null,null,null,null,null,null,null,null,null,null,null,null,null,null,null,null,null,null,null,null,null,null,null,null,null,null,null,null,"2016-07-11",{"$f":"SUMIFS('LOG1'!$J$5:$J$501,TabUren2[datum],$AD559)","v":"00:00:00"},{"$f":"SUMIFS('LOG2'!$J$5:$J$501,TabUren22[datum],$AD559)","v":"00:00:00"},{"$f":"SUMIFS(#REF!,#REF!,$AD559)","v":{"$error":"#REF!"}},{"$f":"SUMIFS(#REF!,#REF!,$AD559)","v":{"$error":"#REF!"}},{"$f":"SUMIFS(#REF!,#REF!,$AD559)","v":{"$error":"#REF!"}},{"$f":"SUMIFS(#REF!,#REF!,$AD559)","v":{"$error":"#REF!"}},{"$f":"COUNTIF(TabUren2[datum],$AD559)","v":0},{"$f":"COUNTIF(TabUren22[datum],$AD559)","v":0},{"$f":"COUNTIF(#REF!,$AD559)","v":{"$error":"#REF!"}},{"$f":"COUNTIF(#REF!,$AD559)","v":{"$error":"#REF!"}},{"$f":"COUNTIF(#REF!,$AD559)","v":{"$error":"#REF!"}},{"$f":"COUNTIF(#REF!,$AD559)","v":{"$error":"#REF!"}},0,0,0,0,0,0,"","","","","","","","","","","","",0,""]
[null,null,null,null,null,null,null,null,null,null,null,null,null,null,null,null,null,null,null,null,null,null,null,null,null,null,null,null,null,"2016-07-12",{"$f":"SUMIFS('LOG1'!$J$5:$J$501,TabUren2[datum],$AD560)","v":"00:00:00"},{"$f":"SUMIFS('LOG2'!$J$5:$J$501,TabUren22[datum],$AD560)","v":"00:00:00"},{"$f":"SUMIFS(#REF!,#REF!,$AD560)","v":{"$error":"#REF!"}},{"$f":"SUMIFS(#REF!,#REF!,$AD560)","v":{"$error":"#REF!"}},{"$f":"SUMIFS(#REF!,#REF!,$AD560)","v":{"$error":"#REF!"}},{"$f":"SUMIFS(#REF!,#REF!,$AD560)","v":{"$error":"#REF!"}},{"$f":"COUNTIF(TabUren2[datum],$AD560)","v":0},{"$f":"COUNTIF(TabUren22[datum],$AD560)","v":0},{"$f":"COUNTIF(#REF!,$AD560)","v":{"$error":"#REF!"}},{"$f":"COUNTIF(#REF!,$AD560)","v":{"$error":"#REF!"}},{"$f":"COUNTIF(#REF!,$AD560)","v":{"$error":"#REF!"}},{"$f":"COUNTIF(#REF!,$AD560)","v":{"$error":"#REF!"}},0,0,0,0,0,0,"","","","","","","","","","","","",0,""]
[null,null,null,null,null,null,null,null,null,null,null,null,null,null,null,null,null,null,null,null,null,null,null,null,null,null,null,null,null,"2016-07-13",{"$f":"SUMIFS('LOG1'!$J$5:$J$501,TabUren2[datum],$AD561)","v":"00:00:00"},{"$f":"SUMIFS('LOG2'!$J$5:$J$501,TabUren22[datum],$AD561)","v":"00:00:00"},{"$f":"SUMIFS(#REF!,#REF!,$AD561)","v":{"$error":"#REF!"}},{"$f":"SUMIFS(#REF!,#REF!,$AD561)","v":{"$error":"#REF!"}},{"$f":"SUMIFS(#REF!,#REF!,$AD561)","v":{"$error":"#REF!"}},{"$f":"SUMIFS(#REF!,#REF!,$AD561)","v":{"$error":"#REF!"}},{"$f":"COUNTIF(TabUren2[datum],$AD561)","v":0},{"$f":"COUNTIF(TabUren22[datum],$AD561)","v":0},{"$f":"COUNTIF(#REF!,$AD561)","v":{"$error":"#REF!"}},{"$f":"COUNTIF(#REF!,$AD561)","v":{"$error":"#REF!"}},{"$f":"COUNTIF(#REF!,$AD561)","v":{"$error":"#REF!"}},{"$f":"COUNTIF(#REF!,$AD561)","v":{"$error":"#REF!"}},0,0,0,0,0,0,"","","","","","","","","","","","",0,""]
[null,null,null,null,null,null,null,null,null,null,null,null,null,null,null,null,null,null,null,null,null,null,null,null,null,null,null,null,null,"2016-07-14",{"$f":"SUMIFS('LOG1'!$J$5:$J$501,TabUren2[datum],$AD562)","v":"00:00:00"},{"$f":"SUMIFS('LOG2'!$J$5:$J$501,TabUren22[datum],$AD562)","v":"00:00:00"},{"$f":"SUMIFS(#REF!,#REF!,$AD562)","v":{"$error":"#REF!"}},{"$f":"SUMIFS(#REF!,#REF!,$AD562)","v":{"$error":"#REF!"}},{"$f":"SUMIFS(#REF!,#REF!,$AD562)","v":{"$error":"#REF!"}},{"$f":"SUMIFS(#REF!,#REF!,$AD562)","v":{"$error":"#REF!"}},{"$f":"COUNTIF(TabUren2[datum],$AD562)","v":0},{"$f":"COUNTIF(TabUren22[datum],$AD562)","v":0},{"$f":"COUNTIF(#REF!,$AD562)","v":{"$error":"#REF!"}},{"$f":"COUNTIF(#REF!,$AD562)","v":{"$error":"#REF!"}},{"$f":"COUNTIF(#REF!,$AD562)","v":{"$error":"#REF!"}},{"$f":"COUNTIF(#REF!,$AD562)","v":{"$error":"#REF!"}},0,0,0,0,0,0,"","","","","","","","","","","","",0,""]
[null,null,null,null,null,null,null,null,null,null,null,null,null,null,null,null,null,null,null,null,null,null,null,null,null,null,null,null,null,"2016-07-15",{"$f":"SUMIFS('LOG1'!$J$5:$J$501,TabUren2[datum],$AD563)","v":"00:00:00"},{"$f":"SUMIFS('LOG2'!$J$5:$J$501,TabUren22[datum],$AD563)","v":"00:00:00"},{"$f":"SUMIFS(#REF!,#REF!,$AD563)","v":{"$error":"#REF!"}},{"$f":"SUMIFS(#REF!,#REF!,$AD563)","v":{"$error":"#REF!"}},{"$f":"SUMIFS(#REF!,#REF!,$AD563)","v":{"$error":"#REF!"}},{"$f":"SUMIFS(#REF!,#REF!,$AD563)","v":{"$error":"#REF!"}},{"$f":"COUNTIF(TabUren2[datum],$AD563)","v":0},{"$f":"COUNTIF(TabUren22[datum],$AD563)","v":0},{"$f":"COUNTIF(#REF!,$AD563)","v":{"$error":"#REF!"}},{"$f":"COUNTIF(#REF!,$AD563)","v":{"$error":"#REF!"}},{"$f":"COUNTIF(#REF!,$AD563)","v":{"$error":"#REF!"}},{"$f":"COUNTIF(#REF!,$AD563)","v":{"$error":"#REF!"}},0,0,0,0,0,0,"","","","","","","","","","","","",0,""]
[null,null,null,null,null,null,null,null,null,null,null,null,null,null,null,null,null,null,null,null,null,null,null,null,null,null,null,null,null,"2016-07-16",{"$f":"SUMIFS('LOG1'!$J$5:$J$501,TabUren2[datum],$AD564)","v":"00:00:00"},{"$f":"SUMIFS('LOG2'!$J$5:$J$501,TabUren22[datum],$AD564)","v":"00:00:00"},{"$f":"SUMIFS(#REF!,#REF!,$AD564)","v":{"$error":"#REF!"}},{"$f":"SUMIFS(#REF!,#REF!,$AD564)","v":{"$error":"#REF!"}},{"$f":"SUMIFS(#REF!,#REF!,$AD564)","v":{"$error":"#REF!"}},{"$f":"SUMIFS(#REF!,#REF!,$AD564)","v":{"$error":"#REF!"}},{"$f":"COUNTIF(TabUren2[datum],$AD564)","v":0},{"$f":"COUNTIF(TabUren22[datum],$AD564)","v":0},{"$f":"COUNTIF(#REF!,$AD564)","v":{"$error":"#REF!"}},{"$f":"COUNTIF(#REF!,$AD564)","v":{"$error":"#REF!"}},{"$f":"COUNTIF(#REF!,$AD564)","v":{"$error":"#REF!"}},{"$f":"COUNTIF(#REF!,$AD564)","v":{"$error":"#REF!"}},0,0,0,0,0,0,"","","","","","","","","","","","",0,""]
[null,null,null,null,null,null,null,null,null,null,null,null,null,null,null,null,null,null,null,null,null,null,null,null,null,null,null,null,null,"2016-07-17",{"$f":"SUMIFS('LOG1'!$J$5:$J$501,TabUren2[datum],$AD565)","v":"00:00:00"},{"$f":"SUMIFS('LOG2'!$J$5:$J$501,TabUren22[datum],$AD565)","v":"00:00:00"},{"$f":"SUMIFS(#REF!,#REF!,$AD565)","v":{"$error":"#REF!"}},{"$f":"SUMIFS(#REF!,#REF!,$AD565)","v":{"$error":"#REF!"}},{"$f":"SUMIFS(#REF!,#REF!,$AD565)","v":{"$error":"#REF!"}},{"$f":"SUMIFS(#REF!,#REF!,$AD565)","v":{"$error":"#REF!"}},{"$f":"COUNTIF(TabUren2[datum],$AD565)","v":0},{"$f":"COUNTIF(TabUren22[datum],$AD565)","v":0},{"$f":"COUNTIF(#REF!,$AD565)","v":{"$error":"#REF!"}},{"$f":"COUNTIF(#REF!,$AD565)","v":{"$error":"#REF!"}},{"$f":"COUNTIF(#REF!,$AD565)","v":{"$error":"#REF!"}},{"$f":"COUNTIF(#REF!,$AD565)","v":{"$error":"#REF!"}},0,0,0,0,0,0,"","","","","","","","","","","","",0,""]
[null,null,null,null,null,null,null,null,null,null,null,null,null,null,null,null,null,null,null,null,null,null,null,null,null,null,null,null,null,"2016-07-18",{"$f":"SUMIFS('LOG1'!$J$5:$J$501,TabUren2[datum],$AD566)","v":"00:00:00"},{"$f":"SUMIFS('LOG2'!$J$5:$J$501,TabUren22[datum],$AD566)","v":"00:00:00"},{"$f":"SUMIFS(#REF!,#REF!,$AD566)","v":{"$error":"#REF!"}},{"$f":"SUMIFS(#REF!,#REF!,$AD566)","v":{"$error":"#REF!"}},{"$f":"SUMIFS(#REF!,#REF!,$AD566)","v":{"$error":"#REF!"}},{"$f":"SUMIFS(#REF!,#REF!,$AD566)","v":{"$error":"#REF!"}},{"$f":"COUNTIF(TabUren2[datum],$AD566)","v":0},{"$f":"COUNTIF(TabUren22[datum],$AD566)","v":0},{"$f":"COUNTIF(#REF!,$AD566)","v":{"$error":"#REF!"}},{"$f":"COUNTIF(#REF!,$AD566)","v":{"$error":"#REF!"}},{"$f":"COUNTIF(#REF!,$AD566)","v":{"$error":"#REF!"}},{"$f":"COUNTIF(#REF!,$AD566)","v":{"$error":"#REF!"}},0,0,0,0,0,0,"","","","","","","","","","","","",0,""]
[null,null,null,null,null,null,null,null,null,null,null,null,null,null,null,null,null,null,null,null,null,null,null,null,null,null,null,null,null,"2016-07-19",{"$f":"SUMIFS('LOG1'!$J$5:$J$501,TabUren2[datum],$AD567)","v":"00:00:00"},{"$f":"SUMIFS('LOG2'!$J$5:$J$501,TabUren22[datum],$AD567)","v":"00:00:00"},{"$f":"SUMIFS(#REF!,#REF!,$AD567)","v":{"$error":"#REF!"}},{"$f":"SUMIFS(#REF!,#REF!,$AD567)","v":{"$error":"#REF!"}},{"$f":"SUMIFS(#REF!,#REF!,$AD567)","v":{"$error":"#REF!"}},{"$f":"SUMIFS(#REF!,#REF!,$AD567)","v":{"$error":"#REF!"}},{"$f":"COUNTIF(TabUren2[datum],$AD567)","v":0},{"$f":"COUNTIF(TabUren22[datum],$AD567)","v":0},{"$f":"COUNTIF(#REF!,$AD567)","v":{"$error":"#REF!"}},{"$f":"COUNTIF(#REF!,$AD567)","v":{"$error":"#REF!"}},{"$f":"COUNTIF(#REF!,$AD567)","v":{"$error":"#REF!"}},{"$f":"COUNTIF(#REF!,$AD567)","v":{"$error":"#REF!"}},0,0,0,0,0,0,"","","","","","","","","","","","",0,""]
[null,null,null,null,null,null,null,null,null,null,null,null,null,null,null,null,null,null,null,null,null,null,null,null,null,null,null,null,null,"2016-07-20",{"$f":"SUMIFS('LOG1'!$J$5:$J$501,TabUren2[datum],$AD568)","v":"00:00:00"},{"$f":"SUMIFS('LOG2'!$J$5:$J$501,TabUren22[datum],$AD568)","v":"00:00:00"},{"$f":"SUMIFS(#REF!,#REF!,$AD568)","v":{"$error":"#REF!"}},{"$f":"SUMIFS(#REF!,#REF!,$AD568)","v":{"$error":"#REF!"}},{"$f":"SUMIFS(#REF!,#REF!,$AD568)","v":{"$error":"#REF!"}},{"$f":"SUMIFS(#REF!,#REF!,$AD568)","v":{"$error":"#REF!"}},{"$f":"COUNTIF(TabUren2[datum],$AD568)","v":0},{"$f":"COUNTIF(TabUren22[datum],$AD568)","v":0},{"$f":"COUNTIF(#REF!,$AD568)","v":{"$error":"#REF!"}},{"$f":"COUNTIF(#REF!,$AD568)","v":{"$error":"#REF!"}},{"$f":"COUNTIF(#REF!,$AD568)","v":{"$error":"#REF!"}},{"$f":"COUNTIF(#REF!,$AD568)","v":{"$error":"#REF!"}},0,0,0,0,0,0,"","","","","","","","","","","","",0,""]
[null,null,null,null,null,null,null,null,null,null,null,null,null,null,null,null,null,null,null,null,null,null,null,null,null,null,null,null,null,"2016-07-21",{"$f":"SUMIFS('LOG1'!$J$5:$J$501,TabUren2[datum],$AD569)","v":"00:00:00"},{"$f":"SUMIFS('LOG2'!$J$5:$J$501,TabUren22[datum],$AD569)","v":"00:00:00"},{"$f":"SUMIFS(#REF!,#REF!,$AD569)","v":{"$error":"#REF!"}},{"$f":"SUMIFS(#REF!,#REF!,$AD569)","v":{"$error":"#REF!"}},{"$f":"SUMIFS(#REF!,#REF!,$AD569)","v":{"$error":"#REF!"}},{"$f":"SUMIFS(#REF!,#REF!,$AD569)","v":{"$error":"#REF!"}},{"$f":"COUNTIF(TabUren2[datum],$AD569)","v":0},{"$f":"COUNTIF(TabUren22[datum],$AD569)","v":0},{"$f":"COUNTIF(#REF!,$AD569)","v":{"$error":"#REF!"}},{"$f":"COUNTIF(#REF!,$AD569)","v":{"$error":"#REF!"}},{"$f":"COUNTIF(#REF!,$AD569)","v":{"$error":"#REF!"}},{"$f":"COUNTIF(#REF!,$AD569)","v":{"$error":"#REF!"}},0,0,0,0,0,0,"","","","","","","","","","","","",0,""]
[null,null,null,null,null,null,null,null,null,null,null,null,null,null,null,null,null,null,null,null,null,null,null,null,null,null,null,null,null,"2016-07-22",{"$f":"SUMIFS('LOG1'!$J$5:$J$501,TabUren2[datum],$AD570)","v":"00:00:00"},{"$f":"SUMIFS('LOG2'!$J$5:$J$501,TabUren22[datum],$AD570)","v":"00:00:00"},{"$f":"SUMIFS(#REF!,#REF!,$AD570)","v":{"$error":"#REF!"}},{"$f":"SUMIFS(#REF!,#REF!,$AD570)","v":{"$error":"#REF!"}},{"$f":"SUMIFS(#REF!,#REF!,$AD570)","v":{"$error":"#REF!"}},{"$f":"SUMIFS(#REF!,#REF!,$AD570)","v":{"$error":"#REF!"}},{"$f":"COUNTIF(TabUren2[datum],$AD570)","v":0},{"$f":"COUNTIF(TabUren22[datum],$AD570)","v":0},{"$f":"COUNTIF(#REF!,$AD570)","v":{"$error":"#REF!"}},{"$f":"COUNTIF(#REF!,$AD570)","v":{"$error":"#REF!"}},{"$f":"COUNTIF(#REF!,$AD570)","v":{"$error":"#REF!"}},{"$f":"COUNTIF(#REF!,$AD570)","v":{"$error":"#REF!"}},0,0,0,0,0,0,"","","","","","","","","","","","",0,""]
[null,null,null,null,null,null,null,null,null,null,null,null,null,null,null,null,null,null,null,null,null,null,null,null,null,null,null,null,null,"2016-07-23",{"$f":"SUMIFS('LOG1'!$J$5:$J$501,TabUren2[datum],$AD571)","v":"00:00:00"},{"$f":"SUMIFS('LOG2'!$J$5:$J$501,TabUren22[datum],$AD571)","v":"00:00:00"},{"$f":"SUMIFS(#REF!,#REF!,$AD571)","v":{"$error":"#REF!"}},{"$f":"SUMIFS(#REF!,#REF!,$AD571)","v":{"$error":"#REF!"}},{"$f":"SUMIFS(#REF!,#REF!,$AD571)","v":{"$error":"#REF!"}},{"$f":"SUMIFS(#REF!,#REF!,$AD571)","v":{"$error":"#REF!"}},{"$f":"COUNTIF(TabUren2[datum],$AD571)","v":0},{"$f":"COUNTIF(TabUren22[datum],$AD571)","v":0},{"$f":"COUNTIF(#REF!,$AD571)","v":{"$error":"#REF!"}},{"$f":"COUNTIF(#REF!,$AD571)","v":{"$error":"#REF!"}},{"$f":"COUNTIF(#REF!,$AD571)","v":{"$error":"#REF!"}},{"$f":"COUNTIF(#REF!,$AD571)","v":{"$error":"#REF!"}},0,0,0,0,0,0,"","","","","","","","","","","","",0,""]
[null,null,null,null,null,null,null,null,null,null,null,null,null,null,null,null,null,null,null,null,null,null,null,null,null,null,null,null,null,"2016-07-24",{"$f":"SUMIFS('LOG1'!$J$5:$J$501,TabUren2[datum],$AD572)","v":"00:00:00"},{"$f":"SUMIFS('LOG2'!$J$5:$J$501,TabUren22[datum],$AD572)","v":"00:00:00"},{"$f":"SUMIFS(#REF!,#REF!,$AD572)","v":{"$error":"#REF!"}},{"$f":"SUMIFS(#REF!,#REF!,$AD572)","v":{"$error":"#REF!"}},{"$f":"SUMIFS(#REF!,#REF!,$AD572)","v":{"$error":"#REF!"}},{"$f":"SUMIFS(#REF!,#REF!,$AD572)","v":{"$error":"#REF!"}},{"$f":"COUNTIF(TabUren2[datum],$AD572)","v":0},{"$f":"COUNTIF(TabUren22[datum],$AD572)","v":0},{"$f":"COUNTIF(#REF!,$AD572)","v":{"$error":"#REF!"}},{"$f":"COUNTIF(#REF!,$AD572)","v":{"$error":"#REF!"}},{"$f":"COUNTIF(#REF!,$AD572)","v":{"$error":"#REF!"}},{"$f":"COUNTIF(#REF!,$AD572)","v":{"$error":"#REF!"}},0,0,0,0,0,0,"","","","","","","","","","","","",0,""]
[null,null,null,null,null,null,null,null,null,null,null,null,null,null,null,null,null,null,null,null,null,null,null,null,null,null,null,null,null,"2016-07-25",{"$f":"SUMIFS('LOG1'!$J$5:$J$501,TabUren2[datum],$AD573)","v":"00:00:00"},{"$f":"SUMIFS('LOG2'!$J$5:$J$501,TabUren22[datum],$AD573)","v":"00:00:00"},{"$f":"SUMIFS(#REF!,#REF!,$AD573)","v":{"$error":"#REF!"}},{"$f":"SUMIFS(#REF!,#REF!,$AD573)","v":{"$error":"#REF!"}},{"$f":"SUMIFS(#REF!,#REF!,$AD573)","v":{"$error":"#REF!"}},{"$f":"SUMIFS(#REF!,#REF!,$AD573)","v":{"$error":"#REF!"}},{"$f":"COUNTIF(TabUren2[datum],$AD573)","v":0},{"$f":"COUNTIF(TabUren22[datum],$AD573)","v":0},{"$f":"COUNTIF(#REF!,$AD573)","v":{"$error":"#REF!"}},{"$f":"COUNTIF(#REF!,$AD573)","v":{"$error":"#REF!"}},{"$f":"COUNTIF(#REF!,$AD573)","v":{"$error":"#REF!"}},{"$f":"COUNTIF(#REF!,$AD573)","v":{"$error":"#REF!"}},0,0,0,0,0,0,"","","","","","","","","","","","",0,""]
[null,null,null,null,null,null,null,null,null,null,null,null,null,null,null,null,null,null,null,null,null,null,null,null,null,null,null,null,null,"2016-07-26",{"$f":"SUMIFS('LOG1'!$J$5:$J$501,TabUren2[datum],$AD574)","v":"00:00:00"},{"$f":"SUMIFS('LOG2'!$J$5:$J$501,TabUren22[datum],$AD574)","v":"00:00:00"},{"$f":"SUMIFS(#REF!,#REF!,$AD574)","v":{"$error":"#REF!"}},{"$f":"SUMIFS(#REF!,#REF!,$AD574)","v":{"$error":"#REF!"}},{"$f":"SUMIFS(#REF!,#REF!,$AD574)","v":{"$error":"#REF!"}},{"$f":"SUMIFS(#REF!,#REF!,$AD574)","v":{"$error":"#REF!"}},{"$f":"COUNTIF(TabUren2[datum],$AD574)","v":0},{"$f":"COUNTIF(TabUren22[datum],$AD574)","v":0},{"$f":"COUNTIF(#REF!,$AD574)","v":{"$error":"#REF!"}},{"$f":"COUNTIF(#REF!,$AD574)","v":{"$error":"#REF!"}},{"$f":"COUNTIF(#REF!,$AD574)","v":{"$error":"#REF!"}},{"$f":"COUNTIF(#REF!,$AD574)","v":{"$error":"#REF!"}},0,0,0,0,0,0,"","","","","","","","","","","","",0,""]
[null,null,null,null,null,null,null,null,null,null,null,null,null,null,null,null,null,null,null,null,null,null,null,null,null,null,null,null,null,"2016-07-27",{"$f":"SUMIFS('LOG1'!$J$5:$J$501,TabUren2[datum],$AD575)","v":"00:00:00"},{"$f":"SUMIFS('LOG2'!$J$5:$J$501,TabUren22[datum],$AD575)","v":"00:00:00"},{"$f":"SUMIFS(#REF!,#REF!,$AD575)","v":{"$error":"#REF!"}},{"$f":"SUMIFS(#REF!,#REF!,$AD575)","v":{"$error":"#REF!"}},{"$f":"SUMIFS(#REF!,#REF!,$AD575)","v":{"$error":"#REF!"}},{"$f":"SUMIFS(#REF!,#REF!,$AD575)","v":{"$error":"#REF!"}},{"$f":"COUNTIF(TabUren2[datum],$AD575)","v":0},{"$f":"COUNTIF(TabUren22[datum],$AD575)","v":0},{"$f":"COUNTIF(#REF!,$AD575)","v":{"$error":"#REF!"}},{"$f":"COUNTIF(#REF!,$AD575)","v":{"$error":"#REF!"}},{"$f":"COUNTIF(#REF!,$AD575)","v":{"$error":"#REF!"}},{"$f":"COUNTIF(#REF!,$AD575)","v":{"$error":"#REF!"}},0,0,0,0,0,0,"","","","","","","","","","","","",0,""]
[null,null,null,null,null,null,null,null,null,null,null,null,null,null,null,null,null,null,null,null,null,null,null,null,null,null,null,null,null,"2016-07-28",{"$f":"SUMIFS('LOG1'!$J$5:$J$501,TabUren2[datum],$AD576)","v":"00:00:00"},{"$f":"SUMIFS('LOG2'!$J$5:$J$501,TabUren22[datum],$AD576)","v":"00:00:00"},{"$f":"SUMIFS(#REF!,#REF!,$AD576)","v":{"$error":"#REF!"}},{"$f":"SUMIFS(#REF!,#REF!,$AD576)","v":{"$error":"#REF!"}},{"$f":"SUMIFS(#REF!,#REF!,$AD576)","v":{"$error":"#REF!"}},{"$f":"SUMIFS(#REF!,#REF!,$AD576)","v":{"$error":"#REF!"}},{"$f":"COUNTIF(TabUren2[datum],$AD576)","v":0},{"$f":"COUNTIF(TabUren22[datum],$AD576)","v":0},{"$f":"COUNTIF(#REF!,$AD576)","v":{"$error":"#REF!"}},{"$f":"COUNTIF(#REF!,$AD576)","v":{"$error":"#REF!"}},{"$f":"COUNTIF(#REF!,$AD576)","v":{"$error":"#REF!"}},{"$f":"COUNTIF(#REF!,$AD576)","v":{"$error":"#REF!"}},0,0,0,0,0,0,"","","","","","","","","","","","",0,""]
[null,null,null,null,null,null,null,null,null,null,null,null,null,null,null,null,null,null,null,null,null,null,null,null,null,null,null,null,null,"2016-07-29",{"$f":"SUMIFS('LOG1'!$J$5:$J$501,TabUren2[datum],$AD577)","v":"00:00:00"},{"$f":"SUMIFS('LOG2'!$J$5:$J$501,TabUren22[datum],$AD577)","v":"00:00:00"},{"$f":"SUMIFS(#REF!,#REF!,$AD577)","v":{"$error":"#REF!"}},{"$f":"SUMIFS(#REF!,#REF!,$AD577)","v":{"$error":"#REF!"}},{"$f":"SUMIFS(#REF!,#REF!,$AD577)","v":{"$error":"#REF!"}},{"$f":"SUMIFS(#REF!,#REF!,$AD577)","v":{"$error":"#REF!"}},{"$f":"COUNTIF(TabUren2[datum],$AD577)","v":0},{"$f":"COUNTIF(TabUren22[datum],$AD577)","v":0},{"$f":"COUNTIF(#REF!,$AD577)","v":{"$error":"#REF!"}},{"$f":"COUNTIF(#REF!,$AD577)","v":{"$error":"#REF!"}},{"$f":"COUNTIF(#REF!,$AD577)","v":{"$error":"#REF!"}},{"$f":"COUNTIF(#REF!,$AD577)","v":{"$error":"#REF!"}},0,0,0,0,0,0,"","","","","","","","","","","","",0,""]
[null,null,null,null,null,null,null,null,null,null,null,null,null,null,null,null,null,null,null,null,null,null,null,null,null,null,null,null,null,"2016-07-30",{"$f":"SUMIFS('LOG1'!$J$5:$J$501,TabUren2[datum],$AD578)","v":"00:00:00"},{"$f":"SUMIFS('LOG2'!$J$5:$J$501,TabUren22[datum],$AD578)","v":"00:00:00"},{"$f":"SUMIFS(#REF!,#REF!,$AD578)","v":{"$error":"#REF!"}},{"$f":"SUMIFS(#REF!,#REF!,$AD578)","v":{"$error":"#REF!"}},{"$f":"SUMIFS(#REF!,#REF!,$AD578)","v":{"$error":"#REF!"}},{"$f":"SUMIFS(#REF!,#REF!,$AD578)","v":{"$error":"#REF!"}},{"$f":"COUNTIF(TabUren2[datum],$AD578)","v":0},{"$f":"COUNTIF(TabUren22[datum],$AD578)","v":0},{"$f":"COUNTIF(#REF!,$AD578)","v":{"$error":"#REF!"}},{"$f":"COUNTIF(#REF!,$AD578)","v":{"$error":"#REF!"}},{"$f":"COUNTIF(#REF!,$AD578)","v":{"$error":"#REF!"}},{"$f":"COUNTIF(#REF!,$AD578)","v":{"$error":"#REF!"}},0,0,0,0,0,0,"","","","","","","","","","","","",0,""]
[null,null,null,null,null,null,null,null,null,null,null,null,null,null,null,null,null,null,null,null,null,null,null,null,null,null,null,null,null,"2016-07-31",{"$f":"SUMIFS('LOG1'!$J$5:$J$501,TabUren2[datum],$AD579)","v":"00:00:00"},{"$f":"SUMIFS('LOG2'!$J$5:$J$501,TabUren22[datum],$AD579)","v":"00:00:00"},{"$f":"SUMIFS(#REF!,#REF!,$AD579)","v":{"$error":"#REF!"}},{"$f":"SUMIFS(#REF!,#REF!,$AD579)","v":{"$error":"#REF!"}},{"$f":"SUMIFS(#REF!,#REF!,$AD579)","v":{"$error":"#REF!"}},{"$f":"SUMIFS(#REF!,#REF!,$AD579)","v":{"$error":"#REF!"}},{"$f":"COUNTIF(TabUren2[datum],$AD579)","v":0},{"$f":"COUNTIF(TabUren22[datum],$AD579)","v":0},{"$f":"COUNTIF(#REF!,$AD579)","v":{"$error":"#REF!"}},{"$f":"COUNTIF(#REF!,$AD579)","v":{"$error":"#REF!"}},{"$f":"COUNTIF(#REF!,$AD579)","v":{"$error":"#REF!"}},{"$f":"COUNTIF(#REF!,$AD579)","v":{"$error":"#REF!"}},{"$f":"COUNTIF(AK579,\">0\")","v":0},{"$f":"COUNTIF(AL579,\">0\")","v":0},{"$f":"COUNTIF(AM579,\">0\")","v":0},{"$f":"COUNTIF(AN579,\">0\")","v":0},{"$f":"COUNTIF(AO579,\">0\")","v":0},{"$f":"COUNTIF(AP579,\">0\")","v":0},{"$f":"IF(AQ579=1,AE579,\"\")","v":""},{"$f":"IF(AR579=1,AF579,\"\")","v":""},{"$f":"IF(AS579=1,AG579,\"\")","v":""},{"$f":"IF(AT579=1,AH579,\"\")","v":""},{"$f":"IF(AU579=1,AI579,\"\")","v":""},{"$f":"IF(AV579=1,AJ579,\"\")","v":""},{"$f":"IF(BC$1=TRUE,AW579,\"\")","v":""},{"$f":"IF(BD$1=TRUE,AX579,\"\")","v":""},{"$f":"IF(BE$1=TRUE,AY579,\"\")","v":""},{"$f":"IF(BF$1=TRUE,AZ579,\"\")","v":""},{"$f":"IF(BG$1=TRUE,BA579,\"\")","v":""},{"$f":"IF(BH$1=TRUE,BB579,\"\")","v":""},0,""]
[null,null,null,null,null,null,null,null,null,null,null,null,null,null,null,null,null,null,null,null,null,null,null,null,null,null,null,null,null,"2016-08-01",{"$f":"SUMIFS('LOG1'!$J$5:$J$501,TabUren2[datum],$AD580)","v":"00:00:00"},{"$f":"SUMIFS('LOG2'!$J$5:$J$501,TabUren22[datum],$AD580)","v":"00:00:00"},{"$f":"SUMIFS(#REF!,#REF!,$AD580)","v":{"$error":"#REF!"}},{"$f":"SUMIFS(#REF!,#REF!,$AD580)","v":{"$error":"#REF!"}},{"$f":"SUMIFS(#REF!,#REF!,$AD580)","v":{"$error":"#REF!"}},{"$f":"SUMIFS(#REF!,#REF!,$AD580)","v":{"$error":"#REF!"}},{"$f":"COUNTIF(TabUren2[datum],$AD580)","v":0},{"$f":"COUNTIF(TabUren22[datum],$AD580)","v":0},{"$f":"COUNTIF(#REF!,$AD580)","v":{"$error":"#REF!"}},{"$f":"COUNTIF(#REF!,$AD580)","v":{"$error":"#REF!"}},{"$f":"COUNTIF(#REF!,$AD580)","v":{"$error":"#REF!"}},{"$f":"COUNTIF(#REF!,$AD580)","v":{"$error":"#REF!"}},0,0,0,0,0,0,"","","","","","","","","","","","",0,""]
[null,null,null,null,null,null,null,null,null,null,null,null,null,null,null,null,null,null,null,null,null,null,null,null,null,null,null,null,null,"2016-08-02",{"$f":"SUMIFS('LOG1'!$J$5:$J$501,TabUren2[datum],$AD581)","v":"00:00:00"},{"$f":"SUMIFS('LOG2'!$J$5:$J$501,TabUren22[datum],$AD581)","v":"00:00:00"},{"$f":"SUMIFS(#REF!,#REF!,$AD581)","v":{"$error":"#REF!"}},{"$f":"SUMIFS(#REF!,#REF!,$AD581)","v":{"$error":"#REF!"}},{"$f":"SUMIFS(#REF!,#REF!,$AD581)","v":{"$error":"#REF!"}},{"$f":"SUMIFS(#REF!,#REF!,$AD581)","v":{"$error":"#REF!"}},{"$f":"COUNTIF(TabUren2[datum],$AD581)","v":0},{"$f":"COUNTIF(TabUren22[datum],$AD581)","v":0},{"$f":"COUNTIF(#REF!,$AD581)","v":{"$error":"#REF!"}},{"$f":"COUNTIF(#REF!,$AD581)","v":{"$error":"#REF!"}},{"$f":"COUNTIF(#REF!,$AD581)","v":{"$error":"#REF!"}},{"$f":"COUNTIF(#REF!,$AD581)","v":{"$error":"#REF!"}},0,0,0,0,0,0,"","","","","","","","","","","","",0,""]
[null,null,null,null,null,null,null,null,null,null,null,null,null,null,null,null,null,null,null,null,null,null,null,null,null,null,null,null,null,"2016-08-03",{"$f":"SUMIFS('LOG1'!$J$5:$J$501,TabUren2[datum],$AD582)","v":"00:00:00"},{"$f":"SUMIFS('LOG2'!$J$5:$J$501,TabUren22[datum],$AD582)","v":"00:00:00"},{"$f":"SUMIFS(#REF!,#REF!,$AD582)","v":{"$error":"#REF!"}},{"$f":"SUMIFS(#REF!,#REF!,$AD582)","v":{"$error":"#REF!"}},{"$f":"SUMIFS(#REF!,#REF!,$AD582)","v":{"$error":"#REF!"}},{"$f":"SUMIFS(#REF!,#REF!,$AD582)","v":{"$error":"#REF!"}},{"$f":"COUNTIF(TabUren2[datum],$AD582)","v":0},{"$f":"COUNTIF(TabUren22[datum],$AD582)","v":0},{"$f":"COUNTIF(#REF!,$AD582)","v":{"$error":"#REF!"}},{"$f":"COUNTIF(#REF!,$AD582)","v":{"$error":"#REF!"}},{"$f":"COUNTIF(#REF!,$AD582)","v":{"$error":"#REF!"}},{"$f":"COUNTIF(#REF!,$AD582)","v":{"$error":"#REF!"}},0,0,0,0,0,0,"","","","","","","","","","","","",{"$f":"COUNT(AW582:BB582)","v":0},{"$f":"IF(BI582>0,AD582,\"\")","v":""}]
[null,null,null,null,null,null,null,null,null,null,null,null,null,null,null,null,null,null,null,null,null,null,null,null,null,null,null,null,null,"2016-08-04",{"$f":"SUMIFS('LOG1'!$J$5:$J$501,TabUren2[datum],$AD583)","v":"00:00:00"},{"$f":"SUMIFS('LOG2'!$J$5:$J$501,TabUren22[datum],$AD583)","v":"00:00:00"},{"$f":"SUMIFS(#REF!,#REF!,$AD583)","v":{"$error":"#REF!"}},{"$f":"SUMIFS(#REF!,#REF!,$AD583)","v":{"$error":"#REF!"}},{"$f":"SUMIFS(#REF!,#REF!,$AD583)","v":{"$error":"#REF!"}},{"$f":"SUMIFS(#REF!,#REF!,$AD583)","v":{"$error":"#REF!"}},{"$f":"COUNTIF(TabUren2[datum],$AD583)","v":0},{"$f":"COUNTIF(TabUren22[datum],$AD583)","v":0},{"$f":"COUNTIF(#REF!,$AD583)","v":{"$error":"#REF!"}},{"$f":"COUNTIF(#REF!,$AD583)","v":{"$error":"#REF!"}},{"$f":"COUNTIF(#REF!,$AD583)","v":{"$error":"#REF!"}},{"$f":"COUNTIF(#REF!,$AD583)","v":{"$error":"#REF!"}},0,0,0,0,0,0,"","","","","","","","","","","","",0,""]
[null,null,null,null,null,null,null,null,null,null,null,null,null,null,null,null,null,null,null,null,null,null,null,null,null,null,null,null,null,"2016-08-05",{"$f":"SUMIFS('LOG1'!$J$5:$J$501,TabUren2[datum],$AD584)","v":"00:00:00"},{"$f":"SUMIFS('LOG2'!$J$5:$J$501,TabUren22[datum],$AD584)","v":"00:00:00"},{"$f":"SUMIFS(#REF!,#REF!,$AD584)","v":{"$error":"#REF!"}},{"$f":"SUMIFS(#REF!,#REF!,$AD584)","v":{"$error":"#REF!"}},{"$f":"SUMIFS(#REF!,#REF!,$AD584)","v":{"$error":"#REF!"}},{"$f":"SUMIFS(#REF!,#REF!,$AD584)","v":{"$error":"#REF!"}},{"$f":"COUNTIF(TabUren2[datum],$AD584)","v":0},{"$f":"COUNTIF(TabUren22[datum],$AD584)","v":0},{"$f":"COUNTIF(#REF!,$AD584)","v":{"$error":"#REF!"}},{"$f":"COUNTIF(#REF!,$AD584)","v":{"$error":"#REF!"}},{"$f":"COUNTIF(#REF!,$AD584)","v":{"$error":"#REF!"}},{"$f":"COUNTIF(#REF!,$AD584)","v":{"$error":"#REF!"}},0,0,0,0,0,0,"","","","","","","","","","","","",0,""]
[null,null,null,null,null,null,null,null,null,null,null,null,null,null,null,null,null,null,null,null,null,null,null,null,null,null,null,null,null,"2016-08-06",{"$f":"SUMIFS('LOG1'!$J$5:$J$501,TabUren2[datum],$AD585)","v":"00:00:00"},{"$f":"SUMIFS('LOG2'!$J$5:$J$501,TabUren22[datum],$AD585)","v":"00:00:00"},{"$f":"SUMIFS(#REF!,#REF!,$AD585)","v":{"$error":"#REF!"}},{"$f":"SUMIFS(#REF!,#REF!,$AD585)","v":{"$error":"#REF!"}},{"$f":"SUMIFS(#REF!,#REF!,$AD585)","v":{"$error":"#REF!"}},{"$f":"SUMIFS(#REF!,#REF!,$AD585)","v":{"$error":"#REF!"}},{"$f":"COUNTIF(TabUren2[datum],$AD585)","v":0},{"$f":"COUNTIF(TabUren22[datum],$AD585)","v":0},{"$f":"COUNTIF(#REF!,$AD585)","v":{"$error":"#REF!"}},{"$f":"COUNTIF(#REF!,$AD585)","v":{"$error":"#REF!"}},{"$f":"COUNTIF(#REF!,$AD585)","v":{"$error":"#REF!"}},{"$f":"COUNTIF(#REF!,$AD585)","v":{"$error":"#REF!"}},0,0,0,0,0,0,"","","","","","","","","","","","",0,""]
[null,null,null,null,null,null,null,null,null,null,null,null,null,null,null,null,null,null,null,null,null,null,null,null,null,null,null,null,null,"2016-08-07",{"$f":"SUMIFS('LOG1'!$J$5:$J$501,TabUren2[datum],$AD586)","v":"00:00:00"},{"$f":"SUMIFS('LOG2'!$J$5:$J$501,TabUren22[datum],$AD586)","v":"00:00:00"},{"$f":"SUMIFS(#REF!,#REF!,$AD586)","v":{"$error":"#REF!"}},{"$f":"SUMIFS(#REF!,#REF!,$AD586)","v":{"$error":"#REF!"}},{"$f":"SUMIFS(#REF!,#REF!,$AD586)","v":{"$error":"#REF!"}},{"$f":"SUMIFS(#REF!,#REF!,$AD586)","v":{"$error":"#REF!"}},{"$f":"COUNTIF(TabUren2[datum],$AD586)","v":0},{"$f":"COUNTIF(TabUren22[datum],$AD586)","v":0},{"$f":"COUNTIF(#REF!,$AD586)","v":{"$error":"#REF!"}},{"$f":"COUNTIF(#REF!,$AD586)","v":{"$error":"#REF!"}},{"$f":"COUNTIF(#REF!,$AD586)","v":{"$error":"#REF!"}},{"$f":"COUNTIF(#REF!,$AD586)","v":{"$error":"#REF!"}},0,0,0,0,0,0,"","","","","","","","","","","","",0,""]
[null,null,null,null,null,null,null,null,null,null,null,null,null,null,null,null,null,null,null,null,null,null,null,null,null,null,null,null,null,"2016-08-08",{"$f":"SUMIFS('LOG1'!$J$5:$J$501,TabUren2[datum],$AD587)","v":"00:00:00"},{"$f":"SUMIFS('LOG2'!$J$5:$J$501,TabUren22[datum],$AD587)","v":"00:00:00"},{"$f":"SUMIFS(#REF!,#REF!,$AD587)","v":{"$error":"#REF!"}},{"$f":"SUMIFS(#REF!,#REF!,$AD587)","v":{"$error":"#REF!"}},{"$f":"SUMIFS(#REF!,#REF!,$AD587)","v":{"$error":"#REF!"}},{"$f":"SUMIFS(#REF!,#REF!,$AD587)","v":{"$error":"#REF!"}},{"$f":"COUNTIF(TabUren2[datum],$AD587)","v":0},{"$f":"COUNTIF(TabUren22[datum],$AD587)","v":0},{"$f":"COUNTIF(#REF!,$AD587)","v":{"$error":"#REF!"}},{"$f":"COUNTIF(#REF!,$AD587)","v":{"$error":"#REF!"}},{"$f":"COUNTIF(#REF!,$AD587)","v":{"$error":"#REF!"}},{"$f":"COUNTIF(#REF!,$AD587)","v":{"$error":"#REF!"}},0,0,0,0,0,0,"","","","","","","","","","","","",0,""]
[null,null,null,null,null,null,null,null,null,null,null,null,null,null,null,null,null,null,null,null,null,null,null,null,null,null,null,null,null,"2016-08-09",{"$f":"SUMIFS('LOG1'!$J$5:$J$501,TabUren2[datum],$AD588)","v":"00:00:00"},{"$f":"SUMIFS('LOG2'!$J$5:$J$501,TabUren22[datum],$AD588)","v":"00:00:00"},{"$f":"SUMIFS(#REF!,#REF!,$AD588)","v":{"$error":"#REF!"}},{"$f":"SUMIFS(#REF!,#REF!,$AD588)","v":{"$error":"#REF!"}},{"$f":"SUMIFS(#REF!,#REF!,$AD588)","v":{"$error":"#REF!"}},{"$f":"SUMIFS(#REF!,#REF!,$AD588)","v":{"$error":"#REF!"}},{"$f":"COUNTIF(TabUren2[datum],$AD588)","v":0},{"$f":"COUNTIF(TabUren22[datum],$AD588)","v":0},{"$f":"COUNTIF(#REF!,$AD588)","v":{"$error":"#REF!"}},{"$f":"COUNTIF(#REF!,$AD588)","v":{"$error":"#REF!"}},{"$f":"COUNTIF(#REF!,$AD588)","v":{"$error":"#REF!"}},{"$f":"COUNTIF(#REF!,$AD588)","v":{"$error":"#REF!"}},0,0,0,0,0,0,"","","","","","","","","","","","",0,""]
[null,null,null,null,null,null,null,null,null,null,null,null,null,null,null,null,null,null,null,null,null,null,null,null,null,null,null,null,null,"2016-08-10",{"$f":"SUMIFS('LOG1'!$J$5:$J$501,TabUren2[datum],$AD589)","v":"00:00:00"},{"$f":"SUMIFS('LOG2'!$J$5:$J$501,TabUren22[datum],$AD589)","v":"00:00:00"},{"$f":"SUMIFS(#REF!,#REF!,$AD589)","v":{"$error":"#REF!"}},{"$f":"SUMIFS(#REF!,#REF!,$AD589)","v":{"$error":"#REF!"}},{"$f":"SUMIFS(#REF!,#REF!,$AD589)","v":{"$error":"#REF!"}},{"$f":"SUMIFS(#REF!,#REF!,$AD589)","v":{"$error":"#REF!"}},{"$f":"COUNTIF(TabUren2[datum],$AD589)","v":0},{"$f":"COUNTIF(TabUren22[datum],$AD589)","v":0},{"$f":"COUNTIF(#REF!,$AD589)","v":{"$error":"#REF!"}},{"$f":"COUNTIF(#REF!,$AD589)","v":{"$error":"#REF!"}},{"$f":"COUNTIF(#REF!,$AD589)","v":{"$error":"#REF!"}},{"$f":"COUNTIF(#REF!,$AD589)","v":{"$error":"#REF!"}},0,0,0,0,0,0,"","","","","","","","","","","","",0,""]
[null,null,null,null,null,null,null,null,null,null,null,null,null,null,null,null,null,null,null,null,null,null,null,null,null,null,null,null,null,"2016-08-11",{"$f":"SUMIFS('LOG1'!$J$5:$J$501,TabUren2[datum],$AD590)","v":"00:00:00"},{"$f":"SUMIFS('LOG2'!$J$5:$J$501,TabUren22[datum],$AD590)","v":"00:00:00"},{"$f":"SUMIFS(#REF!,#REF!,$AD590)","v":{"$error":"#REF!"}},{"$f":"SUMIFS(#REF!,#REF!,$AD590)","v":{"$error":"#REF!"}},{"$f":"SUMIFS(#REF!,#REF!,$AD590)","v":{"$error":"#REF!"}},{"$f":"SUMIFS(#REF!,#REF!,$AD590)","v":{"$error":"#REF!"}},{"$f":"COUNTIF(TabUren2[datum],$AD590)","v":0},{"$f":"COUNTIF(TabUren22[datum],$AD590)","v":0},{"$f":"COUNTIF(#REF!,$AD590)","v":{"$error":"#REF!"}},{"$f":"COUNTIF(#REF!,$AD590)","v":{"$error":"#REF!"}},{"$f":"COUNTIF(#REF!,$AD590)","v":{"$error":"#REF!"}},{"$f":"COUNTIF(#REF!,$AD590)","v":{"$error":"#REF!"}},0,0,0,0,0,0,"","","","","","","","","","","","",0,""]
[null,null,null,null,null,null,null,null,null,null,null,null,null,null,null,null,null,null,null,null,null,null,null,null,null,null,null,null,null,"2016-08-12",{"$f":"SUMIFS('LOG1'!$J$5:$J$501,TabUren2[datum],$AD591)","v":"00:00:00"},{"$f":"SUMIFS('LOG2'!$J$5:$J$501,TabUren22[datum],$AD591)","v":"00:00:00"},{"$f":"SUMIFS(#REF!,#REF!,$AD591)","v":{"$error":"#REF!"}},{"$f":"SUMIFS(#REF!,#REF!,$AD591)","v":{"$error":"#REF!"}},{"$f":"SUMIFS(#REF!,#REF!,$AD591)","v":{"$error":"#REF!"}},{"$f":"SUMIFS(#REF!,#REF!,$AD591)","v":{"$error":"#REF!"}},{"$f":"COUNTIF(TabUren2[datum],$AD591)","v":0},{"$f":"COUNTIF(TabUren22[datum],$AD591)","v":0},{"$f":"COUNTIF(#REF!,$AD591)","v":{"$error":"#REF!"}},{"$f":"COUNTIF(#REF!,$AD591)","v":{"$error":"#REF!"}},{"$f":"COUNTIF(#REF!,$AD591)","v":{"$error":"#REF!"}},{"$f":"COUNTIF(#REF!,$AD591)","v":{"$error":"#REF!"}},0,0,0,0,0,0,"","","","","","","","","","","","",0,""]
[null,null,null,null,null,null,null,null,null,null,null,null,null,null,null,null,null,null,null,null,null,null,null,null,null,null,null,null,null,"2016-08-13",{"$f":"SUMIFS('LOG1'!$J$5:$J$501,TabUren2[datum],$AD592)","v":"00:00:00"},{"$f":"SUMIFS('LOG2'!$J$5:$J$501,TabUren22[datum],$AD592)","v":"00:00:00"},{"$f":"SUMIFS(#REF!,#REF!,$AD592)","v":{"$error":"#REF!"}},{"$f":"SUMIFS(#REF!,#REF!,$AD592)","v":{"$error":"#REF!"}},{"$f":"SUMIFS(#REF!,#REF!,$AD592)","v":{"$error":"#REF!"}},{"$f":"SUMIFS(#REF!,#REF!,$AD592)","v":{"$error":"#REF!"}},{"$f":"COUNTIF(TabUren2[datum],$AD592)","v":0},{"$f":"COUNTIF(TabUren22[datum],$AD592)","v":0},{"$f":"COUNTIF(#REF!,$AD592)","v":{"$error":"#REF!"}},{"$f":"COUNTIF(#REF!,$AD592)","v":{"$error":"#REF!"}},{"$f":"COUNTIF(#REF!,$AD592)","v":{"$error":"#REF!"}},{"$f":"COUNTIF(#REF!,$AD592)","v":{"$error":"#REF!"}},0,0,0,0,0,0,"","","","","","","","","","","","",0,""]
[null,null,null,null,null,null,null,null,null,null,null,null,null,null,null,null,null,null,null,null,null,null,null,null,null,null,null,null,null,"2016-08-14",{"$f":"SUMIFS('LOG1'!$J$5:$J$501,TabUren2[datum],$AD593)","v":"00:00:00"},{"$f":"SUMIFS('LOG2'!$J$5:$J$501,TabUren22[datum],$AD593)","v":"00:00:00"},{"$f":"SUMIFS(#REF!,#REF!,$AD593)","v":{"$error":"#REF!"}},{"$f":"SUMIFS(#REF!,#REF!,$AD593)","v":{"$error":"#REF!"}},{"$f":"SUMIFS(#REF!,#REF!,$AD593)","v":{"$error":"#REF!"}},{"$f":"SUMIFS(#REF!,#REF!,$AD593)","v":{"$error":"#REF!"}},{"$f":"COUNTIF(TabUren2[datum],$AD593)","v":0},{"$f":"COUNTIF(TabUren22[datum],$AD593)","v":0},{"$f":"COUNTIF(#REF!,$AD593)","v":{"$error":"#REF!"}},{"$f":"COUNTIF(#REF!,$AD593)","v":{"$error":"#REF!"}},{"$f":"COUNTIF(#REF!,$AD593)","v":{"$error":"#REF!"}},{"$f":"COUNTIF(#REF!,$AD593)","v":{"$error":"#REF!"}},0,0,0,0,0,0,"","","","","","","","","","","","",0,""]
[null,null,null,null,null,null,null,null,null,null,null,null,null,null,null,null,null,null,null,null,null,null,null,null,null,null,null,null,null,"2016-08-15",{"$f":"SUMIFS('LOG1'!$J$5:$J$501,TabUren2[datum],$AD594)","v":"00:00:00"},{"$f":"SUMIFS('LOG2'!$J$5:$J$501,TabUren22[datum],$AD594)","v":"00:00:00"},{"$f":"SUMIFS(#REF!,#REF!,$AD594)","v":{"$error":"#REF!"}},{"$f":"SUMIFS(#REF!,#REF!,$AD594)","v":{"$error":"#REF!"}},{"$f":"SUMIFS(#REF!,#REF!,$AD594)","v":{"$error":"#REF!"}},{"$f":"SUMIFS(#REF!,#REF!,$AD594)","v":{"$error":"#REF!"}},{"$f":"COUNTIF(TabUren2[datum],$AD594)","v":0},{"$f":"COUNTIF(TabUren22[datum],$AD594)","v":0},{"$f":"COUNTIF(#REF!,$AD594)","v":{"$error":"#REF!"}},{"$f":"COUNTIF(#REF!,$AD594)","v":{"$error":"#REF!"}},{"$f":"COUNTIF(#REF!,$AD594)","v":{"$error":"#REF!"}},{"$f":"COUNTIF(#REF!,$AD594)","v":{"$error":"#REF!"}},0,0,0,0,0,0,"","","","","","","","","","","","",0,""]
[null,null,null,null,null,null,null,null,null,null,null,null,null,null,null,null,null,null,null,null,null,null,null,null,null,null,null,null,null,"2016-08-16",{"$f":"SUMIFS('LOG1'!$J$5:$J$501,TabUren2[datum],$AD595)","v":"00:00:00"},{"$f":"SUMIFS('LOG2'!$J$5:$J$501,TabUren22[datum],$AD595)","v":"00:00:00"},{"$f":"SUMIFS(#REF!,#REF!,$AD595)","v":{"$error":"#REF!"}},{"$f":"SUMIFS(#REF!,#REF!,$AD595)","v":{"$error":"#REF!"}},{"$f":"SUMIFS(#REF!,#REF!,$AD595)","v":{"$error":"#REF!"}},{"$f":"SUMIFS(#REF!,#REF!,$AD595)","v":{"$error":"#REF!"}},{"$f":"COUNTIF(TabUren2[datum],$AD595)","v":0},{"$f":"COUNTIF(TabUren22[datum],$AD595)","v":0},{"$f":"COUNTIF(#REF!,$AD595)","v":{"$error":"#REF!"}},{"$f":"COUNTIF(#REF!,$AD595)","v":{"$error":"#REF!"}},{"$f":"COUNTIF(#REF!,$AD595)","v":{"$error":"#REF!"}},{"$f":"COUNTIF(#REF!,$AD595)","v":{"$error":"#REF!"}},0,0,0,0,0,0,"","","","","","","","","","","","",0,""]
[null,null,null,null,null,null,null,null,null,null,null,null,null,null,null,null,null,null,null,null,null,null,null,null,null,null,null,null,null,"2016-08-17",{"$f":"SUMIFS('LOG1'!$J$5:$J$501,TabUren2[datum],$AD596)","v":"00:00:00"},{"$f":"SUMIFS('LOG2'!$J$5:$J$501,TabUren22[datum],$AD596)","v":"00:00:00"},{"$f":"SUMIFS(#REF!,#REF!,$AD596)","v":{"$error":"#REF!"}},{"$f":"SUMIFS(#REF!,#REF!,$AD596)","v":{"$error":"#REF!"}},{"$f":"SUMIFS(#REF!,#REF!,$AD596)","v":{"$error":"#REF!"}},{"$f":"SUMIFS(#REF!,#REF!,$AD596)","v":{"$error":"#REF!"}},{"$f":"COUNTIF(TabUren2[datum],$AD596)","v":0},{"$f":"COUNTIF(TabUren22[datum],$AD596)","v":0},{"$f":"COUNTIF(#REF!,$AD596)","v":{"$error":"#REF!"}},{"$f":"COUNTIF(#REF!,$AD596)","v":{"$error":"#REF!"}},{"$f":"COUNTIF(#REF!,$AD596)","v":{"$error":"#REF!"}},{"$f":"COUNTIF(#REF!,$AD596)","v":{"$error":"#REF!"}},0,0,0,0,0,0,"","","","","","","","","","","","",0,""]
[null,null,null,null,null,null,null,null,null,null,null,null,null,null,null,null,null,null,null,null,null,null,null,null,null,null,null,null,null,"2016-08-18",{"$f":"SUMIFS('LOG1'!$J$5:$J$501,TabUren2[datum],$AD597)","v":"00:00:00"},{"$f":"SUMIFS('LOG2'!$J$5:$J$501,TabUren22[datum],$AD597)","v":"00:00:00"},{"$f":"SUMIFS(#REF!,#REF!,$AD597)","v":{"$error":"#REF!"}},{"$f":"SUMIFS(#REF!,#REF!,$AD597)","v":{"$error":"#REF!"}},{"$f":"SUMIFS(#REF!,#REF!,$AD597)","v":{"$error":"#REF!"}},{"$f":"SUMIFS(#REF!,#REF!,$AD597)","v":{"$error":"#REF!"}},{"$f":"COUNTIF(TabUren2[datum],$AD597)","v":0},{"$f":"COUNTIF(TabUren22[datum],$AD597)","v":0},{"$f":"COUNTIF(#REF!,$AD597)","v":{"$error":"#REF!"}},{"$f":"COUNTIF(#REF!,$AD597)","v":{"$error":"#REF!"}},{"$f":"COUNTIF(#REF!,$AD597)","v":{"$error":"#REF!"}},{"$f":"COUNTIF(#REF!,$AD597)","v":{"$error":"#REF!"}},0,0,0,0,0,0,"","","","","","","","","","","","",0,""]
[null,null,null,null,null,null,null,null,null,null,null,null,null,null,null,null,null,null,null,null,null,null,null,null,null,null,null,null,null,"2016-08-19",{"$f":"SUMIFS('LOG1'!$J$5:$J$501,TabUren2[datum],$AD598)","v":"00:00:00"},{"$f":"SUMIFS('LOG2'!$J$5:$J$501,TabUren22[datum],$AD598)","v":"00:00:00"},{"$f":"SUMIFS(#REF!,#REF!,$AD598)","v":{"$error":"#REF!"}},{"$f":"SUMIFS(#REF!,#REF!,$AD598)","v":{"$error":"#REF!"}},{"$f":"SUMIFS(#REF!,#REF!,$AD598)","v":{"$error":"#REF!"}},{"$f":"SUMIFS(#REF!,#REF!,$AD598)","v":{"$error":"#REF!"}},{"$f":"COUNTIF(TabUren2[datum],$AD598)","v":0},{"$f":"COUNTIF(TabUren22[datum],$AD598)","v":0},{"$f":"COUNTIF(#REF!,$AD598)","v":{"$error":"#REF!"}},{"$f":"COUNTIF(#REF!,$AD598)","v":{"$error":"#REF!"}},{"$f":"COUNTIF(#REF!,$AD598)","v":{"$error":"#REF!"}},{"$f":"COUNTIF(#REF!,$AD598)","v":{"$error":"#REF!"}},0,0,0,0,0,0,"","","","","","","","","","","","",0,""]
[null,null,null,null,null,null,null,null,null,null,null,null,null,null,null,null,null,null,null,null,null,null,null,null,null,null,null,null,null,"2016-08-20",{"$f":"SUMIFS('LOG1'!$J$5:$J$501,TabUren2[datum],$AD599)","v":"00:00:00"},{"$f":"SUMIFS('LOG2'!$J$5:$J$501,TabUren22[datum],$AD599)","v":"00:00:00"},{"$f":"SUMIFS(#REF!,#REF!,$AD599)","v":{"$error":"#REF!"}},{"$f":"SUMIFS(#REF!,#REF!,$AD599)","v":{"$error":"#REF!"}},{"$f":"SUMIFS(#REF!,#REF!,$AD599)","v":{"$error":"#REF!"}},{"$f":"SUMIFS(#REF!,#REF!,$AD599)","v":{"$error":"#REF!"}},{"$f":"COUNTIF(TabUren2[datum],$AD599)","v":0},{"$f":"COUNTIF(TabUren22[datum],$AD599)","v":0},{"$f":"COUNTIF(#REF!,$AD599)","v":{"$error":"#REF!"}},{"$f":"COUNTIF(#REF!,$AD599)","v":{"$error":"#REF!"}},{"$f":"COUNTIF(#REF!,$AD599)","v":{"$error":"#REF!"}},{"$f":"COUNTIF(#REF!,$AD599)","v":{"$error":"#REF!"}},0,0,0,0,0,0,"","","","","","","","","","","","",0,""]
[null,null,null,null,null,null,null,null,null,null,null,null,null,null,null,null,null,null,null,null,null,null,null,null,null,null,null,null,null,"2016-08-21",{"$f":"SUMIFS('LOG1'!$J$5:$J$501,TabUren2[datum],$AD600)","v":"00:00:00"},{"$f":"SUMIFS('LOG2'!$J$5:$J$501,TabUren22[datum],$AD600)","v":"00:00:00"},{"$f":"SUMIFS(#REF!,#REF!,$AD600)","v":{"$error":"#REF!"}},{"$f":"SUMIFS(#REF!,#REF!,$AD600)","v":{"$error":"#REF!"}},{"$f":"SUMIFS(#REF!,#REF!,$AD600)","v":{"$error":"#REF!"}},{"$f":"SUMIFS(#REF!,#REF!,$AD600)","v":{"$error":"#REF!"}},{"$f":"COUNTIF(TabUren2[datum],$AD600)","v":0},{"$f":"COUNTIF(TabUren22[datum],$AD600)","v":0},{"$f":"COUNTIF(#REF!,$AD600)","v":{"$error":"#REF!"}},{"$f":"COUNTIF(#REF!,$AD600)","v":{"$error":"#REF!"}},{"$f":"COUNTIF(#REF!,$AD600)","v":{"$error":"#REF!"}},{"$f":"COUNTIF(#REF!,$AD600)","v":{"$error":"#REF!"}},0,0,0,0,0,0,"","","","","","","","","","","","",0,""]
[null,null,null,null,null,null,null,null,null,null,null,null,null,null,null,null,null,null,null,null,null,null,null,null,null,null,null,null,null,"2016-08-22",{"$f":"SUMIFS('LOG1'!$J$5:$J$501,TabUren2[datum],$AD601)","v":"00:00:00"},{"$f":"SUMIFS('LOG2'!$J$5:$J$501,TabUren22[datum],$AD601)","v":"00:00:00"},{"$f":"SUMIFS(#REF!,#REF!,$AD601)","v":{"$error":"#REF!"}},{"$f":"SUMIFS(#REF!,#REF!,$AD601)","v":{"$error":"#REF!"}},{"$f":"SUMIFS(#REF!,#REF!,$AD601)","v":{"$error":"#REF!"}},{"$f":"SUMIFS(#REF!,#REF!,$AD601)","v":{"$error":"#REF!"}},{"$f":"COUNTIF(TabUren2[datum],$AD601)","v":0},{"$f":"COUNTIF(TabUren22[datum],$AD601)","v":0},{"$f":"COUNTIF(#REF!,$AD601)","v":{"$error":"#REF!"}},{"$f":"COUNTIF(#REF!,$AD601)","v":{"$error":"#REF!"}},{"$f":"COUNTIF(#REF!,$AD601)","v":{"$error":"#REF!"}},{"$f":"COUNTIF(#REF!,$AD601)","v":{"$error":"#REF!"}},0,0,0,0,0,0,"","","","","","","","","","","","",0,""]
[null,null,null,null,null,null,null,null,null,null,null,null,null,null,null,null,null,null,null,null,null,null,null,null,null,null,null,null,null,"2016-08-23",{"$f":"SUMIFS('LOG1'!$J$5:$J$501,TabUren2[datum],$AD602)","v":"00:00:00"},{"$f":"SUMIFS('LOG2'!$J$5:$J$501,TabUren22[datum],$AD602)","v":"00:00:00"},{"$f":"SUMIFS(#REF!,#REF!,$AD602)","v":{"$error":"#REF!"}},{"$f":"SUMIFS(#REF!,#REF!,$AD602)","v":{"$error":"#REF!"}},{"$f":"SUMIFS(#REF!,#REF!,$AD602)","v":{"$error":"#REF!"}},{"$f":"SUMIFS(#REF!,#REF!,$AD602)","v":{"$error":"#REF!"}},{"$f":"COUNTIF(TabUren2[datum],$AD602)","v":0},{"$f":"COUNTIF(TabUren22[datum],$AD602)","v":0},{"$f":"COUNTIF(#REF!,$AD602)","v":{"$error":"#REF!"}},{"$f":"COUNTIF(#REF!,$AD602)","v":{"$error":"#REF!"}},{"$f":"COUNTIF(#REF!,$AD602)","v":{"$error":"#REF!"}},{"$f":"COUNTIF(#REF!,$AD602)","v":{"$error":"#REF!"}},0,0,0,0,0,0,"","","","","","","","","","","","",0,""]
[null,null,null,null,null,null,null,null,null,null,null,null,null,null,null,null,null,null,null,null,null,null,null,null,null,null,null,null,null,"2016-08-24",{"$f":"SUMIFS('LOG1'!$J$5:$J$501,TabUren2[datum],$AD603)","v":"00:00:00"},{"$f":"SUMIFS('LOG2'!$J$5:$J$501,TabUren22[datum],$AD603)","v":"00:00:00"},{"$f":"SUMIFS(#REF!,#REF!,$AD603)","v":{"$error":"#REF!"}},{"$f":"SUMIFS(#REF!,#REF!,$AD603)","v":{"$error":"#REF!"}},{"$f":"SUMIFS(#REF!,#REF!,$AD603)","v":{"$error":"#REF!"}},{"$f":"SUMIFS(#REF!,#REF!,$AD603)","v":{"$error":"#REF!"}},{"$f":"COUNTIF(TabUren2[datum],$AD603)","v":0},{"$f":"COUNTIF(TabUren22[datum],$AD603)","v":0},{"$f":"COUNTIF(#REF!,$AD603)","v":{"$error":"#REF!"}},{"$f":"COUNTIF(#REF!,$AD603)","v":{"$error":"#REF!"}},{"$f":"COUNTIF(#REF!,$AD603)","v":{"$error":"#REF!"}},{"$f":"COUNTIF(#REF!,$AD603)","v":{"$error":"#REF!"}},0,0,0,0,0,0,"","","","","","","","","","","","",0,""]
[null,null,null,null,null,null,null,null,null,null,null,null,null,null,null,null,null,null,null,null,null,null,null,null,null,null,null,null,null,"2016-08-25",{"$f":"SUMIFS('LOG1'!$J$5:$J$501,TabUren2[datum],$AD604)","v":"00:00:00"},{"$f":"SUMIFS('LOG2'!$J$5:$J$501,TabUren22[datum],$AD604)","v":"00:00:00"},{"$f":"SUMIFS(#REF!,#REF!,$AD604)","v":{"$error":"#REF!"}},{"$f":"SUMIFS(#REF!,#REF!,$AD604)","v":{"$error":"#REF!"}},{"$f":"SUMIFS(#REF!,#REF!,$AD604)","v":{"$error":"#REF!"}},{"$f":"SUMIFS(#REF!,#REF!,$AD604)","v":{"$error":"#REF!"}},{"$f":"COUNTIF(TabUren2[datum],$AD604)","v":0},{"$f":"COUNTIF(TabUren22[datum],$AD604)","v":0},{"$f":"COUNTIF(#REF!,$AD604)","v":{"$error":"#REF!"}},{"$f":"COUNTIF(#REF!,$AD604)","v":{"$error":"#REF!"}},{"$f":"COUNTIF(#REF!,$AD604)","v":{"$error":"#REF!"}},{"$f":"COUNTIF(#REF!,$AD604)","v":{"$error":"#REF!"}},0,0,0,0,0,0,"","","","","","","","","","","","",0,""]
[null,null,null,null,null,null,null,null,null,null,null,null,null,null,null,null,null,null,null,null,null,null,null,null,null,null,null,null,null,"2016-08-26",{"$f":"SUMIFS('LOG1'!$J$5:$J$501,TabUren2[datum],$AD605)","v":"00:00:00"},{"$f":"SUMIFS('LOG2'!$J$5:$J$501,TabUren22[datum],$AD605)","v":"00:00:00"},{"$f":"SUMIFS(#REF!,#REF!,$AD605)","v":{"$error":"#REF!"}},{"$f":"SUMIFS(#REF!,#REF!,$AD605)","v":{"$error":"#REF!"}},{"$f":"SUMIFS(#REF!,#REF!,$AD605)","v":{"$error":"#REF!"}},{"$f":"SUMIFS(#REF!,#REF!,$AD605)","v":{"$error":"#REF!"}},{"$f":"COUNTIF(TabUren2[datum],$AD605)","v":0},{"$f":"COUNTIF(TabUren22[datum],$AD605)","v":0},{"$f":"COUNTIF(#REF!,$AD605)","v":{"$error":"#REF!"}},{"$f":"COUNTIF(#REF!,$AD605)","v":{"$error":"#REF!"}},{"$f":"COUNTIF(#REF!,$AD605)","v":{"$error":"#REF!"}},{"$f":"COUNTIF(#REF!,$AD605)","v":{"$error":"#REF!"}},0,0,0,0,0,0,"","","","","","","","","","","","",0,""]
[null,null,null,null,null,null,null,null,null,null,null,null,null,null,null,null,null,null,null,null,null,null,null,null,null,null,null,null,null,"2016-08-27",{"$f":"SUMIFS('LOG1'!$J$5:$J$501,TabUren2[datum],$AD606)","v":"00:00:00"},{"$f":"SUMIFS('LOG2'!$J$5:$J$501,TabUren22[datum],$AD606)","v":"00:00:00"},{"$f":"SUMIFS(#REF!,#REF!,$AD606)","v":{"$error":"#REF!"}},{"$f":"SUMIFS(#REF!,#REF!,$AD606)","v":{"$error":"#REF!"}},{"$f":"SUMIFS(#REF!,#REF!,$AD606)","v":{"$error":"#REF!"}},{"$f":"SUMIFS(#REF!,#REF!,$AD606)","v":{"$error":"#REF!"}},{"$f":"COUNTIF(TabUren2[datum],$AD606)","v":0},{"$f":"COUNTIF(TabUren22[datum],$AD606)","v":0},{"$f":"COUNTIF(#REF!,$AD606)","v":{"$error":"#REF!"}},{"$f":"COUNTIF(#REF!,$AD606)","v":{"$error":"#REF!"}},{"$f":"COUNTIF(#REF!,$AD606)","v":{"$error":"#REF!"}},{"$f":"COUNTIF(#REF!,$AD606)","v":{"$error":"#REF!"}},0,0,0,0,0,0,"","","","","","","","","","","","",0,""]
[null,null,null,null,null,null,null,null,null,null,null,null,null,null,null,null,null,null,null,null,null,null,null,null,null,null,null,null,null,"2016-08-28",{"$f":"SUMIFS('LOG1'!$J$5:$J$501,TabUren2[datum],$AD607)","v":"00:00:00"},{"$f":"SUMIFS('LOG2'!$J$5:$J$501,TabUren22[datum],$AD607)","v":"00:00:00"},{"$f":"SUMIFS(#REF!,#REF!,$AD607)","v":{"$error":"#REF!"}},{"$f":"SUMIFS(#REF!,#REF!,$AD607)","v":{"$error":"#REF!"}},{"$f":"SUMIFS(#REF!,#REF!,$AD607)","v":{"$error":"#REF!"}},{"$f":"SUMIFS(#REF!,#REF!,$AD607)","v":{"$error":"#REF!"}},{"$f":"COUNTIF(TabUren2[datum],$AD607)","v":0},{"$f":"COUNTIF(TabUren22[datum],$AD607)","v":0},{"$f":"COUNTIF(#REF!,$AD607)","v":{"$error":"#REF!"}},{"$f":"COUNTIF(#REF!,$AD607)","v":{"$error":"#REF!"}},{"$f":"COUNTIF(#REF!,$AD607)","v":{"$error":"#REF!"}},{"$f":"COUNTIF(#REF!,$AD607)","v":{"$error":"#REF!"}},0,0,0,0,0,0,"","","","","","","","","","","","",0,""]
[null,null,null,null,null,null,null,null,null,null,null,null,null,null,null,null,null,null,null,null,null,null,null,null,null,null,null,null,null,"2016-08-29",{"$f":"SUMIFS('LOG1'!$J$5:$J$501,TabUren2[datum],$AD608)","v":"00:00:00"},{"$f":"SUMIFS('LOG2'!$J$5:$J$501,TabUren22[datum],$AD608)","v":"00:00:00"},{"$f":"SUMIFS(#REF!,#REF!,$AD608)","v":{"$error":"#REF!"}},{"$f":"SUMIFS(#REF!,#REF!,$AD608)","v":{"$error":"#REF!"}},{"$f":"SUMIFS(#REF!,#REF!,$AD608)","v":{"$error":"#REF!"}},{"$f":"SUMIFS(#REF!,#REF!,$AD608)","v":{"$error":"#REF!"}},{"$f":"COUNTIF(TabUren2[datum],$AD608)","v":0},{"$f":"COUNTIF(TabUren22[datum],$AD608)","v":0},{"$f":"COUNTIF(#REF!,$AD608)","v":{"$error":"#REF!"}},{"$f":"COUNTIF(#REF!,$AD608)","v":{"$error":"#REF!"}},{"$f":"COUNTIF(#REF!,$AD608)","v":{"$error":"#REF!"}},{"$f":"COUNTIF(#REF!,$AD608)","v":{"$error":"#REF!"}},0,0,0,0,0,0,"","","","","","","","","","","","",0,""]
[null,null,null,null,null,null,null,null,null,null,null,null,null,null,null,null,null,null,null,null,null,null,null,null,null,null,null,null,null,"2016-08-30",{"$f":"SUMIFS('LOG1'!$J$5:$J$501,TabUren2[datum],$AD609)","v":"00:00:00"},{"$f":"SUMIFS('LOG2'!$J$5:$J$501,TabUren22[datum],$AD609)","v":"00:00:00"},{"$f":"SUMIFS(#REF!,#REF!,$AD609)","v":{"$error":"#REF!"}},{"$f":"SUMIFS(#REF!,#REF!,$AD609)","v":{"$error":"#REF!"}},{"$f":"SUMIFS(#REF!,#REF!,$AD609)","v":{"$error":"#REF!"}},{"$f":"SUMIFS(#REF!,#REF!,$AD609)","v":{"$error":"#REF!"}},{"$f":"COUNTIF(TabUren2[datum],$AD609)","v":0},{"$f":"COUNTIF(TabUren22[datum],$AD609)","v":0},{"$f":"COUNTIF(#REF!,$AD609)","v":{"$error":"#REF!"}},{"$f":"COUNTIF(#REF!,$AD609)","v":{"$error":"#REF!"}},{"$f":"COUNTIF(#REF!,$AD609)","v":{"$error":"#REF!"}},{"$f":"COUNTIF(#REF!,$AD609)","v":{"$error":"#REF!"}},0,0,0,0,0,0,"","","","","","","","","","","","",0,""]
[null,null,null,null,null,null,null,null,null,null,null,null,null,null,null,null,null,null,null,null,null,null,null,null,null,null,null,null,null,"2016-08-31",{"$f":"SUMIFS('LOG1'!$J$5:$J$501,TabUren2[datum],$AD610)","v":"00:00:00"},{"$f":"SUMIFS('LOG2'!$J$5:$J$501,TabUren22[datum],$AD610)","v":"00:00:00"},{"$f":"SUMIFS(#REF!,#REF!,$AD610)","v":{"$error":"#REF!"}},{"$f":"SUMIFS(#REF!,#REF!,$AD610)","v":{"$error":"#REF!"}},{"$f":"SUMIFS(#REF!,#REF!,$AD610)","v":{"$error":"#REF!"}},{"$f":"SUMIFS(#REF!,#REF!,$AD610)","v":{"$error":"#REF!"}},{"$f":"COUNTIF(TabUren2[datum],$AD610)","v":0},{"$f":"COUNTIF(TabUren22[datum],$AD610)","v":0},{"$f":"COUNTIF(#REF!,$AD610)","v":{"$error":"#REF!"}},{"$f":"COUNTIF(#REF!,$AD610)","v":{"$error":"#REF!"}},{"$f":"COUNTIF(#REF!,$AD610)","v":{"$error":"#REF!"}},{"$f":"COUNTIF(#REF!,$AD610)","v":{"$error":"#REF!"}},0,0,0,0,0,0,"","","","","","","","","","","","",0,""]
[null,null,null,null,null,null,null,null,null,null,null,null,null,null,null,null,null,null,null,null,null,null,null,null,null,null,null,null,null,"2016-09-01",{"$f":"SUMIFS('LOG1'!$J$5:$J$501,TabUren2[datum],$AD611)","v":"00:00:00"},{"$f":"SUMIFS('LOG2'!$J$5:$J$501,TabUren22[datum],$AD611)","v":"00:00:00"},{"$f":"SUMIFS(#REF!,#REF!,$AD611)","v":{"$error":"#REF!"}},{"$f":"SUMIFS(#REF!,#REF!,$AD611)","v":{"$error":"#REF!"}},{"$f":"SUMIFS(#REF!,#REF!,$AD611)","v":{"$error":"#REF!"}},{"$f":"SUMIFS(#REF!,#REF!,$AD611)","v":{"$error":"#REF!"}},{"$f":"COUNTIF(TabUren2[datum],$AD611)","v":0},{"$f":"COUNTIF(TabUren22[datum],$AD611)","v":0},{"$f":"COUNTIF(#REF!,$AD611)","v":{"$error":"#REF!"}},{"$f":"COUNTIF(#REF!,$AD611)","v":{"$error":"#REF!"}},{"$f":"COUNTIF(#REF!,$AD611)","v":{"$error":"#REF!"}},{"$f":"COUNTIF(#REF!,$AD611)","v":{"$error":"#REF!"}},0,0,0,0,0,0,"","","","","","","","","","","","",0,""]
[null,null,null,null,null,null,null,null,null,null,null,null,null,null,null,null,null,null,null,null,null,null,null,null,null,null,null,null,null,"2016-09-02",{"$f":"SUMIFS('LOG1'!$J$5:$J$501,TabUren2[datum],$AD612)","v":"00:00:00"},{"$f":"SUMIFS('LOG2'!$J$5:$J$501,TabUren22[datum],$AD612)","v":"00:00:00"},{"$f":"SUMIFS(#REF!,#REF!,$AD612)","v":{"$error":"#REF!"}},{"$f":"SUMIFS(#REF!,#REF!,$AD612)","v":{"$error":"#REF!"}},{"$f":"SUMIFS(#REF!,#REF!,$AD612)","v":{"$error":"#REF!"}},{"$f":"SUMIFS(#REF!,#REF!,$AD612)","v":{"$error":"#REF!"}},{"$f":"COUNTIF(TabUren2[datum],$AD612)","v":0},{"$f":"COUNTIF(TabUren22[datum],$AD612)","v":0},{"$f":"COUNTIF(#REF!,$AD612)","v":{"$error":"#REF!"}},{"$f":"COUNTIF(#REF!,$AD612)","v":{"$error":"#REF!"}},{"$f":"COUNTIF(#REF!,$AD612)","v":{"$error":"#REF!"}},{"$f":"COUNTIF(#REF!,$AD612)","v":{"$error":"#REF!"}},0,0,0,0,0,0,"","","","","","","","","","","","",0,""]
[null,null,null,null,null,null,null,null,null,null,null,null,null,null,null,null,null,null,null,null,null,null,null,null,null,null,null,null,null,"2016-09-03",{"$f":"SUMIFS('LOG1'!$J$5:$J$501,TabUren2[datum],$AD613)","v":"00:00:00"},{"$f":"SUMIFS('LOG2'!$J$5:$J$501,TabUren22[datum],$AD613)","v":"00:00:00"},{"$f":"SUMIFS(#REF!,#REF!,$AD613)","v":{"$error":"#REF!"}},{"$f":"SUMIFS(#REF!,#REF!,$AD613)","v":{"$error":"#REF!"}},{"$f":"SUMIFS(#REF!,#REF!,$AD613)","v":{"$error":"#REF!"}},{"$f":"SUMIFS(#REF!,#REF!,$AD613)","v":{"$error":"#REF!"}},{"$f":"COUNTIF(TabUren2[datum],$AD613)","v":0},{"$f":"COUNTIF(TabUren22[datum],$AD613)","v":0},{"$f":"COUNTIF(#REF!,$AD613)","v":{"$error":"#REF!"}},{"$f":"COUNTIF(#REF!,$AD613)","v":{"$error":"#REF!"}},{"$f":"COUNTIF(#REF!,$AD613)","v":{"$error":"#REF!"}},{"$f":"COUNTIF(#REF!,$AD613)","v":{"$error":"#REF!"}},0,0,0,0,0,0,"","","","","","","","","","","","",0,""]
[null,null,null,null,null,null,null,null,null,null,null,null,null,null,null,null,null,null,null,null,null,null,null,null,null,null,null,null,null,"2016-09-04",{"$f":"SUMIFS('LOG1'!$J$5:$J$501,TabUren2[datum],$AD614)","v":"00:00:00"},{"$f":"SUMIFS('LOG2'!$J$5:$J$501,TabUren22[datum],$AD614)","v":"00:00:00"},{"$f":"SUMIFS(#REF!,#REF!,$AD614)","v":{"$error":"#REF!"}},{"$f":"SUMIFS(#REF!,#REF!,$AD614)","v":{"$error":"#REF!"}},{"$f":"SUMIFS(#REF!,#REF!,$AD614)","v":{"$error":"#REF!"}},{"$f":"SUMIFS(#REF!,#REF!,$AD614)","v":{"$error":"#REF!"}},{"$f":"COUNTIF(TabUren2[datum],$AD614)","v":0},{"$f":"COUNTIF(TabUren22[datum],$AD614)","v":0},{"$f":"COUNTIF(#REF!,$AD614)","v":{"$error":"#REF!"}},{"$f":"COUNTIF(#REF!,$AD614)","v":{"$error":"#REF!"}},{"$f":"COUNTIF(#REF!,$AD614)","v":{"$error":"#REF!"}},{"$f":"COUNTIF(#REF!,$AD614)","v":{"$error":"#REF!"}},0,0,0,0,0,0,"","","","","","","","","","","","",0,""]
[null,null,null,null,null,null,null,null,null,null,null,null,null,null,null,null,null,null,null,null,null,null,null,null,null,null,null,null,null,"2016-09-05",{"$f":"SUMIFS('LOG1'!$J$5:$J$501,TabUren2[datum],$AD615)","v":"00:00:00"},{"$f":"SUMIFS('LOG2'!$J$5:$J$501,TabUren22[datum],$AD615)","v":"00:00:00"},{"$f":"SUMIFS(#REF!,#REF!,$AD615)","v":{"$error":"#REF!"}},{"$f":"SUMIFS(#REF!,#REF!,$AD615)","v":{"$error":"#REF!"}},{"$f":"SUMIFS(#REF!,#REF!,$AD615)","v":{"$error":"#REF!"}},{"$f":"SUMIFS(#REF!,#REF!,$AD615)","v":{"$error":"#REF!"}},{"$f":"COUNTIF(TabUren2[datum],$AD615)","v":0},{"$f":"COUNTIF(TabUren22[datum],$AD615)","v":0},{"$f":"COUNTIF(#REF!,$AD615)","v":{"$error":"#REF!"}},{"$f":"COUNTIF(#REF!,$AD615)","v":{"$error":"#REF!"}},{"$f":"COUNTIF(#REF!,$AD615)","v":{"$error":"#REF!"}},{"$f":"COUNTIF(#REF!,$AD615)","v":{"$error":"#REF!"}},0,0,0,0,0,0,"","","","","","","","","","","","",0,""]
[null,null,null,null,null,null,null,null,null,null,null,null,null,null,null,null,null,null,null,null,null,null,null,null,null,null,null,null,null,"2016-09-06",{"$f":"SUMIFS('LOG1'!$J$5:$J$501,TabUren2[datum],$AD616)","v":"00:00:00"},{"$f":"SUMIFS('LOG2'!$J$5:$J$501,TabUren22[datum],$AD616)","v":"00:00:00"},{"$f":"SUMIFS(#REF!,#REF!,$AD616)","v":{"$error":"#REF!"}},{"$f":"SUMIFS(#REF!,#REF!,$AD616)","v":{"$error":"#REF!"}},{"$f":"SUMIFS(#REF!,#REF!,$AD616)","v":{"$error":"#REF!"}},{"$f":"SUMIFS(#REF!,#REF!,$AD616)","v":{"$error":"#REF!"}},{"$f":"COUNTIF(TabUren2[datum],$AD616)","v":0},{"$f":"COUNTIF(TabUren22[datum],$AD616)","v":0},{"$f":"COUNTIF(#REF!,$AD616)","v":{"$error":"#REF!"}},{"$f":"COUNTIF(#REF!,$AD616)","v":{"$error":"#REF!"}},{"$f":"COUNTIF(#REF!,$AD616)","v":{"$error":"#REF!"}},{"$f":"COUNTIF(#REF!,$AD616)","v":{"$error":"#REF!"}},0,0,0,0,0,0,"","","","","","","","","","","","",0,""]
[null,null,null,null,null,null,null,null,null,null,null,null,null,null,null,null,null,null,null,null,null,null,null,null,null,null,null,null,null,"2016-09-07",{"$f":"SUMIFS('LOG1'!$J$5:$J$501,TabUren2[datum],$AD617)","v":"00:00:00"},{"$f":"SUMIFS('LOG2'!$J$5:$J$501,TabUren22[datum],$AD617)","v":"00:00:00"},{"$f":"SUMIFS(#REF!,#REF!,$AD617)","v":{"$error":"#REF!"}},{"$f":"SUMIFS(#REF!,#REF!,$AD617)","v":{"$error":"#REF!"}},{"$f":"SUMIFS(#REF!,#REF!,$AD617)","v":{"$error":"#REF!"}},{"$f":"SUMIFS(#REF!,#REF!,$AD617)","v":{"$error":"#REF!"}},{"$f":"COUNTIF(TabUren2[datum],$AD617)","v":0},{"$f":"COUNTIF(TabUren22[datum],$AD617)","v":0},{"$f":"COUNTIF(#REF!,$AD617)","v":{"$error":"#REF!"}},{"$f":"COUNTIF(#REF!,$AD617)","v":{"$error":"#REF!"}},{"$f":"COUNTIF(#REF!,$AD617)","v":{"$error":"#REF!"}},{"$f":"COUNTIF(#REF!,$AD617)","v":{"$error":"#REF!"}},0,0,0,0,0,0,"","","","","","","","","","","","",0,""]
[null,null,null,null,null,null,null,null,null,null,null,null,null,null,null,null,null,null,null,null,null,null,null,null,null,null,null,null,null,"2016-09-08",{"$f":"SUMIFS('LOG1'!$J$5:$J$501,TabUren2[datum],$AD618)","v":"00:00:00"},{"$f":"SUMIFS('LOG2'!$J$5:$J$501,TabUren22[datum],$AD618)","v":"00:00:00"},{"$f":"SUMIFS(#REF!,#REF!,$AD618)","v":{"$error":"#REF!"}},{"$f":"SUMIFS(#REF!,#REF!,$AD618)","v":{"$error":"#REF!"}},{"$f":"SUMIFS(#REF!,#REF!,$AD618)","v":{"$error":"#REF!"}},{"$f":"SUMIFS(#REF!,#REF!,$AD618)","v":{"$error":"#REF!"}},{"$f":"COUNTIF(TabUren2[datum],$AD618)","v":0},{"$f":"COUNTIF(TabUren22[datum],$AD618)","v":0},{"$f":"COUNTIF(#REF!,$AD618)","v":{"$error":"#REF!"}},{"$f":"COUNTIF(#REF!,$AD618)","v":{"$error":"#REF!"}},{"$f":"COUNTIF(#REF!,$AD618)","v":{"$error":"#REF!"}},{"$f":"COUNTIF(#REF!,$AD618)","v":{"$error":"#REF!"}},0,0,0,0,0,0,"","","","","","","","","","","","",0,""]
[null,null,null,null,null,null,null,null,null,null,null,null,null,null,null,null,null,null,null,null,null,null,null,null,null,null,null,null,null,"2016-09-09",{"$f":"SUMIFS('LOG1'!$J$5:$J$501,TabUren2[datum],$AD619)","v":"00:00:00"},{"$f":"SUMIFS('LOG2'!$J$5:$J$501,TabUren22[datum],$AD619)","v":"00:00:00"},{"$f":"SUMIFS(#REF!,#REF!,$AD619)","v":{"$error":"#REF!"}},{"$f":"SUMIFS(#REF!,#REF!,$AD619)","v":{"$error":"#REF!"}},{"$f":"SUMIFS(#REF!,#REF!,$AD619)","v":{"$error":"#REF!"}},{"$f":"SUMIFS(#REF!,#REF!,$AD619)","v":{"$error":"#REF!"}},{"$f":"COUNTIF(TabUren2[datum],$AD619)","v":0},{"$f":"COUNTIF(TabUren22[datum],$AD619)","v":0},{"$f":"COUNTIF(#REF!,$AD619)","v":{"$error":"#REF!"}},{"$f":"COUNTIF(#REF!,$AD619)","v":{"$error":"#REF!"}},{"$f":"COUNTIF(#REF!,$AD619)","v":{"$error":"#REF!"}},{"$f":"COUNTIF(#REF!,$AD619)","v":{"$error":"#REF!"}},0,0,0,0,0,0,"","","","","","","","","","","","",0,""]
[null,null,null,null,null,null,null,null,null,null,null,null,null,null,null,null,null,null,null,null,null,null,null,null,null,null,null,null,null,"2016-09-10",{"$f":"SUMIFS('LOG1'!$J$5:$J$501,TabUren2[datum],$AD620)","v":"00:00:00"},{"$f":"SUMIFS('LOG2'!$J$5:$J$501,TabUren22[datum],$AD620)","v":"00:00:00"},{"$f":"SUMIFS(#REF!,#REF!,$AD620)","v":{"$error":"#REF!"}},{"$f":"SUMIFS(#REF!,#REF!,$AD620)","v":{"$error":"#REF!"}},{"$f":"SUMIFS(#REF!,#REF!,$AD620)","v":{"$error":"#REF!"}},{"$f":"SUMIFS(#REF!,#REF!,$AD620)","v":{"$error":"#REF!"}},{"$f":"COUNTIF(TabUren2[datum],$AD620)","v":0},{"$f":"COUNTIF(TabUren22[datum],$AD620)","v":0},{"$f":"COUNTIF(#REF!,$AD620)","v":{"$error":"#REF!"}},{"$f":"COUNTIF(#REF!,$AD620)","v":{"$error":"#REF!"}},{"$f":"COUNTIF(#REF!,$AD620)","v":{"$error":"#REF!"}},{"$f":"COUNTIF(#REF!,$AD620)","v":{"$error":"#REF!"}},0,0,0,0,0,0,"","","","","","","","","","","","",0,""]
[null,null,null,null,null,null,null,null,null,null,null,null,null,null,null,null,null,null,null,null,null,null,null,null,null,null,null,null,null,"2016-09-11",{"$f":"SUMIFS('LOG1'!$J$5:$J$501,TabUren2[datum],$AD621)","v":"00:00:00"},{"$f":"SUMIFS('LOG2'!$J$5:$J$501,TabUren22[datum],$AD621)","v":"00:00:00"},{"$f":"SUMIFS(#REF!,#REF!,$AD621)","v":{"$error":"#REF!"}},{"$f":"SUMIFS(#REF!,#REF!,$AD621)","v":{"$error":"#REF!"}},{"$f":"SUMIFS(#REF!,#REF!,$AD621)","v":{"$error":"#REF!"}},{"$f":"SUMIFS(#REF!,#REF!,$AD621)","v":{"$error":"#REF!"}},{"$f":"COUNTIF(TabUren2[datum],$AD621)","v":0},{"$f":"COUNTIF(TabUren22[datum],$AD621)","v":0},{"$f":"COUNTIF(#REF!,$AD621)","v":{"$error":"#REF!"}},{"$f":"COUNTIF(#REF!,$AD621)","v":{"$error":"#REF!"}},{"$f":"COUNTIF(#REF!,$AD621)","v":{"$error":"#REF!"}},{"$f":"COUNTIF(#REF!,$AD621)","v":{"$error":"#REF!"}},0,0,0,0,0,0,"","","","","","","","","","","","",0,""]
[null,null,null,null,null,null,null,null,null,null,null,null,null,null,null,null,null,null,null,null,null,null,null,null,null,null,null,null,null,"2016-09-12",{"$f":"SUMIFS('LOG1'!$J$5:$J$501,TabUren2[datum],$AD622)","v":"00:00:00"},{"$f":"SUMIFS('LOG2'!$J$5:$J$501,TabUren22[datum],$AD622)","v":"00:00:00"},{"$f":"SUMIFS(#REF!,#REF!,$AD622)","v":{"$error":"#REF!"}},{"$f":"SUMIFS(#REF!,#REF!,$AD622)","v":{"$error":"#REF!"}},{"$f":"SUMIFS(#REF!,#REF!,$AD622)","v":{"$error":"#REF!"}},{"$f":"SUMIFS(#REF!,#REF!,$AD622)","v":{"$error":"#REF!"}},{"$f":"COUNTIF(TabUren2[datum],$AD622)","v":0},{"$f":"COUNTIF(TabUren22[datum],$AD622)","v":0},{"$f":"COUNTIF(#REF!,$AD622)","v":{"$error":"#REF!"}},{"$f":"COUNTIF(#REF!,$AD622)","v":{"$error":"#REF!"}},{"$f":"COUNTIF(#REF!,$AD622)","v":{"$error":"#REF!"}},{"$f":"COUNTIF(#REF!,$AD622)","v":{"$error":"#REF!"}},0,0,0,0,0,0,"","","","","","","","","","","","",0,""]
[null,null,null,null,null,null,null,null,null,null,null,null,null,null,null,null,null,null,null,null,null,null,null,null,null,null,null,null,null,"2016-09-13",{"$f":"SUMIFS('LOG1'!$J$5:$J$501,TabUren2[datum],$AD623)","v":"00:00:00"},{"$f":"SUMIFS('LOG2'!$J$5:$J$501,TabUren22[datum],$AD623)","v":"00:00:00"},{"$f":"SUMIFS(#REF!,#REF!,$AD623)","v":{"$error":"#REF!"}},{"$f":"SUMIFS(#REF!,#REF!,$AD623)","v":{"$error":"#REF!"}},{"$f":"SUMIFS(#REF!,#REF!,$AD623)","v":{"$error":"#REF!"}},{"$f":"SUMIFS(#REF!,#REF!,$AD623)","v":{"$error":"#REF!"}},{"$f":"COUNTIF(TabUren2[datum],$AD623)","v":0},{"$f":"COUNTIF(TabUren22[datum],$AD623)","v":0},{"$f":"COUNTIF(#REF!,$AD623)","v":{"$error":"#REF!"}},{"$f":"COUNTIF(#REF!,$AD623)","v":{"$error":"#REF!"}},{"$f":"COUNTIF(#REF!,$AD623)","v":{"$error":"#REF!"}},{"$f":"COUNTIF(#REF!,$AD623)","v":{"$error":"#REF!"}},0,0,0,0,0,0,"","","","","","","","","","","","",0,""]
[null,null,null,null,null,null,null,null,null,null,null,null,null,null,null,null,null,null,null,null,null,null,null,null,null,null,null,null,null,"2016-09-14",{"$f":"SUMIFS('LOG1'!$J$5:$J$501,TabUren2[datum],$AD624)","v":"00:00:00"},{"$f":"SUMIFS('LOG2'!$J$5:$J$501,TabUren22[datum],$AD624)","v":"00:00:00"},{"$f":"SUMIFS(#REF!,#REF!,$AD624)","v":{"$error":"#REF!"}},{"$f":"SUMIFS(#REF!,#REF!,$AD624)","v":{"$error":"#REF!"}},{"$f":"SUMIFS(#REF!,#REF!,$AD624)","v":{"$error":"#REF!"}},{"$f":"SUMIFS(#REF!,#REF!,$AD624)","v":{"$error":"#REF!"}},{"$f":"COUNTIF(TabUren2[datum],$AD624)","v":0},{"$f":"COUNTIF(TabUren22[datum],$AD624)","v":0},{"$f":"COUNTIF(#REF!,$AD624)","v":{"$error":"#REF!"}},{"$f":"COUNTIF(#REF!,$AD624)","v":{"$error":"#REF!"}},{"$f":"COUNTIF(#REF!,$AD624)","v":{"$error":"#REF!"}},{"$f":"COUNTIF(#REF!,$AD624)","v":{"$error":"#REF!"}},0,0,0,0,0,0,"","","","","","","","","","","","",0,""]
[null,null,null,null,null,null,null,null,null,null,null,null,null,null,null,null,null,null,null,null,null,null,null,null,null,null,null,null,null,"2016-09-15",{"$f":"SUMIFS('LOG1'!$J$5:$J$501,TabUren2[datum],$AD625)","v":"00:00:00"},{"$f":"SUMIFS('LOG2'!$J$5:$J$501,TabUren22[datum],$AD625)","v":"00:00:00"},{"$f":"SUMIFS(#REF!,#REF!,$AD625)","v":{"$error":"#REF!"}},{"$f":"SUMIFS(#REF!,#REF!,$AD625)","v":{"$error":"#REF!"}},{"$f":"SUMIFS(#REF!,#REF!,$AD625)","v":{"$error":"#REF!"}},{"$f":"SUMIFS(#REF!,#REF!,$AD625)","v":{"$error":"#REF!"}},{"$f":"COUNTIF(TabUren2[datum],$AD625)","v":0},{"$f":"COUNTIF(TabUren22[datum],$AD625)","v":0},{"$f":"COUNTIF(#REF!,$AD625)","v":{"$error":"#REF!"}},{"$f":"COUNTIF(#REF!,$AD625)","v":{"$error":"#REF!"}},{"$f":"COUNTIF(#REF!,$AD625)","v":{"$error":"#REF!"}},{"$f":"COUNTIF(#REF!,$AD625)","v":{"$error":"#REF!"}},0,0,0,0,0,0,"","","","","","","","","","","","",0,""]
[null,null,null,null,null,null,null,null,null,null,null,null,null,null,null,null,null,null,null,null,null,null,null,null,null,null,null,null,null,"2016-09-16",{"$f":"SUMIFS('LOG1'!$J$5:$J$501,TabUren2[datum],$AD626)","v":"00:00:00"},{"$f":"SUMIFS('LOG2'!$J$5:$J$501,TabUren22[datum],$AD626)","v":"00:00:00"},{"$f":"SUMIFS(#REF!,#REF!,$AD626)","v":{"$error":"#REF!"}},{"$f":"SUMIFS(#REF!,#REF!,$AD626)","v":{"$error":"#REF!"}},{"$f":"SUMIFS(#REF!,#REF!,$AD626)","v":{"$error":"#REF!"}},{"$f":"SUMIFS(#REF!,#REF!,$AD626)","v":{"$error":"#REF!"}},{"$f":"COUNTIF(TabUren2[datum],$AD626)","v":0},{"$f":"COUNTIF(TabUren22[datum],$AD626)","v":0},{"$f":"COUNTIF(#REF!,$AD626)","v":{"$error":"#REF!"}},{"$f":"COUNTIF(#REF!,$AD626)","v":{"$error":"#REF!"}},{"$f":"COUNTIF(#REF!,$AD626)","v":{"$error":"#REF!"}},{"$f":"COUNTIF(#REF!,$AD626)","v":{"$error":"#REF!"}},0,0,0,0,0,0,"","","","","","","","","","","","",0,""]
[null,null,null,null,null,null,null,null,null,null,null,null,null,null,null,null,null,null,null,null,null,null,null,null,null,null,null,null,null,"2016-09-17",{"$f":"SUMIFS('LOG1'!$J$5:$J$501,TabUren2[datum],$AD627)","v":"00:00:00"},{"$f":"SUMIFS('LOG2'!$J$5:$J$501,TabUren22[datum],$AD627)","v":"00:00:00"},{"$f":"SUMIFS(#REF!,#REF!,$AD627)","v":{"$error":"#REF!"}},{"$f":"SUMIFS(#REF!,#REF!,$AD627)","v":{"$error":"#REF!"}},{"$f":"SUMIFS(#REF!,#REF!,$AD627)","v":{"$error":"#REF!"}},{"$f":"SUMIFS(#REF!,#REF!,$AD627)","v":{"$error":"#REF!"}},{"$f":"COUNTIF(TabUren2[datum],$AD627)","v":0},{"$f":"COUNTIF(TabUren22[datum],$AD627)","v":0},{"$f":"COUNTIF(#REF!,$AD627)","v":{"$error":"#REF!"}},{"$f":"COUNTIF(#REF!,$AD627)","v":{"$error":"#REF!"}},{"$f":"COUNTIF(#REF!,$AD627)","v":{"$error":"#REF!"}},{"$f":"COUNTIF(#REF!,$AD627)","v":{"$error":"#REF!"}},0,0,0,0,0,0,"","","","","","","","","","","","",0,""]
[null,null,null,null,null,null,null,null,null,null,null,null,null,null,null,null,null,null,null,null,null,null,null,null,null,null,null,null,null,"2016-09-18",{"$f":"SUMIFS('LOG1'!$J$5:$J$501,TabUren2[datum],$AD628)","v":"00:00:00"},{"$f":"SUMIFS('LOG2'!$J$5:$J$501,TabUren22[datum],$AD628)","v":"00:00:00"},{"$f":"SUMIFS(#REF!,#REF!,$AD628)","v":{"$error":"#REF!"}},{"$f":"SUMIFS(#REF!,#REF!,$AD628)","v":{"$error":"#REF!"}},{"$f":"SUMIFS(#REF!,#REF!,$AD628)","v":{"$error":"#REF!"}},{"$f":"SUMIFS(#REF!,#REF!,$AD628)","v":{"$error":"#REF!"}},{"$f":"COUNTIF(TabUren2[datum],$AD628)","v":0},{"$f":"COUNTIF(TabUren22[datum],$AD628)","v":0},{"$f":"COUNTIF(#REF!,$AD628)","v":{"$error":"#REF!"}},{"$f":"COUNTIF(#REF!,$AD628)","v":{"$error":"#REF!"}},{"$f":"COUNTIF(#REF!,$AD628)","v":{"$error":"#REF!"}},{"$f":"COUNTIF(#REF!,$AD628)","v":{"$error":"#REF!"}},0,0,0,0,0,0,"","","","","","","","","","","","",0,""]
[null,null,null,null,null,null,null,null,null,null,null,null,null,null,null,null,null,null,null,null,null,null,null,null,null,null,null,null,null,"2016-09-19",{"$f":"SUMIFS('LOG1'!$J$5:$J$501,TabUren2[datum],$AD629)","v":"00:00:00"},{"$f":"SUMIFS('LOG2'!$J$5:$J$501,TabUren22[datum],$AD629)","v":"00:00:00"},{"$f":"SUMIFS(#REF!,#REF!,$AD629)","v":{"$error":"#REF!"}},{"$f":"SUMIFS(#REF!,#REF!,$AD629)","v":{"$error":"#REF!"}},{"$f":"SUMIFS(#REF!,#REF!,$AD629)","v":{"$error":"#REF!"}},{"$f":"SUMIFS(#REF!,#REF!,$AD629)","v":{"$error":"#REF!"}},{"$f":"COUNTIF(TabUren2[datum],$AD629)","v":0},{"$f":"COUNTIF(TabUren22[datum],$AD629)","v":0},{"$f":"COUNTIF(#REF!,$AD629)","v":{"$error":"#REF!"}},{"$f":"COUNTIF(#REF!,$AD629)","v":{"$error":"#REF!"}},{"$f":"COUNTIF(#REF!,$AD629)","v":{"$error":"#REF!"}},{"$f":"COUNTIF(#REF!,$AD629)","v":{"$error":"#REF!"}},0,0,0,0,0,0,"","","","","","","","","","","","",0,""]
[null,null,null,null,null,null,null,null,null,null,null,null,null,null,null,null,null,null,null,null,null,null,null,null,null,null,null,null,null,"2016-09-20",{"$f":"SUMIFS('LOG1'!$J$5:$J$501,TabUren2[datum],$AD630)","v":"00:00:00"},{"$f":"SUMIFS('LOG2'!$J$5:$J$501,TabUren22[datum],$AD630)","v":"00:00:00"},{"$f":"SUMIFS(#REF!,#REF!,$AD630)","v":{"$error":"#REF!"}},{"$f":"SUMIFS(#REF!,#REF!,$AD630)","v":{"$error":"#REF!"}},{"$f":"SUMIFS(#REF!,#REF!,$AD630)","v":{"$error":"#REF!"}},{"$f":"SUMIFS(#REF!,#REF!,$AD630)","v":{"$error":"#REF!"}},{"$f":"COUNTIF(TabUren2[datum],$AD630)","v":0},{"$f":"COUNTIF(TabUren22[datum],$AD630)","v":0},{"$f":"COUNTIF(#REF!,$AD630)","v":{"$error":"#REF!"}},{"$f":"COUNTIF(#REF!,$AD630)","v":{"$error":"#REF!"}},{"$f":"COUNTIF(#REF!,$AD630)","v":{"$error":"#REF!"}},{"$f":"COUNTIF(#REF!,$AD630)","v":{"$error":"#REF!"}},0,0,0,0,0,0,"","","","","","","","","","","","",0,""]
[null,null,null,null,null,null,null,null,null,null,null,null,null,null,null,null,null,null,null,null,null,null,null,null,null,null,null,null,null,"2016-09-21",{"$f":"SUMIFS('LOG1'!$J$5:$J$501,TabUren2[datum],$AD631)","v":"00:00:00"},{"$f":"SUMIFS('LOG2'!$J$5:$J$501,TabUren22[datum],$AD631)","v":"00:00:00"},{"$f":"SUMIFS(#REF!,#REF!,$AD631)","v":{"$error":"#REF!"}},{"$f":"SUMIFS(#REF!,#REF!,$AD631)","v":{"$error":"#REF!"}},{"$f":"SUMIFS(#REF!,#REF!,$AD631)","v":{"$error":"#REF!"}},{"$f":"SUMIFS(#REF!,#REF!,$AD631)","v":{"$error":"#REF!"}},{"$f":"COUNTIF(TabUren2[datum],$AD631)","v":0},{"$f":"COUNTIF(TabUren22[datum],$AD631)","v":0},{"$f":"COUNTIF(#REF!,$AD631)","v":{"$error":"#REF!"}},{"$f":"COUNTIF(#REF!,$AD631)","v":{"$error":"#REF!"}},{"$f":"COUNTIF(#REF!,$AD631)","v":{"$error":"#REF!"}},{"$f":"COUNTIF(#REF!,$AD631)","v":{"$error":"#REF!"}},0,0,0,0,0,0,"","","","","","","","","","","","",0,""]
[null,null,null,null,null,null,null,null,null,null,null,null,null,null,null,null,null,null,null,null,null,null,null,null,null,null,null,null,null,"2016-09-22",{"$f":"SUMIFS('LOG1'!$J$5:$J$501,TabUren2[datum],$AD632)","v":"00:00:00"},{"$f":"SUMIFS('LOG2'!$J$5:$J$501,TabUren22[datum],$AD632)","v":"00:00:00"},{"$f":"SUMIFS(#REF!,#REF!,$AD632)","v":{"$error":"#REF!"}},{"$f":"SUMIFS(#REF!,#REF!,$AD632)","v":{"$error":"#REF!"}},{"$f":"SUMIFS(#REF!,#REF!,$AD632)","v":{"$error":"#REF!"}},{"$f":"SUMIFS(#REF!,#REF!,$AD632)","v":{"$error":"#REF!"}},{"$f":"COUNTIF(TabUren2[datum],$AD632)","v":0},{"$f":"COUNTIF(TabUren22[datum],$AD632)","v":0},{"$f":"COUNTIF(#REF!,$AD632)","v":{"$error":"#REF!"}},{"$f":"COUNTIF(#REF!,$AD632)","v":{"$error":"#REF!"}},{"$f":"COUNTIF(#REF!,$AD632)","v":{"$error":"#REF!"}},{"$f":"COUNTIF(#REF!,$AD632)","v":{"$error":"#REF!"}},0,0,0,0,0,0,"","","","","","","","","","","","",0,""]
[null,null,null,null,null,null,null,null,null,null,null,null,null,null,null,null,null,null,null,null,null,null,null,null,null,null,null,null,null,"2016-09-23",{"$f":"SUMIFS('LOG1'!$J$5:$J$501,TabUren2[datum],$AD633)","v":"00:00:00"},{"$f":"SUMIFS('LOG2'!$J$5:$J$501,TabUren22[datum],$AD633)","v":"00:00:00"},{"$f":"SUMIFS(#REF!,#REF!,$AD633)","v":{"$error":"#REF!"}},{"$f":"SUMIFS(#REF!,#REF!,$AD633)","v":{"$error":"#REF!"}},{"$f":"SUMIFS(#REF!,#REF!,$AD633)","v":{"$error":"#REF!"}},{"$f":"SUMIFS(#REF!,#REF!,$AD633)","v":{"$error":"#REF!"}},{"$f":"COUNTIF(TabUren2[datum],$AD633)","v":0},{"$f":"COUNTIF(TabUren22[datum],$AD633)","v":0},{"$f":"COUNTIF(#REF!,$AD633)","v":{"$error":"#REF!"}},{"$f":"COUNTIF(#REF!,$AD633)","v":{"$error":"#REF!"}},{"$f":"COUNTIF(#REF!,$AD633)","v":{"$error":"#REF!"}},{"$f":"COUNTIF(#REF!,$AD633)","v":{"$error":"#REF!"}},0,0,0,0,0,0,"","","","","","","","","","","","",0,""]
[null,null,null,null,null,null,null,null,null,null,null,null,null,null,null,null,null,null,null,null,null,null,null,null,null,null,null,null,null,"2016-09-24",{"$f":"SUMIFS('LOG1'!$J$5:$J$501,TabUren2[datum],$AD634)","v":"00:00:00"},{"$f":"SUMIFS('LOG2'!$J$5:$J$501,TabUren22[datum],$AD634)","v":"00:00:00"},{"$f":"SUMIFS(#REF!,#REF!,$AD634)","v":{"$error":"#REF!"}},{"$f":"SUMIFS(#REF!,#REF!,$AD634)","v":{"$error":"#REF!"}},{"$f":"SUMIFS(#REF!,#REF!,$AD634)","v":{"$error":"#REF!"}},{"$f":"SUMIFS(#REF!,#REF!,$AD634)","v":{"$error":"#REF!"}},{"$f":"COUNTIF(TabUren2[datum],$AD634)","v":0},{"$f":"COUNTIF(TabUren22[datum],$AD634)","v":0},{"$f":"COUNTIF(#REF!,$AD634)","v":{"$error":"#REF!"}},{"$f":"COUNTIF(#REF!,$AD634)","v":{"$error":"#REF!"}},{"$f":"COUNTIF(#REF!,$AD634)","v":{"$error":"#REF!"}},{"$f":"COUNTIF(#REF!,$AD634)","v":{"$error":"#REF!"}},0,0,0,0,0,0,"","","","","","","","","","","","",0,""]
[null,null,null,null,null,null,null,null,null,null,null,null,null,null,null,null,null,null,null,null,null,null,null,null,null,null,null,null,null,"2016-09-25",{"$f":"SUMIFS('LOG1'!$J$5:$J$501,TabUren2[datum],$AD635)","v":"00:00:00"},{"$f":"SUMIFS('LOG2'!$J$5:$J$501,TabUren22[datum],$AD635)","v":"00:00:00"},{"$f":"SUMIFS(#REF!,#REF!,$AD635)","v":{"$error":"#REF!"}},{"$f":"SUMIFS(#REF!,#REF!,$AD635)","v":{"$error":"#REF!"}},{"$f":"SUMIFS(#REF!,#REF!,$AD635)","v":{"$error":"#REF!"}},{"$f":"SUMIFS(#REF!,#REF!,$AD635)","v":{"$error":"#REF!"}},{"$f":"COUNTIF(TabUren2[datum],$AD635)","v":0},{"$f":"COUNTIF(TabUren22[datum],$AD635)","v":0},{"$f":"COUNTIF(#REF!,$AD635)","v":{"$error":"#REF!"}},{"$f":"COUNTIF(#REF!,$AD635)","v":{"$error":"#REF!"}},{"$f":"COUNTIF(#REF!,$AD635)","v":{"$error":"#REF!"}},{"$f":"COUNTIF(#REF!,$AD635)","v":{"$error":"#REF!"}},0,0,0,0,0,0,"","","","","","","","","","","","",0,""]
[null,null,null,null,null,null,null,null,null,null,null,null,null,null,null,null,null,null,null,null,null,null,null,null,null,null,null,null,null,"2016-09-26",{"$f":"SUMIFS('LOG1'!$J$5:$J$501,TabUren2[datum],$AD636)","v":"00:00:00"},{"$f":"SUMIFS('LOG2'!$J$5:$J$501,TabUren22[datum],$AD636)","v":"00:00:00"},{"$f":"SUMIFS(#REF!,#REF!,$AD636)","v":{"$error":"#REF!"}},{"$f":"SUMIFS(#REF!,#REF!,$AD636)","v":{"$error":"#REF!"}},{"$f":"SUMIFS(#REF!,#REF!,$AD636)","v":{"$error":"#REF!"}},{"$f":"SUMIFS(#REF!,#REF!,$AD636)","v":{"$error":"#REF!"}},{"$f":"COUNTIF(TabUren2[datum],$AD636)","v":0},{"$f":"COUNTIF(TabUren22[datum],$AD636)","v":0},{"$f":"COUNTIF(#REF!,$AD636)","v":{"$error":"#REF!"}},{"$f":"COUNTIF(#REF!,$AD636)","v":{"$error":"#REF!"}},{"$f":"COUNTIF(#REF!,$AD636)","v":{"$error":"#REF!"}},{"$f":"COUNTIF(#REF!,$AD636)","v":{"$error":"#REF!"}},0,0,0,0,0,0,"","","","","","","","","","","","",0,""]
[null,null,null,null,null,null,null,null,null,null,null,null,null,null,null,null,null,null,null,null,null,null,null,null,null,null,null,null,null,"2016-09-27",{"$f":"SUMIFS('LOG1'!$J$5:$J$501,TabUren2[datum],$AD637)","v":"00:00:00"},{"$f":"SUMIFS('LOG2'!$J$5:$J$501,TabUren22[datum],$AD637)","v":"00:00:00"},{"$f":"SUMIFS(#REF!,#REF!,$AD637)","v":{"$error":"#REF!"}},{"$f":"SUMIFS(#REF!,#REF!,$AD637)","v":{"$error":"#REF!"}},{"$f":"SUMIFS(#REF!,#REF!,$AD637)","v":{"$error":"#REF!"}},{"$f":"SUMIFS(#REF!,#REF!,$AD637)","v":{"$error":"#REF!"}},{"$f":"COUNTIF(TabUren2[datum],$AD637)","v":0},{"$f":"COUNTIF(TabUren22[datum],$AD637)","v":0},{"$f":"COUNTIF(#REF!,$AD637)","v":{"$error":"#REF!"}},{"$f":"COUNTIF(#REF!,$AD637)","v":{"$error":"#REF!"}},{"$f":"COUNTIF(#REF!,$AD637)","v":{"$error":"#REF!"}},{"$f":"COUNTIF(#REF!,$AD637)","v":{"$error":"#REF!"}},0,0,0,0,0,0,"","","","","","","","","","","","",0,""]
[null,null,null,null,null,null,null,null,null,null,null,null,null,null,null,null,null,null,null,null,null,null,null,null,null,null,null,null,null,"2016-09-28",{"$f":"SUMIFS('LOG1'!$J$5:$J$501,TabUren2[datum],$AD638)","v":"00:00:00"},{"$f":"SUMIFS('LOG2'!$J$5:$J$501,TabUren22[datum],$AD638)","v":"00:00:00"},{"$f":"SUMIFS(#REF!,#REF!,$AD638)","v":{"$error":"#REF!"}},{"$f":"SUMIFS(#REF!,#REF!,$AD638)","v":{"$error":"#REF!"}},{"$f":"SUMIFS(#REF!,#REF!,$AD638)","v":{"$error":"#REF!"}},{"$f":"SUMIFS(#REF!,#REF!,$AD638)","v":{"$error":"#REF!"}},{"$f":"COUNTIF(TabUren2[datum],$AD638)","v":0},{"$f":"COUNTIF(TabUren22[datum],$AD638)","v":0},{"$f":"COUNTIF(#REF!,$AD638)","v":{"$error":"#REF!"}},{"$f":"COUNTIF(#REF!,$AD638)","v":{"$error":"#REF!"}},{"$f":"COUNTIF(#REF!,$AD638)","v":{"$error":"#REF!"}},{"$f":"COUNTIF(#REF!,$AD638)","v":{"$error":"#REF!"}},0,0,0,0,0,0,"","","","","","","","","","","","",0,""]
[null,null,null,null,null,null,null,null,null,null,null,null,null,null,null,null,null,null,null,null,null,null,null,null,null,null,null,null,null,"2016-09-29",{"$f":"SUMIFS('LOG1'!$J$5:$J$501,TabUren2[datum],$AD639)","v":"00:00:00"},{"$f":"SUMIFS('LOG2'!$J$5:$J$501,TabUren22[datum],$AD639)","v":"00:00:00"},{"$f":"SUMIFS(#REF!,#REF!,$AD639)","v":{"$error":"#REF!"}},{"$f":"SUMIFS(#REF!,#REF!,$AD639)","v":{"$error":"#REF!"}},{"$f":"SUMIFS(#REF!,#REF!,$AD639)","v":{"$error":"#REF!"}},{"$f":"SUMIFS(#REF!,#REF!,$AD639)","v":{"$error":"#REF!"}},{"$f":"COUNTIF(TabUren2[datum],$AD639)","v":0},{"$f":"COUNTIF(TabUren22[datum],$AD639)","v":0},{"$f":"COUNTIF(#REF!,$AD639)","v":{"$error":"#REF!"}},{"$f":"COUNTIF(#REF!,$AD639)","v":{"$error":"#REF!"}},{"$f":"COUNTIF(#REF!,$AD639)","v":{"$error":"#REF!"}},{"$f":"COUNTIF(#REF!,$AD639)","v":{"$error":"#REF!"}},0,0,0,0,0,0,"","","","","","","","","","","","",0,""]
[null,null,null,null,null,null,null,null,null,null,null,null,null,null,null,null,null,null,null,null,null,null,null,null,null,null,null,null,null,"2016-09-30",{"$f":"SUMIFS('LOG1'!$J$5:$J$501,TabUren2[datum],$AD640)","v":"00:00:00"},{"$f":"SUMIFS('LOG2'!$J$5:$J$501,TabUren22[datum],$AD640)","v":"00:00:00"},{"$f":"SUMIFS(#REF!,#REF!,$AD640)","v":{"$error":"#REF!"}},{"$f":"SUMIFS(#REF!,#REF!,$AD640)","v":{"$error":"#REF!"}},{"$f":"SUMIFS(#REF!,#REF!,$AD640)","v":{"$error":"#REF!"}},{"$f":"SUMIFS(#REF!,#REF!,$AD640)","v":{"$error":"#REF!"}},{"$f":"COUNTIF(TabUren2[datum],$AD640)","v":0},{"$f":"COUNTIF(TabUren22[datum],$AD640)","v":0},{"$f":"COUNTIF(#REF!,$AD640)","v":{"$error":"#REF!"}},{"$f":"COUNTIF(#REF!,$AD640)","v":{"$error":"#REF!"}},{"$f":"COUNTIF(#REF!,$AD640)","v":{"$error":"#REF!"}},{"$f":"COUNTIF(#REF!,$AD640)","v":{"$error":"#REF!"}},0,0,0,0,0,0,"","","","","","","","","","","","",0,""]
[null,null,null,null,null,null,null,null,null,null,null,null,null,null,null,null,null,null,null,null,null,null,null,null,null,null,null,null,null,"2016-10-01",{"$f":"SUMIFS('LOG1'!$J$5:$J$501,TabUren2[datum],$AD641)","v":"00:00:00"},{"$f":"SUMIFS('LOG2'!$J$5:$J$501,TabUren22[datum],$AD641)","v":"00:00:00"},{"$f":"SUMIFS(#REF!,#REF!,$AD641)","v":{"$error":"#REF!"}},{"$f":"SUMIFS(#REF!,#REF!,$AD641)","v":{"$error":"#REF!"}},{"$f":"SUMIFS(#REF!,#REF!,$AD641)","v":{"$error":"#REF!"}},{"$f":"SUMIFS(#REF!,#REF!,$AD641)","v":{"$error":"#REF!"}},{"$f":"COUNTIF(TabUren2[datum],$AD641)","v":0},{"$f":"COUNTIF(TabUren22[datum],$AD641)","v":0},{"$f":"COUNTIF(#REF!,$AD641)","v":{"$error":"#REF!"}},{"$f":"COUNTIF(#REF!,$AD641)","v":{"$error":"#REF!"}},{"$f":"COUNTIF(#REF!,$AD641)","v":{"$error":"#REF!"}},{"$f":"COUNTIF(#REF!,$AD641)","v":{"$error":"#REF!"}},0,0,0,0,0,0,"","","","","","","","","","","","",0,""]
[null,null,null,null,null,null,null,null,null,null,null,null,null,null,null,null,null,null,null,null,null,null,null,null,null,null,null,null,null,"2016-10-02",{"$f":"SUMIFS('LOG1'!$J$5:$J$501,TabUren2[datum],$AD642)","v":"00:00:00"},{"$f":"SUMIFS('LOG2'!$J$5:$J$501,TabUren22[datum],$AD642)","v":"00:00:00"},{"$f":"SUMIFS(#REF!,#REF!,$AD642)","v":{"$error":"#REF!"}},{"$f":"SUMIFS(#REF!,#REF!,$AD642)","v":{"$error":"#REF!"}},{"$f":"SUMIFS(#REF!,#REF!,$AD642)","v":{"$error":"#REF!"}},{"$f":"SUMIFS(#REF!,#REF!,$AD642)","v":{"$error":"#REF!"}},{"$f":"COUNTIF(TabUren2[datum],$AD642)","v":0},{"$f":"COUNTIF(TabUren22[datum],$AD642)","v":0},{"$f":"COUNTIF(#REF!,$AD642)","v":{"$error":"#REF!"}},{"$f":"COUNTIF(#REF!,$AD642)","v":{"$error":"#REF!"}},{"$f":"COUNTIF(#REF!,$AD642)","v":{"$error":"#REF!"}},{"$f":"COUNTIF(#REF!,$AD642)","v":{"$error":"#REF!"}},0,0,0,0,0,0,"","","","","","","","","","","","",0,""]
[null,null,null,null,null,null,null,null,null,null,null,null,null,null,null,null,null,null,null,null,null,null,null,null,null,null,null,null,null,"2016-10-03",{"$f":"SUMIFS('LOG1'!$J$5:$J$501,TabUren2[datum],$AD643)","v":"00:00:00"},{"$f":"SUMIFS('LOG2'!$J$5:$J$501,TabUren22[datum],$AD643)","v":"00:00:00"},{"$f":"SUMIFS(#REF!,#REF!,$AD643)","v":{"$error":"#REF!"}},{"$f":"SUMIFS(#REF!,#REF!,$AD643)","v":{"$error":"#REF!"}},{"$f":"SUMIFS(#REF!,#REF!,$AD643)","v":{"$error":"#REF!"}},{"$f":"SUMIFS(#REF!,#REF!,$AD643)","v":{"$error":"#REF!"}},{"$f":"COUNTIF(TabUren2[datum],$AD643)","v":0},{"$f":"COUNTIF(TabUren22[datum],$AD643)","v":0},{"$f":"COUNTIF(#REF!,$AD643)","v":{"$error":"#REF!"}},{"$f":"COUNTIF(#REF!,$AD643)","v":{"$error":"#REF!"}},{"$f":"COUNTIF(#REF!,$AD643)","v":{"$error":"#REF!"}},{"$f":"COUNTIF(#REF!,$AD643)","v":{"$error":"#REF!"}},{"$f":"COUNTIF(AK643,\">0\")","v":0},{"$f":"COUNTIF(AL643,\">0\")","v":0},{"$f":"COUNTIF(AM643,\">0\")","v":0},{"$f":"COUNTIF(AN643,\">0\")","v":0},{"$f":"COUNTIF(AO643,\">0\")","v":0},{"$f":"COUNTIF(AP643,\">0\")","v":0},{"$f":"IF(AQ643=1,AE643,\"\")","v":""},{"$f":"IF(AR643=1,AF643,\"\")","v":""},{"$f":"IF(AS643=1,AG643,\"\")","v":""},{"$f":"IF(AT643=1,AH643,\"\")","v":""},{"$f":"IF(AU643=1,AI643,\"\")","v":""},{"$f":"IF(AV643=1,AJ643,\"\")","v":""},{"$f":"IF(BC$1=TRUE,AW643,\"\")","v":""},{"$f":"IF(BD$1=TRUE,AX643,\"\")","v":""},{"$f":"IF(BE$1=TRUE,AY643,\"\")","v":""},{"$f":"IF(BF$1=TRUE,AZ643,\"\")","v":""},{"$f":"IF(BG$1=TRUE,BA643,\"\")","v":""},{"$f":"IF(BH$1=TRUE,BB643,\"\")","v":""},0,""]
[null,null,null,null,null,null,null,null,null,null,null,null,null,null,null,null,null,null,null,null,null,null,null,null,null,null,null,null,null,"2016-10-04",{"$f":"SUMIFS('LOG1'!$J$5:$J$501,TabUren2[datum],$AD644)","v":"00:00:00"},{"$f":"SUMIFS('LOG2'!$J$5:$J$501,TabUren22[datum],$AD644)","v":"00:00:00"},{"$f":"SUMIFS(#REF!,#REF!,$AD644)","v":{"$error":"#REF!"}},{"$f":"SUMIFS(#REF!,#REF!,$AD644)","v":{"$error":"#REF!"}},{"$f":"SUMIFS(#REF!,#REF!,$AD644)","v":{"$error":"#REF!"}},{"$f":"SUMIFS(#REF!,#REF!,$AD644)","v":{"$error":"#REF!"}},{"$f":"COUNTIF(TabUren2[datum],$AD644)","v":0},{"$f":"COUNTIF(TabUren22[datum],$AD644)","v":0},{"$f":"COUNTIF(#REF!,$AD644)","v":{"$error":"#REF!"}},{"$f":"COUNTIF(#REF!,$AD644)","v":{"$error":"#REF!"}},{"$f":"COUNTIF(#REF!,$AD644)","v":{"$error":"#REF!"}},{"$f":"COUNTIF(#REF!,$AD644)","v":{"$error":"#REF!"}},0,0,0,0,0,0,"","","","","","","","","","","","",0,""]
[null,null,null,null,null,null,null,null,null,null,null,null,null,null,null,null,null,null,null,null,null,null,null,null,null,null,null,null,null,"2016-10-05",{"$f":"SUMIFS('LOG1'!$J$5:$J$501,TabUren2[datum],$AD645)","v":"00:00:00"},{"$f":"SUMIFS('LOG2'!$J$5:$J$501,TabUren22[datum],$AD645)","v":"00:00:00"},{"$f":"SUMIFS(#REF!,#REF!,$AD645)","v":{"$error":"#REF!"}},{"$f":"SUMIFS(#REF!,#REF!,$AD645)","v":{"$error":"#REF!"}},{"$f":"SUMIFS(#REF!,#REF!,$AD645)","v":{"$error":"#REF!"}},{"$f":"SUMIFS(#REF!,#REF!,$AD645)","v":{"$error":"#REF!"}},{"$f":"COUNTIF(TabUren2[datum],$AD645)","v":0},{"$f":"COUNTIF(TabUren22[datum],$AD645)","v":0},{"$f":"COUNTIF(#REF!,$AD645)","v":{"$error":"#REF!"}},{"$f":"COUNTIF(#REF!,$AD645)","v":{"$error":"#REF!"}},{"$f":"COUNTIF(#REF!,$AD645)","v":{"$error":"#REF!"}},{"$f":"COUNTIF(#REF!,$AD645)","v":{"$error":"#REF!"}},0,0,0,0,0,0,"","","","","","","","","","","","",0,""]
[null,null,null,null,null,null,null,null,null,null,null,null,null,null,null,null,null,null,null,null,null,null,null,null,null,null,null,null,null,"2016-10-06",{"$f":"SUMIFS('LOG1'!$J$5:$J$501,TabUren2[datum],$AD646)","v":"00:00:00"},{"$f":"SUMIFS('LOG2'!$J$5:$J$501,TabUren22[datum],$AD646)","v":"00:00:00"},{"$f":"SUMIFS(#REF!,#REF!,$AD646)","v":{"$error":"#REF!"}},{"$f":"SUMIFS(#REF!,#REF!,$AD646)","v":{"$error":"#REF!"}},{"$f":"SUMIFS(#REF!,#REF!,$AD646)","v":{"$error":"#REF!"}},{"$f":"SUMIFS(#REF!,#REF!,$AD646)","v":{"$error":"#REF!"}},{"$f":"COUNTIF(TabUren2[datum],$AD646)","v":0},{"$f":"COUNTIF(TabUren22[datum],$AD646)","v":0},{"$f":"COUNTIF(#REF!,$AD646)","v":{"$error":"#REF!"}},{"$f":"COUNTIF(#REF!,$AD646)","v":{"$error":"#REF!"}},{"$f":"COUNTIF(#REF!,$AD646)","v":{"$error":"#REF!"}},{"$f":"COUNTIF(#REF!,$AD646)","v":{"$error":"#REF!"}},0,0,0,0,0,0,"","","","","","","","","","","","",{"$f":"COUNT(AW646:BB646)","v":0},{"$f":"IF(BI646>0,AD646,\"\")","v":""}]
[null,null,null,null,null,null,null,null,null,null,null,null,null,null,null,null,null,null,null,null,null,null,null,null,null,null,null,null,null,"2016-10-07",{"$f":"SUMIFS('LOG1'!$J$5:$J$501,TabUren2[datum],$AD647)","v":"00:00:00"},{"$f":"SUMIFS('LOG2'!$J$5:$J$501,TabUren22[datum],$AD647)","v":"00:00:00"},{"$f":"SUMIFS(#REF!,#REF!,$AD647)","v":{"$error":"#REF!"}},{"$f":"SUMIFS(#REF!,#REF!,$AD647)","v":{"$error":"#REF!"}},{"$f":"SUMIFS(#REF!,#REF!,$AD647)","v":{"$error":"#REF!"}},{"$f":"SUMIFS(#REF!,#REF!,$AD647)","v":{"$error":"#REF!"}},{"$f":"COUNTIF(TabUren2[datum],$AD647)","v":0},{"$f":"COUNTIF(TabUren22[datum],$AD647)","v":0},{"$f":"COUNTIF(#REF!,$AD647)","v":{"$error":"#REF!"}},{"$f":"COUNTIF(#REF!,$AD647)","v":{"$error":"#REF!"}},{"$f":"COUNTIF(#REF!,$AD647)","v":{"$error":"#REF!"}},{"$f":"COUNTIF(#REF!,$AD647)","v":{"$error":"#REF!"}},0,0,0,0,0,0,"","","","","","","","","","","","",0,""]
[null,null,null,null,null,null,null,null,null,null,null,null,null,null,null,null,null,null,null,null,null,null,null,null,null,null,null,null,null,"2016-10-08",{"$f":"SUMIFS('LOG1'!$J$5:$J$501,TabUren2[datum],$AD648)","v":"00:00:00"},{"$f":"SUMIFS('LOG2'!$J$5:$J$501,TabUren22[datum],$AD648)","v":"00:00:00"},{"$f":"SUMIFS(#REF!,#REF!,$AD648)","v":{"$error":"#REF!"}},{"$f":"SUMIFS(#REF!,#REF!,$AD648)","v":{"$error":"#REF!"}},{"$f":"SUMIFS(#REF!,#REF!,$AD648)","v":{"$error":"#REF!"}},{"$f":"SUMIFS(#REF!,#REF!,$AD648)","v":{"$error":"#REF!"}},{"$f":"COUNTIF(TabUren2[datum],$AD648)","v":0},{"$f":"COUNTIF(TabUren22[datum],$AD648)","v":0},{"$f":"COUNTIF(#REF!,$AD648)","v":{"$error":"#REF!"}},{"$f":"COUNTIF(#REF!,$AD648)","v":{"$error":"#REF!"}},{"$f":"COUNTIF(#REF!,$AD648)","v":{"$error":"#REF!"}},{"$f":"COUNTIF(#REF!,$AD648)","v":{"$error":"#REF!"}},0,0,0,0,0,0,"","","","","","","","","","","","",0,""]
[null,null,null,null,null,null,null,null,null,null,null,null,null,null,null,null,null,null,null,null,null,null,null,null,null,null,null,null,null,"2016-10-09",{"$f":"SUMIFS('LOG1'!$J$5:$J$501,TabUren2[datum],$AD649)","v":"00:00:00"},{"$f":"SUMIFS('LOG2'!$J$5:$J$501,TabUren22[datum],$AD649)","v":"00:00:00"},{"$f":"SUMIFS(#REF!,#REF!,$AD649)","v":{"$error":"#REF!"}},{"$f":"SUMIFS(#REF!,#REF!,$AD649)","v":{"$error":"#REF!"}},{"$f":"SUMIFS(#REF!,#REF!,$AD649)","v":{"$error":"#REF!"}},{"$f":"SUMIFS(#REF!,#REF!,$AD649)","v":{"$error":"#REF!"}},{"$f":"COUNTIF(TabUren2[datum],$AD649)","v":0},{"$f":"COUNTIF(TabUren22[datum],$AD649)","v":0},{"$f":"COUNTIF(#REF!,$AD649)","v":{"$error":"#REF!"}},{"$f":"COUNTIF(#REF!,$AD649)","v":{"$error":"#REF!"}},{"$f":"COUNTIF(#REF!,$AD649)","v":{"$error":"#REF!"}},{"$f":"COUNTIF(#REF!,$AD649)","v":{"$error":"#REF!"}},0,0,0,0,0,0,"","","","","","","","","","","","",0,""]
[null,null,null,null,null,null,null,null,null,null,null,null,null,null,null,null,null,null,null,null,null,null,null,null,null,null,null,null,null,"2016-10-10",{"$f":"SUMIFS('LOG1'!$J$5:$J$501,TabUren2[datum],$AD650)","v":"00:00:00"},{"$f":"SUMIFS('LOG2'!$J$5:$J$501,TabUren22[datum],$AD650)","v":"00:00:00"},{"$f":"SUMIFS(#REF!,#REF!,$AD650)","v":{"$error":"#REF!"}},{"$f":"SUMIFS(#REF!,#REF!,$AD650)","v":{"$error":"#REF!"}},{"$f":"SUMIFS(#REF!,#REF!,$AD650)","v":{"$error":"#REF!"}},{"$f":"SUMIFS(#REF!,#REF!,$AD650)","v":{"$error":"#REF!"}},{"$f":"COUNTIF(TabUren2[datum],$AD650)","v":0},{"$f":"COUNTIF(TabUren22[datum],$AD650)","v":0},{"$f":"COUNTIF(#REF!,$AD650)","v":{"$error":"#REF!"}},{"$f":"COUNTIF(#REF!,$AD650)","v":{"$error":"#REF!"}},{"$f":"COUNTIF(#REF!,$AD650)","v":{"$error":"#REF!"}},{"$f":"COUNTIF(#REF!,$AD650)","v":{"$error":"#REF!"}},0,0,0,0,0,0,"","","","","","","","","","","","",0,""]
[null,null,null,null,null,null,null,null,null,null,null,null,null,null,null,null,null,null,null,null,null,null,null,null,null,null,null,null,null,"2016-10-11",{"$f":"SUMIFS('LOG1'!$J$5:$J$501,TabUren2[datum],$AD651)","v":"00:00:00"},{"$f":"SUMIFS('LOG2'!$J$5:$J$501,TabUren22[datum],$AD651)","v":"00:00:00"},{"$f":"SUMIFS(#REF!,#REF!,$AD651)","v":{"$error":"#REF!"}},{"$f":"SUMIFS(#REF!,#REF!,$AD651)","v":{"$error":"#REF!"}},{"$f":"SUMIFS(#REF!,#REF!,$AD651)","v":{"$error":"#REF!"}},{"$f":"SUMIFS(#REF!,#REF!,$AD651)","v":{"$error":"#REF!"}},{"$f":"COUNTIF(TabUren2[datum],$AD651)","v":0},{"$f":"COUNTIF(TabUren22[datum],$AD651)","v":0},{"$f":"COUNTIF(#REF!,$AD651)","v":{"$error":"#REF!"}},{"$f":"COUNTIF(#REF!,$AD651)","v":{"$error":"#REF!"}},{"$f":"COUNTIF(#REF!,$AD651)","v":{"$error":"#REF!"}},{"$f":"COUNTIF(#REF!,$AD651)","v":{"$error":"#REF!"}},0,0,0,0,0,0,"","","","","","","","","","","","",0,""]
[null,null,null,null,null,null,null,null,null,null,null,null,null,null,null,null,null,null,null,null,null,null,null,null,null,null,null,null,null,"2016-10-12",{"$f":"SUMIFS('LOG1'!$J$5:$J$501,TabUren2[datum],$AD652)","v":"00:00:00"},{"$f":"SUMIFS('LOG2'!$J$5:$J$501,TabUren22[datum],$AD652)","v":"00:00:00"},{"$f":"SUMIFS(#REF!,#REF!,$AD652)","v":{"$error":"#REF!"}},{"$f":"SUMIFS(#REF!,#REF!,$AD652)","v":{"$error":"#REF!"}},{"$f":"SUMIFS(#REF!,#REF!,$AD652)","v":{"$error":"#REF!"}},{"$f":"SUMIFS(#REF!,#REF!,$AD652)","v":{"$error":"#REF!"}},{"$f":"COUNTIF(TabUren2[datum],$AD652)","v":0},{"$f":"COUNTIF(TabUren22[datum],$AD652)","v":0},{"$f":"COUNTIF(#REF!,$AD652)","v":{"$error":"#REF!"}},{"$f":"COUNTIF(#REF!,$AD652)","v":{"$error":"#REF!"}},{"$f":"COUNTIF(#REF!,$AD652)","v":{"$error":"#REF!"}},{"$f":"COUNTIF(#REF!,$AD652)","v":{"$error":"#REF!"}},0,0,0,0,0,0,"","","","","","","","","","","","",0,""]
[null,null,null,null,null,null,null,null,null,null,null,null,null,null,null,null,null,null,null,null,null,null,null,null,null,null,null,null,null,"2016-10-13",{"$f":"SUMIFS('LOG1'!$J$5:$J$501,TabUren2[datum],$AD653)","v":"00:00:00"},{"$f":"SUMIFS('LOG2'!$J$5:$J$501,TabUren22[datum],$AD653)","v":"00:00:00"},{"$f":"SUMIFS(#REF!,#REF!,$AD653)","v":{"$error":"#REF!"}},{"$f":"SUMIFS(#REF!,#REF!,$AD653)","v":{"$error":"#REF!"}},{"$f":"SUMIFS(#REF!,#REF!,$AD653)","v":{"$error":"#REF!"}},{"$f":"SUMIFS(#REF!,#REF!,$AD653)","v":{"$error":"#REF!"}},{"$f":"COUNTIF(TabUren2[datum],$AD653)","v":0},{"$f":"COUNTIF(TabUren22[datum],$AD653)","v":0},{"$f":"COUNTIF(#REF!,$AD653)","v":{"$error":"#REF!"}},{"$f":"COUNTIF(#REF!,$AD653)","v":{"$error":"#REF!"}},{"$f":"COUNTIF(#REF!,$AD653)","v":{"$error":"#REF!"}},{"$f":"COUNTIF(#REF!,$AD653)","v":{"$error":"#REF!"}},0,0,0,0,0,0,"","","","","","","","","","","","",0,""]
[null,null,null,null,null,null,null,null,null,null,null,null,null,null,null,null,null,null,null,null,null,null,null,null,null,null,null,null,null,"2016-10-14",{"$f":"SUMIFS('LOG1'!$J$5:$J$501,TabUren2[datum],$AD654)","v":"00:00:00"},{"$f":"SUMIFS('LOG2'!$J$5:$J$501,TabUren22[datum],$AD654)","v":"00:00:00"},{"$f":"SUMIFS(#REF!,#REF!,$AD654)","v":{"$error":"#REF!"}},{"$f":"SUMIFS(#REF!,#REF!,$AD654)","v":{"$error":"#REF!"}},{"$f":"SUMIFS(#REF!,#REF!,$AD654)","v":{"$error":"#REF!"}},{"$f":"SUMIFS(#REF!,#REF!,$AD654)","v":{"$error":"#REF!"}},{"$f":"COUNTIF(TabUren2[datum],$AD654)","v":0},{"$f":"COUNTIF(TabUren22[datum],$AD654)","v":0},{"$f":"COUNTIF(#REF!,$AD654)","v":{"$error":"#REF!"}},{"$f":"COUNTIF(#REF!,$AD654)","v":{"$error":"#REF!"}},{"$f":"COUNTIF(#REF!,$AD654)","v":{"$error":"#REF!"}},{"$f":"COUNTIF(#REF!,$AD654)","v":{"$error":"#REF!"}},0,0,0,0,0,0,"","","","","","","","","","","","",0,""]
[null,null,null,null,null,null,null,null,null,null,null,null,null,null,null,null,null,null,null,null,null,null,null,null,null,null,null,null,null,"2016-10-15",{"$f":"SUMIFS('LOG1'!$J$5:$J$501,TabUren2[datum],$AD655)","v":"00:00:00"},{"$f":"SUMIFS('LOG2'!$J$5:$J$501,TabUren22[datum],$AD655)","v":"00:00:00"},{"$f":"SUMIFS(#REF!,#REF!,$AD655)","v":{"$error":"#REF!"}},{"$f":"SUMIFS(#REF!,#REF!,$AD655)","v":{"$error":"#REF!"}},{"$f":"SUMIFS(#REF!,#REF!,$AD655)","v":{"$error":"#REF!"}},{"$f":"SUMIFS(#REF!,#REF!,$AD655)","v":{"$error":"#REF!"}},{"$f":"COUNTIF(TabUren2[datum],$AD655)","v":0},{"$f":"COUNTIF(TabUren22[datum],$AD655)","v":0},{"$f":"COUNTIF(#REF!,$AD655)","v":{"$error":"#REF!"}},{"$f":"COUNTIF(#REF!,$AD655)","v":{"$error":"#REF!"}},{"$f":"COUNTIF(#REF!,$AD655)","v":{"$error":"#REF!"}},{"$f":"COUNTIF(#REF!,$AD655)","v":{"$error":"#REF!"}},0,0,0,0,0,0,"","","","","","","","","","","","",0,""]
[null,null,null,null,null,null,null,null,null,null,null,null,null,null,null,null,null,null,null,null,null,null,null,null,null,null,null,null,null,"2016-10-16",{"$f":"SUMIFS('LOG1'!$J$5:$J$501,TabUren2[datum],$AD656)","v":"00:00:00"},{"$f":"SUMIFS('LOG2'!$J$5:$J$501,TabUren22[datum],$AD656)","v":"00:00:00"},{"$f":"SUMIFS(#REF!,#REF!,$AD656)","v":{"$error":"#REF!"}},{"$f":"SUMIFS(#REF!,#REF!,$AD656)","v":{"$error":"#REF!"}},{"$f":"SUMIFS(#REF!,#REF!,$AD656)","v":{"$error":"#REF!"}},{"$f":"SUMIFS(#REF!,#REF!,$AD656)","v":{"$error":"#REF!"}},{"$f":"COUNTIF(TabUren2[datum],$AD656)","v":0},{"$f":"COUNTIF(TabUren22[datum],$AD656)","v":0},{"$f":"COUNTIF(#REF!,$AD656)","v":{"$error":"#REF!"}},{"$f":"COUNTIF(#REF!,$AD656)","v":{"$error":"#REF!"}},{"$f":"COUNTIF(#REF!,$AD656)","v":{"$error":"#REF!"}},{"$f":"COUNTIF(#REF!,$AD656)","v":{"$error":"#REF!"}},0,0,0,0,0,0,"","","","","","","","","","","","",0,""]
[null,null,null,null,null,null,null,null,null,null,null,null,null,null,null,null,null,null,null,null,null,null,null,null,null,null,null,null,null,"2016-10-17",{"$f":"SUMIFS('LOG1'!$J$5:$J$501,TabUren2[datum],$AD657)","v":"00:00:00"},{"$f":"SUMIFS('LOG2'!$J$5:$J$501,TabUren22[datum],$AD657)","v":"00:00:00"},{"$f":"SUMIFS(#REF!,#REF!,$AD657)","v":{"$error":"#REF!"}},{"$f":"SUMIFS(#REF!,#REF!,$AD657)","v":{"$error":"#REF!"}},{"$f":"SUMIFS(#REF!,#REF!,$AD657)","v":{"$error":"#REF!"}},{"$f":"SUMIFS(#REF!,#REF!,$AD657)","v":{"$error":"#REF!"}},{"$f":"COUNTIF(TabUren2[datum],$AD657)","v":0},{"$f":"COUNTIF(TabUren22[datum],$AD657)","v":0},{"$f":"COUNTIF(#REF!,$AD657)","v":{"$error":"#REF!"}},{"$f":"COUNTIF(#REF!,$AD657)","v":{"$error":"#REF!"}},{"$f":"COUNTIF(#REF!,$AD657)","v":{"$error":"#REF!"}},{"$f":"COUNTIF(#REF!,$AD657)","v":{"$error":"#REF!"}},0,0,0,0,0,0,"","","","","","","","","","","","",0,""]
[null,null,null,null,null,null,null,null,null,null,null,null,null,null,null,null,null,null,null,null,null,null,null,null,null,null,null,null,null,"2016-10-18",{"$f":"SUMIFS('LOG1'!$J$5:$J$501,TabUren2[datum],$AD658)","v":"00:00:00"},{"$f":"SUMIFS('LOG2'!$J$5:$J$501,TabUren22[datum],$AD658)","v":"00:00:00"},{"$f":"SUMIFS(#REF!,#REF!,$AD658)","v":{"$error":"#REF!"}},{"$f":"SUMIFS(#REF!,#REF!,$AD658)","v":{"$error":"#REF!"}},{"$f":"SUMIFS(#REF!,#REF!,$AD658)","v":{"$error":"#REF!"}},{"$f":"SUMIFS(#REF!,#REF!,$AD658)","v":{"$error":"#REF!"}},{"$f":"COUNTIF(TabUren2[datum],$AD658)","v":0},{"$f":"COUNTIF(TabUren22[datum],$AD658)","v":0},{"$f":"COUNTIF(#REF!,$AD658)","v":{"$error":"#REF!"}},{"$f":"COUNTIF(#REF!,$AD658)","v":{"$error":"#REF!"}},{"$f":"COUNTIF(#REF!,$AD658)","v":{"$error":"#REF!"}},{"$f":"COUNTIF(#REF!,$AD658)","v":{"$error":"#REF!"}},0,0,0,0,0,0,"","","","","","","","","","","","",0,""]
[null,null,null,null,null,null,null,null,null,null,null,null,null,null,null,null,null,null,null,null,null,null,null,null,null,null,null,null,null,"2016-10-19",{"$f":"SUMIFS('LOG1'!$J$5:$J$501,TabUren2[datum],$AD659)","v":"00:00:00"},{"$f":"SUMIFS('LOG2'!$J$5:$J$501,TabUren22[datum],$AD659)","v":"00:00:00"},{"$f":"SUMIFS(#REF!,#REF!,$AD659)","v":{"$error":"#REF!"}},{"$f":"SUMIFS(#REF!,#REF!,$AD659)","v":{"$error":"#REF!"}},{"$f":"SUMIFS(#REF!,#REF!,$AD659)","v":{"$error":"#REF!"}},{"$f":"SUMIFS(#REF!,#REF!,$AD659)","v":{"$error":"#REF!"}},{"$f":"COUNTIF(TabUren2[datum],$AD659)","v":0},{"$f":"COUNTIF(TabUren22[datum],$AD659)","v":0},{"$f":"COUNTIF(#REF!,$AD659)","v":{"$error":"#REF!"}},{"$f":"COUNTIF(#REF!,$AD659)","v":{"$error":"#REF!"}},{"$f":"COUNTIF(#REF!,$AD659)","v":{"$error":"#REF!"}},{"$f":"COUNTIF(#REF!,$AD659)","v":{"$error":"#REF!"}},0,0,0,0,0,0,"","","","","","","","","","","","",0,""]
[null,null,null,null,null,null,null,null,null,null,null,null,null,null,null,null,null,null,null,null,null,null,null,null,null,null,null,null,null,"2016-10-20",{"$f":"SUMIFS('LOG1'!$J$5:$J$501,TabUren2[datum],$AD660)","v":"00:00:00"},{"$f":"SUMIFS('LOG2'!$J$5:$J$501,TabUren22[datum],$AD660)","v":"00:00:00"},{"$f":"SUMIFS(#REF!,#REF!,$AD660)","v":{"$error":"#REF!"}},{"$f":"SUMIFS(#REF!,#REF!,$AD660)","v":{"$error":"#REF!"}},{"$f":"SUMIFS(#REF!,#REF!,$AD660)","v":{"$error":"#REF!"}},{"$f":"SUMIFS(#REF!,#REF!,$AD660)","v":{"$error":"#REF!"}},{"$f":"COUNTIF(TabUren2[datum],$AD660)","v":0},{"$f":"COUNTIF(TabUren22[datum],$AD660)","v":0},{"$f":"COUNTIF(#REF!,$AD660)","v":{"$error":"#REF!"}},{"$f":"COUNTIF(#REF!,$AD660)","v":{"$error":"#REF!"}},{"$f":"COUNTIF(#REF!,$AD660)","v":{"$error":"#REF!"}},{"$f":"COUNTIF(#REF!,$AD660)","v":{"$error":"#REF!"}},0,0,0,0,0,0,"","","","","","","","","","","","",0,""]
[null,null,null,null,null,null,null,null,null,null,null,null,null,null,null,null,null,null,null,null,null,null,null,null,null,null,null,null,null,"2016-10-21",{"$f":"SUMIFS('LOG1'!$J$5:$J$501,TabUren2[datum],$AD661)","v":"00:00:00"},{"$f":"SUMIFS('LOG2'!$J$5:$J$501,TabUren22[datum],$AD661)","v":"00:00:00"},{"$f":"SUMIFS(#REF!,#REF!,$AD661)","v":{"$error":"#REF!"}},{"$f":"SUMIFS(#REF!,#REF!,$AD661)","v":{"$error":"#REF!"}},{"$f":"SUMIFS(#REF!,#REF!,$AD661)","v":{"$error":"#REF!"}},{"$f":"SUMIFS(#REF!,#REF!,$AD661)","v":{"$error":"#REF!"}},{"$f":"COUNTIF(TabUren2[datum],$AD661)","v":0},{"$f":"COUNTIF(TabUren22[datum],$AD661)","v":0},{"$f":"COUNTIF(#REF!,$AD661)","v":{"$error":"#REF!"}},{"$f":"COUNTIF(#REF!,$AD661)","v":{"$error":"#REF!"}},{"$f":"COUNTIF(#REF!,$AD661)","v":{"$error":"#REF!"}},{"$f":"COUNTIF(#REF!,$AD661)","v":{"$error":"#REF!"}},0,0,0,0,0,0,"","","","","","","","","","","","",0,""]
[null,null,null,null,null,null,null,null,null,null,null,null,null,null,null,null,null,null,null,null,null,null,null,null,null,null,null,null,null,"2016-10-22",{"$f":"SUMIFS('LOG1'!$J$5:$J$501,TabUren2[datum],$AD662)","v":"00:00:00"},{"$f":"SUMIFS('LOG2'!$J$5:$J$501,TabUren22[datum],$AD662)","v":"00:00:00"},{"$f":"SUMIFS(#REF!,#REF!,$AD662)","v":{"$error":"#REF!"}},{"$f":"SUMIFS(#REF!,#REF!,$AD662)","v":{"$error":"#REF!"}},{"$f":"SUMIFS(#REF!,#REF!,$AD662)","v":{"$error":"#REF!"}},{"$f":"SUMIFS(#REF!,#REF!,$AD662)","v":{"$error":"#REF!"}},{"$f":"COUNTIF(TabUren2[datum],$AD662)","v":0},{"$f":"COUNTIF(TabUren22[datum],$AD662)","v":0},{"$f":"COUNTIF(#REF!,$AD662)","v":{"$error":"#REF!"}},{"$f":"COUNTIF(#REF!,$AD662)","v":{"$error":"#REF!"}},{"$f":"COUNTIF(#REF!,$AD662)","v":{"$error":"#REF!"}},{"$f":"COUNTIF(#REF!,$AD662)","v":{"$error":"#REF!"}},0,0,0,0,0,0,"","","","","","","","","","","","",0,""]
[null,null,null,null,null,null,null,null,null,null,null,null,null,null,null,null,null,null,null,null,null,null,null,null,null,null,null,null,null,"2016-10-23",{"$f":"SUMIFS('LOG1'!$J$5:$J$501,TabUren2[datum],$AD663)","v":"00:00:00"},{"$f":"SUMIFS('LOG2'!$J$5:$J$501,TabUren22[datum],$AD663)","v":"00:00:00"},{"$f":"SUMIFS(#REF!,#REF!,$AD663)","v":{"$error":"#REF!"}},{"$f":"SUMIFS(#REF!,#REF!,$AD663)","v":{"$error":"#REF!"}},{"$f":"SUMIFS(#REF!,#REF!,$AD663)","v":{"$error":"#REF!"}},{"$f":"SUMIFS(#REF!,#REF!,$AD663)","v":{"$error":"#REF!"}},{"$f":"COUNTIF(TabUren2[datum],$AD663)","v":0},{"$f":"COUNTIF(TabUren22[datum],$AD663)","v":0},{"$f":"COUNTIF(#REF!,$AD663)","v":{"$error":"#REF!"}},{"$f":"COUNTIF(#REF!,$AD663)","v":{"$error":"#REF!"}},{"$f":"COUNTIF(#REF!,$AD663)","v":{"$error":"#REF!"}},{"$f":"COUNTIF(#REF!,$AD663)","v":{"$error":"#REF!"}},0,0,0,0,0,0,"","","","","","","","","","","","",0,""]
[null,null,null,null,null,null,null,null,null,null,null,null,null,null,null,null,null,null,null,null,null,null,null,null,null,null,null,null,null,"2016-10-24",{"$f":"SUMIFS('LOG1'!$J$5:$J$501,TabUren2[datum],$AD664)","v":"00:00:00"},{"$f":"SUMIFS('LOG2'!$J$5:$J$501,TabUren22[datum],$AD664)","v":"00:00:00"},{"$f":"SUMIFS(#REF!,#REF!,$AD664)","v":{"$error":"#REF!"}},{"$f":"SUMIFS(#REF!,#REF!,$AD664)","v":{"$error":"#REF!"}},{"$f":"SUMIFS(#REF!,#REF!,$AD664)","v":{"$error":"#REF!"}},{"$f":"SUMIFS(#REF!,#REF!,$AD664)","v":{"$error":"#REF!"}},{"$f":"COUNTIF(TabUren2[datum],$AD664)","v":0},{"$f":"COUNTIF(TabUren22[datum],$AD664)","v":0},{"$f":"COUNTIF(#REF!,$AD664)","v":{"$error":"#REF!"}},{"$f":"COUNTIF(#REF!,$AD664)","v":{"$error":"#REF!"}},{"$f":"COUNTIF(#REF!,$AD664)","v":{"$error":"#REF!"}},{"$f":"COUNTIF(#REF!,$AD664)","v":{"$error":"#REF!"}},0,0,0,0,0,0,"","","","","","","","","","","","",0,""]
[null,null,null,null,null,null,null,null,null,null,null,null,null,null,null,null,null,null,null,null,null,null,null,null,null,null,null,null,null,"2016-10-25",{"$f":"SUMIFS('LOG1'!$J$5:$J$501,TabUren2[datum],$AD665)","v":"00:00:00"},{"$f":"SUMIFS('LOG2'!$J$5:$J$501,TabUren22[datum],$AD665)","v":"00:00:00"},{"$f":"SUMIFS(#REF!,#REF!,$AD665)","v":{"$error":"#REF!"}},{"$f":"SUMIFS(#REF!,#REF!,$AD665)","v":{"$error":"#REF!"}},{"$f":"SUMIFS(#REF!,#REF!,$AD665)","v":{"$error":"#REF!"}},{"$f":"SUMIFS(#REF!,#REF!,$AD665)","v":{"$error":"#REF!"}},{"$f":"COUNTIF(TabUren2[datum],$AD665)","v":0},{"$f":"COUNTIF(TabUren22[datum],$AD665)","v":0},{"$f":"COUNTIF(#REF!,$AD665)","v":{"$error":"#REF!"}},{"$f":"COUNTIF(#REF!,$AD665)","v":{"$error":"#REF!"}},{"$f":"COUNTIF(#REF!,$AD665)","v":{"$error":"#REF!"}},{"$f":"COUNTIF(#REF!,$AD665)","v":{"$error":"#REF!"}},0,0,0,0,0,0,"","","","","","","","","","","","",0,""]
[null,null,null,null,null,null,null,null,null,null,null,null,null,null,null,null,null,null,null,null,null,null,null,null,null,null,null,null,null,"2016-10-26",{"$f":"SUMIFS('LOG1'!$J$5:$J$501,TabUren2[datum],$AD666)","v":"00:00:00"},{"$f":"SUMIFS('LOG2'!$J$5:$J$501,TabUren22[datum],$AD666)","v":"00:00:00"},{"$f":"SUMIFS(#REF!,#REF!,$AD666)","v":{"$error":"#REF!"}},{"$f":"SUMIFS(#REF!,#REF!,$AD666)","v":{"$error":"#REF!"}},{"$f":"SUMIFS(#REF!,#REF!,$AD666)","v":{"$error":"#REF!"}},{"$f":"SUMIFS(#REF!,#REF!,$AD666)","v":{"$error":"#REF!"}},{"$f":"COUNTIF(TabUren2[datum],$AD666)","v":0},{"$f":"COUNTIF(TabUren22[datum],$AD666)","v":0},{"$f":"COUNTIF(#REF!,$AD666)","v":{"$error":"#REF!"}},{"$f":"COUNTIF(#REF!,$AD666)","v":{"$error":"#REF!"}},{"$f":"COUNTIF(#REF!,$AD666)","v":{"$error":"#REF!"}},{"$f":"COUNTIF(#REF!,$AD666)","v":{"$error":"#REF!"}},0,0,0,0,0,0,"","","","","","","","","","","","",0,""]
[null,null,null,null,null,null,null,null,null,null,null,null,null,null,null,null,null,null,null,null,null,null,null,null,null,null,null,null,null,"2016-10-27",{"$f":"SUMIFS('LOG1'!$J$5:$J$501,TabUren2[datum],$AD667)","v":"00:00:00"},{"$f":"SUMIFS('LOG2'!$J$5:$J$501,TabUren22[datum],$AD667)","v":"00:00:00"},{"$f":"SUMIFS(#REF!,#REF!,$AD667)","v":{"$error":"#REF!"}},{"$f":"SUMIFS(#REF!,#REF!,$AD667)","v":{"$error":"#REF!"}},{"$f":"SUMIFS(#REF!,#REF!,$AD667)","v":{"$error":"#REF!"}},{"$f":"SUMIFS(#REF!,#REF!,$AD667)","v":{"$error":"#REF!"}},{"$f":"COUNTIF(TabUren2[datum],$AD667)","v":0},{"$f":"COUNTIF(TabUren22[datum],$AD667)","v":0},{"$f":"COUNTIF(#REF!,$AD667)","v":{"$error":"#REF!"}},{"$f":"COUNTIF(#REF!,$AD667)","v":{"$error":"#REF!"}},{"$f":"COUNTIF(#REF!,$AD667)","v":{"$error":"#REF!"}},{"$f":"COUNTIF(#REF!,$AD667)","v":{"$error":"#REF!"}},0,0,0,0,0,0,"","","","","","","","","","","","",0,""]
[null,null,null,null,null,null,null,null,null,null,null,null,null,null,null,null,null,null,null,null,null,null,null,null,null,null,null,null,null,"2016-10-28",{"$f":"SUMIFS('LOG1'!$J$5:$J$501,TabUren2[datum],$AD668)","v":"00:00:00"},{"$f":"SUMIFS('LOG2'!$J$5:$J$501,TabUren22[datum],$AD668)","v":"00:00:00"},{"$f":"SUMIFS(#REF!,#REF!,$AD668)","v":{"$error":"#REF!"}},{"$f":"SUMIFS(#REF!,#REF!,$AD668)","v":{"$error":"#REF!"}},{"$f":"SUMIFS(#REF!,#REF!,$AD668)","v":{"$error":"#REF!"}},{"$f":"SUMIFS(#REF!,#REF!,$AD668)","v":{"$error":"#REF!"}},{"$f":"COUNTIF(TabUren2[datum],$AD668)","v":0},{"$f":"COUNTIF(TabUren22[datum],$AD668)","v":0},{"$f":"COUNTIF(#REF!,$AD668)","v":{"$error":"#REF!"}},{"$f":"COUNTIF(#REF!,$AD668)","v":{"$error":"#REF!"}},{"$f":"COUNTIF(#REF!,$AD668)","v":{"$error":"#REF!"}},{"$f":"COUNTIF(#REF!,$AD668)","v":{"$error":"#REF!"}},0,0,0,0,0,0,"","","","","","","","","","","","",0,""]
[null,null,null,null,null,null,null,null,null,null,null,null,null,null,null,null,null,null,null,null,null,null,null,null,null,null,null,null,null,"2016-10-29",{"$f":"SUMIFS('LOG1'!$J$5:$J$501,TabUren2[datum],$AD669)","v":"00:00:00"},{"$f":"SUMIFS('LOG2'!$J$5:$J$501,TabUren22[datum],$AD669)","v":"00:00:00"},{"$f":"SUMIFS(#REF!,#REF!,$AD669)","v":{"$error":"#REF!"}},{"$f":"SUMIFS(#REF!,#REF!,$AD669)","v":{"$error":"#REF!"}},{"$f":"SUMIFS(#REF!,#REF!,$AD669)","v":{"$error":"#REF!"}},{"$f":"SUMIFS(#REF!,#REF!,$AD669)","v":{"$error":"#REF!"}},{"$f":"COUNTIF(TabUren2[datum],$AD669)","v":0},{"$f":"COUNTIF(TabUren22[datum],$AD669)","v":0},{"$f":"COUNTIF(#REF!,$AD669)","v":{"$error":"#REF!"}},{"$f":"COUNTIF(#REF!,$AD669)","v":{"$error":"#REF!"}},{"$f":"COUNTIF(#REF!,$AD669)","v":{"$error":"#REF!"}},{"$f":"COUNTIF(#REF!,$AD669)","v":{"$error":"#REF!"}},0,0,0,0,0,0,"","","","","","","","","","","","",0,""]
[null,null,null,null,null,null,null,null,null,null,null,null,null,null,null,null,null,null,null,null,null,null,null,null,null,null,null,null,null,"2016-10-30",{"$f":"SUMIFS('LOG1'!$J$5:$J$501,TabUren2[datum],$AD670)","v":"00:00:00"},{"$f":"SUMIFS('LOG2'!$J$5:$J$501,TabUren22[datum],$AD670)","v":"00:00:00"},{"$f":"SUMIFS(#REF!,#REF!,$AD670)","v":{"$error":"#REF!"}},{"$f":"SUMIFS(#REF!,#REF!,$AD670)","v":{"$error":"#REF!"}},{"$f":"SUMIFS(#REF!,#REF!,$AD670)","v":{"$error":"#REF!"}},{"$f":"SUMIFS(#REF!,#REF!,$AD670)","v":{"$error":"#REF!"}},{"$f":"COUNTIF(TabUren2[datum],$AD670)","v":0},{"$f":"COUNTIF(TabUren22[datum],$AD670)","v":0},{"$f":"COUNTIF(#REF!,$AD670)","v":{"$error":"#REF!"}},{"$f":"COUNTIF(#REF!,$AD670)","v":{"$error":"#REF!"}},{"$f":"COUNTIF(#REF!,$AD670)","v":{"$error":"#REF!"}},{"$f":"COUNTIF(#REF!,$AD670)","v":{"$error":"#REF!"}},0,0,0,0,0,0,"","","","","","","","","","","","",0,""]
[null,null,null,null,null,null,null,null,null,null,null,null,null,null,null,null,null,null,null,null,null,null,null,null,null,null,null,null,null,"2016-10-31",{"$f":"SUMIFS('LOG1'!$J$5:$J$501,TabUren2[datum],$AD671)","v":"00:00:00"},{"$f":"SUMIFS('LOG2'!$J$5:$J$501,TabUren22[datum],$AD671)","v":"00:00:00"},{"$f":"SUMIFS(#REF!,#REF!,$AD671)","v":{"$error":"#REF!"}},{"$f":"SUMIFS(#REF!,#REF!,$AD671)","v":{"$error":"#REF!"}},{"$f":"SUMIFS(#REF!,#REF!,$AD671)","v":{"$error":"#REF!"}},{"$f":"SUMIFS(#REF!,#REF!,$AD671)","v":{"$error":"#REF!"}},{"$f":"COUNTIF(TabUren2[datum],$AD671)","v":0},{"$f":"COUNTIF(TabUren22[datum],$AD671)","v":0},{"$f":"COUNTIF(#REF!,$AD671)","v":{"$error":"#REF!"}},{"$f":"COUNTIF(#REF!,$AD671)","v":{"$error":"#REF!"}},{"$f":"COUNTIF(#REF!,$AD671)","v":{"$error":"#REF!"}},{"$f":"COUNTIF(#REF!,$AD671)","v":{"$error":"#REF!"}},0,0,0,0,0,0,"","","","","","","","","","","","",0,""]
[null,null,null,null,null,null,null,null,null,null,null,null,null,null,null,null,null,null,null,null,null,null,null,null,null,null,null,null,null,"2016-11-01",{"$f":"SUMIFS('LOG1'!$J$5:$J$501,TabUren2[datum],$AD672)","v":"00:00:00"},{"$f":"SUMIFS('LOG2'!$J$5:$J$501,TabUren22[datum],$AD672)","v":"00:00:00"},{"$f":"SUMIFS(#REF!,#REF!,$AD672)","v":{"$error":"#REF!"}},{"$f":"SUMIFS(#REF!,#REF!,$AD672)","v":{"$error":"#REF!"}},{"$f":"SUMIFS(#REF!,#REF!,$AD672)","v":{"$error":"#REF!"}},{"$f":"SUMIFS(#REF!,#REF!,$AD672)","v":{"$error":"#REF!"}},{"$f":"COUNTIF(TabUren2[datum],$AD672)","v":0},{"$f":"COUNTIF(TabUren22[datum],$AD672)","v":0},{"$f":"COUNTIF(#REF!,$AD672)","v":{"$error":"#REF!"}},{"$f":"COUNTIF(#REF!,$AD672)","v":{"$error":"#REF!"}},{"$f":"COUNTIF(#REF!,$AD672)","v":{"$error":"#REF!"}},{"$f":"COUNTIF(#REF!,$AD672)","v":{"$error":"#REF!"}},0,0,0,0,0,0,"","","","","","","","","","","","",0,""]
[null,null,null,null,null,null,null,null,null,null,null,null,null,null,null,null,null,null,null,null,null,null,null,null,null,null,null,null,null,"2016-11-02",{"$f":"SUMIFS('LOG1'!$J$5:$J$501,TabUren2[datum],$AD673)","v":"00:00:00"},{"$f":"SUMIFS('LOG2'!$J$5:$J$501,TabUren22[datum],$AD673)","v":"00:00:00"},{"$f":"SUMIFS(#REF!,#REF!,$AD673)","v":{"$error":"#REF!"}},{"$f":"SUMIFS(#REF!,#REF!,$AD673)","v":{"$error":"#REF!"}},{"$f":"SUMIFS(#REF!,#REF!,$AD673)","v":{"$error":"#REF!"}},{"$f":"SUMIFS(#REF!,#REF!,$AD673)","v":{"$error":"#REF!"}},{"$f":"COUNTIF(TabUren2[datum],$AD673)","v":0},{"$f":"COUNTIF(TabUren22[datum],$AD673)","v":0},{"$f":"COUNTIF(#REF!,$AD673)","v":{"$error":"#REF!"}},{"$f":"COUNTIF(#REF!,$AD673)","v":{"$error":"#REF!"}},{"$f":"COUNTIF(#REF!,$AD673)","v":{"$error":"#REF!"}},{"$f":"COUNTIF(#REF!,$AD673)","v":{"$error":"#REF!"}},0,0,0,0,0,0,"","","","","","","","","","","","",0,""]
[null,null,null,null,null,null,null,null,null,null,null,null,null,null,null,null,null,null,null,null,null,null,null,null,null,null,null,null,null,"2016-11-03",{"$f":"SUMIFS('LOG1'!$J$5:$J$501,TabUren2[datum],$AD674)","v":"00:00:00"},{"$f":"SUMIFS('LOG2'!$J$5:$J$501,TabUren22[datum],$AD674)","v":"00:00:00"},{"$f":"SUMIFS(#REF!,#REF!,$AD674)","v":{"$error":"#REF!"}},{"$f":"SUMIFS(#REF!,#REF!,$AD674)","v":{"$error":"#REF!"}},{"$f":"SUMIFS(#REF!,#REF!,$AD674)","v":{"$error":"#REF!"}},{"$f":"SUMIFS(#REF!,#REF!,$AD674)","v":{"$error":"#REF!"}},{"$f":"COUNTIF(TabUren2[datum],$AD674)","v":0},{"$f":"COUNTIF(TabUren22[datum],$AD674)","v":0},{"$f":"COUNTIF(#REF!,$AD674)","v":{"$error":"#REF!"}},{"$f":"COUNTIF(#REF!,$AD674)","v":{"$error":"#REF!"}},{"$f":"COUNTIF(#REF!,$AD674)","v":{"$error":"#REF!"}},{"$f":"COUNTIF(#REF!,$AD674)","v":{"$error":"#REF!"}},0,0,0,0,0,0,"","","","","","","","","","","","",0,""]
[null,null,null,null,null,null,null,null,null,null,null,null,null,null,null,null,null,null,null,null,null,null,null,null,null,null,null,null,null,"2016-11-04",{"$f":"SUMIFS('LOG1'!$J$5:$J$501,TabUren2[datum],$AD675)","v":"00:00:00"},{"$f":"SUMIFS('LOG2'!$J$5:$J$501,TabUren22[datum],$AD675)","v":"00:00:00"},{"$f":"SUMIFS(#REF!,#REF!,$AD675)","v":{"$error":"#REF!"}},{"$f":"SUMIFS(#REF!,#REF!,$AD675)","v":{"$error":"#REF!"}},{"$f":"SUMIFS(#REF!,#REF!,$AD675)","v":{"$error":"#REF!"}},{"$f":"SUMIFS(#REF!,#REF!,$AD675)","v":{"$error":"#REF!"}},{"$f":"COUNTIF(TabUren2[datum],$AD675)","v":0},{"$f":"COUNTIF(TabUren22[datum],$AD675)","v":0},{"$f":"COUNTIF(#REF!,$AD675)","v":{"$error":"#REF!"}},{"$f":"COUNTIF(#REF!,$AD675)","v":{"$error":"#REF!"}},{"$f":"COUNTIF(#REF!,$AD675)","v":{"$error":"#REF!"}},{"$f":"COUNTIF(#REF!,$AD675)","v":{"$error":"#REF!"}},0,0,0,0,0,0,"","","","","","","","","","","","",0,""]
[null,null,null,null,null,null,null,null,null,null,null,null,null,null,null,null,null,null,null,null,null,null,null,null,null,null,null,null,null,"2016-11-05",{"$f":"SUMIFS('LOG1'!$J$5:$J$501,TabUren2[datum],$AD676)","v":"00:00:00"},{"$f":"SUMIFS('LOG2'!$J$5:$J$501,TabUren22[datum],$AD676)","v":"00:00:00"},{"$f":"SUMIFS(#REF!,#REF!,$AD676)","v":{"$error":"#REF!"}},{"$f":"SUMIFS(#REF!,#REF!,$AD676)","v":{"$error":"#REF!"}},{"$f":"SUMIFS(#REF!,#REF!,$AD676)","v":{"$error":"#REF!"}},{"$f":"SUMIFS(#REF!,#REF!,$AD676)","v":{"$error":"#REF!"}},{"$f":"COUNTIF(TabUren2[datum],$AD676)","v":0},{"$f":"COUNTIF(TabUren22[datum],$AD676)","v":0},{"$f":"COUNTIF(#REF!,$AD676)","v":{"$error":"#REF!"}},{"$f":"COUNTIF(#REF!,$AD676)","v":{"$error":"#REF!"}},{"$f":"COUNTIF(#REF!,$AD676)","v":{"$error":"#REF!"}},{"$f":"COUNTIF(#REF!,$AD676)","v":{"$error":"#REF!"}},0,0,0,0,0,0,"","","","","","","","","","","","",0,""]
[null,null,null,null,null,null,null,null,null,null,null,null,null,null,null,null,null,null,null,null,null,null,null,null,null,null,null,null,null,"2016-11-06",{"$f":"SUMIFS('LOG1'!$J$5:$J$501,TabUren2[datum],$AD677)","v":"00:00:00"},{"$f":"SUMIFS('LOG2'!$J$5:$J$501,TabUren22[datum],$AD677)","v":"00:00:00"},{"$f":"SUMIFS(#REF!,#REF!,$AD677)","v":{"$error":"#REF!"}},{"$f":"SUMIFS(#REF!,#REF!,$AD677)","v":{"$error":"#REF!"}},{"$f":"SUMIFS(#REF!,#REF!,$AD677)","v":{"$error":"#REF!"}},{"$f":"SUMIFS(#REF!,#REF!,$AD677)","v":{"$error":"#REF!"}},{"$f":"COUNTIF(TabUren2[datum],$AD677)","v":0},{"$f":"COUNTIF(TabUren22[datum],$AD677)","v":0},{"$f":"COUNTIF(#REF!,$AD677)","v":{"$error":"#REF!"}},{"$f":"COUNTIF(#REF!,$AD677)","v":{"$error":"#REF!"}},{"$f":"COUNTIF(#REF!,$AD677)","v":{"$error":"#REF!"}},{"$f":"COUNTIF(#REF!,$AD677)","v":{"$error":"#REF!"}},0,0,0,0,0,0,"","","","","","","","","","","","",0,""]
[null,null,null,null,null,null,null,null,null,null,null,null,null,null,null,null,null,null,null,null,null,null,null,null,null,null,null,null,null,"2016-11-07",{"$f":"SUMIFS('LOG1'!$J$5:$J$501,TabUren2[datum],$AD678)","v":"00:00:00"},{"$f":"SUMIFS('LOG2'!$J$5:$J$501,TabUren22[datum],$AD678)","v":"00:00:00"},{"$f":"SUMIFS(#REF!,#REF!,$AD678)","v":{"$error":"#REF!"}},{"$f":"SUMIFS(#REF!,#REF!,$AD678)","v":{"$error":"#REF!"}},{"$f":"SUMIFS(#REF!,#REF!,$AD678)","v":{"$error":"#REF!"}},{"$f":"SUMIFS(#REF!,#REF!,$AD678)","v":{"$error":"#REF!"}},{"$f":"COUNTIF(TabUren2[datum],$AD678)","v":0},{"$f":"COUNTIF(TabUren22[datum],$AD678)","v":0},{"$f":"COUNTIF(#REF!,$AD678)","v":{"$error":"#REF!"}},{"$f":"COUNTIF(#REF!,$AD678)","v":{"$error":"#REF!"}},{"$f":"COUNTIF(#REF!,$AD678)","v":{"$error":"#REF!"}},{"$f":"COUNTIF(#REF!,$AD678)","v":{"$error":"#REF!"}},0,0,0,0,0,0,"","","","","","","","","","","","",0,""]
[null,null,null,null,null,null,null,null,null,null,null,null,null,null,null,null,null,null,null,null,null,null,null,null,null,null,null,null,null,"2016-11-08",{"$f":"SUMIFS('LOG1'!$J$5:$J$501,TabUren2[datum],$AD679)","v":"00:00:00"},{"$f":"SUMIFS('LOG2'!$J$5:$J$501,TabUren22[datum],$AD679)","v":"00:00:00"},{"$f":"SUMIFS(#REF!,#REF!,$AD679)","v":{"$error":"#REF!"}},{"$f":"SUMIFS(#REF!,#REF!,$AD679)","v":{"$error":"#REF!"}},{"$f":"SUMIFS(#REF!,#REF!,$AD679)","v":{"$error":"#REF!"}},{"$f":"SUMIFS(#REF!,#REF!,$AD679)","v":{"$error":"#REF!"}},{"$f":"COUNTIF(TabUren2[datum],$AD679)","v":0},{"$f":"COUNTIF(TabUren22[datum],$AD679)","v":0},{"$f":"COUNTIF(#REF!,$AD679)","v":{"$error":"#REF!"}},{"$f":"COUNTIF(#REF!,$AD679)","v":{"$error":"#REF!"}},{"$f":"COUNTIF(#REF!,$AD679)","v":{"$error":"#REF!"}},{"$f":"COUNTIF(#REF!,$AD679)","v":{"$error":"#REF!"}},0,0,0,0,0,0,"","","","","","","","","","","","",0,""]
[null,null,null,null,null,null,null,null,null,null,null,null,null,null,null,null,null,null,null,null,null,null,null,null,null,null,null,null,null,"2016-11-09",{"$f":"SUMIFS('LOG1'!$J$5:$J$501,TabUren2[datum],$AD680)","v":"00:00:00"},{"$f":"SUMIFS('LOG2'!$J$5:$J$501,TabUren22[datum],$AD680)","v":"00:00:00"},{"$f":"SUMIFS(#REF!,#REF!,$AD680)","v":{"$error":"#REF!"}},{"$f":"SUMIFS(#REF!,#REF!,$AD680)","v":{"$error":"#REF!"}},{"$f":"SUMIFS(#REF!,#REF!,$AD680)","v":{"$error":"#REF!"}},{"$f":"SUMIFS(#REF!,#REF!,$AD680)","v":{"$error":"#REF!"}},{"$f":"COUNTIF(TabUren2[datum],$AD680)","v":0},{"$f":"COUNTIF(TabUren22[datum],$AD680)","v":0},{"$f":"COUNTIF(#REF!,$AD680)","v":{"$error":"#REF!"}},{"$f":"COUNTIF(#REF!,$AD680)","v":{"$error":"#REF!"}},{"$f":"COUNTIF(#REF!,$AD680)","v":{"$error":"#REF!"}},{"$f":"COUNTIF(#REF!,$AD680)","v":{"$error":"#REF!"}},0,0,0,0,0,0,"","","","","","","","","","","","",0,""]
[null,null,null,null,null,null,null,null,null,null,null,null,null,null,null,null,null,null,null,null,null,null,null,null,null,null,null,null,null,"2016-11-10",{"$f":"SUMIFS('LOG1'!$J$5:$J$501,TabUren2[datum],$AD681)","v":"00:00:00"},{"$f":"SUMIFS('LOG2'!$J$5:$J$501,TabUren22[datum],$AD681)","v":"00:00:00"},{"$f":"SUMIFS(#REF!,#REF!,$AD681)","v":{"$error":"#REF!"}},{"$f":"SUMIFS(#REF!,#REF!,$AD681)","v":{"$error":"#REF!"}},{"$f":"SUMIFS(#REF!,#REF!,$AD681)","v":{"$error":"#REF!"}},{"$f":"SUMIFS(#REF!,#REF!,$AD681)","v":{"$error":"#REF!"}},{"$f":"COUNTIF(TabUren2[datum],$AD681)","v":0},{"$f":"COUNTIF(TabUren22[datum],$AD681)","v":0},{"$f":"COUNTIF(#REF!,$AD681)","v":{"$error":"#REF!"}},{"$f":"COUNTIF(#REF!,$AD681)","v":{"$error":"#REF!"}},{"$f":"COUNTIF(#REF!,$AD681)","v":{"$error":"#REF!"}},{"$f":"COUNTIF(#REF!,$AD681)","v":{"$error":"#REF!"}},0,0,0,0,0,0,"","","","","","","","","","","","",0,""]
[null,null,null,null,null,null,null,null,null,null,null,null,null,null,null,null,null,null,null,null,null,null,null,null,null,null,null,null,null,"2016-11-11",{"$f":"SUMIFS('LOG1'!$J$5:$J$501,TabUren2[datum],$AD682)","v":"00:00:00"},{"$f":"SUMIFS('LOG2'!$J$5:$J$501,TabUren22[datum],$AD682)","v":"00:00:00"},{"$f":"SUMIFS(#REF!,#REF!,$AD682)","v":{"$error":"#REF!"}},{"$f":"SUMIFS(#REF!,#REF!,$AD682)","v":{"$error":"#REF!"}},{"$f":"SUMIFS(#REF!,#REF!,$AD682)","v":{"$error":"#REF!"}},{"$f":"SUMIFS(#REF!,#REF!,$AD682)","v":{"$error":"#REF!"}},{"$f":"COUNTIF(TabUren2[datum],$AD682)","v":0},{"$f":"COUNTIF(TabUren22[datum],$AD682)","v":0},{"$f":"COUNTIF(#REF!,$AD682)","v":{"$error":"#REF!"}},{"$f":"COUNTIF(#REF!,$AD682)","v":{"$error":"#REF!"}},{"$f":"COUNTIF(#REF!,$AD682)","v":{"$error":"#REF!"}},{"$f":"COUNTIF(#REF!,$AD682)","v":{"$error":"#REF!"}},0,0,0,0,0,0,"","","","","","","","","","","","",0,""]
[null,null,null,null,null,null,null,null,null,null,null,null,null,null,null,null,null,null,null,null,null,null,null,null,null,null,null,null,null,"2016-11-12",{"$f":"SUMIFS('LOG1'!$J$5:$J$501,TabUren2[datum],$AD683)","v":"00:00:00"},{"$f":"SUMIFS('LOG2'!$J$5:$J$501,TabUren22[datum],$AD683)","v":"00:00:00"},{"$f":"SUMIFS(#REF!,#REF!,$AD683)","v":{"$error":"#REF!"}},{"$f":"SUMIFS(#REF!,#REF!,$AD683)","v":{"$error":"#REF!"}},{"$f":"SUMIFS(#REF!,#REF!,$AD683)","v":{"$error":"#REF!"}},{"$f":"SUMIFS(#REF!,#REF!,$AD683)","v":{"$error":"#REF!"}},{"$f":"COUNTIF(TabUren2[datum],$AD683)","v":0},{"$f":"COUNTIF(TabUren22[datum],$AD683)","v":0},{"$f":"COUNTIF(#REF!,$AD683)","v":{"$error":"#REF!"}},{"$f":"COUNTIF(#REF!,$AD683)","v":{"$error":"#REF!"}},{"$f":"COUNTIF(#REF!,$AD683)","v":{"$error":"#REF!"}},{"$f":"COUNTIF(#REF!,$AD683)","v":{"$error":"#REF!"}},0,0,0,0,0,0,"","","","","","","","","","","","",0,""]
[null,null,null,null,null,null,null,null,null,null,null,null,null,null,null,null,null,null,null,null,null,null,null,null,null,null,null,null,null,"2016-11-13",{"$f":"SUMIFS('LOG1'!$J$5:$J$501,TabUren2[datum],$AD684)","v":"00:00:00"},{"$f":"SUMIFS('LOG2'!$J$5:$J$501,TabUren22[datum],$AD684)","v":"00:00:00"},{"$f":"SUMIFS(#REF!,#REF!,$AD684)","v":{"$error":"#REF!"}},{"$f":"SUMIFS(#REF!,#REF!,$AD684)","v":{"$error":"#REF!"}},{"$f":"SUMIFS(#REF!,#REF!,$AD684)","v":{"$error":"#REF!"}},{"$f":"SUMIFS(#REF!,#REF!,$AD684)","v":{"$error":"#REF!"}},{"$f":"COUNTIF(TabUren2[datum],$AD684)","v":0},{"$f":"COUNTIF(TabUren22[datum],$AD684)","v":0},{"$f":"COUNTIF(#REF!,$AD684)","v":{"$error":"#REF!"}},{"$f":"COUNTIF(#REF!,$AD684)","v":{"$error":"#REF!"}},{"$f":"COUNTIF(#REF!,$AD684)","v":{"$error":"#REF!"}},{"$f":"COUNTIF(#REF!,$AD684)","v":{"$error":"#REF!"}},0,0,0,0,0,0,"","","","","","","","","","","","",0,""]
[null,null,null,null,null,null,null,null,null,null,null,null,null,null,null,null,null,null,null,null,null,null,null,null,null,null,null,null,null,"2016-11-14",{"$f":"SUMIFS('LOG1'!$J$5:$J$501,TabUren2[datum],$AD685)","v":"00:00:00"},{"$f":"SUMIFS('LOG2'!$J$5:$J$501,TabUren22[datum],$AD685)","v":"00:00:00"},{"$f":"SUMIFS(#REF!,#REF!,$AD685)","v":{"$error":"#REF!"}},{"$f":"SUMIFS(#REF!,#REF!,$AD685)","v":{"$error":"#REF!"}},{"$f":"SUMIFS(#REF!,#REF!,$AD685)","v":{"$error":"#REF!"}},{"$f":"SUMIFS(#REF!,#REF!,$AD685)","v":{"$error":"#REF!"}},{"$f":"COUNTIF(TabUren2[datum],$AD685)","v":0},{"$f":"COUNTIF(TabUren22[datum],$AD685)","v":0},{"$f":"COUNTIF(#REF!,$AD685)","v":{"$error":"#REF!"}},{"$f":"COUNTIF(#REF!,$AD685)","v":{"$error":"#REF!"}},{"$f":"COUNTIF(#REF!,$AD685)","v":{"$error":"#REF!"}},{"$f":"COUNTIF(#REF!,$AD685)","v":{"$error":"#REF!"}},0,0,0,0,0,0,"","","","","","","","","","","","",0,""]
[null,null,null,null,null,null,null,null,null,null,null,null,null,null,null,null,null,null,null,null,null,null,null,null,null,null,null,null,null,"2016-11-15",{"$f":"SUMIFS('LOG1'!$J$5:$J$501,TabUren2[datum],$AD686)","v":"00:00:00"},{"$f":"SUMIFS('LOG2'!$J$5:$J$501,TabUren22[datum],$AD686)","v":"00:00:00"},{"$f":"SUMIFS(#REF!,#REF!,$AD686)","v":{"$error":"#REF!"}},{"$f":"SUMIFS(#REF!,#REF!,$AD686)","v":{"$error":"#REF!"}},{"$f":"SUMIFS(#REF!,#REF!,$AD686)","v":{"$error":"#REF!"}},{"$f":"SUMIFS(#REF!,#REF!,$AD686)","v":{"$error":"#REF!"}},{"$f":"COUNTIF(TabUren2[datum],$AD686)","v":0},{"$f":"COUNTIF(TabUren22[datum],$AD686)","v":0},{"$f":"COUNTIF(#REF!,$AD686)","v":{"$error":"#REF!"}},{"$f":"COUNTIF(#REF!,$AD686)","v":{"$error":"#REF!"}},{"$f":"COUNTIF(#REF!,$AD686)","v":{"$error":"#REF!"}},{"$f":"COUNTIF(#REF!,$AD686)","v":{"$error":"#REF!"}},0,0,0,0,0,0,"","","","","","","","","","","","",0,""]
[null,null,null,null,null,null,null,null,null,null,null,null,null,null,null,null,null,null,null,null,null,null,null,null,null,null,null,null,null,"2016-11-16",{"$f":"SUMIFS('LOG1'!$J$5:$J$501,TabUren2[datum],$AD687)","v":"00:00:00"},{"$f":"SUMIFS('LOG2'!$J$5:$J$501,TabUren22[datum],$AD687)","v":"00:00:00"},{"$f":"SUMIFS(#REF!,#REF!,$AD687)","v":{"$error":"#REF!"}},{"$f":"SUMIFS(#REF!,#REF!,$AD687)","v":{"$error":"#REF!"}},{"$f":"SUMIFS(#REF!,#REF!,$AD687)","v":{"$error":"#REF!"}},{"$f":"SUMIFS(#REF!,#REF!,$AD687)","v":{"$error":"#REF!"}},{"$f":"COUNTIF(TabUren2[datum],$AD687)","v":0},{"$f":"COUNTIF(TabUren22[datum],$AD687)","v":0},{"$f":"COUNTIF(#REF!,$AD687)","v":{"$error":"#REF!"}},{"$f":"COUNTIF(#REF!,$AD687)","v":{"$error":"#REF!"}},{"$f":"COUNTIF(#REF!,$AD687)","v":{"$error":"#REF!"}},{"$f":"COUNTIF(#REF!,$AD687)","v":{"$error":"#REF!"}},0,0,0,0,0,0,"","","","","","","","","","","","",0,""]
[null,null,null,null,null,null,null,null,null,null,null,null,null,null,null,null,null,null,null,null,null,null,null,null,null,null,null,null,null,"2016-11-17",{"$f":"SUMIFS('LOG1'!$J$5:$J$501,TabUren2[datum],$AD688)","v":"00:00:00"},{"$f":"SUMIFS('LOG2'!$J$5:$J$501,TabUren22[datum],$AD688)","v":"00:00:00"},{"$f":"SUMIFS(#REF!,#REF!,$AD688)","v":{"$error":"#REF!"}},{"$f":"SUMIFS(#REF!,#REF!,$AD688)","v":{"$error":"#REF!"}},{"$f":"SUMIFS(#REF!,#REF!,$AD688)","v":{"$error":"#REF!"}},{"$f":"SUMIFS(#REF!,#REF!,$AD688)","v":{"$error":"#REF!"}},{"$f":"COUNTIF(TabUren2[datum],$AD688)","v":0},{"$f":"COUNTIF(TabUren22[datum],$AD688)","v":0},{"$f":"COUNTIF(#REF!,$AD688)","v":{"$error":"#REF!"}},{"$f":"COUNTIF(#REF!,$AD688)","v":{"$error":"#REF!"}},{"$f":"COUNTIF(#REF!,$AD688)","v":{"$error":"#REF!"}},{"$f":"COUNTIF(#REF!,$AD688)","v":{"$error":"#REF!"}},0,0,0,0,0,0,"","","","","","","","","","","","",0,""]
[null,null,null,null,null,null,null,null,null,null,null,null,null,null,null,null,null,null,null,null,null,null,null,null,null,null,null,null,null,"2016-11-18",{"$f":"SUMIFS('LOG1'!$J$5:$J$501,TabUren2[datum],$AD689)","v":"00:00:00"},{"$f":"SUMIFS('LOG2'!$J$5:$J$501,TabUren22[datum],$AD689)","v":"00:00:00"},{"$f":"SUMIFS(#REF!,#REF!,$AD689)","v":{"$error":"#REF!"}},{"$f":"SUMIFS(#REF!,#REF!,$AD689)","v":{"$error":"#REF!"}},{"$f":"SUMIFS(#REF!,#REF!,$AD689)","v":{"$error":"#REF!"}},{"$f":"SUMIFS(#REF!,#REF!,$AD689)","v":{"$error":"#REF!"}},{"$f":"COUNTIF(TabUren2[datum],$AD689)","v":0},{"$f":"COUNTIF(TabUren22[datum],$AD689)","v":0},{"$f":"COUNTIF(#REF!,$AD689)","v":{"$error":"#REF!"}},{"$f":"COUNTIF(#REF!,$AD689)","v":{"$error":"#REF!"}},{"$f":"COUNTIF(#REF!,$AD689)","v":{"$error":"#REF!"}},{"$f":"COUNTIF(#REF!,$AD689)","v":{"$error":"#REF!"}},0,0,0,0,0,0,"","","","","","","","","","","","",0,""]
[null,null,null,null,null,null,null,null,null,null,null,null,null,null,null,null,null,null,null,null,null,null,null,null,null,null,null,null,null,"2016-11-19",{"$f":"SUMIFS('LOG1'!$J$5:$J$501,TabUren2[datum],$AD690)","v":"00:00:00"},{"$f":"SUMIFS('LOG2'!$J$5:$J$501,TabUren22[datum],$AD690)","v":"00:00:00"},{"$f":"SUMIFS(#REF!,#REF!,$AD690)","v":{"$error":"#REF!"}},{"$f":"SUMIFS(#REF!,#REF!,$AD690)","v":{"$error":"#REF!"}},{"$f":"SUMIFS(#REF!,#REF!,$AD690)","v":{"$error":"#REF!"}},{"$f":"SUMIFS(#REF!,#REF!,$AD690)","v":{"$error":"#REF!"}},{"$f":"COUNTIF(TabUren2[datum],$AD690)","v":0},{"$f":"COUNTIF(TabUren22[datum],$AD690)","v":0},{"$f":"COUNTIF(#REF!,$AD690)","v":{"$error":"#REF!"}},{"$f":"COUNTIF(#REF!,$AD690)","v":{"$error":"#REF!"}},{"$f":"COUNTIF(#REF!,$AD690)","v":{"$error":"#REF!"}},{"$f":"COUNTIF(#REF!,$AD690)","v":{"$error":"#REF!"}},0,0,0,0,0,0,"","","","","","","","","","","","",0,""]
[null,null,null,null,null,null,null,null,null,null,null,null,null,null,null,null,null,null,null,null,null,null,null,null,null,null,null,null,null,"2016-11-20",{"$f":"SUMIFS('LOG1'!$J$5:$J$501,TabUren2[datum],$AD691)","v":"00:00:00"},{"$f":"SUMIFS('LOG2'!$J$5:$J$501,TabUren22[datum],$AD691)","v":"00:00:00"},{"$f":"SUMIFS(#REF!,#REF!,$AD691)","v":{"$error":"#REF!"}},{"$f":"SUMIFS(#REF!,#REF!,$AD691)","v":{"$error":"#REF!"}},{"$f":"SUMIFS(#REF!,#REF!,$AD691)","v":{"$error":"#REF!"}},{"$f":"SUMIFS(#REF!,#REF!,$AD691)","v":{"$error":"#REF!"}},{"$f":"COUNTIF(TabUren2[datum],$AD691)","v":0},{"$f":"COUNTIF(TabUren22[datum],$AD691)","v":0},{"$f":"COUNTIF(#REF!,$AD691)","v":{"$error":"#REF!"}},{"$f":"COUNTIF(#REF!,$AD691)","v":{"$error":"#REF!"}},{"$f":"COUNTIF(#REF!,$AD691)","v":{"$error":"#REF!"}},{"$f":"COUNTIF(#REF!,$AD691)","v":{"$error":"#REF!"}},0,0,0,0,0,0,"","","","","","","","","","","","",0,""]
[null,null,null,null,null,null,null,null,null,null,null,null,null,null,null,null,null,null,null,null,null,null,null,null,null,null,null,null,null,"2016-11-21",{"$f":"SUMIFS('LOG1'!$J$5:$J$501,TabUren2[datum],$AD692)","v":"00:00:00"},{"$f":"SUMIFS('LOG2'!$J$5:$J$501,TabUren22[datum],$AD692)","v":"00:00:00"},{"$f":"SUMIFS(#REF!,#REF!,$AD692)","v":{"$error":"#REF!"}},{"$f":"SUMIFS(#REF!,#REF!,$AD692)","v":{"$error":"#REF!"}},{"$f":"SUMIFS(#REF!,#REF!,$AD692)","v":{"$error":"#REF!"}},{"$f":"SUMIFS(#REF!,#REF!,$AD692)","v":{"$error":"#REF!"}},{"$f":"COUNTIF(TabUren2[datum],$AD692)","v":0},{"$f":"COUNTIF(TabUren22[datum],$AD692)","v":0},{"$f":"COUNTIF(#REF!,$AD692)","v":{"$error":"#REF!"}},{"$f":"COUNTIF(#REF!,$AD692)","v":{"$error":"#REF!"}},{"$f":"COUNTIF(#REF!,$AD692)","v":{"$error":"#REF!"}},{"$f":"COUNTIF(#REF!,$AD692)","v":{"$error":"#REF!"}},0,0,0,0,0,0,"","","","","","","","","","","","",0,""]
[null,null,null,null,null,null,null,null,null,null,null,null,null,null,null,null,null,null,null,null,null,null,null,null,null,null,null,null,null,"2016-11-22",{"$f":"SUMIFS('LOG1'!$J$5:$J$501,TabUren2[datum],$AD693)","v":"00:00:00"},{"$f":"SUMIFS('LOG2'!$J$5:$J$501,TabUren22[datum],$AD693)","v":"00:00:00"},{"$f":"SUMIFS(#REF!,#REF!,$AD693)","v":{"$error":"#REF!"}},{"$f":"SUMIFS(#REF!,#REF!,$AD693)","v":{"$error":"#REF!"}},{"$f":"SUMIFS(#REF!,#REF!,$AD693)","v":{"$error":"#REF!"}},{"$f":"SUMIFS(#REF!,#REF!,$AD693)","v":{"$error":"#REF!"}},{"$f":"COUNTIF(TabUren2[datum],$AD693)","v":0},{"$f":"COUNTIF(TabUren22[datum],$AD693)","v":0},{"$f":"COUNTIF(#REF!,$AD693)","v":{"$error":"#REF!"}},{"$f":"COUNTIF(#REF!,$AD693)","v":{"$error":"#REF!"}},{"$f":"COUNTIF(#REF!,$AD693)","v":{"$error":"#REF!"}},{"$f":"COUNTIF(#REF!,$AD693)","v":{"$error":"#REF!"}},0,0,0,0,0,0,"","","","","","","","","","","","",0,""]
[null,null,null,null,null,null,null,null,null,null,null,null,null,null,null,null,null,null,null,null,null,null,null,null,null,null,null,null,null,"2016-11-23",{"$f":"SUMIFS('LOG1'!$J$5:$J$501,TabUren2[datum],$AD694)","v":"00:00:00"},{"$f":"SUMIFS('LOG2'!$J$5:$J$501,TabUren22[datum],$AD694)","v":"00:00:00"},{"$f":"SUMIFS(#REF!,#REF!,$AD694)","v":{"$error":"#REF!"}},{"$f":"SUMIFS(#REF!,#REF!,$AD694)","v":{"$error":"#REF!"}},{"$f":"SUMIFS(#REF!,#REF!,$AD694)","v":{"$error":"#REF!"}},{"$f":"SUMIFS(#REF!,#REF!,$AD694)","v":{"$error":"#REF!"}},{"$f":"COUNTIF(TabUren2[datum],$AD694)","v":0},{"$f":"COUNTIF(TabUren22[datum],$AD694)","v":0},{"$f":"COUNTIF(#REF!,$AD694)","v":{"$error":"#REF!"}},{"$f":"COUNTIF(#REF!,$AD694)","v":{"$error":"#REF!"}},{"$f":"COUNTIF(#REF!,$AD694)","v":{"$error":"#REF!"}},{"$f":"COUNTIF(#REF!,$AD694)","v":{"$error":"#REF!"}},0,0,0,0,0,0,"","","","","","","","","","","","",0,""]
[null,null,null,null,null,null,null,null,null,null,null,null,null,null,null,null,null,null,null,null,null,null,null,null,null,null,null,null,null,"2016-11-24",{"$f":"SUMIFS('LOG1'!$J$5:$J$501,TabUren2[datum],$AD695)","v":"00:00:00"},{"$f":"SUMIFS('LOG2'!$J$5:$J$501,TabUren22[datum],$AD695)","v":"00:00:00"},{"$f":"SUMIFS(#REF!,#REF!,$AD695)","v":{"$error":"#REF!"}},{"$f":"SUMIFS(#REF!,#REF!,$AD695)","v":{"$error":"#REF!"}},{"$f":"SUMIFS(#REF!,#REF!,$AD695)","v":{"$error":"#REF!"}},{"$f":"SUMIFS(#REF!,#REF!,$AD695)","v":{"$error":"#REF!"}},{"$f":"COUNTIF(TabUren2[datum],$AD695)","v":0},{"$f":"COUNTIF(TabUren22[datum],$AD695)","v":0},{"$f":"COUNTIF(#REF!,$AD695)","v":{"$error":"#REF!"}},{"$f":"COUNTIF(#REF!,$AD695)","v":{"$error":"#REF!"}},{"$f":"COUNTIF(#REF!,$AD695)","v":{"$error":"#REF!"}},{"$f":"COUNTIF(#REF!,$AD695)","v":{"$error":"#REF!"}},0,0,0,0,0,0,"","","","","","","","","","","","",0,""]
[null,null,null,null,null,null,null,null,null,null,null,null,null,null,null,null,null,null,null,null,null,null,null,null,null,null,null,null,null,"2016-11-25",{"$f":"SUMIFS('LOG1'!$J$5:$J$501,TabUren2[datum],$AD696)","v":"00:00:00"},{"$f":"SUMIFS('LOG2'!$J$5:$J$501,TabUren22[datum],$AD696)","v":"00:00:00"},{"$f":"SUMIFS(#REF!,#REF!,$AD696)","v":{"$error":"#REF!"}},{"$f":"SUMIFS(#REF!,#REF!,$AD696)","v":{"$error":"#REF!"}},{"$f":"SUMIFS(#REF!,#REF!,$AD696)","v":{"$error":"#REF!"}},{"$f":"SUMIFS(#REF!,#REF!,$AD696)","v":{"$error":"#REF!"}},{"$f":"COUNTIF(TabUren2[datum],$AD696)","v":0},{"$f":"COUNTIF(TabUren22[datum],$AD696)","v":0},{"$f":"COUNTIF(#REF!,$AD696)","v":{"$error":"#REF!"}},{"$f":"COUNTIF(#REF!,$AD696)","v":{"$error":"#REF!"}},{"$f":"COUNTIF(#REF!,$AD696)","v":{"$error":"#REF!"}},{"$f":"COUNTIF(#REF!,$AD696)","v":{"$error":"#REF!"}},0,0,0,0,0,0,"","","","","","","","","","","","",0,""]
[null,null,null,null,null,null,null,null,null,null,null,null,null,null,null,null,null,null,null,null,null,null,null,null,null,null,null,null,null,"2016-11-26",{"$f":"SUMIFS('LOG1'!$J$5:$J$501,TabUren2[datum],$AD697)","v":"00:00:00"},{"$f":"SUMIFS('LOG2'!$J$5:$J$501,TabUren22[datum],$AD697)","v":"00:00:00"},{"$f":"SUMIFS(#REF!,#REF!,$AD697)","v":{"$error":"#REF!"}},{"$f":"SUMIFS(#REF!,#REF!,$AD697)","v":{"$error":"#REF!"}},{"$f":"SUMIFS(#REF!,#REF!,$AD697)","v":{"$error":"#REF!"}},{"$f":"SUMIFS(#REF!,#REF!,$AD697)","v":{"$error":"#REF!"}},{"$f":"COUNTIF(TabUren2[datum],$AD697)","v":0},{"$f":"COUNTIF(TabUren22[datum],$AD697)","v":0},{"$f":"COUNTIF(#REF!,$AD697)","v":{"$error":"#REF!"}},{"$f":"COUNTIF(#REF!,$AD697)","v":{"$error":"#REF!"}},{"$f":"COUNTIF(#REF!,$AD697)","v":{"$error":"#REF!"}},{"$f":"COUNTIF(#REF!,$AD697)","v":{"$error":"#REF!"}},0,0,0,0,0,0,"","","","","","","","","","","","",0,""]
[null,null,null,null,null,null,null,null,null,null,null,null,null,null,null,null,null,null,null,null,null,null,null,null,null,null,null,null,null,"2016-11-27",{"$f":"SUMIFS('LOG1'!$J$5:$J$501,TabUren2[datum],$AD698)","v":"00:00:00"},{"$f":"SUMIFS('LOG2'!$J$5:$J$501,TabUren22[datum],$AD698)","v":"00:00:00"},{"$f":"SUMIFS(#REF!,#REF!,$AD698)","v":{"$error":"#REF!"}},{"$f":"SUMIFS(#REF!,#REF!,$AD698)","v":{"$error":"#REF!"}},{"$f":"SUMIFS(#REF!,#REF!,$AD698)","v":{"$error":"#REF!"}},{"$f":"SUMIFS(#REF!,#REF!,$AD698)","v":{"$error":"#REF!"}},{"$f":"COUNTIF(TabUren2[datum],$AD698)","v":0},{"$f":"COUNTIF(TabUren22[datum],$AD698)","v":0},{"$f":"COUNTIF(#REF!,$AD698)","v":{"$error":"#REF!"}},{"$f":"COUNTIF(#REF!,$AD698)","v":{"$error":"#REF!"}},{"$f":"COUNTIF(#REF!,$AD698)","v":{"$error":"#REF!"}},{"$f":"COUNTIF(#REF!,$AD698)","v":{"$error":"#REF!"}},0,0,0,0,0,0,"","","","","","","","","","","","",0,""]
[null,null,null,null,null,null,null,null,null,null,null,null,null,null,null,null,null,null,null,null,null,null,null,null,null,null,null,null,null,"2016-11-28",{"$f":"SUMIFS('LOG1'!$J$5:$J$501,TabUren2[datum],$AD699)","v":"00:00:00"},{"$f":"SUMIFS('LOG2'!$J$5:$J$501,TabUren22[datum],$AD699)","v":"00:00:00"},{"$f":"SUMIFS(#REF!,#REF!,$AD699)","v":{"$error":"#REF!"}},{"$f":"SUMIFS(#REF!,#REF!,$AD699)","v":{"$error":"#REF!"}},{"$f":"SUMIFS(#REF!,#REF!,$AD699)","v":{"$error":"#REF!"}},{"$f":"SUMIFS(#REF!,#REF!,$AD699)","v":{"$error":"#REF!"}},{"$f":"COUNTIF(TabUren2[datum],$AD699)","v":0},{"$f":"COUNTIF(TabUren22[datum],$AD699)","v":0},{"$f":"COUNTIF(#REF!,$AD699)","v":{"$error":"#REF!"}},{"$f":"COUNTIF(#REF!,$AD699)","v":{"$error":"#REF!"}},{"$f":"COUNTIF(#REF!,$AD699)","v":{"$error":"#REF!"}},{"$f":"COUNTIF(#REF!,$AD699)","v":{"$error":"#REF!"}},0,0,0,0,0,0,"","","","","","","","","","","","",0,""]
[null,null,null,null,null,null,null,null,null,null,null,null,null,null,null,null,null,null,null,null,null,null,null,null,null,null,null,null,null,"2016-11-29",{"$f":"SUMIFS('LOG1'!$J$5:$J$501,TabUren2[datum],$AD700)","v":"00:00:00"},{"$f":"SUMIFS('LOG2'!$J$5:$J$501,TabUren22[datum],$AD700)","v":"00:00:00"},{"$f":"SUMIFS(#REF!,#REF!,$AD700)","v":{"$error":"#REF!"}},{"$f":"SUMIFS(#REF!,#REF!,$AD700)","v":{"$error":"#REF!"}},{"$f":"SUMIFS(#REF!,#REF!,$AD700)","v":{"$error":"#REF!"}},{"$f":"SUMIFS(#REF!,#REF!,$AD700)","v":{"$error":"#REF!"}},{"$f":"COUNTIF(TabUren2[datum],$AD700)","v":0},{"$f":"COUNTIF(TabUren22[datum],$AD700)","v":0},{"$f":"COUNTIF(#REF!,$AD700)","v":{"$error":"#REF!"}},{"$f":"COUNTIF(#REF!,$AD700)","v":{"$error":"#REF!"}},{"$f":"COUNTIF(#REF!,$AD700)","v":{"$error":"#REF!"}},{"$f":"COUNTIF(#REF!,$AD700)","v":{"$error":"#REF!"}},0,0,0,0,0,0,"","","","","","","","","","","","",0,""]
[null,null,null,null,null,null,null,null,null,null,null,null,null,null,null,null,null,null,null,null,null,null,null,null,null,null,null,null,null,"2016-11-30",{"$f":"SUMIFS('LOG1'!$J$5:$J$501,TabUren2[datum],$AD701)","v":"00:00:00"},{"$f":"SUMIFS('LOG2'!$J$5:$J$501,TabUren22[datum],$AD701)","v":"00:00:00"},{"$f":"SUMIFS(#REF!,#REF!,$AD701)","v":{"$error":"#REF!"}},{"$f":"SUMIFS(#REF!,#REF!,$AD701)","v":{"$error":"#REF!"}},{"$f":"SUMIFS(#REF!,#REF!,$AD701)","v":{"$error":"#REF!"}},{"$f":"SUMIFS(#REF!,#REF!,$AD701)","v":{"$error":"#REF!"}},{"$f":"COUNTIF(TabUren2[datum],$AD701)","v":0},{"$f":"COUNTIF(TabUren22[datum],$AD701)","v":0},{"$f":"COUNTIF(#REF!,$AD701)","v":{"$error":"#REF!"}},{"$f":"COUNTIF(#REF!,$AD701)","v":{"$error":"#REF!"}},{"$f":"COUNTIF(#REF!,$AD701)","v":{"$error":"#REF!"}},{"$f":"COUNTIF(#REF!,$AD701)","v":{"$error":"#REF!"}},0,0,0,0,0,0,"","","","","","","","","","","","",0,""]
[null,null,null,null,null,null,null,null,null,null,null,null,null,null,null,null,null,null,null,null,null,null,null,null,null,null,null,null,null,"2016-12-01",{"$f":"SUMIFS('LOG1'!$J$5:$J$501,TabUren2[datum],$AD702)","v":"00:00:00"},{"$f":"SUMIFS('LOG2'!$J$5:$J$501,TabUren22[datum],$AD702)","v":"00:00:00"},{"$f":"SUMIFS(#REF!,#REF!,$AD702)","v":{"$error":"#REF!"}},{"$f":"SUMIFS(#REF!,#REF!,$AD702)","v":{"$error":"#REF!"}},{"$f":"SUMIFS(#REF!,#REF!,$AD702)","v":{"$error":"#REF!"}},{"$f":"SUMIFS(#REF!,#REF!,$AD702)","v":{"$error":"#REF!"}},{"$f":"COUNTIF(TabUren2[datum],$AD702)","v":0},{"$f":"COUNTIF(TabUren22[datum],$AD702)","v":0},{"$f":"COUNTIF(#REF!,$AD702)","v":{"$error":"#REF!"}},{"$f":"COUNTIF(#REF!,$AD702)","v":{"$error":"#REF!"}},{"$f":"COUNTIF(#REF!,$AD702)","v":{"$error":"#REF!"}},{"$f":"COUNTIF(#REF!,$AD702)","v":{"$error":"#REF!"}},0,0,0,0,0,0,"","","","","","","","","","","","",0,""]
[null,null,null,null,null,null,null,null,null,null,null,null,null,null,null,null,null,null,null,null,null,null,null,null,null,null,null,null,null,"2016-12-02",{"$f":"SUMIFS('LOG1'!$J$5:$J$501,TabUren2[datum],$AD703)","v":"00:00:00"},{"$f":"SUMIFS('LOG2'!$J$5:$J$501,TabUren22[datum],$AD703)","v":"00:00:00"},{"$f":"SUMIFS(#REF!,#REF!,$AD703)","v":{"$error":"#REF!"}},{"$f":"SUMIFS(#REF!,#REF!,$AD703)","v":{"$error":"#REF!"}},{"$f":"SUMIFS(#REF!,#REF!,$AD703)","v":{"$error":"#REF!"}},{"$f":"SUMIFS(#REF!,#REF!,$AD703)","v":{"$error":"#REF!"}},{"$f":"COUNTIF(TabUren2[datum],$AD703)","v":0},{"$f":"COUNTIF(TabUren22[datum],$AD703)","v":0},{"$f":"COUNTIF(#REF!,$AD703)","v":{"$error":"#REF!"}},{"$f":"COUNTIF(#REF!,$AD703)","v":{"$error":"#REF!"}},{"$f":"COUNTIF(#REF!,$AD703)","v":{"$error":"#REF!"}},{"$f":"COUNTIF(#REF!,$AD703)","v":{"$error":"#REF!"}},0,0,0,0,0,0,"","","","","","","","","","","","",0,""]
[null,null,null,null,null,null,null,null,null,null,null,null,null,null,null,null,null,null,null,null,null,null,null,null,null,null,null,null,null,"2016-12-03",{"$f":"SUMIFS('LOG1'!$J$5:$J$501,TabUren2[datum],$AD704)","v":"00:00:00"},{"$f":"SUMIFS('LOG2'!$J$5:$J$501,TabUren22[datum],$AD704)","v":"00:00:00"},{"$f":"SUMIFS(#REF!,#REF!,$AD704)","v":{"$error":"#REF!"}},{"$f":"SUMIFS(#REF!,#REF!,$AD704)","v":{"$error":"#REF!"}},{"$f":"SUMIFS(#REF!,#REF!,$AD704)","v":{"$error":"#REF!"}},{"$f":"SUMIFS(#REF!,#REF!,$AD704)","v":{"$error":"#REF!"}},{"$f":"COUNTIF(TabUren2[datum],$AD704)","v":0},{"$f":"COUNTIF(TabUren22[datum],$AD704)","v":0},{"$f":"COUNTIF(#REF!,$AD704)","v":{"$error":"#REF!"}},{"$f":"COUNTIF(#REF!,$AD704)","v":{"$error":"#REF!"}},{"$f":"COUNTIF(#REF!,$AD704)","v":{"$error":"#REF!"}},{"$f":"COUNTIF(#REF!,$AD704)","v":{"$error":"#REF!"}},0,0,0,0,0,0,"","","","","","","","","","","","",0,""]
[null,null,null,null,null,null,null,null,null,null,null,null,null,null,null,null,null,null,null,null,null,null,null,null,null,null,null,null,null,"2016-12-04",{"$f":"SUMIFS('LOG1'!$J$5:$J$501,TabUren2[datum],$AD705)","v":"00:00:00"},{"$f":"SUMIFS('LOG2'!$J$5:$J$501,TabUren22[datum],$AD705)","v":"00:00:00"},{"$f":"SUMIFS(#REF!,#REF!,$AD705)","v":{"$error":"#REF!"}},{"$f":"SUMIFS(#REF!,#REF!,$AD705)","v":{"$error":"#REF!"}},{"$f":"SUMIFS(#REF!,#REF!,$AD705)","v":{"$error":"#REF!"}},{"$f":"SUMIFS(#REF!,#REF!,$AD705)","v":{"$error":"#REF!"}},{"$f":"COUNTIF(TabUren2[datum],$AD705)","v":0},{"$f":"COUNTIF(TabUren22[datum],$AD705)","v":0},{"$f":"COUNTIF(#REF!,$AD705)","v":{"$error":"#REF!"}},{"$f":"COUNTIF(#REF!,$AD705)","v":{"$error":"#REF!"}},{"$f":"COUNTIF(#REF!,$AD705)","v":{"$error":"#REF!"}},{"$f":"COUNTIF(#REF!,$AD705)","v":{"$error":"#REF!"}},0,0,0,0,0,0,"","","","","","","","","","","","",0,""]
[null,null,null,null,null,null,null,null,null,null,null,null,null,null,null,null,null,null,null,null,null,null,null,null,null,null,null,null,null,"2016-12-05",{"$f":"SUMIFS('LOG1'!$J$5:$J$501,TabUren2[datum],$AD706)","v":"00:00:00"},{"$f":"SUMIFS('LOG2'!$J$5:$J$501,TabUren22[datum],$AD706)","v":"00:00:00"},{"$f":"SUMIFS(#REF!,#REF!,$AD706)","v":{"$error":"#REF!"}},{"$f":"SUMIFS(#REF!,#REF!,$AD706)","v":{"$error":"#REF!"}},{"$f":"SUMIFS(#REF!,#REF!,$AD706)","v":{"$error":"#REF!"}},{"$f":"SUMIFS(#REF!,#REF!,$AD706)","v":{"$error":"#REF!"}},{"$f":"COUNTIF(TabUren2[datum],$AD706)","v":0},{"$f":"COUNTIF(TabUren22[datum],$AD706)","v":0},{"$f":"COUNTIF(#REF!,$AD706)","v":{"$error":"#REF!"}},{"$f":"COUNTIF(#REF!,$AD706)","v":{"$error":"#REF!"}},{"$f":"COUNTIF(#REF!,$AD706)","v":{"$error":"#REF!"}},{"$f":"COUNTIF(#REF!,$AD706)","v":{"$error":"#REF!"}},0,0,0,0,0,0,"","","","","","","","","","","","",0,""]
[null,null,null,null,null,null,null,null,null,null,null,null,null,null,null,null,null,null,null,null,null,null,null,null,null,null,null,null,null,"2016-12-06",{"$f":"SUMIFS('LOG1'!$J$5:$J$501,TabUren2[datum],$AD707)","v":"00:00:00"},{"$f":"SUMIFS('LOG2'!$J$5:$J$501,TabUren22[datum],$AD707)","v":"00:00:00"},{"$f":"SUMIFS(#REF!,#REF!,$AD707)","v":{"$error":"#REF!"}},{"$f":"SUMIFS(#REF!,#REF!,$AD707)","v":{"$error":"#REF!"}},{"$f":"SUMIFS(#REF!,#REF!,$AD707)","v":{"$error":"#REF!"}},{"$f":"SUMIFS(#REF!,#REF!,$AD707)","v":{"$error":"#REF!"}},{"$f":"COUNTIF(TabUren2[datum],$AD707)","v":0},{"$f":"COUNTIF(TabUren22[datum],$AD707)","v":0},{"$f":"COUNTIF(#REF!,$AD707)","v":{"$error":"#REF!"}},{"$f":"COUNTIF(#REF!,$AD707)","v":{"$error":"#REF!"}},{"$f":"COUNTIF(#REF!,$AD707)","v":{"$error":"#REF!"}},{"$f":"COUNTIF(#REF!,$AD707)","v":{"$error":"#REF!"}},{"$f":"COUNTIF(AK707,\">0\")","v":0},{"$f":"COUNTIF(AL707,\">0\")","v":0},{"$f":"COUNTIF(AM707,\">0\")","v":0},{"$f":"COUNTIF(AN707,\">0\")","v":0},{"$f":"COUNTIF(AO707,\">0\")","v":0},{"$f":"COUNTIF(AP707,\">0\")","v":0},{"$f":"IF(AQ707=1,AE707,\"\")","v":""},{"$f":"IF(AR707=1,AF707,\"\")","v":""},{"$f":"IF(AS707=1,AG707,\"\")","v":""},{"$f":"IF(AT707=1,AH707,\"\")","v":""},{"$f":"IF(AU707=1,AI707,\"\")","v":""},{"$f":"IF(AV707=1,AJ707,\"\")","v":""},{"$f":"IF(BC$1=TRUE,AW707,\"\")","v":""},{"$f":"IF(BD$1=TRUE,AX707,\"\")","v":""},{"$f":"IF(BE$1=TRUE,AY707,\"\")","v":""},{"$f":"IF(BF$1=TRUE,AZ707,\"\")","v":""},{"$f":"IF(BG$1=TRUE,BA707,\"\")","v":""},{"$f":"IF(BH$1=TRUE,BB707,\"\")","v":""},0,""]
[null,null,null,null,null,null,null,null,null,null,null,null,null,null,null,null,null,null,null,null,null,null,null,null,null,null,null,null,null,"2016-12-07",{"$f":"SUMIFS('LOG1'!$J$5:$J$501,TabUren2[datum],$AD708)","v":"00:00:00"},{"$f":"SUMIFS('LOG2'!$J$5:$J$501,TabUren22[datum],$AD708)","v":"00:00:00"},{"$f":"SUMIFS(#REF!,#REF!,$AD708)","v":{"$error":"#REF!"}},{"$f":"SUMIFS(#REF!,#REF!,$AD708)","v":{"$error":"#REF!"}},{"$f":"SUMIFS(#REF!,#REF!,$AD708)","v":{"$error":"#REF!"}},{"$f":"SUMIFS(#REF!,#REF!,$AD708)","v":{"$error":"#REF!"}},{"$f":"COUNTIF(TabUren2[datum],$AD708)","v":0},{"$f":"COUNTIF(TabUren22[datum],$AD708)","v":0},{"$f":"COUNTIF(#REF!,$AD708)","v":{"$error":"#REF!"}},{"$f":"COUNTIF(#REF!,$AD708)","v":{"$error":"#REF!"}},{"$f":"COUNTIF(#REF!,$AD708)","v":{"$error":"#REF!"}},{"$f":"COUNTIF(#REF!,$AD708)","v":{"$error":"#REF!"}},0,0,0,0,0,0,"","","","","","","","","","","","",0,""]
[null,null,null,null,null,null,null,null,null,null,null,null,null,null,null,null,null,null,null,null,null,null,null,null,null,null,null,null,null,"2016-12-08",{"$f":"SUMIFS('LOG1'!$J$5:$J$501,TabUren2[datum],$AD709)","v":"00:00:00"},{"$f":"SUMIFS('LOG2'!$J$5:$J$501,TabUren22[datum],$AD709)","v":"00:00:00"},{"$f":"SUMIFS(#REF!,#REF!,$AD709)","v":{"$error":"#REF!"}},{"$f":"SUMIFS(#REF!,#REF!,$AD709)","v":{"$error":"#REF!"}},{"$f":"SUMIFS(#REF!,#REF!,$AD709)","v":{"$error":"#REF!"}},{"$f":"SUMIFS(#REF!,#REF!,$AD709)","v":{"$error":"#REF!"}},{"$f":"COUNTIF(TabUren2[datum],$AD709)","v":0},{"$f":"COUNTIF(TabUren22[datum],$AD709)","v":0},{"$f":"COUNTIF(#REF!,$AD709)","v":{"$error":"#REF!"}},{"$f":"COUNTIF(#REF!,$AD709)","v":{"$error":"#REF!"}},{"$f":"COUNTIF(#REF!,$AD709)","v":{"$error":"#REF!"}},{"$f":"COUNTIF(#REF!,$AD709)","v":{"$error":"#REF!"}},0,0,0,0,0,0,"","","","","","","","","","","","",0,""]
[null,null,null,null,null,null,null,null,null,null,null,null,null,null,null,null,null,null,null,null,null,null,null,null,null,null,null,null,null,"2016-12-09",{"$f":"SUMIFS('LOG1'!$J$5:$J$501,TabUren2[datum],$AD710)","v":"00:00:00"},{"$f":"SUMIFS('LOG2'!$J$5:$J$501,TabUren22[datum],$AD710)","v":"00:00:00"},{"$f":"SUMIFS(#REF!,#REF!,$AD710)","v":{"$error":"#REF!"}},{"$f":"SUMIFS(#REF!,#REF!,$AD710)","v":{"$error":"#REF!"}},{"$f":"SUMIFS(#REF!,#REF!,$AD710)","v":{"$error":"#REF!"}},{"$f":"SUMIFS(#REF!,#REF!,$AD710)","v":{"$error":"#REF!"}},{"$f":"COUNTIF(TabUren2[datum],$AD710)","v":0},{"$f":"COUNTIF(TabUren22[datum],$AD710)","v":0},{"$f":"COUNTIF(#REF!,$AD710)","v":{"$error":"#REF!"}},{"$f":"COUNTIF(#REF!,$AD710)","v":{"$error":"#REF!"}},{"$f":"COUNTIF(#REF!,$AD710)","v":{"$error":"#REF!"}},{"$f":"COUNTIF(#REF!,$AD710)","v":{"$error":"#REF!"}},0,0,0,0,0,0,"","","","","","","","","","","","",{"$f":"COUNT(AW710:BB710)","v":0},{"$f":"IF(BI710>0,AD710,\"\")","v":""}]
[null,null,null,null,null,null,null,null,null,null,null,null,null,null,null,null,null,null,null,null,null,null,null,null,null,null,null,null,null,"2016-12-10",{"$f":"SUMIFS('LOG1'!$J$5:$J$501,TabUren2[datum],$AD711)","v":"00:00:00"},{"$f":"SUMIFS('LOG2'!$J$5:$J$501,TabUren22[datum],$AD711)","v":"00:00:00"},{"$f":"SUMIFS(#REF!,#REF!,$AD711)","v":{"$error":"#REF!"}},{"$f":"SUMIFS(#REF!,#REF!,$AD711)","v":{"$error":"#REF!"}},{"$f":"SUMIFS(#REF!,#REF!,$AD711)","v":{"$error":"#REF!"}},{"$f":"SUMIFS(#REF!,#REF!,$AD711)","v":{"$error":"#REF!"}},{"$f":"COUNTIF(TabUren2[datum],$AD711)","v":0},{"$f":"COUNTIF(TabUren22[datum],$AD711)","v":0},{"$f":"COUNTIF(#REF!,$AD711)","v":{"$error":"#REF!"}},{"$f":"COUNTIF(#REF!,$AD711)","v":{"$error":"#REF!"}},{"$f":"COUNTIF(#REF!,$AD711)","v":{"$error":"#REF!"}},{"$f":"COUNTIF(#REF!,$AD711)","v":{"$error":"#REF!"}},0,0,0,0,0,0,"","","","","","","","","","","","",0,""]
[null,null,null,null,null,null,null,null,null,null,null,null,null,null,null,null,null,null,null,null,null,null,null,null,null,null,null,null,null,"2016-12-11",{"$f":"SUMIFS('LOG1'!$J$5:$J$501,TabUren2[datum],$AD712)","v":"00:00:00"},{"$f":"SUMIFS('LOG2'!$J$5:$J$501,TabUren22[datum],$AD712)","v":"00:00:00"},{"$f":"SUMIFS(#REF!,#REF!,$AD712)","v":{"$error":"#REF!"}},{"$f":"SUMIFS(#REF!,#REF!,$AD712)","v":{"$error":"#REF!"}},{"$f":"SUMIFS(#REF!,#REF!,$AD712)","v":{"$error":"#REF!"}},{"$f":"SUMIFS(#REF!,#REF!,$AD712)","v":{"$error":"#REF!"}},{"$f":"COUNTIF(TabUren2[datum],$AD712)","v":0},{"$f":"COUNTIF(TabUren22[datum],$AD712)","v":0},{"$f":"COUNTIF(#REF!,$AD712)","v":{"$error":"#REF!"}},{"$f":"COUNTIF(#REF!,$AD712)","v":{"$error":"#REF!"}},{"$f":"COUNTIF(#REF!,$AD712)","v":{"$error":"#REF!"}},{"$f":"COUNTIF(#REF!,$AD712)","v":{"$error":"#REF!"}},0,0,0,0,0,0,"","","","","","","","","","","","",0,""]
[null,null,null,null,null,null,null,null,null,null,null,null,null,null,null,null,null,null,null,null,null,null,null,null,null,null,null,null,null,"2016-12-12",{"$f":"SUMIFS('LOG1'!$J$5:$J$501,TabUren2[datum],$AD713)","v":"00:00:00"},{"$f":"SUMIFS('LOG2'!$J$5:$J$501,TabUren22[datum],$AD713)","v":"00:00:00"},{"$f":"SUMIFS(#REF!,#REF!,$AD713)","v":{"$error":"#REF!"}},{"$f":"SUMIFS(#REF!,#REF!,$AD713)","v":{"$error":"#REF!"}},{"$f":"SUMIFS(#REF!,#REF!,$AD713)","v":{"$error":"#REF!"}},{"$f":"SUMIFS(#REF!,#REF!,$AD713)","v":{"$error":"#REF!"}},{"$f":"COUNTIF(TabUren2[datum],$AD713)","v":0},{"$f":"COUNTIF(TabUren22[datum],$AD713)","v":0},{"$f":"COUNTIF(#REF!,$AD713)","v":{"$error":"#REF!"}},{"$f":"COUNTIF(#REF!,$AD713)","v":{"$error":"#REF!"}},{"$f":"COUNTIF(#REF!,$AD713)","v":{"$error":"#REF!"}},{"$f":"COUNTIF(#REF!,$AD713)","v":{"$error":"#REF!"}},0,0,0,0,0,0,"","","","","","","","","","","","",0,""]
[null,null,null,null,null,null,null,null,null,null,null,null,null,null,null,null,null,null,null,null,null,null,null,null,null,null,null,null,null,"2016-12-13",{"$f":"SUMIFS('LOG1'!$J$5:$J$501,TabUren2[datum],$AD714)","v":"00:00:00"},{"$f":"SUMIFS('LOG2'!$J$5:$J$501,TabUren22[datum],$AD714)","v":"00:00:00"},{"$f":"SUMIFS(#REF!,#REF!,$AD714)","v":{"$error":"#REF!"}},{"$f":"SUMIFS(#REF!,#REF!,$AD714)","v":{"$error":"#REF!"}},{"$f":"SUMIFS(#REF!,#REF!,$AD714)","v":{"$error":"#REF!"}},{"$f":"SUMIFS(#REF!,#REF!,$AD714)","v":{"$error":"#REF!"}},{"$f":"COUNTIF(TabUren2[datum],$AD714)","v":0},{"$f":"COUNTIF(TabUren22[datum],$AD714)","v":0},{"$f":"COUNTIF(#REF!,$AD714)","v":{"$error":"#REF!"}},{"$f":"COUNTIF(#REF!,$AD714)","v":{"$error":"#REF!"}},{"$f":"COUNTIF(#REF!,$AD714)","v":{"$error":"#REF!"}},{"$f":"COUNTIF(#REF!,$AD714)","v":{"$error":"#REF!"}},0,0,0,0,0,0,"","","","","","","","","","","","",0,""]
[null,null,null,null,null,null,null,null,null,null,null,null,null,null,null,null,null,null,null,null,null,null,null,null,null,null,null,null,null,"2016-12-14",{"$f":"SUMIFS('LOG1'!$J$5:$J$501,TabUren2[datum],$AD715)","v":"00:00:00"},{"$f":"SUMIFS('LOG2'!$J$5:$J$501,TabUren22[datum],$AD715)","v":"00:00:00"},{"$f":"SUMIFS(#REF!,#REF!,$AD715)","v":{"$error":"#REF!"}},{"$f":"SUMIFS(#REF!,#REF!,$AD715)","v":{"$error":"#REF!"}},{"$f":"SUMIFS(#REF!,#REF!,$AD715)","v":{"$error":"#REF!"}},{"$f":"SUMIFS(#REF!,#REF!,$AD715)","v":{"$error":"#REF!"}},{"$f":"COUNTIF(TabUren2[datum],$AD715)","v":0},{"$f":"COUNTIF(TabUren22[datum],$AD715)","v":0},{"$f":"COUNTIF(#REF!,$AD715)","v":{"$error":"#REF!"}},{"$f":"COUNTIF(#REF!,$AD715)","v":{"$error":"#REF!"}},{"$f":"COUNTIF(#REF!,$AD715)","v":{"$error":"#REF!"}},{"$f":"COUNTIF(#REF!,$AD715)","v":{"$error":"#REF!"}},0,0,0,0,0,0,"","","","","","","","","","","","",0,""]
[null,null,null,null,null,null,null,null,null,null,null,null,null,null,null,null,null,null,null,null,null,null,null,null,null,null,null,null,null,"2016-12-15",{"$f":"SUMIFS('LOG1'!$J$5:$J$501,TabUren2[datum],$AD716)","v":"00:00:00"},{"$f":"SUMIFS('LOG2'!$J$5:$J$501,TabUren22[datum],$AD716)","v":"00:00:00"},{"$f":"SUMIFS(#REF!,#REF!,$AD716)","v":{"$error":"#REF!"}},{"$f":"SUMIFS(#REF!,#REF!,$AD716)","v":{"$error":"#REF!"}},{"$f":"SUMIFS(#REF!,#REF!,$AD716)","v":{"$error":"#REF!"}},{"$f":"SUMIFS(#REF!,#REF!,$AD716)","v":{"$error":"#REF!"}},{"$f":"COUNTIF(TabUren2[datum],$AD716)","v":0},{"$f":"COUNTIF(TabUren22[datum],$AD716)","v":0},{"$f":"COUNTIF(#REF!,$AD716)","v":{"$error":"#REF!"}},{"$f":"COUNTIF(#REF!,$AD716)","v":{"$error":"#REF!"}},{"$f":"COUNTIF(#REF!,$AD716)","v":{"$error":"#REF!"}},{"$f":"COUNTIF(#REF!,$AD716)","v":{"$error":"#REF!"}},0,0,0,0,0,0,"","","","","","","","","","","","",0,""]
[null,null,null,null,null,null,null,null,null,null,null,null,null,null,null,null,null,null,null,null,null,null,null,null,null,null,null,null,null,"2016-12-16",{"$f":"SUMIFS('LOG1'!$J$5:$J$501,TabUren2[datum],$AD717)","v":"00:00:00"},{"$f":"SUMIFS('LOG2'!$J$5:$J$501,TabUren22[datum],$AD717)","v":"00:00:00"},{"$f":"SUMIFS(#REF!,#REF!,$AD717)","v":{"$error":"#REF!"}},{"$f":"SUMIFS(#REF!,#REF!,$AD717)","v":{"$error":"#REF!"}},{"$f":"SUMIFS(#REF!,#REF!,$AD717)","v":{"$error":"#REF!"}},{"$f":"SUMIFS(#REF!,#REF!,$AD717)","v":{"$error":"#REF!"}},{"$f":"COUNTIF(TabUren2[datum],$AD717)","v":0},{"$f":"COUNTIF(TabUren22[datum],$AD717)","v":0},{"$f":"COUNTIF(#REF!,$AD717)","v":{"$error":"#REF!"}},{"$f":"COUNTIF(#REF!,$AD717)","v":{"$error":"#REF!"}},{"$f":"COUNTIF(#REF!,$AD717)","v":{"$error":"#REF!"}},{"$f":"COUNTIF(#REF!,$AD717)","v":{"$error":"#REF!"}},0,0,0,0,0,0,"","","","","","","","","","","","",0,""]
[null,null,null,null,null,null,null,null,null,null,null,null,null,null,null,null,null,null,null,null,null,null,null,null,null,null,null,null,null,"2016-12-17",{"$f":"SUMIFS('LOG1'!$J$5:$J$501,TabUren2[datum],$AD718)","v":"00:00:00"},{"$f":"SUMIFS('LOG2'!$J$5:$J$501,TabUren22[datum],$AD718)","v":"00:00:00"},{"$f":"SUMIFS(#REF!,#REF!,$AD718)","v":{"$error":"#REF!"}},{"$f":"SUMIFS(#REF!,#REF!,$AD718)","v":{"$error":"#REF!"}},{"$f":"SUMIFS(#REF!,#REF!,$AD718)","v":{"$error":"#REF!"}},{"$f":"SUMIFS(#REF!,#REF!,$AD718)","v":{"$error":"#REF!"}},{"$f":"COUNTIF(TabUren2[datum],$AD718)","v":0},{"$f":"COUNTIF(TabUren22[datum],$AD718)","v":0},{"$f":"COUNTIF(#REF!,$AD718)","v":{"$error":"#REF!"}},{"$f":"COUNTIF(#REF!,$AD718)","v":{"$error":"#REF!"}},{"$f":"COUNTIF(#REF!,$AD718)","v":{"$error":"#REF!"}},{"$f":"COUNTIF(#REF!,$AD718)","v":{"$error":"#REF!"}},0,0,0,0,0,0,"","","","","","","","","","","","",0,""]
[null,null,null,null,null,null,null,null,null,null,null,null,null,null,null,null,null,null,null,null,null,null,null,null,null,null,null,null,null,"2016-12-18",{"$f":"SUMIFS('LOG1'!$J$5:$J$501,TabUren2[datum],$AD719)","v":"00:00:00"},{"$f":"SUMIFS('LOG2'!$J$5:$J$501,TabUren22[datum],$AD719)","v":"00:00:00"},{"$f":"SUMIFS(#REF!,#REF!,$AD719)","v":{"$error":"#REF!"}},{"$f":"SUMIFS(#REF!,#REF!,$AD719)","v":{"$error":"#REF!"}},{"$f":"SUMIFS(#REF!,#REF!,$AD719)","v":{"$error":"#REF!"}},{"$f":"SUMIFS(#REF!,#REF!,$AD719)","v":{"$error":"#REF!"}},{"$f":"COUNTIF(TabUren2[datum],$AD719)","v":0},{"$f":"COUNTIF(TabUren22[datum],$AD719)","v":0},{"$f":"COUNTIF(#REF!,$AD719)","v":{"$error":"#REF!"}},{"$f":"COUNTIF(#REF!,$AD719)","v":{"$error":"#REF!"}},{"$f":"COUNTIF(#REF!,$AD719)","v":{"$error":"#REF!"}},{"$f":"COUNTIF(#REF!,$AD719)","v":{"$error":"#REF!"}},0,0,0,0,0,0,"","","","","","","","","","","","",0,""]
[null,null,null,null,null,null,null,null,null,null,null,null,null,null,null,null,null,null,null,null,null,null,null,null,null,null,null,null,null,"2016-12-19",{"$f":"SUMIFS('LOG1'!$J$5:$J$501,TabUren2[datum],$AD720)","v":"00:00:00"},{"$f":"SUMIFS('LOG2'!$J$5:$J$501,TabUren22[datum],$AD720)","v":"00:00:00"},{"$f":"SUMIFS(#REF!,#REF!,$AD720)","v":{"$error":"#REF!"}},{"$f":"SUMIFS(#REF!,#REF!,$AD720)","v":{"$error":"#REF!"}},{"$f":"SUMIFS(#REF!,#REF!,$AD720)","v":{"$error":"#REF!"}},{"$f":"SUMIFS(#REF!,#REF!,$AD720)","v":{"$error":"#REF!"}},{"$f":"COUNTIF(TabUren2[datum],$AD720)","v":0},{"$f":"COUNTIF(TabUren22[datum],$AD720)","v":0},{"$f":"COUNTIF(#REF!,$AD720)","v":{"$error":"#REF!"}},{"$f":"COUNTIF(#REF!,$AD720)","v":{"$error":"#REF!"}},{"$f":"COUNTIF(#REF!,$AD720)","v":{"$error":"#REF!"}},{"$f":"COUNTIF(#REF!,$AD720)","v":{"$error":"#REF!"}},0,0,0,0,0,0,"","","","","","","","","","","","",0,""]
[null,null,null,null,null,null,null,null,null,null,null,null,null,null,null,null,null,null,null,null,null,null,null,null,null,null,null,null,null,"2016-12-20",{"$f":"SUMIFS('LOG1'!$J$5:$J$501,TabUren2[datum],$AD721)","v":"00:00:00"},{"$f":"SUMIFS('LOG2'!$J$5:$J$501,TabUren22[datum],$AD721)","v":"00:00:00"},{"$f":"SUMIFS(#REF!,#REF!,$AD721)","v":{"$error":"#REF!"}},{"$f":"SUMIFS(#REF!,#REF!,$AD721)","v":{"$error":"#REF!"}},{"$f":"SUMIFS(#REF!,#REF!,$AD721)","v":{"$error":"#REF!"}},{"$f":"SUMIFS(#REF!,#REF!,$AD721)","v":{"$error":"#REF!"}},{"$f":"COUNTIF(TabUren2[datum],$AD721)","v":0},{"$f":"COUNTIF(TabUren22[datum],$AD721)","v":0},{"$f":"COUNTIF(#REF!,$AD721)","v":{"$error":"#REF!"}},{"$f":"COUNTIF(#REF!,$AD721)","v":{"$error":"#REF!"}},{"$f":"COUNTIF(#REF!,$AD721)","v":{"$error":"#REF!"}},{"$f":"COUNTIF(#REF!,$AD721)","v":{"$error":"#REF!"}},0,0,0,0,0,0,"","","","","","","","","","","","",0,""]
[null,null,null,null,null,null,null,null,null,null,null,null,null,null,null,null,null,null,null,null,null,null,null,null,null,null,null,null,null,"2016-12-21",{"$f":"SUMIFS('LOG1'!$J$5:$J$501,TabUren2[datum],$AD722)","v":"00:00:00"},{"$f":"SUMIFS('LOG2'!$J$5:$J$501,TabUren22[datum],$AD722)","v":"00:00:00"},{"$f":"SUMIFS(#REF!,#REF!,$AD722)","v":{"$error":"#REF!"}},{"$f":"SUMIFS(#REF!,#REF!,$AD722)","v":{"$error":"#REF!"}},{"$f":"SUMIFS(#REF!,#REF!,$AD722)","v":{"$error":"#REF!"}},{"$f":"SUMIFS(#REF!,#REF!,$AD722)","v":{"$error":"#REF!"}},{"$f":"COUNTIF(TabUren2[datum],$AD722)","v":0},{"$f":"COUNTIF(TabUren22[datum],$AD722)","v":0},{"$f":"COUNTIF(#REF!,$AD722)","v":{"$error":"#REF!"}},{"$f":"COUNTIF(#REF!,$AD722)","v":{"$error":"#REF!"}},{"$f":"COUNTIF(#REF!,$AD722)","v":{"$error":"#REF!"}},{"$f":"COUNTIF(#REF!,$AD722)","v":{"$error":"#REF!"}},0,0,0,0,0,0,"","","","","","","","","","","","",0,""]
[null,null,null,null,null,null,null,null,null,null,null,null,null,null,null,null,null,null,null,null,null,null,null,null,null,null,null,null,null,"2016-12-22",{"$f":"SUMIFS('LOG1'!$J$5:$J$501,TabUren2[datum],$AD723)","v":"00:00:00"},{"$f":"SUMIFS('LOG2'!$J$5:$J$501,TabUren22[datum],$AD723)","v":"00:00:00"},{"$f":"SUMIFS(#REF!,#REF!,$AD723)","v":{"$error":"#REF!"}},{"$f":"SUMIFS(#REF!,#REF!,$AD723)","v":{"$error":"#REF!"}},{"$f":"SUMIFS(#REF!,#REF!,$AD723)","v":{"$error":"#REF!"}},{"$f":"SUMIFS(#REF!,#REF!,$AD723)","v":{"$error":"#REF!"}},{"$f":"COUNTIF(TabUren2[datum],$AD723)","v":0},{"$f":"COUNTIF(TabUren22[datum],$AD723)","v":0},{"$f":"COUNTIF(#REF!,$AD723)","v":{"$error":"#REF!"}},{"$f":"COUNTIF(#REF!,$AD723)","v":{"$error":"#REF!"}},{"$f":"COUNTIF(#REF!,$AD723)","v":{"$error":"#REF!"}},{"$f":"COUNTIF(#REF!,$AD723)","v":{"$error":"#REF!"}},0,0,0,0,0,0,"","","","","","","","","","","","",0,""]
[null,null,null,null,null,null,null,null,null,null,null,null,null,null,null,null,null,null,null,null,null,null,null,null,null,null,null,null,null,"2016-12-23",{"$f":"SUMIFS('LOG1'!$J$5:$J$501,TabUren2[datum],$AD724)","v":"00:00:00"},{"$f":"SUMIFS('LOG2'!$J$5:$J$501,TabUren22[datum],$AD724)","v":"00:00:00"},{"$f":"SUMIFS(#REF!,#REF!,$AD724)","v":{"$error":"#REF!"}},{"$f":"SUMIFS(#REF!,#REF!,$AD724)","v":{"$error":"#REF!"}},{"$f":"SUMIFS(#REF!,#REF!,$AD724)","v":{"$error":"#REF!"}},{"$f":"SUMIFS(#REF!,#REF!,$AD724)","v":{"$error":"#REF!"}},{"$f":"COUNTIF(TabUren2[datum],$AD724)","v":0},{"$f":"COUNTIF(TabUren22[datum],$AD724)","v":0},{"$f":"COUNTIF(#REF!,$AD724)","v":{"$error":"#REF!"}},{"$f":"COUNTIF(#REF!,$AD724)","v":{"$error":"#REF!"}},{"$f":"COUNTIF(#REF!,$AD724)","v":{"$error":"#REF!"}},{"$f":"COUNTIF(#REF!,$AD724)","v":{"$error":"#REF!"}},0,0,0,0,0,0,"","","","","","","","","","","","",0,""]
[null,null,null,null,null,null,null,null,null,null,null,null,null,null,null,null,null,null,null,null,null,null,null,null,null,null,null,null,null,"2016-12-24",{"$f":"SUMIFS('LOG1'!$J$5:$J$501,TabUren2[datum],$AD725)","v":"00:00:00"},{"$f":"SUMIFS('LOG2'!$J$5:$J$501,TabUren22[datum],$AD725)","v":"00:00:00"},{"$f":"SUMIFS(#REF!,#REF!,$AD725)","v":{"$error":"#REF!"}},{"$f":"SUMIFS(#REF!,#REF!,$AD725)","v":{"$error":"#REF!"}},{"$f":"SUMIFS(#REF!,#REF!,$AD725)","v":{"$error":"#REF!"}},{"$f":"SUMIFS(#REF!,#REF!,$AD725)","v":{"$error":"#REF!"}},{"$f":"COUNTIF(TabUren2[datum],$AD725)","v":0},{"$f":"COUNTIF(TabUren22[datum],$AD725)","v":0},{"$f":"COUNTIF(#REF!,$AD725)","v":{"$error":"#REF!"}},{"$f":"COUNTIF(#REF!,$AD725)","v":{"$error":"#REF!"}},{"$f":"COUNTIF(#REF!,$AD725)","v":{"$error":"#REF!"}},{"$f":"COUNTIF(#REF!,$AD725)","v":{"$error":"#REF!"}},0,0,0,0,0,0,"","","","","","","","","","","","",0,""]
[null,null,null,null,null,null,null,null,null,null,null,null,null,null,null,null,null,null,null,null,null,null,null,null,null,null,null,null,null,"2016-12-25",{"$f":"SUMIFS('LOG1'!$J$5:$J$501,TabUren2[datum],$AD726)","v":"00:00:00"},{"$f":"SUMIFS('LOG2'!$J$5:$J$501,TabUren22[datum],$AD726)","v":"00:00:00"},{"$f":"SUMIFS(#REF!,#REF!,$AD726)","v":{"$error":"#REF!"}},{"$f":"SUMIFS(#REF!,#REF!,$AD726)","v":{"$error":"#REF!"}},{"$f":"SUMIFS(#REF!,#REF!,$AD726)","v":{"$error":"#REF!"}},{"$f":"SUMIFS(#REF!,#REF!,$AD726)","v":{"$error":"#REF!"}},{"$f":"COUNTIF(TabUren2[datum],$AD726)","v":0},{"$f":"COUNTIF(TabUren22[datum],$AD726)","v":0},{"$f":"COUNTIF(#REF!,$AD726)","v":{"$error":"#REF!"}},{"$f":"COUNTIF(#REF!,$AD726)","v":{"$error":"#REF!"}},{"$f":"COUNTIF(#REF!,$AD726)","v":{"$error":"#REF!"}},{"$f":"COUNTIF(#REF!,$AD726)","v":{"$error":"#REF!"}},0,0,0,0,0,0,"","","","","","","","","","","","",0,""]
[null,null,null,null,null,null,null,null,null,null,null,null,null,null,null,null,null,null,null,null,null,null,null,null,null,null,null,null,null,"2016-12-26",{"$f":"SUMIFS('LOG1'!$J$5:$J$501,TabUren2[datum],$AD727)","v":"00:00:00"},{"$f":"SUMIFS('LOG2'!$J$5:$J$501,TabUren22[datum],$AD727)","v":"00:00:00"},{"$f":"SUMIFS(#REF!,#REF!,$AD727)","v":{"$error":"#REF!"}},{"$f":"SUMIFS(#REF!,#REF!,$AD727)","v":{"$error":"#REF!"}},{"$f":"SUMIFS(#REF!,#REF!,$AD727)","v":{"$error":"#REF!"}},{"$f":"SUMIFS(#REF!,#REF!,$AD727)","v":{"$error":"#REF!"}},{"$f":"COUNTIF(TabUren2[datum],$AD727)","v":0},{"$f":"COUNTIF(TabUren22[datum],$AD727)","v":0},{"$f":"COUNTIF(#REF!,$AD727)","v":{"$error":"#REF!"}},{"$f":"COUNTIF(#REF!,$AD727)","v":{"$error":"#REF!"}},{"$f":"COUNTIF(#REF!,$AD727)","v":{"$error":"#REF!"}},{"$f":"COUNTIF(#REF!,$AD727)","v":{"$error":"#REF!"}},0,0,0,0,0,0,"","","","","","","","","","","","",0,""]
[null,null,null,null,null,null,null,null,null,null,null,null,null,null,null,null,null,null,null,null,null,null,null,null,null,null,null,null,null,"2016-12-27",{"$f":"SUMIFS('LOG1'!$J$5:$J$501,TabUren2[datum],$AD728)","v":"00:00:00"},{"$f":"SUMIFS('LOG2'!$J$5:$J$501,TabUren22[datum],$AD728)","v":"00:00:00"},{"$f":"SUMIFS(#REF!,#REF!,$AD728)","v":{"$error":"#REF!"}},{"$f":"SUMIFS(#REF!,#REF!,$AD728)","v":{"$error":"#REF!"}},{"$f":"SUMIFS(#REF!,#REF!,$AD728)","v":{"$error":"#REF!"}},{"$f":"SUMIFS(#REF!,#REF!,$AD728)","v":{"$error":"#REF!"}},{"$f":"COUNTIF(TabUren2[datum],$AD728)","v":0},{"$f":"COUNTIF(TabUren22[datum],$AD728)","v":0},{"$f":"COUNTIF(#REF!,$AD728)","v":{"$error":"#REF!"}},{"$f":"COUNTIF(#REF!,$AD728)","v":{"$error":"#REF!"}},{"$f":"COUNTIF(#REF!,$AD728)","v":{"$error":"#REF!"}},{"$f":"COUNTIF(#REF!,$AD728)","v":{"$error":"#REF!"}},0,0,0,0,0,0,"","","","","","","","","","","","",0,""]
[null,null,null,null,null,null,null,null,null,null,null,null,null,null,null,null,null,null,null,null,null,null,null,null,null,null,null,null,null,"2016-12-28",{"$f":"SUMIFS('LOG1'!$J$5:$J$501,TabUren2[datum],$AD729)","v":"00:00:00"},{"$f":"SUMIFS('LOG2'!$J$5:$J$501,TabUren22[datum],$AD729)","v":"00:00:00"},{"$f":"SUMIFS(#REF!,#REF!,$AD729)","v":{"$error":"#REF!"}},{"$f":"SUMIFS(#REF!,#REF!,$AD729)","v":{"$error":"#REF!"}},{"$f":"SUMIFS(#REF!,#REF!,$AD729)","v":{"$error":"#REF!"}},{"$f":"SUMIFS(#REF!,#REF!,$AD729)","v":{"$error":"#REF!"}},{"$f":"COUNTIF(TabUren2[datum],$AD729)","v":0},{"$f":"COUNTIF(TabUren22[datum],$AD729)","v":0},{"$f":"COUNTIF(#REF!,$AD729)","v":{"$error":"#REF!"}},{"$f":"COUNTIF(#REF!,$AD729)","v":{"$error":"#REF!"}},{"$f":"COUNTIF(#REF!,$AD729)","v":{"$error":"#REF!"}},{"$f":"COUNTIF(#REF!,$AD729)","v":{"$error":"#REF!"}},0,0,0,0,0,0,"","","","","","","","","","","","",0,""]
[null,null,null,null,null,null,null,null,null,null,null,null,null,null,null,null,null,null,null,null,null,null,null,null,null,null,null,null,null,"2016-12-29",{"$f":"SUMIFS('LOG1'!$J$5:$J$501,TabUren2[datum],$AD730)","v":"00:00:00"},{"$f":"SUMIFS('LOG2'!$J$5:$J$501,TabUren22[datum],$AD730)","v":"00:00:00"},{"$f":"SUMIFS(#REF!,#REF!,$AD730)","v":{"$error":"#REF!"}},{"$f":"SUMIFS(#REF!,#REF!,$AD730)","v":{"$error":"#REF!"}},{"$f":"SUMIFS(#REF!,#REF!,$AD730)","v":{"$error":"#REF!"}},{"$f":"SUMIFS(#REF!,#REF!,$AD730)","v":{"$error":"#REF!"}},{"$f":"COUNTIF(TabUren2[datum],$AD730)","v":0},{"$f":"COUNTIF(TabUren22[datum],$AD730)","v":0},{"$f":"COUNTIF(#REF!,$AD730)","v":{"$error":"#REF!"}},{"$f":"COUNTIF(#REF!,$AD730)","v":{"$error":"#REF!"}},{"$f":"COUNTIF(#REF!,$AD730)","v":{"$error":"#REF!"}},{"$f":"COUNTIF(#REF!,$AD730)","v":{"$error":"#REF!"}},0,0,0,0,0,0,"","","","","","","","","","","","",0,""]
[null,null,null,null,null,null,null,null,null,null,null,null,null,null,null,null,null,null,null,null,null,null,null,null,null,null,null,null,null,"2016-12-30",{"$f":"SUMIFS('LOG1'!$J$5:$J$501,TabUren2[datum],$AD731)","v":"00:00:00"},{"$f":"SUMIFS('LOG2'!$J$5:$J$501,TabUren22[datum],$AD731)","v":"00:00:00"},{"$f":"SUMIFS(#REF!,#REF!,$AD731)","v":{"$error":"#REF!"}},{"$f":"SUMIFS(#REF!,#REF!,$AD731)","v":{"$error":"#REF!"}},{"$f":"SUMIFS(#REF!,#REF!,$AD731)","v":{"$error":"#REF!"}},{"$f":"SUMIFS(#REF!,#REF!,$AD731)","v":{"$error":"#REF!"}},{"$f":"COUNTIF(TabUren2[datum],$AD731)","v":0},{"$f":"COUNTIF(TabUren22[datum],$AD731)","v":0},{"$f":"COUNTIF(#REF!,$AD731)","v":{"$error":"#REF!"}},{"$f":"COUNTIF(#REF!,$AD731)","v":{"$error":"#REF!"}},{"$f":"COUNTIF(#REF!,$AD731)","v":{"$error":"#REF!"}},{"$f":"COUNTIF(#REF!,$AD731)","v":{"$error":"#REF!"}},0,0,0,0,0,0,"","","","","","","","","","","","",0,""]
[null,null,null,null,null,null,null,null,null,null,null,null,null,null,null,null,null,null,null,null,null,null,null,null,null,null,null,null,null,"2016-12-31",{"$f":"SUMIFS('LOG1'!$J$5:$J$501,TabUren2[datum],$AD732)","v":"00:00:00"},{"$f":"SUMIFS('LOG2'!$J$5:$J$501,TabUren22[datum],$AD732)","v":"00:00:00"},{"$f":"SUMIFS(#REF!,#REF!,$AD732)","v":{"$error":"#REF!"}},{"$f":"SUMIFS(#REF!,#REF!,$AD732)","v":{"$error":"#REF!"}},{"$f":"SUMIFS(#REF!,#REF!,$AD732)","v":{"$error":"#REF!"}},{"$f":"SUMIFS(#REF!,#REF!,$AD732)","v":{"$error":"#REF!"}},{"$f":"COUNTIF(TabUren2[datum],$AD732)","v":0},{"$f":"COUNTIF(TabUren22[datum],$AD732)","v":0},{"$f":"COUNTIF(#REF!,$AD732)","v":{"$error":"#REF!"}},{"$f":"COUNTIF(#REF!,$AD732)","v":{"$error":"#REF!"}},{"$f":"COUNTIF(#REF!,$AD732)","v":{"$error":"#REF!"}},{"$f":"COUNTIF(#REF!,$AD732)","v":{"$error":"#REF!"}},0,0,0,0,0,0,"","","","","","","","","","","","",0,""]